{"text_format":"1","workbook":"xlsx","n_sheets":11,"sheets":["Introduction","input_tab_one","selected_functions","input_tab_two","overall_results","results_by_function","input_lists","calculation_lists","retention_schedules","input_database","results_charts"],"not_rendered":{"charts":2,"images":19,"macros":1,"external_links":0,"defined_names":2,"comments":1,"pivot_tables":1},"unopened":[],"bounds":{"document_bytes":16777216,"sheet_cells":100000,"rows_first":2000,"rows_last":500,"rows_between":2000,"halvings":0,"cell_chars":16384,"cell_head_chars":4096},"cells_cut":0,"cells_raw":0,"read":"whole","date_system":"1900"}

{"sheet":"Introduction","index":0,"n_rows":0,"n_cols":0,"rows_kept":0,"cut":false,"hidden":false,"merged":[]}

{"sheet":"input_tab_one","index":1,"n_rows":36,"n_cols":19,"rows_kept":36,"cut":false,"hidden":false,"merged":[]}
[null,null,null,null,null,null,null,null,null,null,null,null,null,null,null,null,null,"Local Authority","Year Tool Updated"]
[null,null,null,null,null,null,null,null,null,null,null,null,null,null,null,null,null,"Aberdeen City",2016]
["1.","Local Authority Name:",null,null,null,null,null,null,null,null,null,null,null,null,null,null,null,"Aberdeenshire",2017]
[null,null,null,null,null,null,null,null,null,null,null,null,null,null,null,null,null,"Angus",2018]
["2.","Year tool updated:",null,null,null,null,null,null,null,null,null,null,null,null,null,null,null,"Argyll and Bute",2019]
[null,null,null,null,null,null,null,null,null,null,null,null,null,null,null,null,null,"City of Edinburgh",2020]
["3.","Select the functions that you would like to incorporate into your capacity planning calculations:",null,null,null,null,null,null,null,null,null,null,null,null,null,null,null,"Clackmannanshire",2021]
[null,null,null,null,null,null,null,null,null,null,null,null,null,null,null,null,null,"Comhairle nan Eilean Siar",2022]
[null,"FUNCTION","Inclusion",null,null,null,null,null,null,null,null,null,null,null,null,null,null,"Dumfries and Galloway",2023]
[null,"ADULT CARE SERVICES",false,null,null,null,null,null,null,null,null,null,null,null,null,null,null,"Dundee City",2024]
[null,"CEMETERIES & CREMATORIA",false,null,null,null,null,null,null,null,null,null,null,null,null,null,null,"East Ayrshire",2025]
[null,"CHILDREN & FAMILIES",false,null,null,null,null,null,null,null,null,null,null,null,null,null,null,"East Dunbartonshire"]
[null,"COMMUNITY SAFETY & EMERGENCIES",false,null,null,null,null,null,null,null,null,null,null,null,null,null,null,"East Lothian"]
[null,"CONSUMER AFFAIRS",false,null,null,null,null,null,null,null,null,null,null,null,null,null,null,"East Renfrewshire"]
[null,"COUNCIL PROPERTY",false,null,null,null,null,null,null,null,null,null,null,null,null,null,null,"Falkirk"]
[null,"CRIMINAL JUSTICE",false,null,null,null,null,null,null,null,null,null,null,null,null,null,null,"Fife"]
[null,"DEMOCRACY",false,null,null,null,null,null,null,null,null,null,null,null,null,null,null,"Glasgow City"]
[null,"ECONOMIC DEVELOPMENT",false,null,null,null,null,null,null,null,null,null,null,null,null,null,null,"Highland"]
[null,"EDUCATION & SKILLS",false,null,null,null,null,null,null,null,null,null,null,null,null,null,null,"Inverclyde"]
[null,"ENVIRONMENTAL PROTECTION",false,null,null,null,null,null,null,null,null,null,null,null,null,null,null,"Midlothian"]
[null,"FINANCE",false,null,null,null,null,null,null,null,null,null,null,null,null,null,null,"Moray"]
[null,"HEALTH & SAFETY",false,null,null,null,null,null,null,null,null,null,null,null,null,null,null,"North Ayrshire"]
[null,"HOUSING",false,null,null,null,null,null,null,null,null,null,null,null,null,null,null,"North Lanarkshire"]
[null,"HUMAN RESOURCES",false,null,null,null,null,null,null,null,null,null,null,null,null,null,null,"Orkney Islands"]
[null,"ICT",false,null,null,null,null,null,null,null,null,null,null,null,null,null,null,"Perth and Kinross"]
[null,"INFORMATION MANAGEMENT",false,null,null,null,null,null,null,null,null,null,null,null,null,null,null,"Renfrewshire"]
[null,"LEGAL SERVICES",false,null,null,null,null,null,null,null,null,null,null,null,null,null,null,"Scottish Borders"]
[null,"LEISURE & CULTURE",false,null,null,null,null,null,null,null,null,null,null,null,null,null,null,"Shetland Islands"]
[null,"MANAGEMENT",false,null,null,null,null,null,null,null,null,null,null,null,null,null,null,"South Ayrshire"]
[null,"PLANNING & BUILDING STANDARDS",false,null,null,null,null,null,null,null,null,null,null,null,null,null,null,"South Lanarkshire"]
[null,"PROCUREMENT",false,null,null,null,null,null,null,null,null,null,null,null,null,null,null,"Stirling"]
[null,"REGISTRARS",false,null,null,null,null,null,null,null,null,null,null,null,null,null,null,"West Dunbartonshire"]
[null,"RISK MANAGEMENT & INSURANCE",false,null,null,null,null,null,null,null,null,null,null,null,null,null,null,"West Lothian"]
[null,"TRANSPORT & INFRASTRUCTURE",false]
[null,"WASTE MANAGEMENT",false]
[null,"OVERALL STORAGE REQUIREMENTS",false]

{"sheet":"selected_functions","index":2,"n_rows":3,"n_cols":1,"rows_kept":3,"cut":false,"hidden":true,"merged":[]}
[]
[]
["Row Labels"]

{"sheet":"input_tab_two","index":3,"n_rows":1705,"n_cols":44,"rows_kept":1705,"cut":false,"hidden":false,"merged":[[645,4,645,5],[645,8,645,10],[650,1,650,2],[650,8,650,9],[642,0,642,14],[643,0,643,14],[607,0,607,14],[608,0,608,14],[551,3,551,4],[529,1,529,2],[544,0,544,14],[545,0,545,14],[582,4,582,5],[582,8,582,10],[570,0,570,14],[579,0,579,14],[580,0,580,14],[614,3,614,4],[592,1,592,2],[151,4,151,7],[214,4,214,7],[277,4,277,7],[340,4,340,7],[403,4,403,7],[466,4,466,7],[529,4,529,7],[592,4,592,7],[519,4,519,5],[516,0,516,14],[517,0,517,14],[456,4,456,5],[456,8,456,10],[393,4,393,5],[393,8,393,10],[398,1,398,2],[398,8,398,9],[438,1,438,2],[435,0,435,14],[436,0,436,14],[444,0,444,14],[453,0,453,14],[454,0,454,14],[461,1,461,2],[519,8,519,10],[1698,1,1698,2],[1685,3,1685,4],[1663,1,1663,2],[1678,0,1678,14],[1679,0,1679,14],[1695,0,1695,14],[1696,0,1696,14],[1663,4,1663,7],[1658,1,1658,2],[1658,8,1658,9],[1635,1,1635,2],[1632,0,1632,14],[1633,0,1633,14],[1641,0,1641,14],[1650,0,1650,14],[1651,0,1651,14],[1643,1,1643,2],[1622,3,1622,4],[1600,1,1600,2],[1615,0,1615,14],[1616,0,1616,14],[1580,1,1580,2],[1600,4,1600,7],[131,1,131,2],[194,1,194,2],[257,1,257,2],[320,1,320,2],[383,1,383,2],[446,1,446,2],[509,1,509,2],[572,1,572,2],[635,1,635,2],[627,1,627,2],[624,0,624,14],[625,0,625,14],[633,0,633,14],[587,1,587,2],[587,8,587,9],[564,1,564,2],[524,1,524,2],[524,8,524,9],[501,1,501,2],[498,0,498,14],[561,0,561,14],[562,0,562,14],[499,0,499,14],[507,0,507,14],[1653,4,1653,5],[1653,8,1653,10],[1640,0,1640,15],[1559,3,1559,4],[1537,1,1537,2],[1552,0,1552,14],[1553,0,1553,14],[1590,4,1590,5],[1590,8,1590,10],[1577,0,1577,15],[1537,4,1537,7],[1595,1,1595,2],[1595,8,1595,9],[1572,1,1572,2],[1569,0,1569,14],[1570,0,1570,14],[1578,0,1578,14],[1587,0,1587,14],[1588,0,1588,14],[1532,1,1532,2],[1532,8,1532,9],[1509,1,1509,2],[1506,0,1506,14],[1507,0,1507,14],[1515,0,1515,14],[1524,0,1524,14],[1525,0,1525,14],[1517,1,1517,2],[1496,3,1496,4],[1474,1,1474,2],[1489,0,1489,14],[1490,0,1490,14],[1454,1,1454,2],[1474,4,1474,7],[1527,4,1527,5],[1527,8,1527,10],[1514,0,1514,15],[1433,3,1433,4],[1411,1,1411,2],[1426,0,1426,14],[1427,0,1427,14],[1464,4,1464,5],[1464,8,1464,10],[1411,4,1411,7],[1469,1,1469,2],[1469,8,1469,9],[1446,1,1446,2],[1443,0,1443,14],[1444,0,1444,14],[1452,0,1452,14],[1461,0,1461,14],[1462,0,1462,14],[1370,3,1370,4],[1348,1,1348,2],[1363,0,1363,14],[1364,0,1364,14],[1328,1,1328,2],[1348,4,1348,7],[1401,4,1401,5],[1401,8,1401,10],[1406,1,1406,2],[1406,8,1406,9],[1383,1,1383,2],[1380,0,1380,14],[1381,0,1381,14],[1389,0,1389,14],[1398,0,1398,14],[1399,0,1399,14],[1391,1,1391,2],[1307,3,1307,4],[1285,1,1285,2],[1300,0,1300,14],[1301,0,1301,14],[1338,4,1338,5],[1338,8,1338,10],[1285,4,1285,7],[1343,1,1343,2],[1343,8,1343,9],[1320,1,1320,2],[1317,0,1317,14],[1318,0,1318,14],[1326,0,1326,14],[1335,0,1335,14],[1336,0,1336,14],[1244,3,1244,4],[1222,1,1222,2],[1237,0,1237,14],[1238,0,1238,14],[1202,1,1202,2],[1222,4,1222,7],[1275,4,1275,5],[1275,8,1275,10],[1280,1,1280,2],[1280,8,1280,9],[1257,1,1257,2],[1254,0,1254,14],[1255,0,1255,14],[1263,0,1263,14],[1272,0,1272,14],[1273,0,1273,14],[1265,1,1265,2],[1181,3,1181,4],[1159,1,1159,2],[1174,0,1174,14],[1175,0,1175,14],[1212,4,1212,5],[1212,8,1212,10],[1159,4,1159,7],[1217,1,1217,2],[1217,8,1217,9],[1194,1,1194,2],[1191,0,1191,14],[1192,0,1192,14],[1200,0,1200,14],[1209,0,1209,14],[1210,0,1210,14],[1118,3,1118,4],[1096,1,1096,2],[1111,0,1111,14],[1112,0,1112,14],[1076,1,1076,2],[1096,4,1096,7],[1149,4,1149,5],[1149,8,1149,10],[1154,1,1154,2],[1154,8,1154,9],[1131,1,1131,2],[1128,0,1128,14],[1129,0,1129,14],[1137,0,1137,14],[1146,0,1146,14],[1147,0,1147,14],[1139,1,1139,2],[1055,3,1055,4],[1033,1,1033,2],[1048,0,1048,14],[1049,0,1049,14],[1086,4,1086,5],[1086,8,1086,10],[1033,4,1033,7],[1091,1,1091,2],[1091,8,1091,9],[1068,1,1068,2],[1065,0,1065,14],[1066,0,1066,14],[1074,0,1074,14],[1083,0,1083,14],[1084,0,1084,14],[992,3,992,4],[970,1,970,2],[985,0,985,14],[986,0,986,14],[950,1,950,2],[970,4,970,7],[1023,4,1023,5],[1023,8,1023,10],[1028,1,1028,2],[1028,8,1028,9],[1005,1,1005,2],[1002,0,1002,14],[1003,0,1003,14],[1011,0,1011,14],[1020,0,1020,14],[1021,0,1021,14],[1013,1,1013,2],[929,3,929,4],[907,1,907,2],[922,0,922,14],[923,0,923,14],[960,4,960,5],[960,8,960,10],[907,4,907,7],[965,1,965,2],[965,8,965,9],[942,1,942,2],[939,0,939,14],[940,0,940,14],[948,0,948,14],[957,0,957,14],[958,0,958,14],[866,3,866,4],[844,1,844,2],[859,0,859,14],[860,0,860,14],[824,1,824,2],[844,4,844,7],[897,4,897,5],[897,8,897,10],[902,1,902,2],[902,8,902,9],[879,1,879,2],[876,0,876,14],[877,0,877,14],[885,0,885,14],[894,0,894,14],[895,0,895,14],[887,1,887,2],[803,3,803,4],[781,1,781,2],[796,0,796,14],[797,0,797,14],[834,4,834,5],[834,8,834,10],[781,4,781,7],[839,1,839,2],[839,8,839,9],[816,1,816,2],[813,0,813,14],[814,0,814,14],[822,0,822,14],[831,0,831,14],[832,0,832,14],[740,3,740,4],[718,1,718,2],[733,0,733,14],[734,0,734,14],[698,1,698,2],[718,4,718,7],[771,4,771,5],[771,8,771,10],[776,1,776,2],[776,8,776,9],[753,1,753,2],[750,0,750,14],[751,0,751,14],[759,0,759,14],[768,0,768,14],[769,0,769,14],[761,1,761,2],[713,1,713,2],[713,8,713,9],[708,4,708,5],[708,8,708,10],[690,1,690,2],[687,0,687,14],[688,0,688,14],[696,0,696,14],[706,0,706,14],[705,0,705,14],[677,3,677,4],[655,1,655,2],[670,0,670,14],[671,0,671,14],[655,4,655,7],[461,8,461,9],[488,3,488,4],[466,1,466,2],[481,0,481,14],[482,0,482,14],[381,0,381,14],[390,0,390,14],[391,0,391,14],[335,1,335,2],[335,8,335,9],[425,3,425,4],[403,1,403,2],[418,0,418,14],[419,0,419,14],[362,3,362,4],[340,1,340,2],[355,0,355,14],[356,0,356,14],[375,1,375,2],[372,0,372,14],[373,0,373,14],[299,3,299,4],[277,1,277,2],[292,0,292,14],[293,0,293,14],[330,4,330,5],[330,8,330,10],[267,4,267,5],[267,8,267,10],[272,1,272,2],[272,8,272,9],[309,0,309,14],[310,0,310,14],[318,0,318,14],[327,0,327,14],[328,0,328,14],[312,1,312,2],[255,0,255,14],[264,0,264,14],[265,0,265,14],[209,1,209,2],[209,8,209,9],[186,1,186,2],[192,0,192,14],[201,0,201,14],[202,0,202,14],[236,3,236,4],[214,1,214,2],[229,0,229,14],[230,0,230,14],[173,3,173,4],[166,0,166,14],[167,0,167,14],[183,0,183,14],[184,0,184,14],[204,4,204,5],[204,8,204,10],[249,1,249,2],[246,0,246,14],[247,0,247,14],[1,0,1,14],[146,1,146,2],[146,8,146,9],[151,1,151,2],[141,4,141,5],[141,8,141,10],[129,0,129,14],[138,0,138,14],[139,0,139,14],[78,4,78,5],[78,8,78,10],[83,1,83,2],[83,8,83,9],[75,0,75,14],[76,0,76,14],[60,1,60,2],[15,4,15,5],[88,1,88,2],[68,1,68,2],[123,1,123,2],[110,3,110,4],[103,0,103,14],[104,0,104,14],[120,0,120,14],[121,0,121,14],[2,0,2,14],[12,0,12,14],[13,0,13,14],[40,0,40,14],[41,0,41,14],[57,0,57,14],[58,0,58,14],[66,0,66,14],[4,1,4,2],[20,8,20,9],[47,3,47,4],[15,8,15,10],[20,1,20,2],[25,1,25,2],[25,4,25,7],[88,4,88,7],[1704,0,1704,14],[65,0,65,15],[128,0,128,15],[191,0,191,15],[254,0,254,15],[317,0,317,15],[380,0,380,15],[443,0,443,15],[506,0,506,15],[569,0,569,15],[632,0,632,15],[695,0,695,15],[758,0,758,15],[821,0,821,15],[884,0,884,15],[947,0,947,15],[1010,0,1010,15],[1073,0,1073,15],[1136,0,1136,15],[1199,0,1199,15],[1262,0,1262,15],[1325,0,1325,15],[1388,0,1388,15],[1451,0,1451,15]]}
[null,null,null,{"$f":"input_tab_one!C3","v":0},null,null,null,null,null,null,null,null,null,null,null,null,null,null,null,null,null,null,null,null,null,null,null,null,null,null,null,null,"Year","Month","Digital Unit","Analogue Unit","Number","Boodlean","File Type","Resolution (DPI)","PDF Conversion","EDRMS status","Colour","Boodlean 2"]
[{"$f":"selected_functions!A5","v":0},null,null,null,null,null,null,null,null,null,null,null,null,null,null,null,null,null,null,null,{"$f":"IF($A$2=0,\"x\",\"\")","v":"x"},null,null,null,null,null,null,null,null,null,null,null,{"$f":"input_lists!D11","v":-17},{"$f":"input_lists!E11","v":"January"},{"$f":"input_lists!G11","v":"Kilobytes"},{"$f":"input_lists!H11","v":"Linear Metres"},{"$f":"input_lists!I11","v":0},{"$f":"input_lists!K11","v":"Yes"},{"$f":"input_lists!M11","v":"PDF / PDF A"},{"$f":"input_lists!N11","v":"72 dpi"},{"$f":"input_lists!P11","v":"email"},{"$f":"input_lists!R11","v":"on EDRMS system"},{"$f":"input_lists!T11","v":"B+W"},{"$f":"input_lists!V11","v":"Yes - backup and mastercopy"}]
[{"$f":"CONCATENATE(\"Section 1 - Percentage of records to be preserved - \",A2)","v":"Section 1 - Percentage of records to be preserved - 0"},null,null,null,null,null,null,null,null,null,null,null,null,null,null,null,null,null,null,null,{"$f":"IF($A$2=0,\"x\",\"\")","v":"x"},null,null,null,null,null,null,null,null,null,null,null,{"$f":"input_lists!D12","v":-16},{"$f":"input_lists!E12","v":"February"},{"$f":"input_lists!G12","v":"Megabytes"},{"$f":"input_lists!H12","v":"Bankers Boxes (43x35x27)"},{"$f":"input_lists!I12","v":1},{"$f":"input_lists!K12","v":"No"},{"$f":"input_lists!M12","v":"TIFF / TIF"},{"$f":"input_lists!N12","v":"100 dpi"},{"$f":"input_lists!P12","v":"office packages or similar"},{"$f":"input_lists!R12","v":"off EDRMS system"},{"$f":"input_lists!T12","v":"Greyscale"},{"$f":"input_lists!V12","v":"Yes - backup copy only"}]
[1.1000000000000001,{"$f":"CONCATENATE(\"Percentage of records to be preserved - \",A2)","v":"Percentage of records to be preserved - 0"},null,null,null,null,null,null,null,null,null,null,null,null,null,null,null,null,null,null,"x",null,null,null,null,null,null,null,null,null,null,null,{"$f":"input_lists!D13","v":-15},{"$f":"input_lists!E13","v":"March"},{"$f":"input_lists!G13","v":"Gigabytes"},{"$f":"input_lists!H13","v":"Crates (59x39x31)"},{"$f":"input_lists!I13","v":2},null,{"$f":"input_lists!M13","v":"JPEG / JPEG 2000"},{"$f":"input_lists!N13","v":"200 dpi"},{"$f":"input_lists!P13","v":"CAD files"},null,{"$f":"input_lists!T13","v":"Colour"},{"$f":"input_lists!V13","v":"No"}]
["1.1.1",{"$f":"CONCATENATE(\"This table provides a guide for the percentage of records aligned with different retention schedules for \",A2,\". You may wish to use this to inform the answer you provide in question 1.1.2\")","v":"This table provides a guide for the percentage of records aligned with different retention schedules for 0. You may wish to use this to inform the answer you provide in question 1.1.2"},null,"1.1.2",{"$f":"CONCATENATE(\"What is the percentage of records you intend to incorporate into the digital archive for \",A2,\"?\")","v":"What is the percentage of records you intend to incorporate into the digital archive for 0?"},null,null,null,null,null,null,null,null,null,null,null,null,null,null,null,"x",null,null,null,null,null,null,null,null,null,null,null,{"$f":"input_lists!D14","v":-14},{"$f":"input_lists!E14","v":"April"},{"$f":"input_lists!G14","v":"Terabytes"},{"$f":"input_lists!H14","v":"Hours (audio files)"},{"$f":"input_lists!I14","v":3},null,{"$f":"input_lists!M14","v":"Wave / Wav format"},{"$f":"input_lists!N14","v":"300 dpi"},null,null,{"$f":"input_lists!T14","v":"NA (audio files)"}]
[null,null,null,null,null,null,null,null,null,null,null,null,null,null,null,null,null,null,null,null,"x",null,null,null,null,null,null,null,null,null,null,null,{"$f":"input_lists!D15","v":-13},{"$f":"input_lists!E15","v":"May"},{"$f":"input_lists!G15","v":"Petabytes"},{"$f":"input_lists!H15","v":"Minutes (audio files)"},{"$f":"input_lists!I15","v":4},null,{"$f":"input_lists!M15","v":"MP3"},{"$f":"input_lists!N15","v":"400 dpi"},null,null,{"$f":"input_lists!T15","v":0}]
[{"$f":"B7&A2","v":"Permanent0"},"Permanent",{"$f":"IFERROR(VLOOKUP(A7,retention_schedules!C:D,2,FALSE),\"\")","v":""},null,null,null,null,null,null,null,null,null,null,null,null,null,null,null,null,null,"x",null,null,null,null,null,null,null,null,null,null,null,{"$f":"input_lists!D16","v":-12},{"$f":"input_lists!E16","v":"June"},null,null,{"$f":"input_lists!I16","v":5},null,{"$f":"input_lists!M16","v":"MP4"},{"$f":"input_lists!N16","v":"600 dpi"},null,null,{"$f":"input_lists!T16","v":0}]
[{"$f":"B8&A2","v":"30 years +0"},"30 years +",{"$f":"IFERROR(VLOOKUP(A8,retention_schedules!C:D,2,FALSE),\"\")","v":""},null,null,null,null,null,null,null,null,null,null,null,null,null,null,null,null,null,"x",null,null,null,null,null,null,null,null,null,null,null,{"$f":"input_lists!D17","v":-11},{"$f":"input_lists!E17","v":"July"},null,null,{"$f":"input_lists!I17","v":6},null,{"$f":"input_lists!M17","v":0},{"$f":"input_lists!N17","v":"NA (audio files)"}]
[{"$f":"B9&A2","v":"20 years +0"},"20 years +",{"$f":"IFERROR(VLOOKUP(A9,retention_schedules!C:D,2,FALSE),\"\")","v":""},null,null,null,null,null,null,null,null,null,null,null,null,null,null,null,null,null,"x",null,null,null,null,null,null,null,null,null,null,null,{"$f":"input_lists!D18","v":-10},{"$f":"input_lists!E18","v":"August"},null,null,null,null,{"$f":"input_lists!M18","v":0},{"$f":"input_lists!N18","v":0}]
[{"$f":"B10&A2","v":"10 years +0"},"10 years +",{"$f":"IFERROR(VLOOKUP(A10,retention_schedules!C:D,2,FALSE),\"\")","v":""},null,null,null,null,null,null,null,null,null,null,null,null,null,null,null,null,null,"x",null,null,null,null,null,null,null,null,null,null,null,{"$f":"input_lists!D19","v":-9},{"$f":"input_lists!E19","v":"September"},null,null,null,null,null,{"$f":"input_lists!N19","v":0}]
[{"$f":"B11&A2","v":"All records0"},"All records",{"$f":"IFERROR(VLOOKUP(A11,retention_schedules!C:D,2,FALSE),\"\")","v":""},null,null,null,null,null,null,null,null,null,null,null,null,null,null,null,null,null,"x",null,null,null,null,null,null,null,null,null,null,null,{"$f":"input_lists!D20","v":-8},{"$f":"input_lists!E20","v":"October"}]
[null,null,null,null,null,null,null,null,null,null,null,null,null,null,null,null,null,null,null,null,"x",null,null,null,null,null,null,null,null,null,null,null,{"$f":"input_lists!D21","v":-7},{"$f":"input_lists!E21","v":"November"}]
[{"$f":"CONCATENATE(\"Section 2 - Digital Records - \",A2)","v":"Section 2 - Digital Records - 0"},null,null,null,null,null,null,null,null,null,null,null,null,null,null,null,null,null,null,null,"x",null,null,null,null,null,null,null,null,null,null,null,{"$f":"input_lists!D22","v":-6},{"$f":"input_lists!E22","v":"December"}]
[{"$f":"CONCATENATE(\"This section is for users who have decided on the born-digital based calculations approach for \",A2,\". Users basing their calculations on paper records should proceed to Section 3\")","v":"This section is for users who have decided on the born-digital based calculations approach for 0. Users basing their calculations on paper records should proceed to Section 3"},null,null,null,null,null,null,null,null,null,null,null,null,null,null,null,null,null,null,null,"x",null,null,null,null,null,null,null,null,null,null,null,{"$f":"input_lists!D23","v":-5}]
[2.1,{"$f":"CONCATENATE(\"EDRM and Content Management Systems - \",A2)","v":"EDRM and Content Management Systems - 0"},null,null,null,null,null,null,null,null,null,null,null,null,null,null,null,null,null,null,"x",null,null,null,null,null,null,null,null,null,null,null,{"$f":"input_lists!D24","v":-4}]
["2.1.1","In which year did you migrate onto the current EDRM / Content Management systems?",null,"2.1.2","What is the total volume of digital records held on the EDRM / Content Management systems?",null,null,"2.1.3","How many backup copies are held on your EDRM / Content Management systems? (\"0\" means no backup copies are held, \"1\" means the system contains one backup copy as well as the master copy, etc)",null,null,null,null,null,null,null,null,null,null,null,"x",null,null,null,null,null,null,null,null,null,null,null,{"$f":"input_lists!D25","v":-3}]
[null,null,null,null,null,null,null,null,null,null,null,null,null,null,null,null,null,null,null,null,"x",null,null,null,null,null,null,null,null,null,null,null,{"$f":"input_lists!D26","v":-2}]
[null,null,null,null,null,null,null,null,null,null,null,null,null,null,null,null,null,null,null,null,"x",null,null,null,null,null,null,null,null,null,null,null,{"$f":"input_lists!D27","v":-1}]
[null,null,null,null,null,null,null,null,null,null,null,null,null,null,null,null,null,null,null,null,"x",null,null,null,null,null,null,null,null,null,null,null,{"$f":"input_lists!D28","v":0}]
[2.2000000000000002,{"$f":"CONCATENATE(\"Born Digital Records - outside the EDRM / Content Management systems - \",A2)","v":"Born Digital Records - outside the EDRM / Content Management systems - 0"},null,null,null,null,null,null,null,null,null,null,null,null,null,null,null,null,null,null,"x",null,null,null,null,null,null,null,null,null,null,null,{"$f":"input_lists!D29","v":1}]
["2.2.1","What is the volume of  digital records held outwith the EDRM/ Content Management systems (e.g. on shared drives)? If you are not sure of the exact figure then please provide an estimate.",null,null,null,null,null,"2.2.2","How many backup copies are held on digital systems that sit outside the EDRM / Content Management systems? (\"0\" means no backup copies are held, \"1\" means that one backup copy as well as the master copy is held, etc.). If you are not sure of an exact figure then provide an estimate",null,null,null,null,null,null,null,null,null,null,null,"x",null,null,null,null,null,null,null,null,null,null,null,{"$f":"input_lists!D30","v":2}]
[null,null,null,null,null,null,null,null,null,null,null,null,null,null,null,null,null,null,null,null,"x",null,null,null,null,null,null,null,null,null,null,null,{"$f":"input_lists!D31","v":3}]
[null,null,null,null,null,null,null,null,null,null,null,null,null,null,null,null,null,null,null,null,"x"]
[null,null,null,null,null,null,null,null,null,null,null,null,null,null,null,null,null,null,null,null,"x"]
[2.2999999999999998,{"$f":"CONCATENATE(\"Backup copies - \",A2)","v":"Backup copies - 0"},null,null,null,null,null,null,null,null,null,null,null,null,null,null,null,null,null,null,"x"]
["2.3.1","How many backup / access copies will you incorporate into the digital archive? (\"0\" means only the master copy will be preserved; \"1\" means the master copy and one copy will be preserved, etc.).",null,"2.3.2","When you migrate files in to the archive, will the backup copies of any of the records recorded in sections 2.1 and 2.2 be of a lower resolution / different file type to the master copy? (If you do not know the answer to this, select \"no\")",null,null,null,null,null,null,null,null,null,null,null,null,null,null,null,"x"]
[null,null,null,null,null,null,null,null,null,null,null,null,null,null,null,null,null,null,null,null,"x"]
[null,null,null,null,null,null,{"$f":"IF(E28=input_lists!$K$11,\"In the below table, provide details of the files you plan to archive with different backup resolutions\",\"\")","v":""},null,null,null,null,null,null,null,null,null,null,null,null,null,"x"]
[null,null,null,null,null,null,null,null,null,null,null,null,null,null,null,null,null,null,null,null,"x"]
[null,null,null,null,"Master Copy file type","Master Copy resolution","Master Copy volume (do not include duplicates)","units","Backup Copy file type","Backup Copy resolution","Are these master copies held on the EDRM/Content Management system or off the EDRM/Content Management system?",null,null,null,null,null,null,null,null,null,"x"]
[null,null,null,null,null,null,null,null,null,null,null,null,null,null,null,null,null,null,null,null,"x"]
[null,null,null,null,null,null,null,null,null,null,null,null,null,null,null,null,null,null,null,null,"x"]
[null,null,null,null,null,null,null,null,null,null,null,null,null,null,null,null,null,null,null,null,"x"]
[null,null,null,null,null,null,null,null,null,null,null,null,null,null,null,null,null,null,null,null,"x"]
[null,null,null,null,null,null,null,null,null,null,null,null,null,null,null,null,null,null,null,null,"x"]
[null,null,null,null,null,null,null,null,null,null,null,null,null,null,null,null,null,null,null,null,"x"]
[null,null,null,null,null,null,null,null,null,null,null,null,null,null,null,null,null,null,null,null,"x"]
[null,null,null,null,null,null,null,null,null,null,null,null,null,null,null,null,null,null,null,null,"x"]
[null,null,null,null,null,null,null,null,null,null,null,null,null,null,null,null,null,null,null,null,"x"]
[null,null,null,null,null,null,null,null,null,null,null,null,null,null,null,null,null,null,null,null,"x"]
[{"$f":"CONCATENATE(\"Section 3 - Planned Digitisation - \",A2)","v":"Section 3 - Planned Digitisation - 0"},null,null,null,null,null,null,null,null,null,null,null,null,null,null,null,null,null,null,null,{"$f":"IF($A$2=0,\"x\",\"\")","v":"x"}]
["Note: any records that are already digitised should be recorded in Section 2 - Digital Records (above)",null,null,null,null,null,null,null,null,null,null,null,null,null,null,null,null,null,null,null,"x"]
[3.1,{"$f":"CONCATENATE(\"Records planned for digitisation - \",A2)","v":"Records planned for digitisation - 0"},null,null,null,null,null,null,null,null,null,null,null,null,null,null,null,null,null,null,"x"]
["3.1.1",{"$f":"CONCATENATE(\"Are there any large digitisation projects planned within \",A2,\" in the near future? (If you do not know the answer to this question, select no.)\")","v":"Are there any large digitisation projects planned within 0 in the near future? (If you do not know the answer to this question, select no.)"},null,null,null,null,null,null,null,null,null,null,null,null,null,null,null,null,null,null,"x"]
[null,null,null,null,null,null,null,null,null,null,null,null,null,null,null,null,null,null,null,null,"x"]
[null,null,null,{"$f":"IF(B46=input_lists!$K$11,\"In the below table, provide details of your planned digitisation project\",\"\")","v":""},null,null,null,null,null,null,null,null,null,null,null,null,null,null,null,null,"x"]
[null,null,null,null,null,null,null,null,null,null,null,null,null,null,null,null,null,null,null,null,"x"]
["3.2.1","File type you plan to digitise to (master copy):","3.2.2","Volume of files you plan to digitise:",null,"3.2.3","File type of backup copies:","3.2.4","Resolution of Master Copy:","3.2.5","Resolution of Backup Copies:","3.2.6","Will you compress your files?","3.2.7","Colour scale used:",null,null,null,null,null,"x"]
[null,null,null,null,null,null,null,null,null,null,null,null,null,null,null,null,null,null,null,null,"x"]
[null,null,null,null,null,null,null,null,null,null,null,null,null,null,null,null,null,null,null,null,"x"]
[null,null,null,null,null,null,null,null,null,null,null,null,null,null,null,null,null,null,null,null,"x"]
[null,null,null,null,null,null,null,null,null,null,null,null,null,null,null,null,null,null,null,null,"x"]
[null,null,null,null,null,null,null,null,null,null,null,null,null,null,null,null,null,null,null,null,"x"]
[null,null,null,null,null,null,null,null,null,null,null,null,null,null,null,null,null,null,null,null,"x"]
[null,null,null,null,null,null,null,null,null,null,null,null,null,null,null,null,null,null,null,null,"x"]
[null,null,null,null,null,null,null,null,null,null,null,null,null,null,null,null,null,null,null,null,"x"]
[null,null,null,null,null,null,null,null,null,null,null,null,null,null,null,null,null,null,null,null,"x"]
[{"$f":"CONCATENATE(\"Section 4 - Paper Records - \",A2)","v":"Section 4 - Paper Records - 0"},null,null,null,null,null,null,null,null,null,null,null,null,null,null,null,null,null,null,null,"x"]
[{"$f":"CONCATENATE(\"This section is for users who have decided on the paper based calculations approach for \",A2)","v":"This section is for users who have decided on the paper based calculations approach for 0"},null,null,null,null,null,null,null,null,null,null,null,null,null,null,null,null,null,null,null,"x"]
[4.0999999999999996,{"$f":"CONCATENATE(\"Paper records - \",A2)","v":"Paper records - 0"},null,null,null,null,null,null,null,null,null,null,null,null,null,null,null,null,null,null,"x"]
["4.1.1",{"$f":"CONCATENATE(\"What is the average annual volume of paper records created by \",A2,\"? This figure should reflect total records created, not just records which are deposited into the archive.\")","v":"What is the average annual volume of paper records created by 0? This figure should reflect total records created, not just records which are deposited into the archive."},null,"4.1.2","How many backup / access copies will you incorporate into the digital archive? (\"0\" means only the master copy will be preserved; \"1\" means the master copy and one copy will be preserved, etc.).",null,null,null,null,null,null,null,null,null,null,null,null,null,null,null,"x"]
[null,null,null,null,null,null,null,null,null,null,null,null,null,null,null,null,null,null,null,null,"x"]
[null,null,null,null,null,null,null,null,null,null,null,null,null,null,null,null,null,null,null,null,"x"]
[null,null,null,null,null,null,null,null,null,null,null,null,null,null,null,null,null,null,null,null,"x"]
[null,null,null,null,null,null,null,null,null,null,null,null,null,null,null,null,null,null,null,null,"x"]
[{"$f":"selected_functions!A6","v":0},null,null,null,null,null,null,null,null,null,null,null,null,null,null,null,null,null,null,null,{"$f":"IF($A$66=0,\"x\",\"\")","v":"x"}]
[{"$f":"CONCATENATE(\"Section 1 - Percentage of records to be preserved - \",A66)","v":"Section 1 - Percentage of records to be preserved - 0"},null,null,null,null,null,null,null,null,null,null,null,null,null,null,null,null,null,null,null,{"$f":"IF($A$66=0,\"x\",\"\")","v":"x"}]
[1.1000000000000001,{"$f":"CONCATENATE(\"Percentage of records to be preserved - \",A66)","v":"Percentage of records to be preserved - 0"},null,null,null,null,null,null,null,null,null,null,null,null,null,null,null,null,null,null,"x"]
["1.1.1",{"$f":"CONCATENATE(\"This table provides a guide for the percentage of records aligned with different retention schedules for \",A66,\". You may wish to use this to inform the answer you provide in question 1.1.2\")","v":"This table provides a guide for the percentage of records aligned with different retention schedules for 0. You may wish to use this to inform the answer you provide in question 1.1.2"},null,"1.1.2",{"$f":"CONCATENATE(\"What is the percentage of records you intend to incorporate into the digital archive for \",A66,\"?\")","v":"What is the percentage of records you intend to incorporate into the digital archive for 0?"},null,null,null,null,null,null,null,null,null,null,null,null,null,null,null,"x"]
[null,null,null,null,null,null,null,null,null,null,null,null,null,null,null,null,null,null,null,null,"x"]
[{"$f":"B71&A66","v":"Permanent0"},"Permanent",{"$f":"IFERROR(VLOOKUP(A71,retention_schedules!C:D,2,FALSE),\"\")","v":""},null,null,null,null,null,null,null,null,null,null,null,null,null,null,null,null,null,"x"]
[{"$f":"B72&A66","v":"30 years +0"},"30 years +",{"$f":"IFERROR(VLOOKUP(A72,retention_schedules!C:D,2,FALSE),\"\")","v":""},null,null,null,null,null,null,null,null,null,null,null,null,null,null,null,null,null,"x"]
[{"$f":"B73&A66","v":"20 years +0"},"20 years +",{"$f":"IFERROR(VLOOKUP(A73,retention_schedules!C:D,2,FALSE),\"\")","v":""},null,null,null,null,null,null,null,null,null,null,null,null,null,null,null,null,null,"x"]
[{"$f":"B74&A66","v":"10 years +0"},"10 years +",{"$f":"IFERROR(VLOOKUP(A74,retention_schedules!C:D,2,FALSE),\"\")","v":""},null,null,null,null,null,null,null,null,null,null,null,null,null,null,null,null,null,"x"]
[{"$f":"B75&A66","v":"All records0"},"All records",{"$f":"IFERROR(VLOOKUP(A75,retention_schedules!C:D,2,FALSE),\"\")","v":""},null,null,null,null,null,null,null,null,null,null,null,null,null,null,null,null,null,"x"]
[{"$f":"CONCATENATE(\"Section 2 - Digital Records - \",A66)","v":"Section 2 - Digital Records - 0"},null,null,null,null,null,null,null,null,null,null,null,null,null,null,null,null,null,null,null,"x"]
[{"$f":"CONCATENATE(\"Note - if you do not have information about the digital records system for \",A66,\"  then proceed to section three\")","v":"Note - if you do not have information about the digital records system for 0  then proceed to section three"},null,null,null,null,null,null,null,null,null,null,null,null,null,null,null,null,null,null,null,"x"]
[2.1,{"$f":"CONCATENATE(\"EDRM and Content Management Systems - \",A66)","v":"EDRM and Content Management Systems - 0"},null,null,null,null,null,null,null,null,null,null,null,null,null,null,null,null,null,null,"x"]
["2.1.1","In which year did you migrate onto the current EDRM / Content Management systems?",null,"2.1.2","What is the total volume of digital records held on the EDRM / Content Management systems?",null,null,"2.1.3","How many backup copies are held on your EDRM / Content Management systems? (\"0\" means no backup copies are held, \"1\" means the system contains one backup copy as well as the master copy, etc)",null,null,null,null,null,null,null,null,null,null,null,"x"]
[null,null,null,null,null,null,null,null,null,null,null,null,null,null,null,null,null,null,null,null,"x"]
[null,null,null,null,null,null,null,null,null,null,null,null,null,null,null,null,null,null,null,null,"x"]
[null,null,null,null,null,null,null,null,null,null,null,null,null,null,null,null,null,null,null,null,"x"]
[2.2000000000000002,{"$f":"CONCATENATE(\"Born Digital Records - outside the EDRM / Content Management systems - \",A66)","v":"Born Digital Records - outside the EDRM / Content Management systems - 0"},null,null,null,null,null,null,null,null,null,null,null,null,null,null,null,null,null,null,"x"]
["2.2.1","What is the volume of  digital records held outwith the EDRM/ Content Management systems (e.g. on shared drives)? If you are not sure of the exact figure then please provide an estimate.",null,null,null,null,null,"2.2.2","How many backup copies are held on digital systems that sit outside the EDRM / Content Management systems? (\"0\" means no backup copies are held, \"1\" means that one backup copy as well as the master copy is held, etc.). If you are not sure of an exact figure then provide an estimate",null,null,null,null,null,null,null,null,null,null,null,"x"]
[null,null,null,null,null,null,null,null,null,null,null,null,null,null,null,null,null,null,null,null,"x"]
[null,null,null,null,null,null,null,null,null,null,null,null,null,null,null,null,null,null,null,null,"x"]
[null,null,null,null,null,null,null,null,null,null,null,null,null,null,null,null,null,null,null,null,"x"]
[2.2999999999999998,{"$f":"CONCATENATE(\"Backup copies - \",A66)","v":"Backup copies - 0"},null,null,null,null,null,null,null,null,null,null,null,null,null,null,null,null,null,null,"x"]
["2.3.1","How many backup / access copies will you incorporate into the digital archive? (\"0\" means only the master copy will be preserved; \"1\" means the master copy and one copy will be preserved, etc.).",null,"2.3.2","When you migrate files in to the archive, will the backup copies of any of the records recorded in sections 2.1 and 2.2 be of a lower resolution / different file type to the master copy? (If you do not know the answer to this, select \"no\")",null,null,null,null,null,null,null,null,null,null,null,null,null,null,null,"x"]
[null,null,null,null,null,null,null,null,null,null,null,null,null,null,null,null,null,null,null,null,"x"]
[null,null,null,null,null,null,{"$f":"IF(E91=input_lists!$K$11,\"In the below table, provide details of the files you plan to archive with different backup resolutions\",\"\")","v":""},null,null,null,null,null,null,null,null,null,null,null,null,null,"x"]
[null,null,null,null,null,null,null,null,null,null,null,null,null,null,null,null,null,null,null,null,"x"]
[null,null,null,null,"Master Copy file type","Master Copy resolution","Master Copy volume (do not include duplicates)","units","Backup Copy file type","Backup Copy resolution","Are these master copies held on the EDRM/Content Management system or off the EDRM/Content Management system?",null,null,null,null,null,null,null,null,null,"x"]
[null,null,null,null,null,null,null,null,null,null,null,null,null,null,null,null,null,null,null,null,"x"]
[null,null,null,null,null,null,null,null,null,null,null,null,null,null,null,null,null,null,null,null,"x"]
[null,null,null,null,null,null,null,null,null,null,null,null,null,null,null,null,null,null,null,null,"x"]
[null,null,null,null,null,null,null,null,null,null,null,null,null,null,null,null,null,null,null,null,"x"]
[null,null,null,null,null,null,null,null,null,null,null,null,null,null,null,null,null,null,null,null,"x"]
[null,null,null,null,null,null,null,null,null,null,null,null,null,null,null,null,null,null,null,null,"x"]
[null,null,null,null,null,null,null,null,null,null,null,null,null,null,null,null,null,null,null,null,"x"]
[null,null,null,null,null,null,null,null,null,null,null,null,null,null,null,null,null,null,null,null,"x"]
[null,null,null,null,null,null,null,null,null,null,null,null,null,null,null,null,null,null,null,null,"x"]
[null,null,null,null,null,null,null,null,null,null,null,null,null,null,null,null,null,null,null,null,"x"]
[{"$f":"CONCATENATE(\"Section 3 - Planned Digitisation - \",A66)","v":"Section 3 - Planned Digitisation - 0"},null,null,null,null,null,null,null,null,null,null,null,null,null,null,null,null,null,null,null,{"$f":"IF($A$66=0,\"x\",\"\")","v":"x"}]
["Note: any records that are already digitised should be recorded in Section 2 - Digital Records (above)",null,null,null,null,null,null,null,null,null,null,null,null,null,null,null,null,null,null,null,"x"]
[3.1,{"$f":"CONCATENATE(\"Records planned for digitisation - provide details for each file type you plan on digitising in relation to - \",A66)","v":"Records planned for digitisation - provide details for each file type you plan on digitising in relation to - 0"},null,null,null,null,null,null,null,null,null,null,null,null,null,null,null,null,null,null,"x"]
["3.1.1",{"$f":"CONCATENATE(\"Are there any large digitisation projects planned within \",A66,\" in the near future? (If you do not know the answer to this question, select no.)\")","v":"Are there any large digitisation projects planned within 0 in the near future? (If you do not know the answer to this question, select no.)"},null,null,null,null,null,null,null,null,null,null,null,null,null,null,null,null,null,null,"x"]
[null,null,null,null,null,null,null,null,null,null,null,null,null,null,null,null,null,null,null,null,"x"]
[null,null,null,{"$f":"IF(B109=input_lists!$K$11,\"In the below table, provide details of your planned digitisation project\",\"\")","v":""},null,null,null,null,null,null,null,null,null,null,null,null,null,null,null,null,"x"]
[null,null,null,null,null,null,null,null,null,null,null,null,null,null,null,null,null,null,null,null,"x"]
["3.2.1","File type you plan to digitise to (master copy):","3.2.2","Volume of files you plan to digitise:",null,"3.2.3","File type of backup copies:","3.2.4","Resolution of Master Copy:","3.2.5","Resolution of Backup Copies:","3.2.6","Will you compress your files?","3.2.7","Colour scale used:",null,null,null,null,null,"x"]
[null,null,null,null,null,null,null,null,null,null,null,null,null,null,null,null,null,null,null,null,"x"]
[null,null,null,null,null,null,null,null,null,null,null,null,null,null,null,null,null,null,null,null,"x"]
[null,null,null,null,null,null,null,null,null,null,null,null,null,null,null,null,null,null,null,null,"x"]
[null,null,null,null,null,null,null,null,null,null,null,null,null,null,null,null,null,null,null,null,"x"]
[null,null,null,null,null,null,null,null,null,null,null,null,null,null,null,null,null,null,null,null,"x"]
[null,null,null,null,null,null,null,null,null,null,null,null,null,null,null,null,null,null,null,null,"x"]
[null,null,null,null,null,null,null,null,null,null,null,null,null,null,null,null,null,null,null,null,"x"]
[null,null,null,null,null,null,null,null,null,null,null,null,null,null,null,null,null,null,null,null,"x"]
[null,null,null,null,null,null,null,null,null,null,null,null,null,null,null,null,null,null,null,null,"x"]
[{"$f":"CONCATENATE(\"Section 4 - Paper Records - \",A66)","v":"Section 4 - Paper Records - 0"},null,null,null,null,null,null,null,null,null,null,null,null,null,null,null,null,null,null,null,"x"]
[{"$f":"CONCATENATE(\"This section is for users who have decided on the paper based calculations approach for \",A66)","v":"This section is for users who have decided on the paper based calculations approach for 0"},null,null,null,null,null,null,null,null,null,null,null,null,null,null,null,null,null,null,null,"x"]
[4.0999999999999996,{"$f":"CONCATENATE(\"Paper records - \",A66)","v":"Paper records - 0"},null,null,null,null,null,null,null,null,null,null,null,null,null,null,null,null,null,null,"x"]
["4.1.1",{"$f":"CONCATENATE(\"What is the average annual volume of paper records created by \",A65,\"? This figure should reflect total records created, not just records which are deposited into the archive.\")","v":"What is the average annual volume of paper records created by ? This figure should reflect total records created, not just records which are deposited into the archive."},null,"4.1.2","How many backup / access copies will you incorporate into the digital archive? (\"0\" means only the master copy will be preserved; \"1\" means the master copy and one copy will be preserved, etc.).",null,null,null,null,null,null,null,null,null,null,null,null,null,null,null,"x"]
[null,null,null,null,null,null,null,null,null,null,null,null,null,null,null,null,null,null,null,null,"x"]
[null,null,null,null,null,null,null,null,null,null,null,null,null,null,null,null,null,null,null,null,"x"]
[null,null,null,null,null,null,null,null,null,null,null,null,null,null,null,null,null,null,null,null,"x"]
[null,null,null,null,null,null,null,null,null,null,null,null,null,null,null,null,null,null,null,null,"x"]
[{"$f":"selected_functions!A7","v":0},null,null,null,null,null,null,null,null,null,null,null,null,null,null,null,null,null,null,null,{"$f":"IF($A$129=0,\"x\",\"\")","v":"x"}]
[{"$f":"CONCATENATE(\"Section 1 - Percentage of records to be preserved - \",A129)","v":"Section 1 - Percentage of records to be preserved - 0"},null,null,null,null,null,null,null,null,null,null,null,null,null,null,null,null,null,null,null,{"$f":"IF($A$129=0,\"x\",\"\")","v":"x"}]
[1.1000000000000001,{"$f":"CONCATENATE(\"Percentage of records to be preserved - \",A129)","v":"Percentage of records to be preserved - 0"},null,null,null,null,null,null,null,null,null,null,null,null,null,null,null,null,null,null,"x"]
["1.1.1",{"$f":"CONCATENATE(\"This table provides a guide for the percentage of records aligned with different retention schedules for \",A129,\". You may wish to use this to inform the answer you provide in question 1.1.2\")","v":"This table provides a guide for the percentage of records aligned with different retention schedules for 0. You may wish to use this to inform the answer you provide in question 1.1.2"},null,"1.1.2",{"$f":"CONCATENATE(\"What is the percentage of records you intend to incorporate into the digital archive for \",A129,\"?\")","v":"What is the percentage of records you intend to incorporate into the digital archive for 0?"},null,null,null,null,null,null,null,null,null,null,null,null,null,null,null,"x"]
[null,null,null,null,null,null,null,null,null,null,null,null,null,null,null,null,null,null,null,null,"x"]
[{"$f":"B134&A129","v":"Permanent0"},"Permanent",{"$f":"IFERROR(VLOOKUP(A134,retention_schedules!C:D,2,FALSE),\"\")","v":""},null,null,null,null,null,null,null,null,null,null,null,null,null,null,null,null,null,"x"]
[{"$f":"B135&A129","v":"30 years +0"},"30 years +",{"$f":"IFERROR(VLOOKUP(A135,retention_schedules!C:D,2,FALSE),\"\")","v":""},null,null,null,null,null,null,null,null,null,null,null,null,null,null,null,null,null,"x"]
[{"$f":"B136&A129","v":"20 years +0"},"20 years +",{"$f":"IFERROR(VLOOKUP(A136,retention_schedules!C:D,2,FALSE),\"\")","v":""},null,null,null,null,null,null,null,null,null,null,null,null,null,null,null,null,null,"x"]
[{"$f":"B137&A129","v":"10 years +0"},"10 years +",{"$f":"IFERROR(VLOOKUP(A137,retention_schedules!C:D,2,FALSE),\"\")","v":""},null,null,null,null,null,null,null,null,null,null,null,null,null,null,null,null,null,"x"]
[{"$f":"B138&A129","v":"All records0"},"All records",{"$f":"IFERROR(VLOOKUP(A138,retention_schedules!C:D,2,FALSE),\"\")","v":""},null,null,null,null,null,null,null,null,null,null,null,null,null,null,null,null,null,"x"]
[{"$f":"CONCATENATE(\"Section 2 - Digital Records - \",A129)","v":"Section 2 - Digital Records - 0"},null,null,null,null,null,null,null,null,null,null,null,null,null,null,null,null,null,null,null,"x"]
[{"$f":"CONCATENATE(\"Note - if you do not have information about the digital records system for \",A129,\"  then proceed to section three\")","v":"Note - if you do not have information about the digital records system for 0  then proceed to section three"},null,null,null,null,null,null,null,null,null,null,null,null,null,null,null,null,null,null,null,"x"]
[2.1,{"$f":"CONCATENATE(\"EDRM and Content Management Systems - \",A129)","v":"EDRM and Content Management Systems - 0"},null,null,null,null,null,null,null,null,null,null,null,null,null,null,null,null,null,null,"x"]
["2.1.1","In which year did you migrate onto the current EDRM / Content Management systems?",null,"2.1.2","What is the total volume of digital records held on the EDRM / Content Management systems?",null,null,"2.1.3","How many backup copies are held on your EDRM / Content Management systems? (\"0\" means no backup copies are held, \"1\" means the system contains one backup copy as well as the master copy, etc)",null,null,null,null,null,null,null,null,null,null,null,"x"]
[null,null,null,null,null,null,null,null,null,null,null,null,null,null,null,null,null,null,null,null,"x"]
[null,null,null,null,null,null,null,null,null,null,null,null,null,null,null,null,null,null,null,null,"x"]
[null,null,null,null,null,null,null,null,null,null,null,null,null,null,null,null,null,null,null,null,"x"]
[2.2000000000000002,{"$f":"CONCATENATE(\"Born Digital Records - outside the EDRM / Content Management systems - \",A129)","v":"Born Digital Records - outside the EDRM / Content Management systems - 0"},null,null,null,null,null,null,null,null,null,null,null,null,null,null,null,null,null,null,"x"]
["2.2.1","What is the volume of  digital records held outwith the EDRM/ Content Management systems (e.g. on shared drives)? If you are not sure of the exact figure then please provide an estimate.",null,null,null,null,null,"2.2.2","How many backup copies are held on digital systems that sit outside the EDRM / Content Management systems? (\"0\" means no backup copies are held, \"1\" means that one backup copy as well as the master copy is held, etc.). If you are not sure of an exact figure then provide an estimate",null,null,null,null,null,null,null,null,null,null,null,"x"]
[null,null,null,null,null,null,null,null,null,null,null,null,null,null,null,null,null,null,null,null,"x"]
[null,null,null,null,null,null,null,null,null,null,null,null,null,null,null,null,null,null,null,null,"x"]
[null,null,null,null,null,null,null,null,null,null,null,null,null,null,null,null,null,null,null,null,"x"]
[2.2999999999999998,{"$f":"CONCATENATE(\"Backup copies - \",A129)","v":"Backup copies - 0"},null,null,null,null,null,null,null,null,null,null,null,null,null,null,null,null,null,null,"x"]
["2.3.1","How many backup / access copies will you incorporate into the digital archive? (\"0\" means only the master copy will be preserved; \"1\" means the master copy and one copy will be preserved, etc.).",null,"2.3.2","When you migrate files in to the archive, will the backup copies of any of the records recorded in sections 2.1 and 2.2 be of a lower resolution / different file type to the master copy? (If you do not know the answer to this, select \"no\")",null,null,null,null,null,null,null,null,null,null,null,null,null,null,null,"x"]
[null,null,null,null,null,null,null,null,null,null,null,null,null,null,null,null,null,null,null,null,"x"]
[null,null,null,null,null,null,{"$f":"IF(E154=input_lists!$K$11,\"In the below table, provide details of the files you plan to archive with different backup resolutions\",\"\")","v":""},null,null,null,null,null,null,null,null,null,null,null,null,null,"x"]
[null,null,null,null,null,null,null,null,null,null,null,null,null,null,null,null,null,null,null,null,"x"]
[null,null,null,null,"Master Copy file type","Master Copy resolution","Master Copy volume (do not include duplicates)","units","Backup Copy file type","Backup Copy resolution","Are these master copies held on the EDRM/Content Management system or off the EDRM/Content Management system?",null,null,null,null,null,null,null,null,null,"x"]
[null,null,null,null,null,null,null,null,null,null,null,null,null,null,null,null,null,null,null,null,"x"]
[null,null,null,null,null,null,null,null,null,null,null,null,null,null,null,null,null,null,null,null,"x"]
[null,null,null,null,null,null,null,null,null,null,null,null,null,null,null,null,null,null,null,null,"x"]
[null,null,null,null,null,null,null,null,null,null,null,null,null,null,null,null,null,null,null,null,"x"]
[null,null,null,null,null,null,null,null,null,null,null,null,null,null,null,null,null,null,null,null,"x"]
[null,null,null,null,null,null,null,null,null,null,null,null,null,null,null,null,null,null,null,null,"x"]
[null,null,null,null,null,null,null,null,null,null,null,null,null,null,null,null,null,null,null,null,"x"]
[null,null,null,null,null,null,null,null,null,null,null,null,null,null,null,null,null,null,null,null,"x"]
[null,null,null,null,null,null,null,null,null,null,null,null,null,null,null,null,null,null,null,null,"x"]
[null,null,null,null,null,null,null,null,null,null,null,null,null,null,null,null,null,null,null,null,"x"]
[{"$f":"CONCATENATE(\"Section 3 - Planned Digitisation - \",A129)","v":"Section 3 - Planned Digitisation - 0"},null,null,null,null,null,null,null,null,null,null,null,null,null,null,null,null,null,null,null,{"$f":"IF($A$129=0,\"x\",\"\")","v":"x"}]
["Note: any records that are already digitised should be recorded in Section 2 - Digital Records (above)",null,null,null,null,null,null,null,null,null,null,null,null,null,null,null,null,null,null,null,"x"]
[3.1,{"$f":"CONCATENATE(\"Records planned for digitisation - provide details for each file type you plan on digitising in relation to - \",A129)","v":"Records planned for digitisation - provide details for each file type you plan on digitising in relation to - 0"},null,null,null,null,null,null,null,null,null,null,null,null,null,null,null,null,null,null,"x"]
["3.1.1",{"$f":"CONCATENATE(\"Are there any large digitisation projects planned within \",A129,\" in the near future? (If you do not know the answer to this question, select no.)\")","v":"Are there any large digitisation projects planned within 0 in the near future? (If you do not know the answer to this question, select no.)"},null,null,null,null,null,null,null,null,null,null,null,null,null,null,null,null,null,null,"x"]
[null,null,null,null,null,null,null,null,null,null,null,null,null,null,null,null,null,null,null,null,"x"]
[null,null,null,{"$f":"IF(B172=input_lists!$K$11,\"In the below table, provide details of your planned digitisation project\",\"\")","v":""},null,null,null,null,null,null,null,null,null,null,null,null,null,null,null,null,"x"]
[null,null,null,null,null,null,null,null,null,null,null,null,null,null,null,null,null,null,null,null,"x"]
["3.2.1","File type you plan to digitise to (master copy):","3.2.2","Volume of files you plan to digitise:",null,"3.2.3","File type of backup copies:","3.2.4","Resolution of Master Copy:","3.2.5","Resolution of Backup Copies:","3.2.6","Will you compress your files?","3.2.7","Colour scale used:",null,null,null,null,null,"x"]
[null,null,null,null,null,null,null,null,null,null,null,null,null,null,null,null,null,null,null,null,"x"]
[null,null,null,null,null,null,null,null,null,null,null,null,null,null,null,null,null,null,null,null,"x"]
[null,null,null,null,null,null,null,null,null,null,null,null,null,null,null,null,null,null,null,null,"x"]
[null,null,null,null,null,null,null,null,null,null,null,null,null,null,null,null,null,null,null,null,"x"]
[null,null,null,null,null,null,null,null,null,null,null,null,null,null,null,null,null,null,null,null,"x"]
[null,null,null,null,null,null,null,null,null,null,null,null,null,null,null,null,null,null,null,null,"x"]
[null,null,null,null,null,null,null,null,null,null,null,null,null,null,null,null,null,null,null,null,"x"]
[null,null,null,null,null,null,null,null,null,null,null,null,null,null,null,null,null,null,null,null,"x"]
[null,null,null,null,null,null,null,null,null,null,null,null,null,null,null,null,null,null,null,null,"x"]
[{"$f":"CONCATENATE(\"Section 4 - Paper Records - \",A129)","v":"Section 4 - Paper Records - 0"},null,null,null,null,null,null,null,null,null,null,null,null,null,null,null,null,null,null,null,"x"]
[{"$f":"CONCATENATE(\"This section is for users who have decided on the paper based calculations approach for \",A129)","v":"This section is for users who have decided on the paper based calculations approach for 0"},null,null,null,null,null,null,null,null,null,null,null,null,null,null,null,null,null,null,null,"x"]
[4.0999999999999996,{"$f":"CONCATENATE(\"Paper records - \",A129)","v":"Paper records - 0"},null,null,null,null,null,null,null,null,null,null,null,null,null,null,null,null,null,null,"x"]
["4.1.1",{"$f":"CONCATENATE(\"What is the average annual volume of paper records created by \",A128,\"? This figure should reflect total records created, not just records which are deposited into the archive.\")","v":"What is the average annual volume of paper records created by ? This figure should reflect total records created, not just records which are deposited into the archive."},null,"4.1.2","How many backup / access copies will you incorporate into the digital archive? (\"0\" means only the master copy will be preserved; \"1\" means the master copy and one copy will be preserved, etc.).",null,null,null,null,null,null,null,null,null,null,null,null,null,null,null,"x"]
[null,null,null,null,null,null,null,null,null,null,null,null,null,null,null,null,null,null,null,null,"x"]
[null,null,null,null,null,null,null,null,null,null,null,null,null,null,null,null,null,null,null,null,"x"]
[null,null,null,null,null,null,null,null,null,null,null,null,null,null,null,null,null,null,null,null,"x"]
[null,null,null,null,null,null,null,null,null,null,null,null,null,null,null,null,null,null,null,null,"x"]
[{"$f":"selected_functions!A8","v":0},null,null,null,null,null,null,null,null,null,null,null,null,null,null,null,null,null,null,null,{"$f":"IF($A$192=0,\"x\",\"\")","v":"x"}]
[{"$f":"CONCATENATE(\"Section 1 - Percentage of records to be preserved - \",A192)","v":"Section 1 - Percentage of records to be preserved - 0"},null,null,null,null,null,null,null,null,null,null,null,null,null,null,null,null,null,null,null,{"$f":"IF($A$192=0,\"x\",\"\")","v":"x"}]
[1.1000000000000001,{"$f":"CONCATENATE(\"Percentage of records to be preserved - \",A192)","v":"Percentage of records to be preserved - 0"},null,null,null,null,null,null,null,null,null,null,null,null,null,null,null,null,null,null,"x"]
["1.1.1",{"$f":"CONCATENATE(\"This table provides a guide for the percentage of records aligned with different retention schedules for \",A192,\". You may wish to use this to inform the answer you provide in question 1.1.2\")","v":"This table provides a guide for the percentage of records aligned with different retention schedules for 0. You may wish to use this to inform the answer you provide in question 1.1.2"},null,"1.1.2",{"$f":"CONCATENATE(\"What is the percentage of records you intend to incorporate into the digital archive for \",A192,\"?\")","v":"What is the percentage of records you intend to incorporate into the digital archive for 0?"},null,null,null,null,null,null,null,null,null,null,null,null,null,null,null,"x"]
[null,null,null,null,null,null,null,null,null,null,null,null,null,null,null,null,null,null,null,null,"x"]
[{"$f":"B197&A192","v":"Permanent0"},"Permanent",{"$f":"IFERROR(VLOOKUP(A197,retention_schedules!C:D,2,FALSE),\"\")","v":""},null,null,null,null,null,null,null,null,null,null,null,null,null,null,null,null,null,"x"]
[{"$f":"B198&A192","v":"30 years +0"},"30 years +",{"$f":"IFERROR(VLOOKUP(A198,retention_schedules!C:D,2,FALSE),\"\")","v":""},null,null,null,null,null,null,null,null,null,null,null,null,null,null,null,null,null,"x"]
[{"$f":"B199&A192","v":"20 years +0"},"20 years +",{"$f":"IFERROR(VLOOKUP(A199,retention_schedules!C:D,2,FALSE),\"\")","v":""},null,null,null,null,null,null,null,null,null,null,null,null,null,null,null,null,null,"x"]
[{"$f":"B200&A192","v":"10 years +0"},"10 years +",{"$f":"IFERROR(VLOOKUP(A200,retention_schedules!C:D,2,FALSE),\"\")","v":""},null,null,null,null,null,null,null,null,null,null,null,null,null,null,null,null,null,"x"]
[{"$f":"B201&A192","v":"All records0"},"All records",{"$f":"IFERROR(VLOOKUP(A201,retention_schedules!C:D,2,FALSE),\"\")","v":""},null,null,null,null,null,null,null,null,null,null,null,null,null,null,null,null,null,"x"]
[{"$f":"CONCATENATE(\"Section 2 - Digital Records - \",A192)","v":"Section 2 - Digital Records - 0"},null,null,null,null,null,null,null,null,null,null,null,null,null,null,null,null,null,null,null,"x"]
[{"$f":"CONCATENATE(\"Note - if you do not have information about the digital records system for \",A192,\"  then proceed to section three\")","v":"Note - if you do not have information about the digital records system for 0  then proceed to section three"},null,null,null,null,null,null,null,null,null,null,null,null,null,null,null,null,null,null,null,"x"]
[2.1,{"$f":"CONCATENATE(\"EDRM and Content Management Systems - \",A192)","v":"EDRM and Content Management Systems - 0"},null,null,null,null,null,null,null,null,null,null,null,null,null,null,null,null,null,null,"x"]
["2.1.1","In which year did you migrate onto the current EDRM / Content Management systems?",null,"2.1.2","What is the total volume of digital records held on the EDRM / Content Management systems?",null,null,"2.1.3","How many backup copies are held on your EDRM / Content Management systems? (\"0\" means no backup copies are held, \"1\" means the system contains one backup copy as well as the master copy, etc)",null,null,null,null,null,null,null,null,null,null,null,"x"]
[null,null,null,null,null,null,null,null,null,null,null,null,null,null,null,null,null,null,null,null,"x"]
[null,null,null,null,null,null,null,null,null,null,null,null,null,null,null,null,null,null,null,null,"x"]
[null,null,null,null,null,null,null,null,null,null,null,null,null,null,null,null,null,null,null,null,"x"]
[2.2000000000000002,{"$f":"CONCATENATE(\"Born Digital Records - outside the EDRM / Content Management systems - \",A192)","v":"Born Digital Records - outside the EDRM / Content Management systems - 0"},null,null,null,null,null,null,null,null,null,null,null,null,null,null,null,null,null,null,"x"]
["2.2.1","What is the volume of  digital records held outwith the EDRM/ Content Management systems (e.g. on shared drives)? If you are not sure of the exact figure then please provide an estimate.",null,null,null,null,null,"2.2.2","How many backup copies are held on digital systems that sit outside the EDRM / Content Management systems? (\"0\" means no backup copies are held, \"1\" means that one backup copy as well as the master copy is held, etc.). If you are not sure of an exact figure then provide an estimate",null,null,null,null,null,null,null,null,null,null,null,"x"]
[null,null,null,null,null,null,null,null,null,null,null,null,null,null,null,null,null,null,null,null,"x"]
[null,null,null,null,null,null,null,null,null,null,null,null,null,null,null,null,null,null,null,null,"x"]
[null,null,null,null,null,null,null,null,null,null,null,null,null,null,null,null,null,null,null,null,"x"]
[2.2999999999999998,{"$f":"CONCATENATE(\"Backup copies - \",A192)","v":"Backup copies - 0"},null,null,null,null,null,null,null,null,null,null,null,null,null,null,null,null,null,null,"x"]
["2.3.1","How many backup / access copies will you incorporate into the digital archive? (\"0\" means only the master copy will be preserved; \"1\" means the master copy and one copy will be preserved, etc.).",null,"2.3.2","When you migrate files in to the archive, will the backup copies of any of the records recorded in sections 2.1 and 2.2 be of a lower resolution / different file type to the master copy? (If you do not know the answer to this, select \"no\")",null,null,null,null,null,null,null,null,null,null,null,null,null,null,null,"x"]
[null,null,null,null,null,null,null,null,null,null,null,null,null,null,null,null,null,null,null,null,"x"]
[null,null,null,null,null,null,{"$f":"IF(E217=input_lists!$K$11,\"In the below table, provide details of the files you plan to archive with different backup resolutions\",\"\")","v":""},null,null,null,null,null,null,null,null,null,null,null,null,null,"x"]
[null,null,null,null,null,null,null,null,null,null,null,null,null,null,null,null,null,null,null,null,"x"]
[null,null,null,null,"Master Copy file type","Master Copy resolution","Master Copy volume (do not include duplicates)","units","Backup Copy file type","Backup Copy resolution","Are these master copies held on the EDRM/Content Management system or off the EDRM/Content Management system?",null,null,null,null,null,null,null,null,null,"x"]
[null,null,null,null,null,null,null,null,null,null,null,null,null,null,null,null,null,null,null,null,"x"]
[null,null,null,null,null,null,null,null,null,null,null,null,null,null,null,null,null,null,null,null,"x"]
[null,null,null,null,null,null,null,null,null,null,null,null,null,null,null,null,null,null,null,null,"x"]
[null,null,null,null,null,null,null,null,null,null,null,null,null,null,null,null,null,null,null,null,"x"]
[null,null,null,null,null,null,null,null,null,null,null,null,null,null,null,null,null,null,null,null,"x"]
[null,null,null,null,null,null,null,null,null,null,null,null,null,null,null,null,null,null,null,null,"x"]
[null,null,null,null,null,null,null,null,null,null,null,null,null,null,null,null,null,null,null,null,"x"]
[null,null,null,null,null,null,null,null,null,null,null,null,null,null,null,null,null,null,null,null,"x"]
[null,null,null,null,null,null,null,null,null,null,null,null,null,null,null,null,null,null,null,null,"x"]
[null,null,null,null,null,null,null,null,null,null,null,null,null,null,null,null,null,null,null,null,"x"]
[{"$f":"CONCATENATE(\"Section 3 - Planned Digitisation - \",A192)","v":"Section 3 - Planned Digitisation - 0"},null,null,null,null,null,null,null,null,null,null,null,null,null,null,null,null,null,null,null,{"$f":"IF($A$192=0,\"x\",\"\")","v":"x"}]
["Note: any records that are already digitised should be recorded in Section 2 - Digital Records (above)",null,null,null,null,null,null,null,null,null,null,null,null,null,null,null,null,null,null,null,"x"]
[3.1,{"$f":"CONCATENATE(\"Records planned for digitisation - provide details for each file type you plan on digitising in relation to - \",A192)","v":"Records planned for digitisation - provide details for each file type you plan on digitising in relation to - 0"},null,null,null,null,null,null,null,null,null,null,null,null,null,null,null,null,null,null,"x"]
["3.1.1",{"$f":"CONCATENATE(\"Are there any large digitisation projects planned within \",A192,\" in the near future? (If you do not know the answer to this question, select no.)\")","v":"Are there any large digitisation projects planned within 0 in the near future? (If you do not know the answer to this question, select no.)"},null,null,null,null,null,null,null,null,null,null,null,null,null,null,null,null,null,null,"x"]
[null,null,null,null,null,null,null,null,null,null,null,null,null,null,null,null,null,null,null,null,"x"]
[null,null,null,{"$f":"IF(B235=input_lists!$K$11,\"In the below table, provide details of your planned digitisation project\",\"\")","v":""},null,null,null,null,null,null,null,null,null,null,null,null,null,null,null,null,"x"]
[null,null,null,null,null,null,null,null,null,null,null,null,null,null,null,null,null,null,null,null,"x"]
["3.2.1","File type you plan to digitise to (master copy):","3.2.2","Volume of files you plan to digitise:",null,"3.2.3","File type of backup copies:","3.2.4","Resolution of Master Copy:","3.2.5","Resolution of Backup Copies:","3.2.6","Will you compress your files?","3.2.7","Colour scale used:",null,null,null,null,null,"x"]
[null,null,null,null,null,null,null,null,null,null,null,null,null,null,null,null,null,null,null,null,"x"]
[null,null,null,null,null,null,null,null,null,null,null,null,null,null,null,null,null,null,null,null,"x"]
[null,null,null,null,null,null,null,null,null,null,null,null,null,null,null,null,null,null,null,null,"x"]
[null,null,null,null,null,null,null,null,null,null,null,null,null,null,null,null,null,null,null,null,"x"]
[null,null,null,null,null,null,null,null,null,null,null,null,null,null,null,null,null,null,null,null,"x"]
[null,null,null,null,null,null,null,null,null,null,null,null,null,null,null,null,null,null,null,null,"x"]
[null,null,null,null,null,null,null,null,null,null,null,null,null,null,null,null,null,null,null,null,"x"]
[null,null,null,null,null,null,null,null,null,null,null,null,null,null,null,null,null,null,null,null,"x"]
[null,null,null,null,null,null,null,null,null,null,null,null,null,null,null,null,null,null,null,null,"x"]
[{"$f":"CONCATENATE(\"Section 4 - Paper Records - \",A192)","v":"Section 4 - Paper Records - 0"},null,null,null,null,null,null,null,null,null,null,null,null,null,null,null,null,null,null,null,"x"]
[{"$f":"CONCATENATE(\"This section is for users who have decided on the paper based calculations approach for \",A192)","v":"This section is for users who have decided on the paper based calculations approach for 0"},null,null,null,null,null,null,null,null,null,null,null,null,null,null,null,null,null,null,null,"x"]
[4.0999999999999996,{"$f":"CONCATENATE(\"Paper records - \",A192)","v":"Paper records - 0"},null,null,null,null,null,null,null,null,null,null,null,null,null,null,null,null,null,null,"x"]
["4.1.1",{"$f":"CONCATENATE(\"What is the average annual volume of paper records created by \",A191,\"? This figure should reflect total records created, not just records which are deposited into the archive.\")","v":"What is the average annual volume of paper records created by ? This figure should reflect total records created, not just records which are deposited into the archive."},null,"4.1.2","How many backup / access copies will you incorporate into the digital archive? (\"0\" means only the master copy will be preserved; \"1\" means the master copy and one copy will be preserved, etc.).",null,null,null,null,null,null,null,null,null,null,null,null,null,null,null,"x"]
[null,null,null,null,null,null,null,null,null,null,null,null,null,null,null,null,null,null,null,null,"x"]
[null,null,null,null,null,null,null,null,null,null,null,null,null,null,null,null,null,null,null,null,"x"]
[null,null,null,null,null,null,null,null,null,null,null,null,null,null,null,null,null,null,null,null,"x"]
[null,null,null,null,null,null,null,null,null,null,null,null,null,null,null,null,null,null,null,null,"x"]
[{"$f":"selected_functions!A9","v":0},null,null,null,null,null,null,null,null,null,null,null,null,null,null,null,null,null,null,null,{"$f":"IF($A$255=0,\"x\",\"\")","v":"x"}]
[{"$f":"CONCATENATE(\"Section 1 - Percentage of records to be preserved - \",A255)","v":"Section 1 - Percentage of records to be preserved - 0"},null,null,null,null,null,null,null,null,null,null,null,null,null,null,null,null,null,null,null,{"$f":"IF($A$255=0,\"x\",\"\")","v":"x"}]
[1.1000000000000001,{"$f":"CONCATENATE(\"Percentage of records to be preserved - \",A255)","v":"Percentage of records to be preserved - 0"},null,null,null,null,null,null,null,null,null,null,null,null,null,null,null,null,null,null,"x"]
["1.1.1",{"$f":"CONCATENATE(\"This table provides a guide for the percentage of records aligned with different retention schedules for \",A255,\". You may wish to use this to inform the answer you provide in question 1.1.2\")","v":"This table provides a guide for the percentage of records aligned with different retention schedules for 0. You may wish to use this to inform the answer you provide in question 1.1.2"},null,"1.1.2",{"$f":"CONCATENATE(\"What is the percentage of records you intend to incorporate into the digital archive for \",A255,\"?\")","v":"What is the percentage of records you intend to incorporate into the digital archive for 0?"},null,null,null,null,null,null,null,null,null,null,null,null,null,null,null,"x"]
[null,null,null,null,null,null,null,null,null,null,null,null,null,null,null,null,null,null,null,null,"x"]
[{"$f":"B260&A255","v":"Permanent0"},"Permanent",{"$f":"IFERROR(VLOOKUP(A260,retention_schedules!C:D,2,FALSE),\"\")","v":""},null,null,null,null,null,null,null,null,null,null,null,null,null,null,null,null,null,"x"]
[{"$f":"B261&A255","v":"30 years +0"},"30 years +",{"$f":"IFERROR(VLOOKUP(A261,retention_schedules!C:D,2,FALSE),\"\")","v":""},null,null,null,null,null,null,null,null,null,null,null,null,null,null,null,null,null,"x"]
[{"$f":"B262&A255","v":"20 years +0"},"20 years +",{"$f":"IFERROR(VLOOKUP(A262,retention_schedules!C:D,2,FALSE),\"\")","v":""},null,null,null,null,null,null,null,null,null,null,null,null,null,null,null,null,null,"x"]
[{"$f":"B263&A255","v":"10 years +0"},"10 years +",{"$f":"IFERROR(VLOOKUP(A263,retention_schedules!C:D,2,FALSE),\"\")","v":""},null,null,null,null,null,null,null,null,null,null,null,null,null,null,null,null,null,"x"]
[{"$f":"B264&A255","v":"All records0"},"All records",{"$f":"IFERROR(VLOOKUP(A264,retention_schedules!C:D,2,FALSE),\"\")","v":""},null,null,null,null,null,null,null,null,null,null,null,null,null,null,null,null,null,"x"]
[{"$f":"CONCATENATE(\"Section 2 - Digital Records - \",A255)","v":"Section 2 - Digital Records - 0"},null,null,null,null,null,null,null,null,null,null,null,null,null,null,null,null,null,null,null,"x"]
[{"$f":"CONCATENATE(\"Note - if you do not have information about the digital records system for \",A255,\"  then proceed to section three\")","v":"Note - if you do not have information about the digital records system for 0  then proceed to section three"},null,null,null,null,null,null,null,null,null,null,null,null,null,null,null,null,null,null,null,"x"]
[2.1,{"$f":"CONCATENATE(\"EDRM and Content Management Systems - \",A255)","v":"EDRM and Content Management Systems - 0"},null,null,null,null,null,null,null,null,null,null,null,null,null,null,null,null,null,null,"x"]
["2.1.1","In which year did you migrate onto the current EDRM / Content Management systems?",null,"2.1.2","What is the total volume of digital records held on the EDRM / Content Management systems?",null,null,"2.1.3","How many backup copies are held on your EDRM / Content Management systems? (\"0\" means no backup copies are held, \"1\" means the system contains one backup copy as well as the master copy, etc)",null,null,null,null,null,null,null,null,null,null,null,"x"]
[null,null,null,null,null,null,null,null,null,null,null,null,null,null,null,null,null,null,null,null,"x"]
[null,null,null,null,null,null,null,null,null,null,null,null,null,null,null,null,null,null,null,null,"x"]
[null,null,null,null,null,null,null,null,null,null,null,null,null,null,null,null,null,null,null,null,"x"]
[2.2000000000000002,{"$f":"CONCATENATE(\"Born Digital Records - outside the EDRM / Content Management systems - \",A255)","v":"Born Digital Records - outside the EDRM / Content Management systems - 0"},null,null,null,null,null,null,null,null,null,null,null,null,null,null,null,null,null,null,"x"]
["2.2.1","What is the volume of  digital records held outwith the EDRM/ Content Management systems (e.g. on shared drives)? If you are not sure of the exact figure then please provide an estimate.",null,null,null,null,null,"2.2.2","How many backup copies are held on digital systems that sit outside the EDRM / Content Management systems? (\"0\" means no backup copies are held, \"1\" means that one backup copy as well as the master copy is held, etc.). If you are not sure of an exact figure then provide an estimate",null,null,null,null,null,null,null,null,null,null,null,"x"]
[null,null,null,null,null,null,null,null,null,null,null,null,null,null,null,null,null,null,null,null,"x"]
[null,null,null,null,null,null,null,null,null,null,null,null,null,null,null,null,null,null,null,null,"x"]
[null,null,null,null,null,null,null,null,null,null,null,null,null,null,null,null,null,null,null,null,"x"]
[2.2999999999999998,{"$f":"CONCATENATE(\"Backup copies - \",A255)","v":"Backup copies - 0"},null,null,null,null,null,null,null,null,null,null,null,null,null,null,null,null,null,null,"x"]
["2.3.1","How many backup / access copies will you incorporate into the digital archive? (\"0\" means only the master copy will be preserved; \"1\" means the master copy and one copy will be preserved, etc.).",null,"2.3.2","When you migrate files in to the archive, will the backup copies of any of the records recorded in sections 2.1 and 2.2 be of a lower resolution / different file type to the master copy? (If you do not know the answer to this, select \"no\")",null,null,null,null,null,null,null,null,null,null,null,null,null,null,null,"x"]
[null,null,null,null,null,null,null,null,null,null,null,null,null,null,null,null,null,null,null,null,"x"]
[null,null,null,null,null,null,{"$f":"IF(E280=input_lists!$K$11,\"In the below table, provide details of the files you plan to archive with different backup resolutions\",\"\")","v":""},null,null,null,null,null,null,null,null,null,null,null,null,null,"x"]
[null,null,null,null,null,null,null,null,null,null,null,null,null,null,null,null,null,null,null,null,"x"]
[null,null,null,null,"Master Copy file type","Master Copy resolution","Master Copy volume (do not include duplicates)","units","Backup Copy file type","Backup Copy resolution","Are these master copies held on the EDRM/Content Management system or off the EDRM/Content Management system?",null,null,null,null,null,null,null,null,null,"x"]
[null,null,null,null,null,null,null,null,null,null,null,null,null,null,null,null,null,null,null,null,"x"]
[null,null,null,null,null,null,null,null,null,null,null,null,null,null,null,null,null,null,null,null,"x"]
[null,null,null,null,null,null,null,null,null,null,null,null,null,null,null,null,null,null,null,null,"x"]
[null,null,null,null,null,null,null,null,null,null,null,null,null,null,null,null,null,null,null,null,"x"]
[null,null,null,null,null,null,null,null,null,null,null,null,null,null,null,null,null,null,null,null,"x"]
[null,null,null,null,null,null,null,null,null,null,null,null,null,null,null,null,null,null,null,null,"x"]
[null,null,null,null,null,null,null,null,null,null,null,null,null,null,null,null,null,null,null,null,"x"]
[null,null,null,null,null,null,null,null,null,null,null,null,null,null,null,null,null,null,null,null,"x"]
[null,null,null,null,null,null,null,null,null,null,null,null,null,null,null,null,null,null,null,null,"x"]
[null,null,null,null,null,null,null,null,null,null,null,null,null,null,null,null,null,null,null,null,"x"]
[{"$f":"CONCATENATE(\"Section 3 - Planned Digitisation - \",A255)","v":"Section 3 - Planned Digitisation - 0"},null,null,null,null,null,null,null,null,null,null,null,null,null,null,null,null,null,null,null,{"$f":"IF($A$255=0,\"x\",\"\")","v":"x"}]
["Note: any records that are already digitised should be recorded in Section 2 - Digital Records (above)",null,null,null,null,null,null,null,null,null,null,null,null,null,null,null,null,null,null,null,"x"]
[3.1,{"$f":"CONCATENATE(\"Records planned for digitisation - provide details for each file type you plan on digitising in relation to - \",A255)","v":"Records planned for digitisation - provide details for each file type you plan on digitising in relation to - 0"},null,null,null,null,null,null,null,null,null,null,null,null,null,null,null,null,null,null,"x"]
["3.1.1",{"$f":"CONCATENATE(\"Are there any large digitisation projects planned within \",A255,\" in the near future? (If you do not know the answer to this question, select no.)\")","v":"Are there any large digitisation projects planned within 0 in the near future? (If you do not know the answer to this question, select no.)"},null,null,null,null,null,null,null,null,null,null,null,null,null,null,null,null,null,null,"x"]
[null,null,null,null,null,null,null,null,null,null,null,null,null,null,null,null,null,null,null,null,"x"]
[null,null,null,{"$f":"IF(B298=input_lists!$K$11,\"In the below table, provide details of your planned digitisation project\",\"\")","v":""},null,null,null,null,null,null,null,null,null,null,null,null,null,null,null,null,"x"]
[null,null,null,null,null,null,null,null,null,null,null,null,null,null,null,null,null,null,null,null,"x"]
["3.2.1","File type you plan to digitise to (master copy):","3.2.2","Volume of files you plan to digitise:",null,"3.2.3","File type of backup copies:","3.2.4","Resolution of Master Copy:","3.2.5","Resolution of Backup Copies:","3.2.6","Will you compress your files?","3.2.7","Colour scale used:",null,null,null,null,null,"x"]
[null,null,null,null,null,null,null,null,null,null,null,null,null,null,null,null,null,null,null,null,"x"]
[null,null,null,null,null,null,null,null,null,null,null,null,null,null,null,null,null,null,null,null,"x"]
[null,null,null,null,null,null,null,null,null,null,null,null,null,null,null,null,null,null,null,null,"x"]
[null,null,null,null,null,null,null,null,null,null,null,null,null,null,null,null,null,null,null,null,"x"]
[null,null,null,null,null,null,null,null,null,null,null,null,null,null,null,null,null,null,null,null,"x"]
[null,null,null,null,null,null,null,null,null,null,null,null,null,null,null,null,null,null,null,null,"x"]
[null,null,null,null,null,null,null,null,null,null,null,null,null,null,null,null,null,null,null,null,"x"]
[null,null,null,null,null,null,null,null,null,null,null,null,null,null,null,null,null,null,null,null,"x"]
[null,null,null,null,null,null,null,null,null,null,null,null,null,null,null,null,null,null,null,null,"x"]
[{"$f":"CONCATENATE(\"Section 4 - Paper Records - \",A255)","v":"Section 4 - Paper Records - 0"},null,null,null,null,null,null,null,null,null,null,null,null,null,null,null,null,null,null,null,"x"]
[{"$f":"CONCATENATE(\"This section is for users who have decided on the paper based calculations approach for \",A255)","v":"This section is for users who have decided on the paper based calculations approach for 0"},null,null,null,null,null,null,null,null,null,null,null,null,null,null,null,null,null,null,null,"x"]
[4.0999999999999996,{"$f":"CONCATENATE(\"Paper records - \",A255)","v":"Paper records - 0"},null,null,null,null,null,null,null,null,null,null,null,null,null,null,null,null,null,null,"x"]
["4.1.1",{"$f":"CONCATENATE(\"What is the average annual volume of paper records created by \",A254,\"? This figure should reflect total records created, not just records which are deposited into the archive.\")","v":"What is the average annual volume of paper records created by ? This figure should reflect total records created, not just records which are deposited into the archive."},null,"4.1.2","How many backup / access copies will you incorporate into the digital archive? (\"0\" means only the master copy will be preserved; \"1\" means the master copy and one copy will be preserved, etc.).",null,null,null,null,null,null,null,null,null,null,null,null,null,null,null,"x"]
[null,null,null,null,null,null,null,null,null,null,null,null,null,null,null,null,null,null,null,null,"x"]
[null,null,null,null,null,null,null,null,null,null,null,null,null,null,null,null,null,null,null,null,"x"]
[null,null,null,null,null,null,null,null,null,null,null,null,null,null,null,null,null,null,null,null,"x"]
[null,null,null,null,null,null,null,null,null,null,null,null,null,null,null,null,null,null,null,null,"x"]
[{"$f":"selected_functions!A10","v":0},null,null,null,null,null,null,null,null,null,null,null,null,null,null,null,null,null,null,null,{"$f":"IF($A$318=0,\"x\",\"\")","v":"x"}]
[{"$f":"CONCATENATE(\"Section 1 - Percentage of records to be preserved - \",A318)","v":"Section 1 - Percentage of records to be preserved - 0"},null,null,null,null,null,null,null,null,null,null,null,null,null,null,null,null,null,null,null,{"$f":"IF($A$318=0,\"x\",\"\")","v":"x"}]
[1.1000000000000001,{"$f":"CONCATENATE(\"Percentage of records to be preserved - \",A318)","v":"Percentage of records to be preserved - 0"},null,null,null,null,null,null,null,null,null,null,null,null,null,null,null,null,null,null,"x"]
["1.1.1",{"$f":"CONCATENATE(\"This table provides a guide for the percentage of records aligned with different retention schedules for \",A318,\". You may wish to use this to inform the answer you provide in question 1.1.2\")","v":"This table provides a guide for the percentage of records aligned with different retention schedules for 0. You may wish to use this to inform the answer you provide in question 1.1.2"},null,"1.1.2",{"$f":"CONCATENATE(\"What is the percentage of records you intend to incorporate into the digital archive for \",A318,\"?\")","v":"What is the percentage of records you intend to incorporate into the digital archive for 0?"},null,null,null,null,null,null,null,null,null,null,null,null,null,null,null,"x"]
[null,null,null,null,null,null,null,null,null,null,null,null,null,null,null,null,null,null,null,null,"x"]
[{"$f":"B323&A318","v":"Permanent0"},"Permanent",{"$f":"IFERROR(VLOOKUP(A323,retention_schedules!C:D,2,FALSE),\"\")","v":""},null,null,null,null,null,null,null,null,null,null,null,null,null,null,null,null,null,"x"]
[{"$f":"B324&A318","v":"30 years +0"},"30 years +",{"$f":"IFERROR(VLOOKUP(A324,retention_schedules!C:D,2,FALSE),\"\")","v":""},null,null,null,null,null,null,null,null,null,null,null,null,null,null,null,null,null,"x"]
[{"$f":"B325&A318","v":"20 years +0"},"20 years +",{"$f":"IFERROR(VLOOKUP(A325,retention_schedules!C:D,2,FALSE),\"\")","v":""},null,null,null,null,null,null,null,null,null,null,null,null,null,null,null,null,null,"x"]
[{"$f":"B326&A318","v":"10 years +0"},"10 years +",{"$f":"IFERROR(VLOOKUP(A326,retention_schedules!C:D,2,FALSE),\"\")","v":""},null,null,null,null,null,null,null,null,null,null,null,null,null,null,null,null,null,"x"]
[{"$f":"B327&A318","v":"All records0"},"All records",{"$f":"IFERROR(VLOOKUP(A327,retention_schedules!C:D,2,FALSE),\"\")","v":""},null,null,null,null,null,null,null,null,null,null,null,null,null,null,null,null,null,"x"]
[{"$f":"CONCATENATE(\"Section 2 - Digital Records - \",A318)","v":"Section 2 - Digital Records - 0"},null,null,null,null,null,null,null,null,null,null,null,null,null,null,null,null,null,null,null,"x"]
[{"$f":"CONCATENATE(\"Note - if you do not have information about the digital records system for \",A318,\"  then proceed to section three\")","v":"Note - if you do not have information about the digital records system for 0  then proceed to section three"},null,null,null,null,null,null,null,null,null,null,null,null,null,null,null,null,null,null,null,"x"]
[2.1,{"$f":"CONCATENATE(\"EDRM and Content Management Systems - \",A318)","v":"EDRM and Content Management Systems - 0"},null,null,null,null,null,null,null,null,null,null,null,null,null,null,null,null,null,null,"x"]
["2.1.1","In which year did you migrate onto the current EDRM / Content Management systems?",null,"2.1.2","What is the total volume of digital records held on the EDRM / Content Management systems?",null,null,"2.1.3","How many backup copies are held on your EDRM / Content Management systems? (\"0\" means no backup copies are held, \"1\" means the system contains one backup copy as well as the master copy, etc)",null,null,null,null,null,null,null,null,null,null,null,"x"]
[null,null,null,null,null,null,null,null,null,null,null,null,null,null,null,null,null,null,null,null,"x"]
[null,null,null,null,null,null,null,null,null,null,null,null,null,null,null,null,null,null,null,null,"x"]
[null,null,null,null,null,null,null,null,null,null,null,null,null,null,null,null,null,null,null,null,"x"]
[2.2000000000000002,{"$f":"CONCATENATE(\"Born Digital Records - outside the EDRM / Content Management systems - \",A318)","v":"Born Digital Records - outside the EDRM / Content Management systems - 0"},null,null,null,null,null,null,null,null,null,null,null,null,null,null,null,null,null,null,"x"]
["2.2.1","What is the volume of  digital records held outwith the EDRM/ Content Management systems (e.g. on shared drives)? If you are not sure of the exact figure then please provide an estimate.",null,null,null,null,null,"2.2.2","How many backup copies are held on digital systems that sit outside the EDRM / Content Management systems? (\"0\" means no backup copies are held, \"1\" means that one backup copy as well as the master copy is held, etc.). If you are not sure of an exact figure then provide an estimate",null,null,null,null,null,null,null,null,null,null,null,"x"]
[null,null,null,null,null,null,null,null,null,null,null,null,null,null,null,null,null,null,null,null,"x"]
[null,null,null,null,null,null,null,null,null,null,null,null,null,null,null,null,null,null,null,null,"x"]
[null,null,null,null,null,null,null,null,null,null,null,null,null,null,null,null,null,null,null,null,"x"]
[2.2999999999999998,{"$f":"CONCATENATE(\"Backup copies - \",A318)","v":"Backup copies - 0"},null,null,null,null,null,null,null,null,null,null,null,null,null,null,null,null,null,null,"x"]
["2.3.1","How many backup / access copies will you incorporate into the digital archive? (\"0\" means only the master copy will be preserved; \"1\" means the master copy and one copy will be preserved, etc.).",null,"2.3.2","When you migrate files in to the archive, will the backup copies of any of the records recorded in sections 2.1 and 2.2 be of a lower resolution / different file type to the master copy? (If you do not know the answer to this, select \"no\")",null,null,null,null,null,null,null,null,null,null,null,null,null,null,null,"x"]
[null,null,null,null,null,null,null,null,null,null,null,null,null,null,null,null,null,null,null,null,"x"]
[null,null,null,null,null,null,{"$f":"IF(E343=input_lists!$K$11,\"In the below table, provide details of the files you plan to archive with different backup resolutions\",\"\")","v":""},null,null,null,null,null,null,null,null,null,null,null,null,null,"x"]
[null,null,null,null,null,null,null,null,null,null,null,null,null,null,null,null,null,null,null,null,"x"]
[null,null,null,null,"Master Copy file type","Master Copy resolution","Master Copy volume (do not include duplicates)","units","Backup Copy file type","Backup Copy resolution","Are these master copies held on the EDRM/Content Management system or off the EDRM/Content Management system?",null,null,null,null,null,null,null,null,null,"x"]
[null,null,null,null,null,null,null,null,null,null,null,null,null,null,null,null,null,null,null,null,"x"]
[null,null,null,null,null,null,null,null,null,null,null,null,null,null,null,null,null,null,null,null,"x"]
[null,null,null,null,null,null,null,null,null,null,null,null,null,null,null,null,null,null,null,null,"x"]
[null,null,null,null,null,null,null,null,null,null,null,null,null,null,null,null,null,null,null,null,"x"]
[null,null,null,null,null,null,null,null,null,null,null,null,null,null,null,null,null,null,null,null,"x"]
[null,null,null,null,null,null,null,null,null,null,null,null,null,null,null,null,null,null,null,null,"x"]
[null,null,null,null,null,null,null,null,null,null,null,null,null,null,null,null,null,null,null,null,"x"]
[null,null,null,null,null,null,null,null,null,null,null,null,null,null,null,null,null,null,null,null,"x"]
[null,null,null,null,null,null,null,null,null,null,null,null,null,null,null,null,null,null,null,null,"x"]
[null,null,null,null,null,null,null,null,null,null,null,null,null,null,null,null,null,null,null,null,"x"]
[{"$f":"CONCATENATE(\"Section 3 - Planned Digitisation - \",A318)","v":"Section 3 - Planned Digitisation - 0"},null,null,null,null,null,null,null,null,null,null,null,null,null,null,null,null,null,null,null,{"$f":"IF($A$318=0,\"x\",\"\")","v":"x"}]
["Note: any records that are already digitised should be recorded in Section 2 - Digital Records (above)",null,null,null,null,null,null,null,null,null,null,null,null,null,null,null,null,null,null,null,"x"]
[3.1,{"$f":"CONCATENATE(\"Records planned for digitisation - provide details for each file type you plan on digitising in relation to - \",A318)","v":"Records planned for digitisation - provide details for each file type you plan on digitising in relation to - 0"},null,null,null,null,null,null,null,null,null,null,null,null,null,null,null,null,null,null,"x"]
["3.1.1",{"$f":"CONCATENATE(\"Are there any large digitisation projects planned within \",A318,\" in the near future? (If you do not know the answer to this question, select no.)\")","v":"Are there any large digitisation projects planned within 0 in the near future? (If you do not know the answer to this question, select no.)"},null,null,null,null,null,null,null,null,null,null,null,null,null,null,null,null,null,null,"x"]
[null,null,null,null,null,null,null,null,null,null,null,null,null,null,null,null,null,null,null,null,"x"]
[null,null,null,{"$f":"IF(B361=input_lists!$K$11,\"In the below table, provide details of your planned digitisation project\",\"\")","v":""},null,null,null,null,null,null,null,null,null,null,null,null,null,null,null,null,"x"]
[null,null,null,null,null,null,null,null,null,null,null,null,null,null,null,null,null,null,null,null,"x"]
["3.2.1","File type you plan to digitise to (master copy):","3.2.2","Volume of files you plan to digitise:",null,"3.2.3","File type of backup copies:","3.2.4","Resolution of Master Copy:","3.2.5","Resolution of Backup Copies:","3.2.6","Will you compress your files?","3.2.7","Colour scale used:",null,null,null,null,null,"x"]
[null,null,null,null,null,null,null,null,null,null,null,null,null,null,null,null,null,null,null,null,"x"]
[null,null,null,null,null,null,null,null,null,null,null,null,null,null,null,null,null,null,null,null,"x"]
[null,null,null,null,null,null,null,null,null,null,null,null,null,null,null,null,null,null,null,null,"x"]
[null,null,null,null,null,null,null,null,null,null,null,null,null,null,null,null,null,null,null,null,"x"]
[null,null,null,null,null,null,null,null,null,null,null,null,null,null,null,null,null,null,null,null,"x"]
[null,null,null,null,null,null,null,null,null,null,null,null,null,null,null,null,null,null,null,null,"x"]
[null,null,null,null,null,null,null,null,null,null,null,null,null,null,null,null,null,null,null,null,"x"]
[null,null,null,null,null,null,null,null,null,null,null,null,null,null,null,null,null,null,null,null,"x"]
[null,null,null,null,null,null,null,null,null,null,null,null,null,null,null,null,null,null,null,null,"x"]
[{"$f":"CONCATENATE(\"Section 4 - Paper Records - \",A318)","v":"Section 4 - Paper Records - 0"},null,null,null,null,null,null,null,null,null,null,null,null,null,null,null,null,null,null,null,"x"]
[{"$f":"CONCATENATE(\"This section is for users who have decided on the paper based calculations approach for \",A318)","v":"This section is for users who have decided on the paper based calculations approach for 0"},null,null,null,null,null,null,null,null,null,null,null,null,null,null,null,null,null,null,null,"x"]
[4.0999999999999996,{"$f":"CONCATENATE(\"Paper records - \",A318)","v":"Paper records - 0"},null,null,null,null,null,null,null,null,null,null,null,null,null,null,null,null,null,null,"x"]
["4.1.1",{"$f":"CONCATENATE(\"What is the average annual volume of paper records created by \",A317,\"? This figure should reflect total records created, not just records which are deposited into the archive.\")","v":"What is the average annual volume of paper records created by ? This figure should reflect total records created, not just records which are deposited into the archive."},null,"4.1.2","How many backup / access copies will you incorporate into the digital archive? (\"0\" means only the master copy will be preserved; \"1\" means the master copy and one copy will be preserved, etc.).",null,null,null,null,null,null,null,null,null,null,null,null,null,null,null,"x"]
[null,null,null,null,null,null,null,null,null,null,null,null,null,null,null,null,null,null,null,null,"x"]
[null,null,null,null,null,null,null,null,null,null,null,null,null,null,null,null,null,null,null,null,"x"]
[null,null,null,null,null,null,null,null,null,null,null,null,null,null,null,null,null,null,null,null,"x"]
[null,null,null,null,null,null,null,null,null,null,null,null,null,null,null,null,null,null,null,null,"x"]
[{"$f":"selected_functions!A11","v":0},null,null,null,null,null,null,null,null,null,null,null,null,null,null,null,null,null,null,null,{"$f":"IF($A$381=0,\"x\",\"\")","v":"x"}]
[{"$f":"CONCATENATE(\"Section 1 - Percentage of records to be preserved - \",A381)","v":"Section 1 - Percentage of records to be preserved - 0"},null,null,null,null,null,null,null,null,null,null,null,null,null,null,null,null,null,null,null,{"$f":"IF($A$381=0,\"x\",\"\")","v":"x"}]
[1.1000000000000001,{"$f":"CONCATENATE(\"Percentage of records to be preserved - \",A381)","v":"Percentage of records to be preserved - 0"},null,null,null,null,null,null,null,null,null,null,null,null,null,null,null,null,null,null,"x"]
["1.1.1",{"$f":"CONCATENATE(\"This table provides a guide for the percentage of records aligned with different retention schedules for \",A381,\". You may wish to use this to inform the answer you provide in question 1.1.2\")","v":"This table provides a guide for the percentage of records aligned with different retention schedules for 0. You may wish to use this to inform the answer you provide in question 1.1.2"},null,"1.1.2",{"$f":"CONCATENATE(\"What is the percentage of records you intend to incorporate into the digital archive for \",A381,\"?\")","v":"What is the percentage of records you intend to incorporate into the digital archive for 0?"},null,null,null,null,null,null,null,null,null,null,null,null,null,null,null,"x"]
[null,null,null,null,null,null,null,null,null,null,null,null,null,null,null,null,null,null,null,null,"x"]
[{"$f":"B386&A381","v":"Permanent0"},"Permanent",{"$f":"IFERROR(VLOOKUP(A386,retention_schedules!C:D,2,FALSE),\"\")","v":""},null,null,null,null,null,null,null,null,null,null,null,null,null,null,null,null,null,"x"]
[{"$f":"B387&A381","v":"30 years +0"},"30 years +",{"$f":"IFERROR(VLOOKUP(A387,retention_schedules!C:D,2,FALSE),\"\")","v":""},null,null,null,null,null,null,null,null,null,null,null,null,null,null,null,null,null,"x"]
[{"$f":"B388&A381","v":"20 years +0"},"20 years +",{"$f":"IFERROR(VLOOKUP(A388,retention_schedules!C:D,2,FALSE),\"\")","v":""},null,null,null,null,null,null,null,null,null,null,null,null,null,null,null,null,null,"x"]
[{"$f":"B389&A381","v":"10 years +0"},"10 years +",{"$f":"IFERROR(VLOOKUP(A389,retention_schedules!C:D,2,FALSE),\"\")","v":""},null,null,null,null,null,null,null,null,null,null,null,null,null,null,null,null,null,"x"]
[{"$f":"B390&A381","v":"All records0"},"All records",{"$f":"IFERROR(VLOOKUP(A390,retention_schedules!C:D,2,FALSE),\"\")","v":""},null,null,null,null,null,null,null,null,null,null,null,null,null,null,null,null,null,"x"]
[{"$f":"CONCATENATE(\"Section 2 - Digital Records - \",A381)","v":"Section 2 - Digital Records - 0"},null,null,null,null,null,null,null,null,null,null,null,null,null,null,null,null,null,null,null,"x"]
[{"$f":"CONCATENATE(\"Note - if you do not have information about the digital records system for \",A381,\"  then proceed to section three\")","v":"Note - if you do not have information about the digital records system for 0  then proceed to section three"},null,null,null,null,null,null,null,null,null,null,null,null,null,null,null,null,null,null,null,"x"]
[2.1,{"$f":"CONCATENATE(\"EDRM and Content Management Systems - \",A381)","v":"EDRM and Content Management Systems - 0"},null,null,null,null,null,null,null,null,null,null,null,null,null,null,null,null,null,null,"x"]
["2.1.1","In which year did you migrate onto the current EDRM / Content Management systems?",null,"2.1.2","What is the total volume of digital records held on the EDRM / Content Management systems?",null,null,"2.1.3","How many backup copies are held on your EDRM / Content Management systems? (\"0\" means no backup copies are held, \"1\" means the system contains one backup copy as well as the master copy, etc)",null,null,null,null,null,null,null,null,null,null,null,"x"]
[null,null,null,null,null,null,null,null,null,null,null,null,null,null,null,null,null,null,null,null,"x"]
[null,null,null,null,null,null,null,null,null,null,null,null,null,null,null,null,null,null,null,null,"x"]
[null,null,null,null,null,null,null,null,null,null,null,null,null,null,null,null,null,null,null,null,"x"]
[2.2000000000000002,{"$f":"CONCATENATE(\"Born Digital Records - outside the EDRM / Content Management systems - \",A381)","v":"Born Digital Records - outside the EDRM / Content Management systems - 0"},null,null,null,null,null,null,null,null,null,null,null,null,null,null,null,null,null,null,"x"]
["2.2.1","What is the volume of  digital records held outwith the EDRM/ Content Management systems (e.g. on shared drives)? If you are not sure of the exact figure then please provide an estimate.",null,null,null,null,null,"2.2.2","How many backup copies are held on digital systems that sit outside the EDRM / Content Management systems? (\"0\" means no backup copies are held, \"1\" means that one backup copy as well as the master copy is held, etc.). If you are not sure of an exact figure then provide an estimate",null,null,null,null,null,null,null,null,null,null,null,"x"]
[null,null,null,null,null,null,null,null,null,null,null,null,null,null,null,null,null,null,null,null,"x"]
[null,null,null,null,null,null,null,null,null,null,null,null,null,null,null,null,null,null,null,null,"x"]
[null,null,null,null,null,null,null,null,null,null,null,null,null,null,null,null,null,null,null,null,"x"]
[2.2999999999999998,{"$f":"CONCATENATE(\"Backup copies - \",A381)","v":"Backup copies - 0"},null,null,null,null,null,null,null,null,null,null,null,null,null,null,null,null,null,null,"x"]
["2.3.1","How many backup / access copies will you incorporate into the digital archive? (\"0\" means only the master copy will be preserved; \"1\" means the master copy and one copy will be preserved, etc.).",null,"2.3.2","When you migrate files in to the archive, will the backup copies of any of the records recorded in sections 2.1 and 2.2 be of a lower resolution / different file type to the master copy? (If you do not know the answer to this, select \"no\")",null,null,null,null,null,null,null,null,null,null,null,null,null,null,null,"x"]
[null,null,null,null,null,null,null,null,null,null,null,null,null,null,null,null,null,null,null,null,"x"]
[null,null,null,null,null,null,{"$f":"IF(E406=input_lists!$K$11,\"In the below table, provide details of the files you plan to archive with different backup resolutions\",\"\")","v":""},null,null,null,null,null,null,null,null,null,null,null,null,null,"x"]
[null,null,null,null,null,null,null,null,null,null,null,null,null,null,null,null,null,null,null,null,"x"]
[null,null,null,null,"Master Copy file type","Master Copy resolution","Master Copy volume (do not include duplicates)","units","Backup Copy file type","Backup Copy resolution","Are these master copies held on the EDRM/Content Management system or off the EDRM/Content Management system?",null,null,null,null,null,null,null,null,null,"x"]
[null,null,null,null,null,null,null,null,null,null,null,null,null,null,null,null,null,null,null,null,"x"]
[null,null,null,null,null,null,null,null,null,null,null,null,null,null,null,null,null,null,null,null,"x"]
[null,null,null,null,null,null,null,null,null,null,null,null,null,null,null,null,null,null,null,null,"x"]
[null,null,null,null,null,null,null,null,null,null,null,null,null,null,null,null,null,null,null,null,"x"]
[null,null,null,null,null,null,null,null,null,null,null,null,null,null,null,null,null,null,null,null,"x"]
[null,null,null,null,null,null,null,null,null,null,null,null,null,null,null,null,null,null,null,null,"x"]
[null,null,null,null,null,null,null,null,null,null,null,null,null,null,null,null,null,null,null,null,"x"]
[null,null,null,null,null,null,null,null,null,null,null,null,null,null,null,null,null,null,null,null,"x"]
[null,null,null,null,null,null,null,null,null,null,null,null,null,null,null,null,null,null,null,null,"x"]
[null,null,null,null,null,null,null,null,null,null,null,null,null,null,null,null,null,null,null,null,"x"]
[{"$f":"CONCATENATE(\"Section 3 - Planned Digitisation - \",A381)","v":"Section 3 - Planned Digitisation - 0"},null,null,null,null,null,null,null,null,null,null,null,null,null,null,null,null,null,null,null,{"$f":"IF($A$381=0,\"x\",\"\")","v":"x"}]
["Note: any records that are already digitised should be recorded in Section 2 - Digital Records (above)",null,null,null,null,null,null,null,null,null,null,null,null,null,null,null,null,null,null,null,"x"]
[3.1,{"$f":"CONCATENATE(\"Records planned for digitisation - provide details for each file type you plan on digitising in relation to - \",A381)","v":"Records planned for digitisation - provide details for each file type you plan on digitising in relation to - 0"},null,null,null,null,null,null,null,null,null,null,null,null,null,null,null,null,null,null,"x"]
["3.1.1",{"$f":"CONCATENATE(\"Are there any large digitisation projects planned within \",A381,\" in the near future? (If you do not know the answer to this question, select no.)\")","v":"Are there any large digitisation projects planned within 0 in the near future? (If you do not know the answer to this question, select no.)"},null,null,null,null,null,null,null,null,null,null,null,null,null,null,null,null,null,null,"x"]
[null,null,null,null,null,null,null,null,null,null,null,null,null,null,null,null,null,null,null,null,"x"]
[null,null,null,{"$f":"IF(B424=input_lists!$K$11,\"In the below table, provide details of your planned digitisation project\",\"\")","v":""},null,null,null,null,null,null,null,null,null,null,null,null,null,null,null,null,"x"]
[null,null,null,null,null,null,null,null,null,null,null,null,null,null,null,null,null,null,null,null,"x"]
["3.2.1","File type you plan to digitise to (master copy):","3.2.2","Volume of files you plan to digitise:",null,"3.2.3","File type of backup copies:","3.2.4","Resolution of Master Copy:","3.2.5","Resolution of Backup Copies:","3.2.6","Will you compress your files?","3.2.7","Colour scale used:",null,null,null,null,null,"x"]
[null,null,null,null,null,null,null,null,null,null,null,null,null,null,null,null,null,null,null,null,"x"]
[null,null,null,null,null,null,null,null,null,null,null,null,null,null,null,null,null,null,null,null,"x"]
[null,null,null,null,null,null,null,null,null,null,null,null,null,null,null,null,null,null,null,null,"x"]
[null,null,null,null,null,null,null,null,null,null,null,null,null,null,null,null,null,null,null,null,"x"]
[null,null,null,null,null,null,null,null,null,null,null,null,null,null,null,null,null,null,null,null,"x"]
[null,null,null,null,null,null,null,null,null,null,null,null,null,null,null,null,null,null,null,null,"x"]
[null,null,null,null,null,null,null,null,null,null,null,null,null,null,null,null,null,null,null,null,"x"]
[null,null,null,null,null,null,null,null,null,null,null,null,null,null,null,null,null,null,null,null,"x"]
[null,null,null,null,null,null,null,null,null,null,null,null,null,null,null,null,null,null,null,null,"x"]
[{"$f":"CONCATENATE(\"Section 4 - Paper Records - \",A381)","v":"Section 4 - Paper Records - 0"},null,null,null,null,null,null,null,null,null,null,null,null,null,null,null,null,null,null,null,"x"]
[{"$f":"CONCATENATE(\"This section is for users who have decided on the paper based calculations approach for \",A381)","v":"This section is for users who have decided on the paper based calculations approach for 0"},null,null,null,null,null,null,null,null,null,null,null,null,null,null,null,null,null,null,null,"x"]
[4.0999999999999996,{"$f":"CONCATENATE(\"Paper records - \",A381)","v":"Paper records - 0"},null,null,null,null,null,null,null,null,null,null,null,null,null,null,null,null,null,null,"x"]
["4.1.1",{"$f":"CONCATENATE(\"What is the average annual volume of paper records created by \",A380,\"? This figure should reflect total records created, not just records which are deposited into the archive.\")","v":"What is the average annual volume of paper records created by ? This figure should reflect total records created, not just records which are deposited into the archive."},null,"4.1.2","How many backup / access copies will you incorporate into the digital archive? (\"0\" means only the master copy will be preserved; \"1\" means the master copy and one copy will be preserved, etc.).",null,null,null,null,null,null,null,null,null,null,null,null,null,null,null,"x"]
[null,null,null,null,null,null,null,null,null,null,null,null,null,null,null,null,null,null,null,null,"x"]
[null,null,null,null,null,null,null,null,null,null,null,null,null,null,null,null,null,null,null,null,"x"]
[null,null,null,null,null,null,null,null,null,null,null,null,null,null,null,null,null,null,null,null,"x"]
[null,null,null,null,null,null,null,null,null,null,null,null,null,null,null,null,null,null,null,null,"x"]
[{"$f":"selected_functions!A12","v":0},null,null,null,null,null,null,null,null,null,null,null,null,null,null,null,null,null,null,null,{"$f":"IF($A$444=0,\"x\",\"\")","v":"x"}]
[{"$f":"CONCATENATE(\"Section 1 - Percentage of records to be preserved - \",A444)","v":"Section 1 - Percentage of records to be preserved - 0"},null,null,null,null,null,null,null,null,null,null,null,null,null,null,null,null,null,null,null,{"$f":"IF($A$444=0,\"x\",\"\")","v":"x"}]
[1.1000000000000001,{"$f":"CONCATENATE(\"Percentage of records to be preserved - \",A444)","v":"Percentage of records to be preserved - 0"},null,null,null,null,null,null,null,null,null,null,null,null,null,null,null,null,null,null,"x"]
["1.1.1",{"$f":"CONCATENATE(\"This table provides a guide for the percentage of records aligned with different retention schedules for \",A444,\". You may wish to use this to inform the answer you provide in question 1.1.2\")","v":"This table provides a guide for the percentage of records aligned with different retention schedules for 0. You may wish to use this to inform the answer you provide in question 1.1.2"},null,"1.1.2",{"$f":"CONCATENATE(\"What is the percentage of records you intend to incorporate into the digital archive for \",A444,\"?\")","v":"What is the percentage of records you intend to incorporate into the digital archive for 0?"},null,null,null,null,null,null,null,null,null,null,null,null,null,null,null,"x"]
[null,null,null,null,null,null,null,null,null,null,null,null,null,null,null,null,null,null,null,null,"x"]
[{"$f":"B449&A444","v":"Permanent0"},"Permanent",{"$f":"IFERROR(VLOOKUP(A449,retention_schedules!C:D,2,FALSE),\"\")","v":""},null,null,null,null,null,null,null,null,null,null,null,null,null,null,null,null,null,"x"]
[{"$f":"B450&A444","v":"30 years +0"},"30 years +",{"$f":"IFERROR(VLOOKUP(A450,retention_schedules!C:D,2,FALSE),\"\")","v":""},null,null,null,null,null,null,null,null,null,null,null,null,null,null,null,null,null,"x"]
[{"$f":"B451&A444","v":"20 years +0"},"20 years +",{"$f":"IFERROR(VLOOKUP(A451,retention_schedules!C:D,2,FALSE),\"\")","v":""},null,null,null,null,null,null,null,null,null,null,null,null,null,null,null,null,null,"x"]
[{"$f":"B452&A444","v":"10 years +0"},"10 years +",{"$f":"IFERROR(VLOOKUP(A452,retention_schedules!C:D,2,FALSE),\"\")","v":""},null,null,null,null,null,null,null,null,null,null,null,null,null,null,null,null,null,"x"]
[{"$f":"B453&A444","v":"All records0"},"All records",{"$f":"IFERROR(VLOOKUP(A453,retention_schedules!C:D,2,FALSE),\"\")","v":""},null,null,null,null,null,null,null,null,null,null,null,null,null,null,null,null,null,"x"]
[{"$f":"CONCATENATE(\"Section 2 - Digital Records - \",A444)","v":"Section 2 - Digital Records - 0"},null,null,null,null,null,null,null,null,null,null,null,null,null,null,null,null,null,null,null,"x"]
[{"$f":"CONCATENATE(\"Note - if you do not have information about the digital records system for \",A444,\"  then proceed to section three\")","v":"Note - if you do not have information about the digital records system for 0  then proceed to section three"},null,null,null,null,null,null,null,null,null,null,null,null,null,null,null,null,null,null,null,"x"]
[2.1,{"$f":"CONCATENATE(\"EDRM and Content Management Systems - \",A444)","v":"EDRM and Content Management Systems - 0"},null,null,null,null,null,null,null,null,null,null,null,null,null,null,null,null,null,null,"x"]
["2.1.1","In which year did you migrate onto the current EDRM / Content Management systems?",null,"2.1.2","What is the total volume of digital records held on the EDRM / Content Management systems?",null,null,"2.1.3","How many backup copies are held on your EDRM / Content Management systems? (\"0\" means no backup copies are held, \"1\" means the system contains one backup copy as well as the master copy, etc)",null,null,null,null,null,null,null,null,null,null,null,"x"]
[null,null,null,null,null,null,null,null,null,null,null,null,null,null,null,null,null,null,null,null,"x"]
[null,null,null,null,null,null,null,null,null,null,null,null,null,null,null,null,null,null,null,null,"x"]
[null,null,null,null,null,null,null,null,null,null,null,null,null,null,null,null,null,null,null,null,"x"]
[2.2000000000000002,{"$f":"CONCATENATE(\"Born Digital Records - outside the EDRM / Content Management systems - \",A444)","v":"Born Digital Records - outside the EDRM / Content Management systems - 0"},null,null,null,null,null,null,null,null,null,null,null,null,null,null,null,null,null,null,"x"]
["2.2.1","What is the volume of  digital records held outwith the EDRM/ Content Management systems (e.g. on shared drives)? If you are not sure of the exact figure then please provide an estimate.",null,null,null,null,null,"2.2.2","How many backup copies are held on digital systems that sit outside the EDRM / Content Management systems? (\"0\" means no backup copies are held, \"1\" means that one backup copy as well as the master copy is held, etc.). If you are not sure of an exact figure then provide an estimate",null,null,null,null,null,null,null,null,null,null,null,"x"]
[null,null,null,null,null,null,null,null,null,null,null,null,null,null,null,null,null,null,null,null,"x"]
[null,null,null,null,null,null,null,null,null,null,null,null,null,null,null,null,null,null,null,null,"x"]
[null,null,null,null,null,null,null,null,null,null,null,null,null,null,null,null,null,null,null,null,"x"]
[2.2999999999999998,{"$f":"CONCATENATE(\"Backup copies - \",A444)","v":"Backup copies - 0"},null,null,null,null,null,null,null,null,null,null,null,null,null,null,null,null,null,null,"x"]
["2.3.1","How many backup / access copies will you incorporate into the digital archive? (\"0\" means only the master copy will be preserved; \"1\" means the master copy and one copy will be preserved, etc.).",null,"2.3.2","When you migrate files in to the archive, will the backup copies of any of the records recorded in sections 2.1 and 2.2 be of a lower resolution / different file type to the master copy? (If you do not know the answer to this, select \"no\")",null,null,null,null,null,null,null,null,null,null,null,null,null,null,null,"x"]
[null,null,null,null,null,null,null,null,null,null,null,null,null,null,null,null,null,null,null,null,"x"]
[null,null,null,null,null,null,{"$f":"IF(E469=input_lists!$K$11,\"In the below table, provide details of the files you plan to archive with different backup resolutions\",\"\")","v":""},null,null,null,null,null,null,null,null,null,null,null,null,null,"x"]
[null,null,null,null,null,null,null,null,null,null,null,null,null,null,null,null,null,null,null,null,"x"]
[null,null,null,null,"Master Copy file type","Master Copy resolution","Master Copy volume (do not include duplicates)","units","Backup Copy file type","Backup Copy resolution","Are these master copies held on the EDRM/Content Management system or off the EDRM/Content Management system?",null,null,null,null,null,null,null,null,null,"x"]
[null,null,null,null,null,null,null,null,null,null,null,null,null,null,null,null,null,null,null,null,"x"]
[null,null,null,null,null,null,null,null,null,null,null,null,null,null,null,null,null,null,null,null,"x"]
[null,null,null,null,null,null,null,null,null,null,null,null,null,null,null,null,null,null,null,null,"x"]
[null,null,null,null,null,null,null,null,null,null,null,null,null,null,null,null,null,null,null,null,"x"]
[null,null,null,null,null,null,null,null,null,null,null,null,null,null,null,null,null,null,null,null,"x"]
[null,null,null,null,null,null,null,null,null,null,null,null,null,null,null,null,null,null,null,null,"x"]
[null,null,null,null,null,null,null,null,null,null,null,null,null,null,null,null,null,null,null,null,"x"]
[null,null,null,null,null,null,null,null,null,null,null,null,null,null,null,null,null,null,null,null,"x"]
[null,null,null,null,null,null,null,null,null,null,null,null,null,null,null,null,null,null,null,null,"x"]
[null,null,null,null,null,null,null,null,null,null,null,null,null,null,null,null,null,null,null,null,"x"]
[{"$f":"CONCATENATE(\"Section 3 - Planned Digitisation - \",A444)","v":"Section 3 - Planned Digitisation - 0"},null,null,null,null,null,null,null,null,null,null,null,null,null,null,null,null,null,null,null,{"$f":"IF($A$444=0,\"x\",\"\")","v":"x"}]
["Note: any records that are already digitised should be recorded in Section 2 - Digital Records (above)",null,null,null,null,null,null,null,null,null,null,null,null,null,null,null,null,null,null,null,"x"]
[3.1,{"$f":"CONCATENATE(\"Records planned for digitisation - provide details for each file type you plan on digitising in relation to - \",A444)","v":"Records planned for digitisation - provide details for each file type you plan on digitising in relation to - 0"},null,null,null,null,null,null,null,null,null,null,null,null,null,null,null,null,null,null,"x"]
["3.1.1",{"$f":"CONCATENATE(\"Are there any large digitisation projects planned within \",A444,\" in the near future? (If you do not know the answer to this question, select no.)\")","v":"Are there any large digitisation projects planned within 0 in the near future? (If you do not know the answer to this question, select no.)"},null,null,null,null,null,null,null,null,null,null,null,null,null,null,null,null,null,null,"x"]
[null,null,null,null,null,null,null,null,null,null,null,null,null,null,null,null,null,null,null,null,"x"]
[null,null,null,{"$f":"IF(B487=input_lists!$K$11,\"In the below table, provide details of your planned digitisation project\",\"\")","v":""},null,null,null,null,null,null,null,null,null,null,null,null,null,null,null,null,"x"]
[null,null,null,null,null,null,null,null,null,null,null,null,null,null,null,null,null,null,null,null,"x"]
["3.2.1","File type you plan to digitise to (master copy):","3.2.2","Volume of files you plan to digitise:",null,"3.2.3","File type of backup copies:","3.2.4","Resolution of Master Copy:","3.2.5","Resolution of Backup Copies:","3.2.6","Will you compress your files?","3.2.7","Colour scale used:",null,null,null,null,null,"x"]
[null,null,null,null,null,null,null,null,null,null,null,null,null,null,null,null,null,null,null,null,"x"]
[null,null,null,null,null,null,null,null,null,null,null,null,null,null,null,null,null,null,null,null,"x"]
[null,null,null,null,null,null,null,null,null,null,null,null,null,null,null,null,null,null,null,null,"x"]
[null,null,null,null,null,null,null,null,null,null,null,null,null,null,null,null,null,null,null,null,"x"]
[null,null,null,null,null,null,null,null,null,null,null,null,null,null,null,null,null,null,null,null,"x"]
[null,null,null,null,null,null,null,null,null,null,null,null,null,null,null,null,null,null,null,null,"x"]
[null,null,null,null,null,null,null,null,null,null,null,null,null,null,null,null,null,null,null,null,"x"]
[null,null,null,null,null,null,null,null,null,null,null,null,null,null,null,null,null,null,null,null,"x"]
[null,null,null,null,null,null,null,null,null,null,null,null,null,null,null,null,null,null,null,null,"x"]
[{"$f":"CONCATENATE(\"Section 4 - Paper Records - \",A444)","v":"Section 4 - Paper Records - 0"},null,null,null,null,null,null,null,null,null,null,null,null,null,null,null,null,null,null,null,"x"]
[{"$f":"CONCATENATE(\"This section is for users who have decided on the paper based calculations approach for \",A444)","v":"This section is for users who have decided on the paper based calculations approach for 0"},null,null,null,null,null,null,null,null,null,null,null,null,null,null,null,null,null,null,null,"x"]
[4.0999999999999996,{"$f":"CONCATENATE(\"Paper records - \",A444)","v":"Paper records - 0"},null,null,null,null,null,null,null,null,null,null,null,null,null,null,null,null,null,null,"x"]
["4.1.1",{"$f":"CONCATENATE(\"What is the average annual volume of paper records created by \",A443,\"? This figure should reflect total records created, not just records which are deposited into the archive.\")","v":"What is the average annual volume of paper records created by ? This figure should reflect total records created, not just records which are deposited into the archive."},null,"4.1.2","How many backup / access copies will you incorporate into the digital archive? (\"0\" means only the master copy will be preserved; \"1\" means the master copy and one copy will be preserved, etc.).",null,null,null,null,null,null,null,null,null,null,null,null,null,null,null,"x"]
[null,null,null,null,null,null,null,null,null,null,null,null,null,null,null,null,null,null,null,null,"x"]
[null,null,null,null,null,null,null,null,null,null,null,null,null,null,null,null,null,null,null,null,"x"]
[null,null,null,null,null,null,null,null,null,null,null,null,null,null,null,null,null,null,null,null,"x"]
[null,null,null,null,null,null,null,null,null,null,null,null,null,null,null,null,null,null,null,null,"x"]
[{"$f":"selected_functions!A13","v":0},null,null,null,null,null,null,null,null,null,null,null,null,null,null,null,null,null,null,null,{"$f":"IF($A$507=0,\"x\",\"\")","v":"x"}]
[{"$f":"CONCATENATE(\"Section 1 - Percentage of records to be preserved - \",A507)","v":"Section 1 - Percentage of records to be preserved - 0"},null,null,null,null,null,null,null,null,null,null,null,null,null,null,null,null,null,null,null,"x"]
[1.1000000000000001,{"$f":"CONCATENATE(\"Percentage of records to be preserved - \",A507)","v":"Percentage of records to be preserved - 0"},null,null,null,null,null,null,null,null,null,null,null,null,null,null,null,null,null,null,"x"]
["1.1.1",{"$f":"CONCATENATE(\"This table provides a guide for the percentage of records aligned with different retention schedules for \",A507,\". You may wish to use this to inform the answer you provide in question 1.1.2\")","v":"This table provides a guide for the percentage of records aligned with different retention schedules for 0. You may wish to use this to inform the answer you provide in question 1.1.2"},null,"1.1.2",{"$f":"CONCATENATE(\"What is the percentage of records you intend to incorporate into the digital archive for \",A507,\"?\")","v":"What is the percentage of records you intend to incorporate into the digital archive for 0?"},null,null,null,null,null,null,null,null,null,null,null,null,null,null,null,"x"]
[null,null,null,null,null,null,null,null,null,null,null,null,null,null,null,null,null,null,null,null,"x"]
[{"$f":"B512&A507","v":"Permanent0"},"Permanent",{"$f":"IFERROR(VLOOKUP(A512,retention_schedules!C:D,2,FALSE),\"\")","v":""},null,null,null,null,null,null,null,null,null,null,null,null,null,null,null,null,null,"x"]
[{"$f":"B513&A507","v":"30 years +0"},"30 years +",{"$f":"IFERROR(VLOOKUP(A513,retention_schedules!C:D,2,FALSE),\"\")","v":""},null,null,null,null,null,null,null,null,null,null,null,null,null,null,null,null,null,"x"]
[{"$f":"B514&A507","v":"20 years +0"},"20 years +",{"$f":"IFERROR(VLOOKUP(A514,retention_schedules!C:D,2,FALSE),\"\")","v":""},null,null,null,null,null,null,null,null,null,null,null,null,null,null,null,null,null,"x"]
[{"$f":"B515&A507","v":"10 years +0"},"10 years +",{"$f":"IFERROR(VLOOKUP(A515,retention_schedules!C:D,2,FALSE),\"\")","v":""},null,null,null,null,null,null,null,null,null,null,null,null,null,null,null,null,null,"x"]
[{"$f":"B516&A507","v":"All records0"},"All records",{"$f":"IFERROR(VLOOKUP(A516,retention_schedules!C:D,2,FALSE),\"\")","v":""},null,null,null,null,null,null,null,null,null,null,null,null,null,null,null,null,null,"x"]
[{"$f":"CONCATENATE(\"Section 2 - Digital Records - \",A507)","v":"Section 2 - Digital Records - 0"},null,null,null,null,null,null,null,null,null,null,null,null,null,null,null,null,null,null,null,"x"]
[{"$f":"CONCATENATE(\"Note - if you do not have information about the digital records system for \",A507,\"  then proceed to section three\")","v":"Note - if you do not have information about the digital records system for 0  then proceed to section three"},null,null,null,null,null,null,null,null,null,null,null,null,null,null,null,null,null,null,null,"x"]
[2.1,{"$f":"CONCATENATE(\"EDRM and Content Management Systems - \",A507)","v":"EDRM and Content Management Systems - 0"},null,null,null,null,null,null,null,null,null,null,null,null,null,null,null,null,null,null,"x"]
["2.1.1","In which year did you migrate onto the current EDRM / Content Management systems?",null,"2.1.2","What is the total volume of digital records held on the EDRM / Content Management systems?",null,null,"2.1.3","How many backup copies are held on your EDRM / Content Management systems? (\"0\" means no backup copies are held, \"1\" means the system contains one backup copy as well as the master copy, etc)",null,null,null,null,null,null,null,null,null,null,null,"x"]
[null,null,null,null,null,null,null,null,null,null,null,null,null,null,null,null,null,null,null,null,"x"]
[null,null,null,null,null,null,null,null,null,null,null,null,null,null,null,null,null,null,null,null,"x"]
[null,null,null,null,null,null,null,null,null,null,null,null,null,null,null,null,null,null,null,null,"x"]
[2.2000000000000002,{"$f":"CONCATENATE(\"Born Digital Records - outside the EDRM / Content Management systems - \",A507)","v":"Born Digital Records - outside the EDRM / Content Management systems - 0"},null,null,null,null,null,null,null,null,null,null,null,null,null,null,null,null,null,null,"x"]
["2.2.1","What is the volume of  digital records held outwith the EDRM/ Content Management systems (e.g. on shared drives)? If you are not sure of the exact figure then please provide an estimate.",null,null,null,null,null,"2.2.2","How many backup copies are held on digital systems that sit outside the EDRM / Content Management systems? (\"0\" means no backup copies are held, \"1\" means that one backup copy as well as the master copy is held, etc.). If you are not sure of an exact figure then provide an estimate",null,null,null,null,null,null,null,null,null,null,null,"x"]
[null,null,null,null,null,null,null,null,null,null,null,null,null,null,null,null,null,null,null,null,"x"]
[null,null,null,null,null,null,null,null,null,null,null,null,null,null,null,null,null,null,null,null,"x"]
[null,null,null,null,null,null,null,null,null,null,null,null,null,null,null,null,null,null,null,null,"x"]
[2.2999999999999998,{"$f":"CONCATENATE(\"Backup copies - \",A507)","v":"Backup copies - 0"},null,null,null,null,null,null,null,null,null,null,null,null,null,null,null,null,null,null,"x"]
["2.3.1","How many backup / access copies will you incorporate into the digital archive? (\"0\" means only the master copy will be preserved; \"1\" means the master copy and one copy will be preserved, etc.).",null,"2.3.2","When you migrate files in to the archive, will the backup copies of any of the records recorded in sections 2.1 and 2.2 be of a lower resolution / different file type to the master copy? (If you do not know the answer to this, select \"no\")",null,null,null,null,null,null,null,null,null,null,null,null,null,null,null,"x"]
[null,null,null,null,null,null,null,null,null,null,null,null,null,null,null,null,null,null,null,null,"x"]
[null,null,null,null,null,null,{"$f":"IF(E532=input_lists!$K$11,\"In the below table, provide details of the files you plan to archive with different backup resolutions\",\"\")","v":""},null,null,null,null,null,null,null,null,null,null,null,null,null,"x"]
[null,null,null,null,null,null,null,null,null,null,null,null,null,null,null,null,null,null,null,null,"x"]
[null,null,null,null,"Master Copy file type","Master Copy resolution","Master Copy volume (do not include duplicates)","units","Backup Copy file type","Backup Copy resolution","Are these master copies held on the EDRM/Content Management system or off the EDRM/Content Management system?",null,null,null,null,null,null,null,null,null,"x"]
[null,null,null,null,null,null,null,null,null,null,null,null,null,null,null,null,null,null,null,null,"x"]
[null,null,null,null,null,null,null,null,null,null,null,null,null,null,null,null,null,null,null,null,"x"]
[null,null,null,null,null,null,null,null,null,null,null,null,null,null,null,null,null,null,null,null,"x"]
[null,null,null,null,null,null,null,null,null,null,null,null,null,null,null,null,null,null,null,null,"x"]
[null,null,null,null,null,null,null,null,null,null,null,null,null,null,null,null,null,null,null,null,{"$f":"IF($A$507=0,\"x\",\"\")","v":"x"}]
[null,null,null,null,null,null,null,null,null,null,null,null,null,null,null,null,null,null,null,null,"x"]
[null,null,null,null,null,null,null,null,null,null,null,null,null,null,null,null,null,null,null,null,"x"]
[null,null,null,null,null,null,null,null,null,null,null,null,null,null,null,null,null,null,null,null,"x"]
[null,null,null,null,null,null,null,null,null,null,null,null,null,null,null,null,null,null,null,null,"x"]
[null,null,null,null,null,null,null,null,null,null,null,null,null,null,null,null,null,null,null,null,"x"]
[{"$f":"CONCATENATE(\"Section 3 - Planned Digitisation - \",A507)","v":"Section 3 - Planned Digitisation - 0"},null,null,null,null,null,null,null,null,null,null,null,null,null,null,null,null,null,null,null,"x"]
["Note: any records that are already digitised should be recorded in Section 2 - Digital Records (above)",null,null,null,null,null,null,null,null,null,null,null,null,null,null,null,null,null,null,null,"x"]
[3.1,{"$f":"CONCATENATE(\"Records planned for digitisation - provide details for each file type you plan on digitising in relation to - \",A507)","v":"Records planned for digitisation - provide details for each file type you plan on digitising in relation to - 0"},null,null,null,null,null,null,null,null,null,null,null,null,null,null,null,null,null,null,"x"]
["3.1.1",{"$f":"CONCATENATE(\"Are there any large digitisation projects planned within \",A507,\" in the near future? (If you do not know the answer to this question, select no.)\")","v":"Are there any large digitisation projects planned within 0 in the near future? (If you do not know the answer to this question, select no.)"},null,null,null,null,null,null,null,null,null,null,null,null,null,null,null,null,null,null,"x"]
[null,null,null,null,null,null,null,null,null,null,null,null,null,null,null,null,null,null,null,null,"x"]
[null,null,null,{"$f":"IF(B550=input_lists!$K$11,\"In the below table, provide details of your planned digitisation project\",\"\")","v":""},null,null,null,null,null,null,null,null,null,null,null,null,null,null,null,null,"x"]
[null,null,null,null,null,null,null,null,null,null,null,null,null,null,null,null,null,null,null,null,"x"]
["3.2.1","File type you plan to digitise to (master copy):","3.2.2","Volume of files you plan to digitise:",null,"3.2.3","File type of backup copies:","3.2.4","Resolution of Master Copy:","3.2.5","Resolution of Backup Copies:","3.2.6","Will you compress your files?","3.2.7","Colour scale used:",null,null,null,null,null,"x"]
[null,null,null,null,null,null,null,null,null,null,null,null,null,null,null,null,null,null,null,null,"x"]
[null,null,null,null,null,null,null,null,null,null,null,null,null,null,null,null,null,null,null,null,"x"]
[null,null,null,null,null,null,null,null,null,null,null,null,null,null,null,null,null,null,null,null,"x"]
[null,null,null,null,null,null,null,null,null,null,null,null,null,null,null,null,null,null,null,null,"x"]
[null,null,null,null,null,null,null,null,null,null,null,null,null,null,null,null,null,null,null,null,"x"]
[null,null,null,null,null,null,null,null,null,null,null,null,null,null,null,null,null,null,null,null,"x"]
[null,null,null,null,null,null,null,null,null,null,null,null,null,null,null,null,null,null,null,null,"x"]
[null,null,null,null,null,null,null,null,null,null,null,null,null,null,null,null,null,null,null,null,"x"]
[null,null,null,null,null,null,null,null,null,null,null,null,null,null,null,null,null,null,null,null,{"$f":"IF($A$507=0,\"x\",\"\")","v":"x"}]
[{"$f":"CONCATENATE(\"Section 4 - Paper Records - \",A507)","v":"Section 4 - Paper Records - 0"},null,null,null,null,null,null,null,null,null,null,null,null,null,null,null,null,null,null,null,"x"]
[{"$f":"CONCATENATE(\"This section is for users who have decided on the paper based calculations approach for \",A507)","v":"This section is for users who have decided on the paper based calculations approach for 0"},null,null,null,null,null,null,null,null,null,null,null,null,null,null,null,null,null,null,null,"x"]
[4.0999999999999996,{"$f":"CONCATENATE(\"Paper records - \",A507)","v":"Paper records - 0"},null,null,null,null,null,null,null,null,null,null,null,null,null,null,null,null,null,null,"x"]
["4.1.1",{"$f":"CONCATENATE(\"What is the average annual volume of paper records created by \",A506,\"? This figure should reflect total records created, not just records which are deposited into the archive.\")","v":"What is the average annual volume of paper records created by ? This figure should reflect total records created, not just records which are deposited into the archive."},null,"4.1.2","How many backup / access copies will you incorporate into the digital archive? (\"0\" means only the master copy will be preserved; \"1\" means the master copy and one copy will be preserved, etc.).",null,null,null,null,null,null,null,null,null,null,null,null,null,null,null,"x"]
[null,null,null,null,null,null,null,null,null,null,null,null,null,null,null,null,null,null,null,null,"x"]
[null,null,null,null,null,null,null,null,null,null,null,null,null,null,null,null,null,null,null,null,"x"]
[null,null,null,null,null,null,null,null,null,null,null,null,null,null,null,null,null,null,null,null,"x"]
[null,null,null,null,null,null,null,null,null,null,null,null,null,null,null,null,null,null,null,null,"x"]
[{"$f":"selected_functions!A14","v":0},null,null,null,null,null,null,null,null,null,null,null,null,null,null,null,null,null,null,null,{"$f":"IF($A$570=0,\"x\",\"\")","v":"x"}]
[{"$f":"CONCATENATE(\"Section 1 - Percentage of records to be preserved - \",A570)","v":"Section 1 - Percentage of records to be preserved - 0"},null,null,null,null,null,null,null,null,null,null,null,null,null,null,null,null,null,null,null,"x"]
[1.1000000000000001,{"$f":"CONCATENATE(\"Percentage of records to be preserved - \",A570)","v":"Percentage of records to be preserved - 0"},null,null,null,null,null,null,null,null,null,null,null,null,null,null,null,null,null,null,"x"]
["1.1.1",{"$f":"CONCATENATE(\"This table provides a guide for the percentage of records aligned with different retention schedules for \",A570,\". You may wish to use this to inform the answer you provide in question 1.1.2\")","v":"This table provides a guide for the percentage of records aligned with different retention schedules for 0. You may wish to use this to inform the answer you provide in question 1.1.2"},null,"1.1.2",{"$f":"CONCATENATE(\"What is the percentage of records you intend to incorporate into the digital archive for \",A570,\"?\")","v":"What is the percentage of records you intend to incorporate into the digital archive for 0?"},null,null,null,null,null,null,null,null,null,null,null,null,null,null,null,"x"]
[null,null,null,null,null,null,null,null,null,null,null,null,null,null,null,null,null,null,null,null,"x"]
[{"$f":"B575&A570","v":"Permanent0"},"Permanent",{"$f":"IFERROR(VLOOKUP(A575,retention_schedules!C:D,2,FALSE),\"\")","v":""},null,null,null,null,null,null,null,null,null,null,null,null,null,null,null,null,null,"x"]
[{"$f":"B576&A570","v":"30 years +0"},"30 years +",{"$f":"IFERROR(VLOOKUP(A576,retention_schedules!C:D,2,FALSE),\"\")","v":""},null,null,null,null,null,null,null,null,null,null,null,null,null,null,null,null,null,"x"]
[{"$f":"B577&A570","v":"20 years +0"},"20 years +",{"$f":"IFERROR(VLOOKUP(A577,retention_schedules!C:D,2,FALSE),\"\")","v":""},null,null,null,null,null,null,null,null,null,null,null,null,null,null,null,null,null,"x"]
[{"$f":"B578&A570","v":"10 years +0"},"10 years +",{"$f":"IFERROR(VLOOKUP(A578,retention_schedules!C:D,2,FALSE),\"\")","v":""},null,null,null,null,null,null,null,null,null,null,null,null,null,null,null,null,null,"x"]
[{"$f":"B579&A570","v":"All records0"},"All records",{"$f":"IFERROR(VLOOKUP(A579,retention_schedules!C:D,2,FALSE),\"\")","v":""},null,null,null,null,null,null,null,null,null,null,null,null,null,null,null,null,null,"x"]
[{"$f":"CONCATENATE(\"Section 2 - Digital Records - \",A570)","v":"Section 2 - Digital Records - 0"},null,null,null,null,null,null,null,null,null,null,null,null,null,null,null,null,null,null,null,"x"]
[{"$f":"CONCATENATE(\"Note - if you do not have information about the digital records system for \",A570,\"  then proceed to section three\")","v":"Note - if you do not have information about the digital records system for 0  then proceed to section three"},null,null,null,null,null,null,null,null,null,null,null,null,null,null,null,null,null,null,null,"x"]
[2.1,{"$f":"CONCATENATE(\"EDRM and Content Management Systems - \",A570)","v":"EDRM and Content Management Systems - 0"},null,null,null,null,null,null,null,null,null,null,null,null,null,null,null,null,null,null,"x"]
["2.1.1","In which year did you migrate onto the current EDRM / Content Management systems?",null,"2.1.2","What is the total volume of digital records held on the EDRM / Content Management systems?",null,null,"2.1.3","How many backup copies are held on your EDRM / Content Management systems? (\"0\" means no backup copies are held, \"1\" means the system contains one backup copy as well as the master copy, etc)",null,null,null,null,null,null,null,null,null,null,null,"x"]
[null,null,null,null,null,null,null,null,null,null,null,null,null,null,null,null,null,null,null,null,"x"]
[null,null,null,null,null,null,null,null,null,null,null,null,null,null,null,null,null,null,null,null,"x"]
[null,null,null,null,null,null,null,null,null,null,null,null,null,null,null,null,null,null,null,null,"x"]
[2.2000000000000002,{"$f":"CONCATENATE(\"Born Digital Records - outside the EDRM / Content Management systems - \",A570)","v":"Born Digital Records - outside the EDRM / Content Management systems - 0"},null,null,null,null,null,null,null,null,null,null,null,null,null,null,null,null,null,null,"x"]
["2.2.1","What is the volume of  digital records held outwith the EDRM/ Content Management systems (e.g. on shared drives)? If you are not sure of the exact figure then please provide an estimate.",null,null,null,null,null,"2.2.2","How many backup copies are held on digital systems that sit outside the EDRM / Content Management systems? (\"0\" means no backup copies are held, \"1\" means that one backup copy as well as the master copy is held, etc.). If you are not sure of an exact figure then provide an estimate",null,null,null,null,null,null,null,null,null,null,null,"x"]
[null,null,null,null,null,null,null,null,null,null,null,null,null,null,null,null,null,null,null,null,"x"]
[null,null,null,null,null,null,null,null,null,null,null,null,null,null,null,null,null,null,null,null,"x"]
[null,null,null,null,null,null,null,null,null,null,null,null,null,null,null,null,null,null,null,null,"x"]
[2.2999999999999998,{"$f":"CONCATENATE(\"Backup copies - \",A570)","v":"Backup copies - 0"},null,null,null,null,null,null,null,null,null,null,null,null,null,null,null,null,null,null,"x"]
["2.3.1","How many backup / access copies will you incorporate into the digital archive? (\"0\" means only the master copy will be preserved; \"1\" means the master copy and one copy will be preserved, etc.).",null,"2.3.2","When you migrate files in to the archive, will the backup copies of any of the records recorded in sections 2.1 and 2.2 be of a lower resolution / different file type to the master copy? (If you do not know the answer to this, select \"no\")",null,null,null,null,null,null,null,null,null,null,null,null,null,null,null,"x"]
[null,null,null,null,null,null,null,null,null,null,null,null,null,null,null,null,null,null,null,null,"x"]
[null,null,null,null,null,null,{"$f":"IF(E595=input_lists!$K$11,\"In the below table, provide details of the files you plan to archive with different backup resolutions\",\"\")","v":""},null,null,null,null,null,null,null,null,null,null,null,null,null,"x"]
[null,null,null,null,null,null,null,null,null,null,null,null,null,null,null,null,null,null,null,null,"x"]
[null,null,null,null,"Master Copy file type","Master Copy resolution","Master Copy volume (do not include duplicates)","units","Backup Copy file type","Backup Copy resolution","Are these master copies held on the EDRM/Content Management system or off the EDRM/Content Management system?",null,null,null,null,null,null,null,null,null,"x"]
[null,null,null,null,null,null,null,null,null,null,null,null,null,null,null,null,null,null,null,null,"x"]
[null,null,null,null,null,null,null,null,null,null,null,null,null,null,null,null,null,null,null,null,"x"]
[null,null,null,null,null,null,null,null,null,null,null,null,null,null,null,null,null,null,null,null,"x"]
[null,null,null,null,null,null,null,null,null,null,null,null,null,null,null,null,null,null,null,null,"x"]
[null,null,null,null,null,null,null,null,null,null,null,null,null,null,null,null,null,null,null,null,{"$f":"IF($A$570=0,\"x\",\"\")","v":"x"}]
[null,null,null,null,null,null,null,null,null,null,null,null,null,null,null,null,null,null,null,null,"x"]
[null,null,null,null,null,null,null,null,null,null,null,null,null,null,null,null,null,null,null,null,"x"]
[null,null,null,null,null,null,null,null,null,null,null,null,null,null,null,null,null,null,null,null,"x"]
[null,null,null,null,null,null,null,null,null,null,null,null,null,null,null,null,null,null,null,null,"x"]
[null,null,null,null,null,null,null,null,null,null,null,null,null,null,null,null,null,null,null,null,"x"]
[{"$f":"CONCATENATE(\"Section 3 - Planned Digitisation - \",A570)","v":"Section 3 - Planned Digitisation - 0"},null,null,null,null,null,null,null,null,null,null,null,null,null,null,null,null,null,null,null,"x"]
["Note: any records that are already digitised should be recorded in Section 2 - Digital Records (above)",null,null,null,null,null,null,null,null,null,null,null,null,null,null,null,null,null,null,null,"x"]
[3.1,{"$f":"CONCATENATE(\"Records planned for digitisation - provide details for each file type you plan on digitising in relation to - \",A570)","v":"Records planned for digitisation - provide details for each file type you plan on digitising in relation to - 0"},null,null,null,null,null,null,null,null,null,null,null,null,null,null,null,null,null,null,"x"]
["3.1.1",{"$f":"CONCATENATE(\"Are there any large digitisation projects planned within \",A570,\" in the near future? (If you do not know the answer to this question, select no.)\")","v":"Are there any large digitisation projects planned within 0 in the near future? (If you do not know the answer to this question, select no.)"},null,null,null,null,null,null,null,null,null,null,null,null,null,null,null,null,null,null,"x"]
[null,null,null,null,null,null,null,null,null,null,null,null,null,null,null,null,null,null,null,null,"x"]
[null,null,null,{"$f":"IF(B613=input_lists!$K$11,\"In the below table, provide details of your planned digitisation project\",\"\")","v":""},null,null,null,null,null,null,null,null,null,null,null,null,null,null,null,null,"x"]
[null,null,null,null,null,null,null,null,null,null,null,null,null,null,null,null,null,null,null,null,"x"]
["3.2.1","File type you plan to digitise to (master copy):","3.2.2","Volume of files you plan to digitise:",null,"3.2.3","File type of backup copies:","3.2.4","Resolution of Master Copy:","3.2.5","Resolution of Backup Copies:","3.2.6","Will you compress your files?","3.2.7","Colour scale used:",null,null,null,null,null,"x"]
[null,null,null,null,null,null,null,null,null,null,null,null,null,null,null,null,null,null,null,null,"x"]
[null,null,null,null,null,null,null,null,null,null,null,null,null,null,null,null,null,null,null,null,"x"]
[null,null,null,null,null,null,null,null,null,null,null,null,null,null,null,null,null,null,null,null,"x"]
[null,null,null,null,null,null,null,null,null,null,null,null,null,null,null,null,null,null,null,null,"x"]
[null,null,null,null,null,null,null,null,null,null,null,null,null,null,null,null,null,null,null,null,"x"]
[null,null,null,null,null,null,null,null,null,null,null,null,null,null,null,null,null,null,null,null,"x"]
[null,null,null,null,null,null,null,null,null,null,null,null,null,null,null,null,null,null,null,null,"x"]
[null,null,null,null,null,null,null,null,null,null,null,null,null,null,null,null,null,null,null,null,"x"]
[null,null,null,null,null,null,null,null,null,null,null,null,null,null,null,null,null,null,null,null,{"$f":"IF($A$570=0,\"x\",\"\")","v":"x"}]
[{"$f":"CONCATENATE(\"Section 4 - Paper Records - \",A570)","v":"Section 4 - Paper Records - 0"},null,null,null,null,null,null,null,null,null,null,null,null,null,null,null,null,null,null,null,"x"]
[{"$f":"CONCATENATE(\"This section is for users who have decided on the paper based calculations approach for \",A570)","v":"This section is for users who have decided on the paper based calculations approach for 0"},null,null,null,null,null,null,null,null,null,null,null,null,null,null,null,null,null,null,null,"x"]
[4.0999999999999996,{"$f":"CONCATENATE(\"Paper records - \",A570)","v":"Paper records - 0"},null,null,null,null,null,null,null,null,null,null,null,null,null,null,null,null,null,null,"x"]
["4.1.1",{"$f":"CONCATENATE(\"What is the average annual volume of paper records created by \",A569,\"? This figure should reflect total records created, not just records which are deposited into the archive.\")","v":"What is the average annual volume of paper records created by ? This figure should reflect total records created, not just records which are deposited into the archive."},null,"4.1.2","How many backup / access copies will you incorporate into the digital archive? (\"0\" means only the master copy will be preserved; \"1\" means the master copy and one copy will be preserved, etc.).",null,null,null,null,null,null,null,null,null,null,null,null,null,null,null,"x"]
[null,null,null,null,null,null,null,null,null,null,null,null,null,null,null,null,null,null,null,null,"x"]
[null,null,null,null,null,null,null,null,null,null,null,null,null,null,null,null,null,null,null,null,"x"]
[null,null,null,null,null,null,null,null,null,null,null,null,null,null,null,null,null,null,null,null,"x"]
[null,null,null,null,null,null,null,null,null,null,null,null,null,null,null,null,null,null,null,null,"x"]
[{"$f":"selected_functions!A15","v":0},null,null,null,null,null,null,null,null,null,null,null,null,null,null,null,null,null,null,null,{"$f":"IF($A$633=0,\"x\",\"\")","v":"x"}]
[{"$f":"CONCATENATE(\"Section 1 - Percentage of records to be preserved - \",A633)","v":"Section 1 - Percentage of records to be preserved - 0"},null,null,null,null,null,null,null,null,null,null,null,null,null,null,null,null,null,null,null,"x"]
[1.1000000000000001,{"$f":"CONCATENATE(\"Percentage of records to be preserved - \",A633)","v":"Percentage of records to be preserved - 0"},null,null,null,null,null,null,null,null,null,null,null,null,null,null,null,null,null,null,"x"]
["1.1.1",{"$f":"CONCATENATE(\"This table provides a guide for the percentage of records aligned with different retention schedules for \",A633,\". You may wish to use this to inform the answer you provide in question 1.1.2\")","v":"This table provides a guide for the percentage of records aligned with different retention schedules for 0. You may wish to use this to inform the answer you provide in question 1.1.2"},null,"1.1.2",{"$f":"CONCATENATE(\"What is the percentage of records you intend to incorporate into the digital archive for \",A633,\"?\")","v":"What is the percentage of records you intend to incorporate into the digital archive for 0?"},null,null,null,null,null,null,null,null,null,null,null,null,null,null,null,"x"]
[null,null,null,null,null,null,null,null,null,null,null,null,null,null,null,null,null,null,null,null,"x"]
[{"$f":"B638&A633","v":"Permanent0"},"Permanent",{"$f":"IFERROR(VLOOKUP(A638,retention_schedules!C:D,2,FALSE),\"\")","v":""},null,null,null,null,null,null,null,null,null,null,null,null,null,null,null,null,null,"x"]
[{"$f":"B639&A633","v":"30 years +0"},"30 years +",{"$f":"IFERROR(VLOOKUP(A639,retention_schedules!C:D,2,FALSE),\"\")","v":""},null,null,null,null,null,null,null,null,null,null,null,null,null,null,null,null,null,"x"]
[{"$f":"B640&A633","v":"20 years +0"},"20 years +",{"$f":"IFERROR(VLOOKUP(A640,retention_schedules!C:D,2,FALSE),\"\")","v":""},null,null,null,null,null,null,null,null,null,null,null,null,null,null,null,null,null,"x"]
[{"$f":"B641&A633","v":"10 years +0"},"10 years +",{"$f":"IFERROR(VLOOKUP(A641,retention_schedules!C:D,2,FALSE),\"\")","v":""},null,null,null,null,null,null,null,null,null,null,null,null,null,null,null,null,null,"x"]
[{"$f":"B642&A633","v":"All records0"},"All records",{"$f":"IFERROR(VLOOKUP(A642,retention_schedules!C:D,2,FALSE),\"\")","v":""},null,null,null,null,null,null,null,null,null,null,null,null,null,null,null,null,null,"x"]
[{"$f":"CONCATENATE(\"Section 2 - Digital Records - \",A633)","v":"Section 2 - Digital Records - 0"},null,null,null,null,null,null,null,null,null,null,null,null,null,null,null,null,null,null,null,"x"]
[{"$f":"CONCATENATE(\"Note - if you do not have information about the digital records system for \",A633,\"  then proceed to section three\")","v":"Note - if you do not have information about the digital records system for 0  then proceed to section three"},null,null,null,null,null,null,null,null,null,null,null,null,null,null,null,null,null,null,null,"x"]
[2.1,{"$f":"CONCATENATE(\"EDRM and Content Management Systems - \",A633)","v":"EDRM and Content Management Systems - 0"},null,null,null,null,null,null,null,null,null,null,null,null,null,null,null,null,null,null,"x"]
["2.1.1","In which year did you migrate onto the current EDRM / Content Management systems?",null,"2.1.2","What is the total volume of digital records held on the EDRM / Content Management systems?",null,null,"2.1.3","How many backup copies are held on your EDRM / Content Management systems? (\"0\" means no backup copies are held, \"1\" means the system contains one backup copy as well as the master copy, etc)",null,null,null,null,null,null,null,null,null,null,null,"x"]
[null,null,null,null,null,null,null,null,null,null,null,null,null,null,null,null,null,null,null,null,"x"]
[null,null,null,null,null,null,null,null,null,null,null,null,null,null,null,null,null,null,null,null,"x"]
[null,null,null,null,null,null,null,null,null,null,null,null,null,null,null,null,null,null,null,null,"x"]
[2.2000000000000002,{"$f":"CONCATENATE(\"Born Digital Records - outside the EDRM / Content Management systems - \",A633)","v":"Born Digital Records - outside the EDRM / Content Management systems - 0"},null,null,null,null,null,null,null,null,null,null,null,null,null,null,null,null,null,null,"x"]
["2.2.1","What is the volume of  digital records held outwith the EDRM/ Content Management systems (e.g. on shared drives)? If you are not sure of the exact figure then please provide an estimate.",null,null,null,null,null,"2.2.2","How many backup copies are held on digital systems that sit outside the EDRM / Content Management systems? (\"0\" means no backup copies are held, \"1\" means that one backup copy as well as the master copy is held, etc.). If you are not sure of an exact figure then provide an estimate",null,null,null,null,null,null,null,null,null,null,null,"x"]
[null,null,null,null,null,null,null,null,null,null,null,null,null,null,null,null,null,null,null,null,"x"]
[null,null,null,null,null,null,null,null,null,null,null,null,null,null,null,null,null,null,null,null,"x"]
[null,null,null,null,null,null,null,null,null,null,null,null,null,null,null,null,null,null,null,null,"x"]
[2.2999999999999998,{"$f":"CONCATENATE(\"Backup copies - \",A633)","v":"Backup copies - 0"},null,null,null,null,null,null,null,null,null,null,null,null,null,null,null,null,null,null,"x"]
["2.3.1","How many backup / access copies will you incorporate into the digital archive? (\"0\" means only the master copy will be preserved; \"1\" means the master copy and one copy will be preserved, etc.).",null,"2.3.2","When you migrate files in to the archive, will the backup copies of any of the records recorded in sections 2.1 and 2.2 be of a lower resolution / different file type to the master copy? (If you do not know the answer to this, select \"no\")",null,null,null,null,null,null,null,null,null,null,null,null,null,null,null,"x"]
[null,null,null,null,null,null,null,null,null,null,null,null,null,null,null,null,null,null,null,null,"x"]
[null,null,null,null,null,null,{"$f":"IF(E658=input_lists!$K$11,\"In the below table, provide details of the files you plan to archive with different backup resolutions\",\"\")","v":""},null,null,null,null,null,null,null,null,null,null,null,null,null,"x"]
[null,null,null,null,null,null,null,null,null,null,null,null,null,null,null,null,null,null,null,null,"x"]
[null,null,null,null,"Master Copy file type","Master Copy resolution","Master Copy volume (do not include duplicates)","units","Backup Copy file type","Backup Copy resolution","Are these master copies held on the EDRM/Content Management system or off the EDRM/Content Management system?",null,null,null,null,null,null,null,null,null,"x"]
[null,null,null,null,null,null,null,null,null,null,null,null,null,null,null,null,null,null,null,null,"x"]
[null,null,null,null,null,null,null,null,null,null,null,null,null,null,null,null,null,null,null,null,"x"]
[null,null,null,null,null,null,null,null,null,null,null,null,null,null,null,null,null,null,null,null,"x"]
[null,null,null,null,null,null,null,null,null,null,null,null,null,null,null,null,null,null,null,null,"x"]
[null,null,null,null,null,null,null,null,null,null,null,null,null,null,null,null,null,null,null,null,{"$f":"IF($A$633=0,\"x\",\"\")","v":"x"}]
[null,null,null,null,null,null,null,null,null,null,null,null,null,null,null,null,null,null,null,null,"x"]
[null,null,null,null,null,null,null,null,null,null,null,null,null,null,null,null,null,null,null,null,"x"]
[null,null,null,null,null,null,null,null,null,null,null,null,null,null,null,null,null,null,null,null,"x"]
[null,null,null,null,null,null,null,null,null,null,null,null,null,null,null,null,null,null,null,null,"x"]
[null,null,null,null,null,null,null,null,null,null,null,null,null,null,null,null,null,null,null,null,"x"]
[{"$f":"CONCATENATE(\"Section 3 - Planned Digitisation - \",A633)","v":"Section 3 - Planned Digitisation - 0"},null,null,null,null,null,null,null,null,null,null,null,null,null,null,null,null,null,null,null,"x"]
["Note: any records that are already digitised should be recorded in Section 2 - Digital Records (above)",null,null,null,null,null,null,null,null,null,null,null,null,null,null,null,null,null,null,null,"x"]
[3.1,{"$f":"CONCATENATE(\"Records planned for digitisation - provide details for each file type you plan on digitising in relation to - \",A633)","v":"Records planned for digitisation - provide details for each file type you plan on digitising in relation to - 0"},null,null,null,null,null,null,null,null,null,null,null,null,null,null,null,null,null,null,"x"]
["3.1.1",{"$f":"CONCATENATE(\"Are there any large digitisation projects planned within \",A633,\" in the near future? (If you do not know the answer to this question, select no.)\")","v":"Are there any large digitisation projects planned within 0 in the near future? (If you do not know the answer to this question, select no.)"},null,null,null,null,null,null,null,null,null,null,null,null,null,null,null,null,null,null,"x"]
[null,null,null,null,null,null,null,null,null,null,null,null,null,null,null,null,null,null,null,null,"x"]
[null,null,null,{"$f":"IF(B676=input_lists!$K$11,\"In the below table, provide details of your planned digitisation project\",\"\")","v":""},null,null,null,null,null,null,null,null,null,null,null,null,null,null,null,null,"x"]
[null,null,null,null,null,null,null,null,null,null,null,null,null,null,null,null,null,null,null,null,"x"]
["3.2.1","File type you plan to digitise to (master copy):","3.2.2","Volume of files you plan to digitise:",null,"3.2.3","File type of backup copies:","3.2.4","Resolution of Master Copy:","3.2.5","Resolution of Backup Copies:","3.2.6","Will you compress your files?","3.2.7","Colour scale used:",null,null,null,null,null,"x"]
[null,null,null,null,null,null,null,null,null,null,null,null,null,null,null,null,null,null,null,null,"x"]
[null,null,null,null,null,null,null,null,null,null,null,null,null,null,null,null,null,null,null,null,"x"]
[null,null,null,null,null,null,null,null,null,null,null,null,null,null,null,null,null,null,null,null,"x"]
[null,null,null,null,null,null,null,null,null,null,null,null,null,null,null,null,null,null,null,null,"x"]
[null,null,null,null,null,null,null,null,null,null,null,null,null,null,null,null,null,null,null,null,"x"]
[null,null,null,null,null,null,null,null,null,null,null,null,null,null,null,null,null,null,null,null,"x"]
[null,null,null,null,null,null,null,null,null,null,null,null,null,null,null,null,null,null,null,null,"x"]
[null,null,null,null,null,null,null,null,null,null,null,null,null,null,null,null,null,null,null,null,"x"]
[null,null,null,null,null,null,null,null,null,null,null,null,null,null,null,null,null,null,null,null,{"$f":"IF($A$633=0,\"x\",\"\")","v":"x"}]
[{"$f":"CONCATENATE(\"Section 4 - Paper Records - \",A633)","v":"Section 4 - Paper Records - 0"},null,null,null,null,null,null,null,null,null,null,null,null,null,null,null,null,null,null,null,"x"]
[{"$f":"CONCATENATE(\"This section is for users who have decided on the paper based calculations approach for \",A633)","v":"This section is for users who have decided on the paper based calculations approach for 0"},null,null,null,null,null,null,null,null,null,null,null,null,null,null,null,null,null,null,null,"x"]
[4.0999999999999996,{"$f":"CONCATENATE(\"Paper records - \",A633)","v":"Paper records - 0"},null,null,null,null,null,null,null,null,null,null,null,null,null,null,null,null,null,null,"x"]
["4.1.1",{"$f":"CONCATENATE(\"What is the average annual volume of paper records created by \",A632,\"? This figure should reflect total records created, not just records which are deposited into the archive.\")","v":"What is the average annual volume of paper records created by ? This figure should reflect total records created, not just records which are deposited into the archive."},null,"4.1.2","How many backup / access copies will you incorporate into the digital archive? (\"0\" means only the master copy will be preserved; \"1\" means the master copy and one copy will be preserved, etc.).",null,null,null,null,null,null,null,null,null,null,null,null,null,null,null,"x"]
[null,null,null,null,null,null,null,null,null,null,null,null,null,null,null,null,null,null,null,null,"x"]
[null,null,null,null,null,null,null,null,null,null,null,null,null,null,null,null,null,null,null,null,"x"]
[null,null,null,null,null,null,null,null,null,null,null,null,null,null,null,null,null,null,null,null,"x"]
[null,null,null,null,null,null,null,null,null,null,null,null,null,null,null,null,null,null,null,null,"x"]
[{"$f":"selected_functions!A16","v":0},null,null,null,null,null,null,null,null,null,null,null,null,null,null,null,null,null,null,null,{"$f":"IF($A$696=0,\"x\",\"\")","v":"x"}]
[{"$f":"CONCATENATE(\"Section 1 - Percentage of records to be preserved - \",A696)","v":"Section 1 - Percentage of records to be preserved - 0"},null,null,null,null,null,null,null,null,null,null,null,null,null,null,null,null,null,null,null,"x"]
[1.1000000000000001,{"$f":"CONCATENATE(\"Percentage of records to be preserved - \",A696)","v":"Percentage of records to be preserved - 0"},null,null,null,null,null,null,null,null,null,null,null,null,null,null,null,null,null,null,"x"]
["1.1.1",{"$f":"CONCATENATE(\"This table provides a guide for the percentage of records aligned with different retention schedules for \",A696,\". You may wish to use this to inform the answer you provide in question 1.1.2\")","v":"This table provides a guide for the percentage of records aligned with different retention schedules for 0. You may wish to use this to inform the answer you provide in question 1.1.2"},null,"1.1.2",{"$f":"CONCATENATE(\"What is the percentage of records you intend to incorporate into the digital archive for \",A696,\"?\")","v":"What is the percentage of records you intend to incorporate into the digital archive for 0?"},null,null,null,null,null,null,null,null,null,null,null,null,null,null,null,"x"]
[null,null,null,null,null,null,null,null,null,null,null,null,null,null,null,null,null,null,null,null,"x"]
[{"$f":"B701&A696","v":"Permanent0"},"Permanent",{"$f":"IFERROR(VLOOKUP(A701,retention_schedules!C:D,2,FALSE),\"\")","v":""},null,null,null,null,null,null,null,null,null,null,null,null,null,null,null,null,null,"x"]
[{"$f":"B702&A696","v":"30 years +0"},"30 years +",{"$f":"IFERROR(VLOOKUP(A702,retention_schedules!C:D,2,FALSE),\"\")","v":""},null,null,null,null,null,null,null,null,null,null,null,null,null,null,null,null,null,"x"]
[{"$f":"B703&A696","v":"20 years +0"},"20 years +",{"$f":"IFERROR(VLOOKUP(A703,retention_schedules!C:D,2,FALSE),\"\")","v":""},null,null,null,null,null,null,null,null,null,null,null,null,null,null,null,null,null,"x"]
[{"$f":"B704&A696","v":"10 years +0"},"10 years +",{"$f":"IFERROR(VLOOKUP(A704,retention_schedules!C:D,2,FALSE),\"\")","v":""},null,null,null,null,null,null,null,null,null,null,null,null,null,null,null,null,null,"x"]
[{"$f":"B705&A696","v":"All records0"},"All records",{"$f":"IFERROR(VLOOKUP(A705,retention_schedules!C:D,2,FALSE),\"\")","v":""},null,null,null,null,null,null,null,null,null,null,null,null,null,null,null,null,null,"x"]
[{"$f":"CONCATENATE(\"Section 2 - Digital Records - \",A696)","v":"Section 2 - Digital Records - 0"},null,null,null,null,null,null,null,null,null,null,null,null,null,null,null,null,null,null,null,"x"]
[{"$f":"CONCATENATE(\"Note - if you do not have information about the digital records system for \",A696,\"  then proceed to section three\")","v":"Note - if you do not have information about the digital records system for 0  then proceed to section three"},null,null,null,null,null,null,null,null,null,null,null,null,null,null,null,null,null,null,null,"x"]
[2.1,{"$f":"CONCATENATE(\"EDRM and Content Management Systems - \",A696)","v":"EDRM and Content Management Systems - 0"},null,null,null,null,null,null,null,null,null,null,null,null,null,null,null,null,null,null,"x"]
["2.1.1","In which year did you migrate onto the current EDRM / Content Management systems?",null,"2.1.2","What is the total volume of digital records held on the EDRM / Content Management systems?",null,null,"2.1.3","How many backup copies are held on your EDRM / Content Management systems? (\"0\" means no backup copies are held, \"1\" means the system contains one backup copy as well as the master copy, etc)",null,null,null,null,null,null,null,null,null,null,null,"x"]
[null,null,null,null,null,null,null,null,null,null,null,null,null,null,null,null,null,null,null,null,"x"]
[null,null,null,null,null,null,null,null,null,null,null,null,null,null,null,null,null,null,null,null,"x"]
[null,null,null,null,null,null,null,null,null,null,null,null,null,null,null,null,null,null,null,null,"x"]
[2.2000000000000002,{"$f":"CONCATENATE(\"Born Digital Records - outside the EDRM / Content Management systems - \",A696)","v":"Born Digital Records - outside the EDRM / Content Management systems - 0"},null,null,null,null,null,null,null,null,null,null,null,null,null,null,null,null,null,null,"x"]
["2.2.1","What is the volume of  digital records held outwith the EDRM/ Content Management systems (e.g. on shared drives)? If you are not sure of the exact figure then please provide an estimate.",null,null,null,null,null,"2.2.2","How many backup copies are held on digital systems that sit outside the EDRM / Content Management systems? (\"0\" means no backup copies are held, \"1\" means that one backup copy as well as the master copy is held, etc.). If you are not sure of an exact figure then provide an estimate",null,null,null,null,null,null,null,null,null,null,null,"x"]
[null,null,null,null,null,null,null,null,null,null,null,null,null,null,null,null,null,null,null,null,"x"]
[null,null,null,null,null,null,null,null,null,null,null,null,null,null,null,null,null,null,null,null,"x"]
[null,null,null,null,null,null,null,null,null,null,null,null,null,null,null,null,null,null,null,null,"x"]
[2.2999999999999998,{"$f":"CONCATENATE(\"Backup copies - \",A696)","v":"Backup copies - 0"},null,null,null,null,null,null,null,null,null,null,null,null,null,null,null,null,null,null,"x"]
["2.3.1","How many backup / access copies will you incorporate into the digital archive? (\"0\" means only the master copy will be preserved; \"1\" means the master copy and one copy will be preserved, etc.).",null,"2.3.2","When you migrate files in to the archive, will the backup copies of any of the records recorded in sections 2.1 and 2.2 be of a lower resolution / different file type to the master copy? (If you do not know the answer to this, select \"no\")",null,null,null,null,null,null,null,null,null,null,null,null,null,null,null,"x"]
[null,null,null,null,null,null,null,null,null,null,null,null,null,null,null,null,null,null,null,null,"x"]
[null,null,null,null,null,null,{"$f":"IF(E721=input_lists!$K$11,\"In the below table, provide details of the files you plan to archive with different backup resolutions\",\"\")","v":""},null,null,null,null,null,null,null,null,null,null,null,null,null,"x"]
[null,null,null,null,null,null,null,null,null,null,null,null,null,null,null,null,null,null,null,null,"x"]
[null,null,null,null,"Master Copy file type","Master Copy resolution","Master Copy volume (do not include duplicates)","units","Backup Copy file type","Backup Copy resolution","Are these master copies held on the EDRM/Content Management system or off the EDRM/Content Management system?",null,null,null,null,null,null,null,null,null,"x"]
[null,null,null,null,null,null,null,null,null,null,null,null,null,null,null,null,null,null,null,null,"x"]
[null,null,null,null,null,null,null,null,null,null,null,null,null,null,null,null,null,null,null,null,"x"]
[null,null,null,null,null,null,null,null,null,null,null,null,null,null,null,null,null,null,null,null,"x"]
[null,null,null,null,null,null,null,null,null,null,null,null,null,null,null,null,null,null,null,null,"x"]
[null,null,null,null,null,null,null,null,null,null,null,null,null,null,null,null,null,null,null,null,{"$f":"IF($A$696=0,\"x\",\"\")","v":"x"}]
[null,null,null,null,null,null,null,null,null,null,null,null,null,null,null,null,null,null,null,null,"x"]
[null,null,null,null,null,null,null,null,null,null,null,null,null,null,null,null,null,null,null,null,"x"]
[null,null,null,null,null,null,null,null,null,null,null,null,null,null,null,null,null,null,null,null,"x"]
[null,null,null,null,null,null,null,null,null,null,null,null,null,null,null,null,null,null,null,null,"x"]
[null,null,null,null,null,null,null,null,null,null,null,null,null,null,null,null,null,null,null,null,"x"]
[{"$f":"CONCATENATE(\"Section 3 - Planned Digitisation - \",A696)","v":"Section 3 - Planned Digitisation - 0"},null,null,null,null,null,null,null,null,null,null,null,null,null,null,null,null,null,null,null,"x"]
["Note: any records that are already digitised should be recorded in Section 2 - Digital Records (above)",null,null,null,null,null,null,null,null,null,null,null,null,null,null,null,null,null,null,null,"x"]
[3.1,{"$f":"CONCATENATE(\"Records planned for digitisation - provide details for each file type you plan on digitising in relation to - \",A696)","v":"Records planned for digitisation - provide details for each file type you plan on digitising in relation to - 0"},null,null,null,null,null,null,null,null,null,null,null,null,null,null,null,null,null,null,"x"]
["3.1.1",{"$f":"CONCATENATE(\"Are there any large digitisation projects planned within \",A696,\" in the near future? (If you do not know the answer to this question, select no.)\")","v":"Are there any large digitisation projects planned within 0 in the near future? (If you do not know the answer to this question, select no.)"},null,null,null,null,null,null,null,null,null,null,null,null,null,null,null,null,null,null,"x"]
[null,null,null,null,null,null,null,null,null,null,null,null,null,null,null,null,null,null,null,null,"x"]
[null,null,null,{"$f":"IF(B739=input_lists!$K$11,\"In the below table, provide details of your planned digitisation project\",\"\")","v":""},null,null,null,null,null,null,null,null,null,null,null,null,null,null,null,null,"x"]
[null,null,null,null,null,null,null,null,null,null,null,null,null,null,null,null,null,null,null,null,"x"]
["3.2.1","File type you plan to digitise to (master copy):","3.2.2","Volume of files you plan to digitise:",null,"3.2.3","File type of backup copies:","3.2.4","Resolution of Master Copy:","3.2.5","Resolution of Backup Copies:","3.2.6","Will you compress your files?","3.2.7","Colour scale used:",null,null,null,null,null,"x"]
[null,null,null,null,null,null,null,null,null,null,null,null,null,null,null,null,null,null,null,null,"x"]
[null,null,null,null,null,null,null,null,null,null,null,null,null,null,null,null,null,null,null,null,"x"]
[null,null,null,null,null,null,null,null,null,null,null,null,null,null,null,null,null,null,null,null,"x"]
[null,null,null,null,null,null,null,null,null,null,null,null,null,null,null,null,null,null,null,null,"x"]
[null,null,null,null,null,null,null,null,null,null,null,null,null,null,null,null,null,null,null,null,"x"]
[null,null,null,null,null,null,null,null,null,null,null,null,null,null,null,null,null,null,null,null,"x"]
[null,null,null,null,null,null,null,null,null,null,null,null,null,null,null,null,null,null,null,null,"x"]
[null,null,null,null,null,null,null,null,null,null,null,null,null,null,null,null,null,null,null,null,"x"]
[null,null,null,null,null,null,null,null,null,null,null,null,null,null,null,null,null,null,null,null,{"$f":"IF($A$696=0,\"x\",\"\")","v":"x"}]
[{"$f":"CONCATENATE(\"Section 4 - Paper Records - \",A696)","v":"Section 4 - Paper Records - 0"},null,null,null,null,null,null,null,null,null,null,null,null,null,null,null,null,null,null,null,"x"]
[{"$f":"CONCATENATE(\"This section is for users who have decided on the paper based calculations approach for \",A696)","v":"This section is for users who have decided on the paper based calculations approach for 0"},null,null,null,null,null,null,null,null,null,null,null,null,null,null,null,null,null,null,null,"x"]
[4.0999999999999996,{"$f":"CONCATENATE(\"Paper records - \",A696)","v":"Paper records - 0"},null,null,null,null,null,null,null,null,null,null,null,null,null,null,null,null,null,null,"x"]
["4.1.1",{"$f":"CONCATENATE(\"What is the average annual volume of paper records created by \",A695,\"? This figure should reflect total records created, not just records which are deposited into the archive.\")","v":"What is the average annual volume of paper records created by ? This figure should reflect total records created, not just records which are deposited into the archive."},null,"4.1.2","How many backup / access copies will you incorporate into the digital archive? (\"0\" means only the master copy will be preserved; \"1\" means the master copy and one copy will be preserved, etc.).",null,null,null,null,null,null,null,null,null,null,null,null,null,null,null,"x"]
[null,null,null,null,null,null,null,null,null,null,null,null,null,null,null,null,null,null,null,null,"x"]
[null,null,null,null,null,null,null,null,null,null,null,null,null,null,null,null,null,null,null,null,"x"]
[null,null,null,null,null,null,null,null,null,null,null,null,null,null,null,null,null,null,null,null,"x"]
[null,null,null,null,null,null,null,null,null,null,null,null,null,null,null,null,null,null,null,null,"x"]
[{"$f":"selected_functions!A17","v":0},null,null,null,null,null,null,null,null,null,null,null,null,null,null,null,null,null,null,null,{"$f":"IF($A$759=0,\"x\",\"\")","v":"x"}]
[{"$f":"CONCATENATE(\"Section 1 - Percentage of records to be preserved - \",A759)","v":"Section 1 - Percentage of records to be preserved - 0"},null,null,null,null,null,null,null,null,null,null,null,null,null,null,null,null,null,null,null,"x"]
[1.1000000000000001,{"$f":"CONCATENATE(\"Percentage of records to be preserved - \",A759)","v":"Percentage of records to be preserved - 0"},null,null,null,null,null,null,null,null,null,null,null,null,null,null,null,null,null,null,"x"]
["1.1.1",{"$f":"CONCATENATE(\"This table provides a guide for the percentage of records aligned with different retention schedules for \",A759,\". You may wish to use this to inform the answer you provide in question 1.1.2\")","v":"This table provides a guide for the percentage of records aligned with different retention schedules for 0. You may wish to use this to inform the answer you provide in question 1.1.2"},null,"1.1.2",{"$f":"CONCATENATE(\"What is the percentage of records you intend to incorporate into the digital archive for \",A759,\"?\")","v":"What is the percentage of records you intend to incorporate into the digital archive for 0?"},null,null,null,null,null,null,null,null,null,null,null,null,null,null,null,"x"]
[null,null,null,null,null,null,null,null,null,null,null,null,null,null,null,null,null,null,null,null,"x"]
[{"$f":"B764&A759","v":"Permanent0"},"Permanent",{"$f":"IFERROR(VLOOKUP(A764,retention_schedules!C:D,2,FALSE),\"\")","v":""},null,null,null,null,null,null,null,null,null,null,null,null,null,null,null,null,null,"x"]
[{"$f":"B765&A759","v":"30 years +0"},"30 years +",{"$f":"IFERROR(VLOOKUP(A765,retention_schedules!C:D,2,FALSE),\"\")","v":""},null,null,null,null,null,null,null,null,null,null,null,null,null,null,null,null,null,"x"]
[{"$f":"B766&A759","v":"20 years +0"},"20 years +",{"$f":"IFERROR(VLOOKUP(A766,retention_schedules!C:D,2,FALSE),\"\")","v":""},null,null,null,null,null,null,null,null,null,null,null,null,null,null,null,null,null,"x"]
[{"$f":"B767&A759","v":"10 years +0"},"10 years +",{"$f":"IFERROR(VLOOKUP(A767,retention_schedules!C:D,2,FALSE),\"\")","v":""},null,null,null,null,null,null,null,null,null,null,null,null,null,null,null,null,null,"x"]
[{"$f":"B768&A759","v":"All records0"},"All records",{"$f":"IFERROR(VLOOKUP(A768,retention_schedules!C:D,2,FALSE),\"\")","v":""},null,null,null,null,null,null,null,null,null,null,null,null,null,null,null,null,null,"x"]
[{"$f":"CONCATENATE(\"Section 2 - Digital Records - \",A759)","v":"Section 2 - Digital Records - 0"},null,null,null,null,null,null,null,null,null,null,null,null,null,null,null,null,null,null,null,"x"]
[{"$f":"CONCATENATE(\"Note - if you do not have information about the digital records system for \",A759,\"  then proceed to section three\")","v":"Note - if you do not have information about the digital records system for 0  then proceed to section three"},null,null,null,null,null,null,null,null,null,null,null,null,null,null,null,null,null,null,null,"x"]
[2.1,{"$f":"CONCATENATE(\"EDRM and Content Management Systems - \",A759)","v":"EDRM and Content Management Systems - 0"},null,null,null,null,null,null,null,null,null,null,null,null,null,null,null,null,null,null,"x"]
["2.1.1","In which year did you migrate onto the current EDRM / Content Management systems?",null,"2.1.2","What is the total volume of digital records held on the EDRM / Content Management systems?",null,null,"2.1.3","How many backup copies are held on your EDRM / Content Management systems? (\"0\" means no backup copies are held, \"1\" means the system contains one backup copy as well as the master copy, etc)",null,null,null,null,null,null,null,null,null,null,null,"x"]
[null,null,null,null,null,null,null,null,null,null,null,null,null,null,null,null,null,null,null,null,"x"]
[null,null,null,null,null,null,null,null,null,null,null,null,null,null,null,null,null,null,null,null,"x"]
[null,null,null,null,null,null,null,null,null,null,null,null,null,null,null,null,null,null,null,null,"x"]
[2.2000000000000002,{"$f":"CONCATENATE(\"Born Digital Records - outside the EDRM / Content Management systems - \",A759)","v":"Born Digital Records - outside the EDRM / Content Management systems - 0"},null,null,null,null,null,null,null,null,null,null,null,null,null,null,null,null,null,null,"x"]
["2.2.1","What is the volume of  digital records held outwith the EDRM/ Content Management systems (e.g. on shared drives)? If you are not sure of the exact figure then please provide an estimate.",null,null,null,null,null,"2.2.2","How many backup copies are held on digital systems that sit outside the EDRM / Content Management systems? (\"0\" means no backup copies are held, \"1\" means that one backup copy as well as the master copy is held, etc.). If you are not sure of an exact figure then provide an estimate",null,null,null,null,null,null,null,null,null,null,null,"x"]
[null,null,null,null,null,null,null,null,null,null,null,null,null,null,null,null,null,null,null,null,"x"]
[null,null,null,null,null,null,null,null,null,null,null,null,null,null,null,null,null,null,null,null,"x"]
[null,null,null,null,null,null,null,null,null,null,null,null,null,null,null,null,null,null,null,null,"x"]
[2.2999999999999998,{"$f":"CONCATENATE(\"Backup copies - \",A759)","v":"Backup copies - 0"},null,null,null,null,null,null,null,null,null,null,null,null,null,null,null,null,null,null,"x"]
["2.3.1","How many backup / access copies will you incorporate into the digital archive? (\"0\" means only the master copy will be preserved; \"1\" means the master copy and one copy will be preserved, etc.).",null,"2.3.2","When you migrate files in to the archive, will the backup copies of any of the records recorded in sections 2.1 and 2.2 be of a lower resolution / different file type to the master copy? (If you do not know the answer to this, select \"no\")",null,null,null,null,null,null,null,null,null,null,null,null,null,null,null,"x"]
[null,null,null,null,null,null,null,null,null,null,null,null,null,null,null,null,null,null,null,null,"x"]
[null,null,null,null,null,null,{"$f":"IF(E784=input_lists!$K$11,\"In the below table, provide details of the files you plan to archive with different backup resolutions\",\"\")","v":""},null,null,null,null,null,null,null,null,null,null,null,null,null,"x"]
[null,null,null,null,null,null,null,null,null,null,null,null,null,null,null,null,null,null,null,null,"x"]
[null,null,null,null,"Master Copy file type","Master Copy resolution","Master Copy volume (do not include duplicates)","units","Backup Copy file type","Backup Copy resolution","Are these master copies held on the EDRM/Content Management system or off the EDRM/Content Management system?",null,null,null,null,null,null,null,null,null,"x"]
[null,null,null,null,null,null,null,null,null,null,null,null,null,null,null,null,null,null,null,null,"x"]
[null,null,null,null,null,null,null,null,null,null,null,null,null,null,null,null,null,null,null,null,"x"]
[null,null,null,null,null,null,null,null,null,null,null,null,null,null,null,null,null,null,null,null,"x"]
[null,null,null,null,null,null,null,null,null,null,null,null,null,null,null,null,null,null,null,null,"x"]
[null,null,null,null,null,null,null,null,null,null,null,null,null,null,null,null,null,null,null,null,{"$f":"IF($A$759=0,\"x\",\"\")","v":"x"}]
[null,null,null,null,null,null,null,null,null,null,null,null,null,null,null,null,null,null,null,null,"x"]
[null,null,null,null,null,null,null,null,null,null,null,null,null,null,null,null,null,null,null,null,"x"]
[null,null,null,null,null,null,null,null,null,null,null,null,null,null,null,null,null,null,null,null,"x"]
[null,null,null,null,null,null,null,null,null,null,null,null,null,null,null,null,null,null,null,null,"x"]
[null,null,null,null,null,null,null,null,null,null,null,null,null,null,null,null,null,null,null,null,"x"]
[{"$f":"CONCATENATE(\"Section 3 - Planned Digitisation - \",A759)","v":"Section 3 - Planned Digitisation - 0"},null,null,null,null,null,null,null,null,null,null,null,null,null,null,null,null,null,null,null,"x"]
["Note: any records that are already digitised should be recorded in Section 2 - Digital Records (above)",null,null,null,null,null,null,null,null,null,null,null,null,null,null,null,null,null,null,null,"x"]
[3.1,{"$f":"CONCATENATE(\"Records planned for digitisation - provide details for each file type you plan on digitising in relation to - \",A759)","v":"Records planned for digitisation - provide details for each file type you plan on digitising in relation to - 0"},null,null,null,null,null,null,null,null,null,null,null,null,null,null,null,null,null,null,"x"]
["3.1.1",{"$f":"CONCATENATE(\"Are there any large digitisation projects planned within \",A759,\" in the near future? (If you do not know the answer to this question, select no.)\")","v":"Are there any large digitisation projects planned within 0 in the near future? (If you do not know the answer to this question, select no.)"},null,null,null,null,null,null,null,null,null,null,null,null,null,null,null,null,null,null,"x"]
[null,null,null,null,null,null,null,null,null,null,null,null,null,null,null,null,null,null,null,null,"x"]
[null,null,null,{"$f":"IF(B802=input_lists!$K$11,\"In the below table, provide details of your planned digitisation project\",\"\")","v":""},null,null,null,null,null,null,null,null,null,null,null,null,null,null,null,null,"x"]
[null,null,null,null,null,null,null,null,null,null,null,null,null,null,null,null,null,null,null,null,"x"]
["3.2.1","File type you plan to digitise to (master copy):","3.2.2","Volume of files you plan to digitise:",null,"3.2.3","File type of backup copies:","3.2.4","Resolution of Master Copy:","3.2.5","Resolution of Backup Copies:","3.2.6","Will you compress your files?","3.2.7","Colour scale used:",null,null,null,null,null,"x"]
[null,null,null,null,null,null,null,null,null,null,null,null,null,null,null,null,null,null,null,null,"x"]
[null,null,null,null,null,null,null,null,null,null,null,null,null,null,null,null,null,null,null,null,"x"]
[null,null,null,null,null,null,null,null,null,null,null,null,null,null,null,null,null,null,null,null,"x"]
[null,null,null,null,null,null,null,null,null,null,null,null,null,null,null,null,null,null,null,null,"x"]
[null,null,null,null,null,null,null,null,null,null,null,null,null,null,null,null,null,null,null,null,"x"]
[null,null,null,null,null,null,null,null,null,null,null,null,null,null,null,null,null,null,null,null,"x"]
[null,null,null,null,null,null,null,null,null,null,null,null,null,null,null,null,null,null,null,null,"x"]
[null,null,null,null,null,null,null,null,null,null,null,null,null,null,null,null,null,null,null,null,"x"]
[null,null,null,null,null,null,null,null,null,null,null,null,null,null,null,null,null,null,null,null,{"$f":"IF($A$759=0,\"x\",\"\")","v":"x"}]
[{"$f":"CONCATENATE(\"Section 4 - Paper Records - \",A759)","v":"Section 4 - Paper Records - 0"},null,null,null,null,null,null,null,null,null,null,null,null,null,null,null,null,null,null,null,"x"]
[{"$f":"CONCATENATE(\"This section is for users who have decided on the paper based calculations approach for \",A759)","v":"This section is for users who have decided on the paper based calculations approach for 0"},null,null,null,null,null,null,null,null,null,null,null,null,null,null,null,null,null,null,null,"x"]
[4.0999999999999996,{"$f":"CONCATENATE(\"Paper records - \",A759)","v":"Paper records - 0"},null,null,null,null,null,null,null,null,null,null,null,null,null,null,null,null,null,null,"x"]
["4.1.1",{"$f":"CONCATENATE(\"What is the average annual volume of paper records created by \",A758,\"? This figure should reflect total records created, not just records which are deposited into the archive.\")","v":"What is the average annual volume of paper records created by ? This figure should reflect total records created, not just records which are deposited into the archive."},null,"4.1.2","How many backup / access copies will you incorporate into the digital archive? (\"0\" means only the master copy will be preserved; \"1\" means the master copy and one copy will be preserved, etc.).",null,null,null,null,null,null,null,null,null,null,null,null,null,null,null,"x"]
[null,null,null,null,null,null,null,null,null,null,null,null,null,null,null,null,null,null,null,null,"x"]
[null,null,null,null,null,null,null,null,null,null,null,null,null,null,null,null,null,null,null,null,"x"]
[null,null,null,null,null,null,null,null,null,null,null,null,null,null,null,null,null,null,null,null,"x"]
[null,null,null,null,null,null,null,null,null,null,null,null,null,null,null,null,null,null,null,null,"x"]
[{"$f":"selected_functions!A18","v":0},null,null,null,null,null,null,null,null,null,null,null,null,null,null,null,null,null,null,null,{"$f":"IF($A$822=0,\"x\",\"\")","v":"x"}]
[{"$f":"CONCATENATE(\"Section 1 - Percentage of records to be preserved - \",A822)","v":"Section 1 - Percentage of records to be preserved - 0"},null,null,null,null,null,null,null,null,null,null,null,null,null,null,null,null,null,null,null,"x"]
[1.1000000000000001,{"$f":"CONCATENATE(\"Percentage of records to be preserved - \",A822)","v":"Percentage of records to be preserved - 0"},null,null,null,null,null,null,null,null,null,null,null,null,null,null,null,null,null,null,"x"]
["1.1.1",{"$f":"CONCATENATE(\"This table provides a guide for the percentage of records aligned with different retention schedules for \",A822,\". You may wish to use this to inform the answer you provide in question 1.1.2\")","v":"This table provides a guide for the percentage of records aligned with different retention schedules for 0. You may wish to use this to inform the answer you provide in question 1.1.2"},null,"1.1.2",{"$f":"CONCATENATE(\"What is the percentage of records you intend to incorporate into the digital archive for \",A822,\"?\")","v":"What is the percentage of records you intend to incorporate into the digital archive for 0?"},null,null,null,null,null,null,null,null,null,null,null,null,null,null,null,"x"]
[null,null,null,null,null,null,null,null,null,null,null,null,null,null,null,null,null,null,null,null,"x"]
[{"$f":"B827&A822","v":"Permanent0"},"Permanent",{"$f":"IFERROR(VLOOKUP(A827,retention_schedules!C:D,2,FALSE),\"\")","v":""},null,null,null,null,null,null,null,null,null,null,null,null,null,null,null,null,null,"x"]
[{"$f":"B828&A822","v":"30 years +0"},"30 years +",{"$f":"IFERROR(VLOOKUP(A828,retention_schedules!C:D,2,FALSE),\"\")","v":""},null,null,null,null,null,null,null,null,null,null,null,null,null,null,null,null,null,"x"]
[{"$f":"B829&A822","v":"20 years +0"},"20 years +",{"$f":"IFERROR(VLOOKUP(A829,retention_schedules!C:D,2,FALSE),\"\")","v":""},null,null,null,null,null,null,null,null,null,null,null,null,null,null,null,null,null,"x"]
[{"$f":"B830&A822","v":"10 years +0"},"10 years +",{"$f":"IFERROR(VLOOKUP(A830,retention_schedules!C:D,2,FALSE),\"\")","v":""},null,null,null,null,null,null,null,null,null,null,null,null,null,null,null,null,null,"x"]
[{"$f":"B831&A822","v":"All records0"},"All records",{"$f":"IFERROR(VLOOKUP(A831,retention_schedules!C:D,2,FALSE),\"\")","v":""},null,null,null,null,null,null,null,null,null,null,null,null,null,null,null,null,null,"x"]
[{"$f":"CONCATENATE(\"Section 2 - Digital Records - \",A822)","v":"Section 2 - Digital Records - 0"},null,null,null,null,null,null,null,null,null,null,null,null,null,null,null,null,null,null,null,"x"]
[{"$f":"CONCATENATE(\"Note - if you do not have information about the digital records system for \",A822,\"  then proceed to section three\")","v":"Note - if you do not have information about the digital records system for 0  then proceed to section three"},null,null,null,null,null,null,null,null,null,null,null,null,null,null,null,null,null,null,null,"x"]
[2.1,{"$f":"CONCATENATE(\"EDRM and Content Management Systems - \",A822)","v":"EDRM and Content Management Systems - 0"},null,null,null,null,null,null,null,null,null,null,null,null,null,null,null,null,null,null,"x"]
["2.1.1","In which year did you migrate onto the current EDRM / Content Management systems?",null,"2.1.2","What is the total volume of digital records held on the EDRM / Content Management systems?",null,null,"2.1.3","How many backup copies are held on your EDRM / Content Management systems? (\"0\" means no backup copies are held, \"1\" means the system contains one backup copy as well as the master copy, etc)",null,null,null,null,null,null,null,null,null,null,null,"x"]
[null,null,null,null,null,null,null,null,null,null,null,null,null,null,null,null,null,null,null,null,"x"]
[null,null,null,null,null,null,null,null,null,null,null,null,null,null,null,null,null,null,null,null,"x"]
[null,null,null,null,null,null,null,null,null,null,null,null,null,null,null,null,null,null,null,null,"x"]
[2.2000000000000002,{"$f":"CONCATENATE(\"Born Digital Records - outside the EDRM / Content Management systems - \",A822)","v":"Born Digital Records - outside the EDRM / Content Management systems - 0"},null,null,null,null,null,null,null,null,null,null,null,null,null,null,null,null,null,null,"x"]
["2.2.1","What is the volume of  digital records held outwith the EDRM/ Content Management systems (e.g. on shared drives)? If you are not sure of the exact figure then please provide an estimate.",null,null,null,null,null,"2.2.2","How many backup copies are held on digital systems that sit outside the EDRM / Content Management systems? (\"0\" means no backup copies are held, \"1\" means that one backup copy as well as the master copy is held, etc.). If you are not sure of an exact figure then provide an estimate",null,null,null,null,null,null,null,null,null,null,null,"x"]
[null,null,null,null,null,null,null,null,null,null,null,null,null,null,null,null,null,null,null,null,"x"]
[null,null,null,null,null,null,null,null,null,null,null,null,null,null,null,null,null,null,null,null,"x"]
[null,null,null,null,null,null,null,null,null,null,null,null,null,null,null,null,null,null,null,null,"x"]
[2.2999999999999998,{"$f":"CONCATENATE(\"Backup copies - \",A822)","v":"Backup copies - 0"},null,null,null,null,null,null,null,null,null,null,null,null,null,null,null,null,null,null,"x"]
["2.3.1","How many backup / access copies will you incorporate into the digital archive? (\"0\" means only the master copy will be preserved; \"1\" means the master copy and one copy will be preserved, etc.).",null,"2.3.2","When you migrate files in to the archive, will the backup copies of any of the records recorded in sections 2.1 and 2.2 be of a lower resolution / different file type to the master copy? (If you do not know the answer to this, select \"no\")",null,null,null,null,null,null,null,null,null,null,null,null,null,null,null,"x"]
[null,null,null,null,null,null,null,null,null,null,null,null,null,null,null,null,null,null,null,null,"x"]
[null,null,null,null,null,null,{"$f":"IF(E847=input_lists!$K$11,\"In the below table, provide details of the files you plan to archive with different backup resolutions\",\"\")","v":""},null,null,null,null,null,null,null,null,null,null,null,null,null,"x"]
[null,null,null,null,null,null,null,null,null,null,null,null,null,null,null,null,null,null,null,null,"x"]
[null,null,null,null,"Master Copy file type","Master Copy resolution","Master Copy volume (do not include duplicates)","units","Backup Copy file type","Backup Copy resolution","Are these master copies held on the EDRM/Content Management system or off the EDRM/Content Management system?",null,null,null,null,null,null,null,null,null,"x"]
[null,null,null,null,null,null,null,null,null,null,null,null,null,null,null,null,null,null,null,null,"x"]
[null,null,null,null,null,null,null,null,null,null,null,null,null,null,null,null,null,null,null,null,"x"]
[null,null,null,null,null,null,null,null,null,null,null,null,null,null,null,null,null,null,null,null,"x"]
[null,null,null,null,null,null,null,null,null,null,null,null,null,null,null,null,null,null,null,null,"x"]
[null,null,null,null,null,null,null,null,null,null,null,null,null,null,null,null,null,null,null,null,{"$f":"IF($A$822=0,\"x\",\"\")","v":"x"}]
[null,null,null,null,null,null,null,null,null,null,null,null,null,null,null,null,null,null,null,null,"x"]
[null,null,null,null,null,null,null,null,null,null,null,null,null,null,null,null,null,null,null,null,"x"]
[null,null,null,null,null,null,null,null,null,null,null,null,null,null,null,null,null,null,null,null,"x"]
[null,null,null,null,null,null,null,null,null,null,null,null,null,null,null,null,null,null,null,null,"x"]
[null,null,null,null,null,null,null,null,null,null,null,null,null,null,null,null,null,null,null,null,"x"]
[{"$f":"CONCATENATE(\"Section 3 - Planned Digitisation - \",A822)","v":"Section 3 - Planned Digitisation - 0"},null,null,null,null,null,null,null,null,null,null,null,null,null,null,null,null,null,null,null,"x"]
["Note: any records that are already digitised should be recorded in Section 2 - Digital Records (above)",null,null,null,null,null,null,null,null,null,null,null,null,null,null,null,null,null,null,null,"x"]
[3.1,{"$f":"CONCATENATE(\"Records planned for digitisation - provide details for each file type you plan on digitising in relation to - \",A822)","v":"Records planned for digitisation - provide details for each file type you plan on digitising in relation to - 0"},null,null,null,null,null,null,null,null,null,null,null,null,null,null,null,null,null,null,"x"]
["3.1.1",{"$f":"CONCATENATE(\"Are there any large digitisation projects planned within \",A822,\" in the near future? (If you do not know the answer to this question, select no.)\")","v":"Are there any large digitisation projects planned within 0 in the near future? (If you do not know the answer to this question, select no.)"},null,null,null,null,null,null,null,null,null,null,null,null,null,null,null,null,null,null,"x"]
[null,null,null,null,null,null,null,null,null,null,null,null,null,null,null,null,null,null,null,null,"x"]
[null,null,null,{"$f":"IF(B865=input_lists!$K$11,\"In the below table, provide details of your planned digitisation project\",\"\")","v":""},null,null,null,null,null,null,null,null,null,null,null,null,null,null,null,null,"x"]
[null,null,null,null,null,null,null,null,null,null,null,null,null,null,null,null,null,null,null,null,"x"]
["3.2.1","File type you plan to digitise to (master copy):","3.2.2","Volume of files you plan to digitise:",null,"3.2.3","File type of backup copies:","3.2.4","Resolution of Master Copy:","3.2.5","Resolution of Backup Copies:","3.2.6","Will you compress your files?","3.2.7","Colour scale used:",null,null,null,null,null,"x"]
[null,null,null,null,null,null,null,null,null,null,null,null,null,null,null,null,null,null,null,null,"x"]
[null,null,null,null,null,null,null,null,null,null,null,null,null,null,null,null,null,null,null,null,"x"]
[null,null,null,null,null,null,null,null,null,null,null,null,null,null,null,null,null,null,null,null,"x"]
[null,null,null,null,null,null,null,null,null,null,null,null,null,null,null,null,null,null,null,null,"x"]
[null,null,null,null,null,null,null,null,null,null,null,null,null,null,null,null,null,null,null,null,"x"]
[null,null,null,null,null,null,null,null,null,null,null,null,null,null,null,null,null,null,null,null,"x"]
[null,null,null,null,null,null,null,null,null,null,null,null,null,null,null,null,null,null,null,null,"x"]
[null,null,null,null,null,null,null,null,null,null,null,null,null,null,null,null,null,null,null,null,"x"]
[null,null,null,null,null,null,null,null,null,null,null,null,null,null,null,null,null,null,null,null,{"$f":"IF($A$822=0,\"x\",\"\")","v":"x"}]
[{"$f":"CONCATENATE(\"Section 4 - Paper Records - \",A822)","v":"Section 4 - Paper Records - 0"},null,null,null,null,null,null,null,null,null,null,null,null,null,null,null,null,null,null,null,"x"]
[{"$f":"CONCATENATE(\"This section is for users who have decided on the paper based calculations approach for \",A822)","v":"This section is for users who have decided on the paper based calculations approach for 0"},null,null,null,null,null,null,null,null,null,null,null,null,null,null,null,null,null,null,null,"x"]
[4.0999999999999996,{"$f":"CONCATENATE(\"Paper records - \",A822)","v":"Paper records - 0"},null,null,null,null,null,null,null,null,null,null,null,null,null,null,null,null,null,null,"x"]
["4.1.1",{"$f":"CONCATENATE(\"What is the average annual volume of paper records created by \",A821,\"? This figure should reflect total records created, not just records which are deposited into the archive.\")","v":"What is the average annual volume of paper records created by ? This figure should reflect total records created, not just records which are deposited into the archive."},null,"4.1.2","How many backup / access copies will you incorporate into the digital archive? (\"0\" means only the master copy will be preserved; \"1\" means the master copy and one copy will be preserved, etc.).",null,null,null,null,null,null,null,null,null,null,null,null,null,null,null,"x"]
[null,null,null,null,null,null,null,null,null,null,null,null,null,null,null,null,null,null,null,null,"x"]
[null,null,null,null,null,null,null,null,null,null,null,null,null,null,null,null,null,null,null,null,"x"]
[null,null,null,null,null,null,null,null,null,null,null,null,null,null,null,null,null,null,null,null,"x"]
[null,null,null,null,null,null,null,null,null,null,null,null,null,null,null,null,null,null,null,null,"x"]
[{"$f":"selected_functions!A19","v":0},null,null,null,null,null,null,null,null,null,null,null,null,null,null,null,null,null,null,null,{"$f":"IF($A$885=0,\"x\",\"\")","v":"x"}]
[{"$f":"CONCATENATE(\"Section 1 - Percentage of records to be preserved - \",A885)","v":"Section 1 - Percentage of records to be preserved - 0"},null,null,null,null,null,null,null,null,null,null,null,null,null,null,null,null,null,null,null,"x"]
[1.1000000000000001,{"$f":"CONCATENATE(\"Percentage of records to be preserved - \",A885)","v":"Percentage of records to be preserved - 0"},null,null,null,null,null,null,null,null,null,null,null,null,null,null,null,null,null,null,"x"]
["1.1.1",{"$f":"CONCATENATE(\"This table provides a guide for the percentage of records aligned with different retention schedules for \",A885,\". You may wish to use this to inform the answer you provide in question 1.1.2\")","v":"This table provides a guide for the percentage of records aligned with different retention schedules for 0. You may wish to use this to inform the answer you provide in question 1.1.2"},null,"1.1.2",{"$f":"CONCATENATE(\"What is the percentage of records you intend to incorporate into the digital archive for \",A885,\"?\")","v":"What is the percentage of records you intend to incorporate into the digital archive for 0?"},null,null,null,null,null,null,null,null,null,null,null,null,null,null,null,"x"]
[null,null,null,null,null,null,null,null,null,null,null,null,null,null,null,null,null,null,null,null,"x"]
[{"$f":"B890&A885","v":"Permanent0"},"Permanent",{"$f":"IFERROR(VLOOKUP(A890,retention_schedules!C:D,2,FALSE),\"\")","v":""},null,null,null,null,null,null,null,null,null,null,null,null,null,null,null,null,null,"x"]
[{"$f":"B891&A885","v":"30 years +0"},"30 years +",{"$f":"IFERROR(VLOOKUP(A891,retention_schedules!C:D,2,FALSE),\"\")","v":""},null,null,null,null,null,null,null,null,null,null,null,null,null,null,null,null,null,"x"]
[{"$f":"B892&A885","v":"20 years +0"},"20 years +",{"$f":"IFERROR(VLOOKUP(A892,retention_schedules!C:D,2,FALSE),\"\")","v":""},null,null,null,null,null,null,null,null,null,null,null,null,null,null,null,null,null,"x"]
[{"$f":"B893&A885","v":"10 years +0"},"10 years +",{"$f":"IFERROR(VLOOKUP(A893,retention_schedules!C:D,2,FALSE),\"\")","v":""},null,null,null,null,null,null,null,null,null,null,null,null,null,null,null,null,null,"x"]
[{"$f":"B894&A885","v":"All records0"},"All records",{"$f":"IFERROR(VLOOKUP(A894,retention_schedules!C:D,2,FALSE),\"\")","v":""},null,null,null,null,null,null,null,null,null,null,null,null,null,null,null,null,null,"x"]
[{"$f":"CONCATENATE(\"Section 2 - Digital Records - \",A885)","v":"Section 2 - Digital Records - 0"},null,null,null,null,null,null,null,null,null,null,null,null,null,null,null,null,null,null,null,"x"]
[{"$f":"CONCATENATE(\"Note - if you do not have information about the digital records system for \",A885,\"  then proceed to section three\")","v":"Note - if you do not have information about the digital records system for 0  then proceed to section three"},null,null,null,null,null,null,null,null,null,null,null,null,null,null,null,null,null,null,null,"x"]
[2.1,{"$f":"CONCATENATE(\"EDRM and Content Management Systems - \",A885)","v":"EDRM and Content Management Systems - 0"},null,null,null,null,null,null,null,null,null,null,null,null,null,null,null,null,null,null,"x"]
["2.1.1","In which year did you migrate onto the current EDRM / Content Management systems?",null,"2.1.2","What is the total volume of digital records held on the EDRM / Content Management systems?",null,null,"2.1.3","How many backup copies are held on your EDRM / Content Management systems? (\"0\" means no backup copies are held, \"1\" means the system contains one backup copy as well as the master copy, etc)",null,null,null,null,null,null,null,null,null,null,null,"x"]
[null,null,null,null,null,null,null,null,null,null,null,null,null,null,null,null,null,null,null,null,"x"]
[null,null,null,null,null,null,null,null,null,null,null,null,null,null,null,null,null,null,null,null,"x"]
[null,null,null,null,null,null,null,null,null,null,null,null,null,null,null,null,null,null,null,null,"x"]
[2.2000000000000002,{"$f":"CONCATENATE(\"Born Digital Records - outside the EDRM / Content Management systems - \",A885)","v":"Born Digital Records - outside the EDRM / Content Management systems - 0"},null,null,null,null,null,null,null,null,null,null,null,null,null,null,null,null,null,null,"x"]
["2.2.1","What is the volume of  digital records held outwith the EDRM/ Content Management systems (e.g. on shared drives)? If you are not sure of the exact figure then please provide an estimate.",null,null,null,null,null,"2.2.2","How many backup copies are held on digital systems that sit outside the EDRM / Content Management systems? (\"0\" means no backup copies are held, \"1\" means that one backup copy as well as the master copy is held, etc.). If you are not sure of an exact figure then provide an estimate",null,null,null,null,null,null,null,null,null,null,null,"x"]
[null,null,null,null,null,null,null,null,null,null,null,null,null,null,null,null,null,null,null,null,"x"]
[null,null,null,null,null,null,null,null,null,null,null,null,null,null,null,null,null,null,null,null,"x"]
[null,null,null,null,null,null,null,null,null,null,null,null,null,null,null,null,null,null,null,null,"x"]
[2.2999999999999998,{"$f":"CONCATENATE(\"Backup copies - \",A885)","v":"Backup copies - 0"},null,null,null,null,null,null,null,null,null,null,null,null,null,null,null,null,null,null,"x"]
["2.3.1","How many backup / access copies will you incorporate into the digital archive? (\"0\" means only the master copy will be preserved; \"1\" means the master copy and one copy will be preserved, etc.).",null,"2.3.2","When you migrate files in to the archive, will the backup copies of any of the records recorded in sections 2.1 and 2.2 be of a lower resolution / different file type to the master copy? (If you do not know the answer to this, select \"no\")",null,null,null,null,null,null,null,null,null,null,null,null,null,null,null,"x"]
[null,null,null,null,null,null,null,null,null,null,null,null,null,null,null,null,null,null,null,null,"x"]
[null,null,null,null,null,null,{"$f":"IF(E910=input_lists!$K$11,\"In the below table, provide details of the files you plan to archive with different backup resolutions\",\"\")","v":""},null,null,null,null,null,null,null,null,null,null,null,null,null,"x"]
[null,null,null,null,null,null,null,null,null,null,null,null,null,null,null,null,null,null,null,null,"x"]
[null,null,null,null,"Master Copy file type","Master Copy resolution","Master Copy volume (do not include duplicates)","units","Backup Copy file type","Backup Copy resolution","Are these master copies held on the EDRM/Content Management system or off the EDRM/Content Management system?",null,null,null,null,null,null,null,null,null,"x"]
[null,null,null,null,null,null,null,null,null,null,null,null,null,null,null,null,null,null,null,null,"x"]
[null,null,null,null,null,null,null,null,null,null,null,null,null,null,null,null,null,null,null,null,"x"]
[null,null,null,null,null,null,null,null,null,null,null,null,null,null,null,null,null,null,null,null,"x"]
[null,null,null,null,null,null,null,null,null,null,null,null,null,null,null,null,null,null,null,null,"x"]
[null,null,null,null,null,null,null,null,null,null,null,null,null,null,null,null,null,null,null,null,{"$f":"IF($A$885=0,\"x\",\"\")","v":"x"}]
[null,null,null,null,null,null,null,null,null,null,null,null,null,null,null,null,null,null,null,null,"x"]
[null,null,null,null,null,null,null,null,null,null,null,null,null,null,null,null,null,null,null,null,"x"]
[null,null,null,null,null,null,null,null,null,null,null,null,null,null,null,null,null,null,null,null,"x"]
[null,null,null,null,null,null,null,null,null,null,null,null,null,null,null,null,null,null,null,null,"x"]
[null,null,null,null,null,null,null,null,null,null,null,null,null,null,null,null,null,null,null,null,"x"]
[{"$f":"CONCATENATE(\"Section 3 - Planned Digitisation - \",A885)","v":"Section 3 - Planned Digitisation - 0"},null,null,null,null,null,null,null,null,null,null,null,null,null,null,null,null,null,null,null,"x"]
["Note: any records that are already digitised should be recorded in Section 2 - Digital Records (above)",null,null,null,null,null,null,null,null,null,null,null,null,null,null,null,null,null,null,null,"x"]
[3.1,{"$f":"CONCATENATE(\"Records planned for digitisation - provide details for each file type you plan on digitising in relation to - \",A885)","v":"Records planned for digitisation - provide details for each file type you plan on digitising in relation to - 0"},null,null,null,null,null,null,null,null,null,null,null,null,null,null,null,null,null,null,"x"]
["3.1.1",{"$f":"CONCATENATE(\"Are there any large digitisation projects planned within \",A885,\" in the near future? (If you do not know the answer to this question, select no.)\")","v":"Are there any large digitisation projects planned within 0 in the near future? (If you do not know the answer to this question, select no.)"},null,null,null,null,null,null,null,null,null,null,null,null,null,null,null,null,null,null,"x"]
[null,null,null,null,null,null,null,null,null,null,null,null,null,null,null,null,null,null,null,null,"x"]
[null,null,null,{"$f":"IF(B928=input_lists!$K$11,\"In the below table, provide details of your planned digitisation project\",\"\")","v":""},null,null,null,null,null,null,null,null,null,null,null,null,null,null,null,null,"x"]
[null,null,null,null,null,null,null,null,null,null,null,null,null,null,null,null,null,null,null,null,"x"]
["3.2.1","File type you plan to digitise to (master copy):","3.2.2","Volume of files you plan to digitise:",null,"3.2.3","File type of backup copies:","3.2.4","Resolution of Master Copy:","3.2.5","Resolution of Backup Copies:","3.2.6","Will you compress your files?","3.2.7","Colour scale used:",null,null,null,null,null,"x"]
[null,null,null,null,null,null,null,null,null,null,null,null,null,null,null,null,null,null,null,null,"x"]
[null,null,null,null,null,null,null,null,null,null,null,null,null,null,null,null,null,null,null,null,"x"]
[null,null,null,null,null,null,null,null,null,null,null,null,null,null,null,null,null,null,null,null,"x"]
[null,null,null,null,null,null,null,null,null,null,null,null,null,null,null,null,null,null,null,null,"x"]
[null,null,null,null,null,null,null,null,null,null,null,null,null,null,null,null,null,null,null,null,"x"]
[null,null,null,null,null,null,null,null,null,null,null,null,null,null,null,null,null,null,null,null,"x"]
[null,null,null,null,null,null,null,null,null,null,null,null,null,null,null,null,null,null,null,null,"x"]
[null,null,null,null,null,null,null,null,null,null,null,null,null,null,null,null,null,null,null,null,"x"]
[null,null,null,null,null,null,null,null,null,null,null,null,null,null,null,null,null,null,null,null,{"$f":"IF($A$885=0,\"x\",\"\")","v":"x"}]
[{"$f":"CONCATENATE(\"Section 4 - Paper Records - \",A885)","v":"Section 4 - Paper Records - 0"},null,null,null,null,null,null,null,null,null,null,null,null,null,null,null,null,null,null,null,"x"]
[{"$f":"CONCATENATE(\"This section is for users who have decided on the paper based calculations approach for \",A885)","v":"This section is for users who have decided on the paper based calculations approach for 0"},null,null,null,null,null,null,null,null,null,null,null,null,null,null,null,null,null,null,null,"x"]
[4.0999999999999996,{"$f":"CONCATENATE(\"Paper records - \",A885)","v":"Paper records - 0"},null,null,null,null,null,null,null,null,null,null,null,null,null,null,null,null,null,null,"x"]
["4.1.1",{"$f":"CONCATENATE(\"What is the average annual volume of paper records created by \",A884,\"? This figure should reflect total records created, not just records which are deposited into the archive.\")","v":"What is the average annual volume of paper records created by ? This figure should reflect total records created, not just records which are deposited into the archive."},null,"4.1.2","How many backup / access copies will you incorporate into the digital archive? (\"0\" means only the master copy will be preserved; \"1\" means the master copy and one copy will be preserved, etc.).",null,null,null,null,null,null,null,null,null,null,null,null,null,null,null,"x"]
[null,null,null,null,null,null,null,null,null,null,null,null,null,null,null,null,null,null,null,null,"x"]
[null,null,null,null,null,null,null,null,null,null,null,null,null,null,null,null,null,null,null,null,"x"]
[null,null,null,null,null,null,null,null,null,null,null,null,null,null,null,null,null,null,null,null,"x"]
[null,null,null,null,null,null,null,null,null,null,null,null,null,null,null,null,null,null,null,null,"x"]
[{"$f":"selected_functions!A20","v":0},null,null,null,null,null,null,null,null,null,null,null,null,null,null,null,null,null,null,null,{"$f":"IF($A$948=0,\"x\",\"\")","v":"x"}]
[{"$f":"CONCATENATE(\"Section 1 - Percentage of records to be preserved - \",A948)","v":"Section 1 - Percentage of records to be preserved - 0"},null,null,null,null,null,null,null,null,null,null,null,null,null,null,null,null,null,null,null,"x"]
[1.1000000000000001,{"$f":"CONCATENATE(\"Percentage of records to be preserved - \",A948)","v":"Percentage of records to be preserved - 0"},null,null,null,null,null,null,null,null,null,null,null,null,null,null,null,null,null,null,"x"]
["1.1.1",{"$f":"CONCATENATE(\"This table provides a guide for the percentage of records aligned with different retention schedules for \",A948,\". You may wish to use this to inform the answer you provide in question 1.1.2\")","v":"This table provides a guide for the percentage of records aligned with different retention schedules for 0. You may wish to use this to inform the answer you provide in question 1.1.2"},null,"1.1.2",{"$f":"CONCATENATE(\"What is the percentage of records you intend to incorporate into the digital archive for \",A948,\"?\")","v":"What is the percentage of records you intend to incorporate into the digital archive for 0?"},null,null,null,null,null,null,null,null,null,null,null,null,null,null,null,"x"]
[null,null,null,null,null,null,null,null,null,null,null,null,null,null,null,null,null,null,null,null,"x"]
[{"$f":"B953&A948","v":"Permanent0"},"Permanent",{"$f":"IFERROR(VLOOKUP(A953,retention_schedules!C:D,2,FALSE),\"\")","v":""},null,null,null,null,null,null,null,null,null,null,null,null,null,null,null,null,null,"x"]
[{"$f":"B954&A948","v":"30 years +0"},"30 years +",{"$f":"IFERROR(VLOOKUP(A954,retention_schedules!C:D,2,FALSE),\"\")","v":""},null,null,null,null,null,null,null,null,null,null,null,null,null,null,null,null,null,"x"]
[{"$f":"B955&A948","v":"20 years +0"},"20 years +",{"$f":"IFERROR(VLOOKUP(A955,retention_schedules!C:D,2,FALSE),\"\")","v":""},null,null,null,null,null,null,null,null,null,null,null,null,null,null,null,null,null,"x"]
[{"$f":"B956&A948","v":"10 years +0"},"10 years +",{"$f":"IFERROR(VLOOKUP(A956,retention_schedules!C:D,2,FALSE),\"\")","v":""},null,null,null,null,null,null,null,null,null,null,null,null,null,null,null,null,null,"x"]
[{"$f":"B957&A948","v":"All records0"},"All records",{"$f":"IFERROR(VLOOKUP(A957,retention_schedules!C:D,2,FALSE),\"\")","v":""},null,null,null,null,null,null,null,null,null,null,null,null,null,null,null,null,null,"x"]
[{"$f":"CONCATENATE(\"Section 2 - Digital Records - \",A948)","v":"Section 2 - Digital Records - 0"},null,null,null,null,null,null,null,null,null,null,null,null,null,null,null,null,null,null,null,"x"]
[{"$f":"CONCATENATE(\"Note - if you do not have information about the digital records system for \",A948,\"  then proceed to section three\")","v":"Note - if you do not have information about the digital records system for 0  then proceed to section three"},null,null,null,null,null,null,null,null,null,null,null,null,null,null,null,null,null,null,null,"x"]
[2.1,{"$f":"CONCATENATE(\"EDRM and Content Management Systems - \",A948)","v":"EDRM and Content Management Systems - 0"},null,null,null,null,null,null,null,null,null,null,null,null,null,null,null,null,null,null,"x"]
["2.1.1","In which year did you migrate onto the current EDRM / Content Management systems?",null,"2.1.2","What is the total volume of digital records held on the EDRM / Content Management systems?",null,null,"2.1.3","How many backup copies are held on your EDRM / Content Management systems? (\"0\" means no backup copies are held, \"1\" means the system contains one backup copy as well as the master copy, etc)",null,null,null,null,null,null,null,null,null,null,null,"x"]
[null,null,null,null,null,null,null,null,null,null,null,null,null,null,null,null,null,null,null,null,"x"]
[null,null,null,null,null,null,null,null,null,null,null,null,null,null,null,null,null,null,null,null,"x"]
[null,null,null,null,null,null,null,null,null,null,null,null,null,null,null,null,null,null,null,null,"x"]
[2.2000000000000002,{"$f":"CONCATENATE(\"Born Digital Records - outside the EDRM / Content Management systems - \",A948)","v":"Born Digital Records - outside the EDRM / Content Management systems - 0"},null,null,null,null,null,null,null,null,null,null,null,null,null,null,null,null,null,null,"x"]
["2.2.1","What is the volume of  digital records held outwith the EDRM/ Content Management systems (e.g. on shared drives)? If you are not sure of the exact figure then please provide an estimate.",null,null,null,null,null,"2.2.2","How many backup copies are held on digital systems that sit outside the EDRM / Content Management systems? (\"0\" means no backup copies are held, \"1\" means that one backup copy as well as the master copy is held, etc.). If you are not sure of an exact figure then provide an estimate",null,null,null,null,null,null,null,null,null,null,null,"x"]
[null,null,null,null,null,null,null,null,null,null,null,null,null,null,null,null,null,null,null,null,"x"]
[null,null,null,null,null,null,null,null,null,null,null,null,null,null,null,null,null,null,null,null,"x"]
[null,null,null,null,null,null,null,null,null,null,null,null,null,null,null,null,null,null,null,null,"x"]
[2.2999999999999998,{"$f":"CONCATENATE(\"Backup copies - \",A948)","v":"Backup copies - 0"},null,null,null,null,null,null,null,null,null,null,null,null,null,null,null,null,null,null,"x"]
["2.3.1","How many backup / access copies will you incorporate into the digital archive? (\"0\" means only the master copy will be preserved; \"1\" means the master copy and one copy will be preserved, etc.).",null,"2.3.2","When you migrate files in to the archive, will the backup copies of any of the records recorded in sections 2.1 and 2.2 be of a lower resolution / different file type to the master copy? (If you do not know the answer to this, select \"no\")",null,null,null,null,null,null,null,null,null,null,null,null,null,null,null,"x"]
[null,null,null,null,null,null,null,null,null,null,null,null,null,null,null,null,null,null,null,null,"x"]
[null,null,null,null,null,null,{"$f":"IF(E973=input_lists!$K$11,\"In the below table, provide details of the files you plan to archive with different backup resolutions\",\"\")","v":""},null,null,null,null,null,null,null,null,null,null,null,null,null,"x"]
[null,null,null,null,null,null,null,null,null,null,null,null,null,null,null,null,null,null,null,null,"x"]
[null,null,null,null,"Master Copy file type","Master Copy resolution","Master Copy volume (do not include duplicates)","units","Backup Copy file type","Backup Copy resolution","Are these master copies held on the EDRM/Content Management system or off the EDRM/Content Management system?",null,null,null,null,null,null,null,null,null,"x"]
[null,null,null,null,null,null,null,null,null,null,null,null,null,null,null,null,null,null,null,null,"x"]
[null,null,null,null,null,null,null,null,null,null,null,null,null,null,null,null,null,null,null,null,"x"]
[null,null,null,null,null,null,null,null,null,null,null,null,null,null,null,null,null,null,null,null,"x"]
[null,null,null,null,null,null,null,null,null,null,null,null,null,null,null,null,null,null,null,null,"x"]
[null,null,null,null,null,null,null,null,null,null,null,null,null,null,null,null,null,null,null,null,{"$f":"IF($A$948=0,\"x\",\"\")","v":"x"}]
[null,null,null,null,null,null,null,null,null,null,null,null,null,null,null,null,null,null,null,null,"x"]
[null,null,null,null,null,null,null,null,null,null,null,null,null,null,null,null,null,null,null,null,"x"]
[null,null,null,null,null,null,null,null,null,null,null,null,null,null,null,null,null,null,null,null,"x"]
[null,null,null,null,null,null,null,null,null,null,null,null,null,null,null,null,null,null,null,null,"x"]
[null,null,null,null,null,null,null,null,null,null,null,null,null,null,null,null,null,null,null,null,"x"]
[{"$f":"CONCATENATE(\"Section 3 - Planned Digitisation - \",A948)","v":"Section 3 - Planned Digitisation - 0"},null,null,null,null,null,null,null,null,null,null,null,null,null,null,null,null,null,null,null,"x"]
["Note: any records that are already digitised should be recorded in Section 2 - Digital Records (above)",null,null,null,null,null,null,null,null,null,null,null,null,null,null,null,null,null,null,null,"x"]
[3.1,{"$f":"CONCATENATE(\"Records planned for digitisation - provide details for each file type you plan on digitising in relation to - \",A948)","v":"Records planned for digitisation - provide details for each file type you plan on digitising in relation to - 0"},null,null,null,null,null,null,null,null,null,null,null,null,null,null,null,null,null,null,"x"]
["3.1.1",{"$f":"CONCATENATE(\"Are there any large digitisation projects planned within \",A948,\" in the near future? (If you do not know the answer to this question, select no.)\")","v":"Are there any large digitisation projects planned within 0 in the near future? (If you do not know the answer to this question, select no.)"},null,null,null,null,null,null,null,null,null,null,null,null,null,null,null,null,null,null,"x"]
[null,null,null,null,null,null,null,null,null,null,null,null,null,null,null,null,null,null,null,null,"x"]
[null,null,null,{"$f":"IF(B991=input_lists!$K$11,\"In the below table, provide details of your planned digitisation project\",\"\")","v":""},null,null,null,null,null,null,null,null,null,null,null,null,null,null,null,null,"x"]
[null,null,null,null,null,null,null,null,null,null,null,null,null,null,null,null,null,null,null,null,"x"]
["3.2.1","File type you plan to digitise to (master copy):","3.2.2","Volume of files you plan to digitise:",null,"3.2.3","File type of backup copies:","3.2.4","Resolution of Master Copy:","3.2.5","Resolution of Backup Copies:","3.2.6","Will you compress your files?","3.2.7","Colour scale used:",null,null,null,null,null,"x"]
[null,null,null,null,null,null,null,null,null,null,null,null,null,null,null,null,null,null,null,null,"x"]
[null,null,null,null,null,null,null,null,null,null,null,null,null,null,null,null,null,null,null,null,"x"]
[null,null,null,null,null,null,null,null,null,null,null,null,null,null,null,null,null,null,null,null,"x"]
[null,null,null,null,null,null,null,null,null,null,null,null,null,null,null,null,null,null,null,null,"x"]
[null,null,null,null,null,null,null,null,null,null,null,null,null,null,null,null,null,null,null,null,"x"]
[null,null,null,null,null,null,null,null,null,null,null,null,null,null,null,null,null,null,null,null,"x"]
[null,null,null,null,null,null,null,null,null,null,null,null,null,null,null,null,null,null,null,null,"x"]
[null,null,null,null,null,null,null,null,null,null,null,null,null,null,null,null,null,null,null,null,"x"]
[null,null,null,null,null,null,null,null,null,null,null,null,null,null,null,null,null,null,null,null,{"$f":"IF($A$948=0,\"x\",\"\")","v":"x"}]
[{"$f":"CONCATENATE(\"Section 4 - Paper Records - \",A948)","v":"Section 4 - Paper Records - 0"},null,null,null,null,null,null,null,null,null,null,null,null,null,null,null,null,null,null,null,"x"]
[{"$f":"CONCATENATE(\"This section is for users who have decided on the paper based calculations approach for \",A948)","v":"This section is for users who have decided on the paper based calculations approach for 0"},null,null,null,null,null,null,null,null,null,null,null,null,null,null,null,null,null,null,null,"x"]
[4.0999999999999996,{"$f":"CONCATENATE(\"Paper records - \",A948)","v":"Paper records - 0"},null,null,null,null,null,null,null,null,null,null,null,null,null,null,null,null,null,null,"x"]
["4.1.1",{"$f":"CONCATENATE(\"What is the average annual volume of paper records created by \",A947,\"? This figure should reflect total records created, not just records which are deposited into the archive.\")","v":"What is the average annual volume of paper records created by ? This figure should reflect total records created, not just records which are deposited into the archive."},null,"4.1.2","How many backup / access copies will you incorporate into the digital archive? (\"0\" means only the master copy will be preserved; \"1\" means the master copy and one copy will be preserved, etc.).",null,null,null,null,null,null,null,null,null,null,null,null,null,null,null,"x"]
[null,null,null,null,null,null,null,null,null,null,null,null,null,null,null,null,null,null,null,null,"x"]
[null,null,null,null,null,null,null,null,null,null,null,null,null,null,null,null,null,null,null,null,"x"]
[null,null,null,null,null,null,null,null,null,null,null,null,null,null,null,null,null,null,null,null,"x"]
[null,null,null,null,null,null,null,null,null,null,null,null,null,null,null,null,null,null,null,null,"x"]
[{"$f":"selected_functions!A21","v":0},null,null,null,null,null,null,null,null,null,null,null,null,null,null,null,null,null,null,null,{"$f":"IF($A$1011=0,\"x\",\"\")","v":"x"}]
[{"$f":"CONCATENATE(\"Section 1 - Percentage of records to be preserved - \",A1011)","v":"Section 1 - Percentage of records to be preserved - 0"},null,null,null,null,null,null,null,null,null,null,null,null,null,null,null,null,null,null,null,"x"]
[1.1000000000000001,{"$f":"CONCATENATE(\"Percentage of records to be preserved - \",A1011)","v":"Percentage of records to be preserved - 0"},null,null,null,null,null,null,null,null,null,null,null,null,null,null,null,null,null,null,"x"]
["1.1.1",{"$f":"CONCATENATE(\"This table provides a guide for the percentage of records aligned with different retention schedules for \",A1011,\". You may wish to use this to inform the answer you provide in question 1.1.2\")","v":"This table provides a guide for the percentage of records aligned with different retention schedules for 0. You may wish to use this to inform the answer you provide in question 1.1.2"},null,"1.1.2",{"$f":"CONCATENATE(\"What is the percentage of records you intend to incorporate into the digital archive for \",A1011,\"?\")","v":"What is the percentage of records you intend to incorporate into the digital archive for 0?"},null,null,null,null,null,null,null,null,null,null,null,null,null,null,null,"x"]
[null,null,null,null,null,null,null,null,null,null,null,null,null,null,null,null,null,null,null,null,"x"]
[{"$f":"B1016&A1011","v":"Permanent0"},"Permanent",{"$f":"IFERROR(VLOOKUP(A1016,retention_schedules!C:D,2,FALSE),\"\")","v":""},null,null,null,null,null,null,null,null,null,null,null,null,null,null,null,null,null,"x"]
[{"$f":"B1017&A1011","v":"30 years +0"},"30 years +",{"$f":"IFERROR(VLOOKUP(A1017,retention_schedules!C:D,2,FALSE),\"\")","v":""},null,null,null,null,null,null,null,null,null,null,null,null,null,null,null,null,null,"x"]
[{"$f":"B1018&A1011","v":"20 years +0"},"20 years +",{"$f":"IFERROR(VLOOKUP(A1018,retention_schedules!C:D,2,FALSE),\"\")","v":""},null,null,null,null,null,null,null,null,null,null,null,null,null,null,null,null,null,"x"]
[{"$f":"B1019&A1011","v":"10 years +0"},"10 years +",{"$f":"IFERROR(VLOOKUP(A1019,retention_schedules!C:D,2,FALSE),\"\")","v":""},null,null,null,null,null,null,null,null,null,null,null,null,null,null,null,null,null,"x"]
[{"$f":"B1020&A1011","v":"All records0"},"All records",{"$f":"IFERROR(VLOOKUP(A1020,retention_schedules!C:D,2,FALSE),\"\")","v":""},null,null,null,null,null,null,null,null,null,null,null,null,null,null,null,null,null,"x"]
[{"$f":"CONCATENATE(\"Section 2 - Digital Records - \",A1011)","v":"Section 2 - Digital Records - 0"},null,null,null,null,null,null,null,null,null,null,null,null,null,null,null,null,null,null,null,"x"]
[{"$f":"CONCATENATE(\"Note - if you do not have information about the digital records system for \",A1011,\"  then proceed to section three\")","v":"Note - if you do not have information about the digital records system for 0  then proceed to section three"},null,null,null,null,null,null,null,null,null,null,null,null,null,null,null,null,null,null,null,"x"]
[2.1,{"$f":"CONCATENATE(\"EDRM and Content Management Systems - \",A1011)","v":"EDRM and Content Management Systems - 0"},null,null,null,null,null,null,null,null,null,null,null,null,null,null,null,null,null,null,"x"]
["2.1.1","In which year did you migrate onto the current EDRM / Content Management systems?",null,"2.1.2","What is the total volume of digital records held on the EDRM / Content Management systems?",null,null,"2.1.3","How many backup copies are held on your EDRM / Content Management systems? (\"0\" means no backup copies are held, \"1\" means the system contains one backup copy as well as the master copy, etc)",null,null,null,null,null,null,null,null,null,null,null,"x"]
[null,null,null,null,null,null,null,null,null,null,null,null,null,null,null,null,null,null,null,null,"x"]
[null,null,null,null,null,null,null,null,null,null,null,null,null,null,null,null,null,null,null,null,"x"]
[null,null,null,null,null,null,null,null,null,null,null,null,null,null,null,null,null,null,null,null,"x"]
[2.2000000000000002,{"$f":"CONCATENATE(\"Born Digital Records - outside the EDRM / Content Management systems - \",A1011)","v":"Born Digital Records - outside the EDRM / Content Management systems - 0"},null,null,null,null,null,null,null,null,null,null,null,null,null,null,null,null,null,null,"x"]
["2.2.1","What is the volume of  digital records held outwith the EDRM/ Content Management systems (e.g. on shared drives)? If you are not sure of the exact figure then please provide an estimate.",null,null,null,null,null,"2.2.2","How many backup copies are held on digital systems that sit outside the EDRM / Content Management systems? (\"0\" means no backup copies are held, \"1\" means that one backup copy as well as the master copy is held, etc.). If you are not sure of an exact figure then provide an estimate",null,null,null,null,null,null,null,null,null,null,null,"x"]
[null,null,null,null,null,null,null,null,null,null,null,null,null,null,null,null,null,null,null,null,"x"]
[null,null,null,null,null,null,null,null,null,null,null,null,null,null,null,null,null,null,null,null,"x"]
[null,null,null,null,null,null,null,null,null,null,null,null,null,null,null,null,null,null,null,null,"x"]
[2.2999999999999998,{"$f":"CONCATENATE(\"Backup copies - \",A1011)","v":"Backup copies - 0"},null,null,null,null,null,null,null,null,null,null,null,null,null,null,null,null,null,null,"x"]
["2.3.1","How many backup / access copies will you incorporate into the digital archive? (\"0\" means only the master copy will be preserved; \"1\" means the master copy and one copy will be preserved, etc.).",null,"2.3.2","When you migrate files in to the archive, will the backup copies of any of the records recorded in sections 2.1 and 2.2 be of a lower resolution / different file type to the master copy? (If you do not know the answer to this, select \"no\")",null,null,null,null,null,null,null,null,null,null,null,null,null,null,null,"x"]
[null,null,null,null,null,null,null,null,null,null,null,null,null,null,null,null,null,null,null,null,"x"]
[null,null,null,null,null,null,{"$f":"IF(E1036=input_lists!$K$11,\"In the below table, provide details of the files you plan to archive with different backup resolutions\",\"\")","v":""},null,null,null,null,null,null,null,null,null,null,null,null,null,"x"]
[null,null,null,null,null,null,null,null,null,null,null,null,null,null,null,null,null,null,null,null,"x"]
[null,null,null,null,"Master Copy file type","Master Copy resolution","Master Copy volume (do not include duplicates)","units","Backup Copy file type","Backup Copy resolution","Are these master copies held on the EDRM/Content Management system or off the EDRM/Content Management system?",null,null,null,null,null,null,null,null,null,"x"]
[null,null,null,null,null,null,null,null,null,null,null,null,null,null,null,null,null,null,null,null,"x"]
[null,null,null,null,null,null,null,null,null,null,null,null,null,null,null,null,null,null,null,null,"x"]
[null,null,null,null,null,null,null,null,null,null,null,null,null,null,null,null,null,null,null,null,"x"]
[null,null,null,null,null,null,null,null,null,null,null,null,null,null,null,null,null,null,null,null,"x"]
[null,null,null,null,null,null,null,null,null,null,null,null,null,null,null,null,null,null,null,null,{"$f":"IF($A$1011=0,\"x\",\"\")","v":"x"}]
[null,null,null,null,null,null,null,null,null,null,null,null,null,null,null,null,null,null,null,null,"x"]
[null,null,null,null,null,null,null,null,null,null,null,null,null,null,null,null,null,null,null,null,"x"]
[null,null,null,null,null,null,null,null,null,null,null,null,null,null,null,null,null,null,null,null,"x"]
[null,null,null,null,null,null,null,null,null,null,null,null,null,null,null,null,null,null,null,null,"x"]
[null,null,null,null,null,null,null,null,null,null,null,null,null,null,null,null,null,null,null,null,"x"]
[{"$f":"CONCATENATE(\"Section 3 - Planned Digitisation - \",A1011)","v":"Section 3 - Planned Digitisation - 0"},null,null,null,null,null,null,null,null,null,null,null,null,null,null,null,null,null,null,null,"x"]
["Note: any records that are already digitised should be recorded in Section 2 - Digital Records (above)",null,null,null,null,null,null,null,null,null,null,null,null,null,null,null,null,null,null,null,"x"]
[3.1,{"$f":"CONCATENATE(\"Records planned for digitisation - provide details for each file type you plan on digitising in relation to - \",A1011)","v":"Records planned for digitisation - provide details for each file type you plan on digitising in relation to - 0"},null,null,null,null,null,null,null,null,null,null,null,null,null,null,null,null,null,null,"x"]
["3.1.1",{"$f":"CONCATENATE(\"Are there any large digitisation projects planned within \",A1011,\" in the near future? (If you do not know the answer to this question, select no.)\")","v":"Are there any large digitisation projects planned within 0 in the near future? (If you do not know the answer to this question, select no.)"},null,null,null,null,null,null,null,null,null,null,null,null,null,null,null,null,null,null,"x"]
[null,null,null,null,null,null,null,null,null,null,null,null,null,null,null,null,null,null,null,null,"x"]
[null,null,null,{"$f":"IF(B1054=input_lists!$K$11,\"In the below table, provide details of your planned digitisation project\",\"\")","v":""},null,null,null,null,null,null,null,null,null,null,null,null,null,null,null,null,"x"]
[null,null,null,null,null,null,null,null,null,null,null,null,null,null,null,null,null,null,null,null,"x"]
["3.2.1","File type you plan to digitise to (master copy):","3.2.2","Volume of files you plan to digitise:",null,"3.2.3","File type of backup copies:","3.2.4","Resolution of Master Copy:","3.2.5","Resolution of Backup Copies:","3.2.6","Will you compress your files?","3.2.7","Colour scale used:",null,null,null,null,null,"x"]
[null,null,null,null,null,null,null,null,null,null,null,null,null,null,null,null,null,null,null,null,"x"]
[null,null,null,null,null,null,null,null,null,null,null,null,null,null,null,null,null,null,null,null,"x"]
[null,null,null,null,null,null,null,null,null,null,null,null,null,null,null,null,null,null,null,null,"x"]
[null,null,null,null,null,null,null,null,null,null,null,null,null,null,null,null,null,null,null,null,"x"]
[null,null,null,null,null,null,null,null,null,null,null,null,null,null,null,null,null,null,null,null,"x"]
[null,null,null,null,null,null,null,null,null,null,null,null,null,null,null,null,null,null,null,null,"x"]
[null,null,null,null,null,null,null,null,null,null,null,null,null,null,null,null,null,null,null,null,"x"]
[null,null,null,null,null,null,null,null,null,null,null,null,null,null,null,null,null,null,null,null,"x"]
[null,null,null,null,null,null,null,null,null,null,null,null,null,null,null,null,null,null,null,null,{"$f":"IF($A$1011=0,\"x\",\"\")","v":"x"}]
[{"$f":"CONCATENATE(\"Section 4 - Paper Records - \",A1011)","v":"Section 4 - Paper Records - 0"},null,null,null,null,null,null,null,null,null,null,null,null,null,null,null,null,null,null,null,"x"]
[{"$f":"CONCATENATE(\"This section is for users who have decided on the paper based calculations approach for \",A1011)","v":"This section is for users who have decided on the paper based calculations approach for 0"},null,null,null,null,null,null,null,null,null,null,null,null,null,null,null,null,null,null,null,"x"]
[4.0999999999999996,{"$f":"CONCATENATE(\"Paper records - \",A1011)","v":"Paper records - 0"},null,null,null,null,null,null,null,null,null,null,null,null,null,null,null,null,null,null,"x"]
["4.1.1",{"$f":"CONCATENATE(\"What is the average annual volume of paper records created by \",A1010,\"? This figure should reflect total records created, not just records which are deposited into the archive.\")","v":"What is the average annual volume of paper records created by ? This figure should reflect total records created, not just records which are deposited into the archive."},null,"4.1.2","How many backup / access copies will you incorporate into the digital archive? (\"0\" means only the master copy will be preserved; \"1\" means the master copy and one copy will be preserved, etc.).",null,null,null,null,null,null,null,null,null,null,null,null,null,null,null,"x"]
[null,null,null,null,null,null,null,null,null,null,null,null,null,null,null,null,null,null,null,null,"x"]
[null,null,null,null,null,null,null,null,null,null,null,null,null,null,null,null,null,null,null,null,"x"]
[null,null,null,null,null,null,null,null,null,null,null,null,null,null,null,null,null,null,null,null,"x"]
[null,null,null,null,null,null,null,null,null,null,null,null,null,null,null,null,null,null,null,null,"x"]
[{"$f":"selected_functions!A22","v":0},null,null,null,null,null,null,null,null,null,null,null,null,null,null,null,null,null,null,null,{"$f":"IF($A$1074=0,\"x\",\"\")","v":"x"}]
[{"$f":"CONCATENATE(\"Section 1 - Percentage of records to be preserved - \",A1074)","v":"Section 1 - Percentage of records to be preserved - 0"},null,null,null,null,null,null,null,null,null,null,null,null,null,null,null,null,null,null,null,"x"]
[1.1000000000000001,{"$f":"CONCATENATE(\"Percentage of records to be preserved - \",A1074)","v":"Percentage of records to be preserved - 0"},null,null,null,null,null,null,null,null,null,null,null,null,null,null,null,null,null,null,"x"]
["1.1.1",{"$f":"CONCATENATE(\"This table provides a guide for the percentage of records aligned with different retention schedules for \",A1074,\". You may wish to use this to inform the answer you provide in question 1.1.2\")","v":"This table provides a guide for the percentage of records aligned with different retention schedules for 0. You may wish to use this to inform the answer you provide in question 1.1.2"},null,"1.1.2",{"$f":"CONCATENATE(\"What is the percentage of records you intend to incorporate into the digital archive for \",A1074,\"?\")","v":"What is the percentage of records you intend to incorporate into the digital archive for 0?"},null,null,null,null,null,null,null,null,null,null,null,null,null,null,null,"x"]
[null,null,null,null,null,null,null,null,null,null,null,null,null,null,null,null,null,null,null,null,"x"]
[{"$f":"B1079&A1074","v":"Permanent0"},"Permanent",{"$f":"IFERROR(VLOOKUP(A1079,retention_schedules!C:D,2,FALSE),\"\")","v":""},null,null,null,null,null,null,null,null,null,null,null,null,null,null,null,null,null,"x"]
[{"$f":"B1080&A1074","v":"30 years +0"},"30 years +",{"$f":"IFERROR(VLOOKUP(A1080,retention_schedules!C:D,2,FALSE),\"\")","v":""},null,null,null,null,null,null,null,null,null,null,null,null,null,null,null,null,null,"x"]
[{"$f":"B1081&A1074","v":"20 years +0"},"20 years +",{"$f":"IFERROR(VLOOKUP(A1081,retention_schedules!C:D,2,FALSE),\"\")","v":""},null,null,null,null,null,null,null,null,null,null,null,null,null,null,null,null,null,"x"]
[{"$f":"B1082&A1074","v":"10 years +0"},"10 years +",{"$f":"IFERROR(VLOOKUP(A1082,retention_schedules!C:D,2,FALSE),\"\")","v":""},null,null,null,null,null,null,null,null,null,null,null,null,null,null,null,null,null,"x"]
[{"$f":"B1083&A1074","v":"All records0"},"All records",{"$f":"IFERROR(VLOOKUP(A1083,retention_schedules!C:D,2,FALSE),\"\")","v":""},null,null,null,null,null,null,null,null,null,null,null,null,null,null,null,null,null,"x"]
[{"$f":"CONCATENATE(\"Section 2 - Digital Records - \",A1074)","v":"Section 2 - Digital Records - 0"},null,null,null,null,null,null,null,null,null,null,null,null,null,null,null,null,null,null,null,"x"]
[{"$f":"CONCATENATE(\"Note - if you do not have information about the digital records system for \",A1074,\"  then proceed to section three\")","v":"Note - if you do not have information about the digital records system for 0  then proceed to section three"},null,null,null,null,null,null,null,null,null,null,null,null,null,null,null,null,null,null,null,"x"]
[2.1,{"$f":"CONCATENATE(\"EDRM and Content Management Systems - \",A1074)","v":"EDRM and Content Management Systems - 0"},null,null,null,null,null,null,null,null,null,null,null,null,null,null,null,null,null,null,"x"]
["2.1.1","In which year did you migrate onto the current EDRM / Content Management systems?",null,"2.1.2","What is the total volume of digital records held on the EDRM / Content Management systems?",null,null,"2.1.3","How many backup copies are held on your EDRM / Content Management systems? (\"0\" means no backup copies are held, \"1\" means the system contains one backup copy as well as the master copy, etc)",null,null,null,null,null,null,null,null,null,null,null,"x"]
[null,null,null,null,null,null,null,null,null,null,null,null,null,null,null,null,null,null,null,null,"x"]
[null,null,null,null,null,null,null,null,null,null,null,null,null,null,null,null,null,null,null,null,"x"]
[null,null,null,null,null,null,null,null,null,null,null,null,null,null,null,null,null,null,null,null,"x"]
[2.2000000000000002,{"$f":"CONCATENATE(\"Born Digital Records - outside the EDRM / Content Management systems - \",A1074)","v":"Born Digital Records - outside the EDRM / Content Management systems - 0"},null,null,null,null,null,null,null,null,null,null,null,null,null,null,null,null,null,null,"x"]
["2.2.1","What is the volume of  digital records held outwith the EDRM/ Content Management systems (e.g. on shared drives)? If you are not sure of the exact figure then please provide an estimate.",null,null,null,null,null,"2.2.2","How many backup copies are held on digital systems that sit outside the EDRM / Content Management systems? (\"0\" means no backup copies are held, \"1\" means that one backup copy as well as the master copy is held, etc.). If you are not sure of an exact figure then provide an estimate",null,null,null,null,null,null,null,null,null,null,null,"x"]
[null,null,null,null,null,null,null,null,null,null,null,null,null,null,null,null,null,null,null,null,"x"]
[null,null,null,null,null,null,null,null,null,null,null,null,null,null,null,null,null,null,null,null,"x"]
[null,null,null,null,null,null,null,null,null,null,null,null,null,null,null,null,null,null,null,null,"x"]
[2.2999999999999998,{"$f":"CONCATENATE(\"Backup copies - \",A1074)","v":"Backup copies - 0"},null,null,null,null,null,null,null,null,null,null,null,null,null,null,null,null,null,null,"x"]
["2.3.1","How many backup / access copies will you incorporate into the digital archive? (\"0\" means only the master copy will be preserved; \"1\" means the master copy and one copy will be preserved, etc.).",null,"2.3.2","When you migrate files in to the archive, will the backup copies of any of the records recorded in sections 2.1 and 2.2 be of a lower resolution / different file type to the master copy? (If you do not know the answer to this, select \"no\")",null,null,null,null,null,null,null,null,null,null,null,null,null,null,null,"x"]
[null,null,null,null,null,null,null,null,null,null,null,null,null,null,null,null,null,null,null,null,"x"]
[null,null,null,null,null,null,{"$f":"IF(E1099=input_lists!$K$11,\"In the below table, provide details of the files you plan to archive with different backup resolutions\",\"\")","v":""},null,null,null,null,null,null,null,null,null,null,null,null,null,"x"]
[null,null,null,null,null,null,null,null,null,null,null,null,null,null,null,null,null,null,null,null,"x"]
[null,null,null,null,"Master Copy file type","Master Copy resolution","Master Copy volume (do not include duplicates)","units","Backup Copy file type","Backup Copy resolution","Are these master copies held on the EDRM/Content Management system or off the EDRM/Content Management system?",null,null,null,null,null,null,null,null,null,"x"]
[null,null,null,null,null,null,null,null,null,null,null,null,null,null,null,null,null,null,null,null,"x"]
[null,null,null,null,null,null,null,null,null,null,null,null,null,null,null,null,null,null,null,null,"x"]
[null,null,null,null,null,null,null,null,null,null,null,null,null,null,null,null,null,null,null,null,"x"]
[null,null,null,null,null,null,null,null,null,null,null,null,null,null,null,null,null,null,null,null,"x"]
[null,null,null,null,null,null,null,null,null,null,null,null,null,null,null,null,null,null,null,null,{"$f":"IF($A$1074=0,\"x\",\"\")","v":"x"}]
[null,null,null,null,null,null,null,null,null,null,null,null,null,null,null,null,null,null,null,null,"x"]
[null,null,null,null,null,null,null,null,null,null,null,null,null,null,null,null,null,null,null,null,"x"]
[null,null,null,null,null,null,null,null,null,null,null,null,null,null,null,null,null,null,null,null,"x"]
[null,null,null,null,null,null,null,null,null,null,null,null,null,null,null,null,null,null,null,null,"x"]
[null,null,null,null,null,null,null,null,null,null,null,null,null,null,null,null,null,null,null,null,"x"]
[{"$f":"CONCATENATE(\"Section 3 - Planned Digitisation - \",A1074)","v":"Section 3 - Planned Digitisation - 0"},null,null,null,null,null,null,null,null,null,null,null,null,null,null,null,null,null,null,null,"x"]
["Note: any records that are already digitised should be recorded in Section 2 - Digital Records (above)",null,null,null,null,null,null,null,null,null,null,null,null,null,null,null,null,null,null,null,"x"]
[3.1,{"$f":"CONCATENATE(\"Records planned for digitisation - provide details for each file type you plan on digitising in relation to - \",A1074)","v":"Records planned for digitisation - provide details for each file type you plan on digitising in relation to - 0"},null,null,null,null,null,null,null,null,null,null,null,null,null,null,null,null,null,null,"x"]
["3.1.1",{"$f":"CONCATENATE(\"Are there any large digitisation projects planned within \",A1074,\" in the near future? (If you do not know the answer to this question, select no.)\")","v":"Are there any large digitisation projects planned within 0 in the near future? (If you do not know the answer to this question, select no.)"},null,null,null,null,null,null,null,null,null,null,null,null,null,null,null,null,null,null,"x"]
[null,null,null,null,null,null,null,null,null,null,null,null,null,null,null,null,null,null,null,null,"x"]
[null,null,null,{"$f":"IF(B1117=input_lists!$K$11,\"In the below table, provide details of your planned digitisation project\",\"\")","v":""},null,null,null,null,null,null,null,null,null,null,null,null,null,null,null,null,"x"]
[null,null,null,null,null,null,null,null,null,null,null,null,null,null,null,null,null,null,null,null,"x"]
["3.2.1","File type you plan to digitise to (master copy):","3.2.2","Volume of files you plan to digitise:",null,"3.2.3","File type of backup copies:","3.2.4","Resolution of Master Copy:","3.2.5","Resolution of Backup Copies:","3.2.6","Will you compress your files?","3.2.7","Colour scale used:",null,null,null,null,null,"x"]
[null,null,null,null,null,null,null,null,null,null,null,null,null,null,null,null,null,null,null,null,"x"]
[null,null,null,null,null,null,null,null,null,null,null,null,null,null,null,null,null,null,null,null,"x"]
[null,null,null,null,null,null,null,null,null,null,null,null,null,null,null,null,null,null,null,null,"x"]
[null,null,null,null,null,null,null,null,null,null,null,null,null,null,null,null,null,null,null,null,"x"]
[null,null,null,null,null,null,null,null,null,null,null,null,null,null,null,null,null,null,null,null,"x"]
[null,null,null,null,null,null,null,null,null,null,null,null,null,null,null,null,null,null,null,null,"x"]
[null,null,null,null,null,null,null,null,null,null,null,null,null,null,null,null,null,null,null,null,"x"]
[null,null,null,null,null,null,null,null,null,null,null,null,null,null,null,null,null,null,null,null,"x"]
[null,null,null,null,null,null,null,null,null,null,null,null,null,null,null,null,null,null,null,null,{"$f":"IF($A$1074=0,\"x\",\"\")","v":"x"}]
[{"$f":"CONCATENATE(\"Section 4 - Paper Records - \",A1074)","v":"Section 4 - Paper Records - 0"},null,null,null,null,null,null,null,null,null,null,null,null,null,null,null,null,null,null,null,"x"]
[{"$f":"CONCATENATE(\"This section is for users who have decided on the paper based calculations approach for \",A1074)","v":"This section is for users who have decided on the paper based calculations approach for 0"},null,null,null,null,null,null,null,null,null,null,null,null,null,null,null,null,null,null,null,"x"]
[4.0999999999999996,{"$f":"CONCATENATE(\"Paper records - \",A1074)","v":"Paper records - 0"},null,null,null,null,null,null,null,null,null,null,null,null,null,null,null,null,null,null,"x"]
["4.1.1",{"$f":"CONCATENATE(\"What is the average annual volume of paper records created by \",A1073,\"? This figure should reflect total records created, not just records which are deposited into the archive.\")","v":"What is the average annual volume of paper records created by ? This figure should reflect total records created, not just records which are deposited into the archive."},null,"4.1.2","How many backup / access copies will you incorporate into the digital archive? (\"0\" means only the master copy will be preserved; \"1\" means the master copy and one copy will be preserved, etc.).",null,null,null,null,null,null,null,null,null,null,null,null,null,null,null,"x"]
[null,null,null,null,null,null,null,null,null,null,null,null,null,null,null,null,null,null,null,null,"x"]
[null,null,null,null,null,null,null,null,null,null,null,null,null,null,null,null,null,null,null,null,"x"]
[null,null,null,null,null,null,null,null,null,null,null,null,null,null,null,null,null,null,null,null,"x"]
[null,null,null,null,null,null,null,null,null,null,null,null,null,null,null,null,null,null,null,null,"x"]
[{"$f":"selected_functions!A23","v":0},null,null,null,null,null,null,null,null,null,null,null,null,null,null,null,null,null,null,null,{"$f":"IF($A$1137=0,\"x\",\"\")","v":"x"}]
[{"$f":"CONCATENATE(\"Section 1 - Percentage of records to be preserved - \",A1137)","v":"Section 1 - Percentage of records to be preserved - 0"},null,null,null,null,null,null,null,null,null,null,null,null,null,null,null,null,null,null,null,"x"]
[1.1000000000000001,{"$f":"CONCATENATE(\"Percentage of records to be preserved - \",A1137)","v":"Percentage of records to be preserved - 0"},null,null,null,null,null,null,null,null,null,null,null,null,null,null,null,null,null,null,"x"]
["1.1.1",{"$f":"CONCATENATE(\"This table provides a guide for the percentage of records aligned with different retention schedules for \",A1137,\". You may wish to use this to inform the answer you provide in question 1.1.2\")","v":"This table provides a guide for the percentage of records aligned with different retention schedules for 0. You may wish to use this to inform the answer you provide in question 1.1.2"},null,"1.1.2",{"$f":"CONCATENATE(\"What is the percentage of records you intend to incorporate into the digital archive for \",A1137,\"?\")","v":"What is the percentage of records you intend to incorporate into the digital archive for 0?"},null,null,null,null,null,null,null,null,null,null,null,null,null,null,null,"x"]
[null,null,null,null,null,null,null,null,null,null,null,null,null,null,null,null,null,null,null,null,"x"]
[{"$f":"B1142&A1137","v":"Permanent0"},"Permanent",{"$f":"IFERROR(VLOOKUP(A1142,retention_schedules!C:D,2,FALSE),\"\")","v":""},null,null,null,null,null,null,null,null,null,null,null,null,null,null,null,null,null,"x"]
[{"$f":"B1143&A1137","v":"30 years +0"},"30 years +",{"$f":"IFERROR(VLOOKUP(A1143,retention_schedules!C:D,2,FALSE),\"\")","v":""},null,null,null,null,null,null,null,null,null,null,null,null,null,null,null,null,null,"x"]
[{"$f":"B1144&A1137","v":"20 years +0"},"20 years +",{"$f":"IFERROR(VLOOKUP(A1144,retention_schedules!C:D,2,FALSE),\"\")","v":""},null,null,null,null,null,null,null,null,null,null,null,null,null,null,null,null,null,"x"]
[{"$f":"B1145&A1137","v":"10 years +0"},"10 years +",{"$f":"IFERROR(VLOOKUP(A1145,retention_schedules!C:D,2,FALSE),\"\")","v":""},null,null,null,null,null,null,null,null,null,null,null,null,null,null,null,null,null,"x"]
[{"$f":"B1146&A1137","v":"All records0"},"All records",{"$f":"IFERROR(VLOOKUP(A1146,retention_schedules!C:D,2,FALSE),\"\")","v":""},null,null,null,null,null,null,null,null,null,null,null,null,null,null,null,null,null,"x"]
[{"$f":"CONCATENATE(\"Section 2 - Digital Records - \",A1137)","v":"Section 2 - Digital Records - 0"},null,null,null,null,null,null,null,null,null,null,null,null,null,null,null,null,null,null,null,"x"]
[{"$f":"CONCATENATE(\"Note - if you do not have information about the digital records system for \",A1137,\"  then proceed to section three\")","v":"Note - if you do not have information about the digital records system for 0  then proceed to section three"},null,null,null,null,null,null,null,null,null,null,null,null,null,null,null,null,null,null,null,"x"]
[2.1,{"$f":"CONCATENATE(\"EDRM and Content Management Systems - \",A1137)","v":"EDRM and Content Management Systems - 0"},null,null,null,null,null,null,null,null,null,null,null,null,null,null,null,null,null,null,"x"]
["2.1.1","In which year did you migrate onto the current EDRM / Content Management systems?",null,"2.1.2","What is the total volume of digital records held on the EDRM / Content Management systems?",null,null,"2.1.3","How many backup copies are held on your EDRM / Content Management systems? (\"0\" means no backup copies are held, \"1\" means the system contains one backup copy as well as the master copy, etc)",null,null,null,null,null,null,null,null,null,null,null,"x"]
[null,null,null,null,null,null,null,null,null,null,null,null,null,null,null,null,null,null,null,null,"x"]
[null,null,null,null,null,null,null,null,null,null,null,null,null,null,null,null,null,null,null,null,"x"]
[null,null,null,null,null,null,null,null,null,null,null,null,null,null,null,null,null,null,null,null,"x"]
[2.2000000000000002,{"$f":"CONCATENATE(\"Born Digital Records - outside the EDRM / Content Management systems - \",A1137)","v":"Born Digital Records - outside the EDRM / Content Management systems - 0"},null,null,null,null,null,null,null,null,null,null,null,null,null,null,null,null,null,null,"x"]
["2.2.1","What is the volume of  digital records held outwith the EDRM/ Content Management systems (e.g. on shared drives)? If you are not sure of the exact figure then please provide an estimate.",null,null,null,null,null,"2.2.2","How many backup copies are held on digital systems that sit outside the EDRM / Content Management systems? (\"0\" means no backup copies are held, \"1\" means that one backup copy as well as the master copy is held, etc.). If you are not sure of an exact figure then provide an estimate",null,null,null,null,null,null,null,null,null,null,null,"x"]
[null,null,null,null,null,null,null,null,null,null,null,null,null,null,null,null,null,null,null,null,"x"]
[null,null,null,null,null,null,null,null,null,null,null,null,null,null,null,null,null,null,null,null,"x"]
[null,null,null,null,null,null,null,null,null,null,null,null,null,null,null,null,null,null,null,null,"x"]
[2.2999999999999998,{"$f":"CONCATENATE(\"Backup copies - \",A1137)","v":"Backup copies - 0"},null,null,null,null,null,null,null,null,null,null,null,null,null,null,null,null,null,null,"x"]
["2.3.1","How many backup / access copies will you incorporate into the digital archive? (\"0\" means only the master copy will be preserved; \"1\" means the master copy and one copy will be preserved, etc.).",null,"2.3.2","When you migrate files in to the archive, will the backup copies of any of the records recorded in sections 2.1 and 2.2 be of a lower resolution / different file type to the master copy? (If you do not know the answer to this, select \"no\")",null,null,null,null,null,null,null,null,null,null,null,null,null,null,null,"x"]
[null,null,null,null,null,null,null,null,null,null,null,null,null,null,null,null,null,null,null,null,"x"]
[null,null,null,null,null,null,{"$f":"IF(E1162=input_lists!$K$11,\"In the below table, provide details of the files you plan to archive with different backup resolutions\",\"\")","v":""},null,null,null,null,null,null,null,null,null,null,null,null,null,"x"]
[null,null,null,null,null,null,null,null,null,null,null,null,null,null,null,null,null,null,null,null,"x"]
[null,null,null,null,"Master Copy file type","Master Copy resolution","Master Copy volume (do not include duplicates)","units","Backup Copy file type","Backup Copy resolution","Are these master copies held on the EDRM/Content Management system or off the EDRM/Content Management system?",null,null,null,null,null,null,null,null,null,"x"]
[null,null,null,null,null,null,null,null,null,null,null,null,null,null,null,null,null,null,null,null,"x"]
[null,null,null,null,null,null,null,null,null,null,null,null,null,null,null,null,null,null,null,null,"x"]
[null,null,null,null,null,null,null,null,null,null,null,null,null,null,null,null,null,null,null,null,"x"]
[null,null,null,null,null,null,null,null,null,null,null,null,null,null,null,null,null,null,null,null,"x"]
[null,null,null,null,null,null,null,null,null,null,null,null,null,null,null,null,null,null,null,null,{"$f":"IF($A$1137=0,\"x\",\"\")","v":"x"}]
[null,null,null,null,null,null,null,null,null,null,null,null,null,null,null,null,null,null,null,null,"x"]
[null,null,null,null,null,null,null,null,null,null,null,null,null,null,null,null,null,null,null,null,"x"]
[null,null,null,null,null,null,null,null,null,null,null,null,null,null,null,null,null,null,null,null,"x"]
[null,null,null,null,null,null,null,null,null,null,null,null,null,null,null,null,null,null,null,null,"x"]
[null,null,null,null,null,null,null,null,null,null,null,null,null,null,null,null,null,null,null,null,"x"]
[{"$f":"CONCATENATE(\"Section 3 - Planned Digitisation - \",A1137)","v":"Section 3 - Planned Digitisation - 0"},null,null,null,null,null,null,null,null,null,null,null,null,null,null,null,null,null,null,null,"x"]
["Note: any records that are already digitised should be recorded in Section 2 - Digital Records (above)",null,null,null,null,null,null,null,null,null,null,null,null,null,null,null,null,null,null,null,"x"]
[3.1,{"$f":"CONCATENATE(\"Records planned for digitisation - provide details for each file type you plan on digitising in relation to - \",A1137)","v":"Records planned for digitisation - provide details for each file type you plan on digitising in relation to - 0"},null,null,null,null,null,null,null,null,null,null,null,null,null,null,null,null,null,null,"x"]
["3.1.1",{"$f":"CONCATENATE(\"Are there any large digitisation projects planned within \",A1137,\" in the near future? (If you do not know the answer to this question, select no.)\")","v":"Are there any large digitisation projects planned within 0 in the near future? (If you do not know the answer to this question, select no.)"},null,null,null,null,null,null,null,null,null,null,null,null,null,null,null,null,null,null,"x"]
[null,null,null,null,null,null,null,null,null,null,null,null,null,null,null,null,null,null,null,null,"x"]
[null,null,null,{"$f":"IF(B1180=input_lists!$K$11,\"In the below table, provide details of your planned digitisation project\",\"\")","v":""},null,null,null,null,null,null,null,null,null,null,null,null,null,null,null,null,"x"]
[null,null,null,null,null,null,null,null,null,null,null,null,null,null,null,null,null,null,null,null,"x"]
["3.2.1","File type you plan to digitise to (master copy):","3.2.2","Volume of files you plan to digitise:",null,"3.2.3","File type of backup copies:","3.2.4","Resolution of Master Copy:","3.2.5","Resolution of Backup Copies:","3.2.6","Will you compress your files?","3.2.7","Colour scale used:",null,null,null,null,null,"x"]
[null,null,null,null,null,null,null,null,null,null,null,null,null,null,null,null,null,null,null,null,"x"]
[null,null,null,null,null,null,null,null,null,null,null,null,null,null,null,null,null,null,null,null,"x"]
[null,null,null,null,null,null,null,null,null,null,null,null,null,null,null,null,null,null,null,null,"x"]
[null,null,null,null,null,null,null,null,null,null,null,null,null,null,null,null,null,null,null,null,"x"]
[null,null,null,null,null,null,null,null,null,null,null,null,null,null,null,null,null,null,null,null,"x"]
[null,null,null,null,null,null,null,null,null,null,null,null,null,null,null,null,null,null,null,null,"x"]
[null,null,null,null,null,null,null,null,null,null,null,null,null,null,null,null,null,null,null,null,"x"]
[null,null,null,null,null,null,null,null,null,null,null,null,null,null,null,null,null,null,null,null,"x"]
[null,null,null,null,null,null,null,null,null,null,null,null,null,null,null,null,null,null,null,null,{"$f":"IF($A$1137=0,\"x\",\"\")","v":"x"}]
[{"$f":"CONCATENATE(\"Section 4 - Paper Records - \",A1137)","v":"Section 4 - Paper Records - 0"},null,null,null,null,null,null,null,null,null,null,null,null,null,null,null,null,null,null,null,"x"]
[{"$f":"CONCATENATE(\"This section is for users who have decided on the paper based calculations approach for \",A1137)","v":"This section is for users who have decided on the paper based calculations approach for 0"},null,null,null,null,null,null,null,null,null,null,null,null,null,null,null,null,null,null,null,"x"]
[4.0999999999999996,{"$f":"CONCATENATE(\"Paper records - \",A1137)","v":"Paper records - 0"},null,null,null,null,null,null,null,null,null,null,null,null,null,null,null,null,null,null,"x"]
["4.1.1",{"$f":"CONCATENATE(\"What is the average annual volume of paper records created by \",A1136,\"? This figure should reflect total records created, not just records which are deposited into the archive.\")","v":"What is the average annual volume of paper records created by ? This figure should reflect total records created, not just records which are deposited into the archive."},null,"4.1.2","How many backup / access copies will you incorporate into the digital archive? (\"0\" means only the master copy will be preserved; \"1\" means the master copy and one copy will be preserved, etc.).",null,null,null,null,null,null,null,null,null,null,null,null,null,null,null,"x"]
[null,null,null,null,null,null,null,null,null,null,null,null,null,null,null,null,null,null,null,null,"x"]
[null,null,null,null,null,null,null,null,null,null,null,null,null,null,null,null,null,null,null,null,"x"]
[null,null,null,null,null,null,null,null,null,null,null,null,null,null,null,null,null,null,null,null,"x"]
[null,null,null,null,null,null,null,null,null,null,null,null,null,null,null,null,null,null,null,null,"x"]
[{"$f":"selected_functions!A24","v":0},null,null,null,null,null,null,null,null,null,null,null,null,null,null,null,null,null,null,null,{"$f":"IF($A$1200=0,\"x\",\"\")","v":"x"}]
[{"$f":"CONCATENATE(\"Section 1 - Percentage of records to be preserved - \",A1200)","v":"Section 1 - Percentage of records to be preserved - 0"},null,null,null,null,null,null,null,null,null,null,null,null,null,null,null,null,null,null,null,"x"]
[1.1000000000000001,{"$f":"CONCATENATE(\"Percentage of records to be preserved - \",A1200)","v":"Percentage of records to be preserved - 0"},null,null,null,null,null,null,null,null,null,null,null,null,null,null,null,null,null,null,"x"]
["1.1.1",{"$f":"CONCATENATE(\"This table provides a guide for the percentage of records aligned with different retention schedules for \",A1200,\". You may wish to use this to inform the answer you provide in question 1.1.2\")","v":"This table provides a guide for the percentage of records aligned with different retention schedules for 0. You may wish to use this to inform the answer you provide in question 1.1.2"},null,"1.1.2",{"$f":"CONCATENATE(\"What is the percentage of records you intend to incorporate into the digital archive for \",A1200,\"?\")","v":"What is the percentage of records you intend to incorporate into the digital archive for 0?"},null,null,null,null,null,null,null,null,null,null,null,null,null,null,null,"x"]
[null,null,null,null,null,null,null,null,null,null,null,null,null,null,null,null,null,null,null,null,"x"]
[{"$f":"B1205&A1200","v":"Permanent0"},"Permanent",{"$f":"IFERROR(VLOOKUP(A1205,retention_schedules!C:D,2,FALSE),\"\")","v":""},null,null,null,null,null,null,null,null,null,null,null,null,null,null,null,null,null,"x"]
[{"$f":"B1206&A1200","v":"30 years +0"},"30 years +",{"$f":"IFERROR(VLOOKUP(A1206,retention_schedules!C:D,2,FALSE),\"\")","v":""},null,null,null,null,null,null,null,null,null,null,null,null,null,null,null,null,null,"x"]
[{"$f":"B1207&A1200","v":"20 years +0"},"20 years +",{"$f":"IFERROR(VLOOKUP(A1207,retention_schedules!C:D,2,FALSE),\"\")","v":""},null,null,null,null,null,null,null,null,null,null,null,null,null,null,null,null,null,"x"]
[{"$f":"B1208&A1200","v":"10 years +0"},"10 years +",{"$f":"IFERROR(VLOOKUP(A1208,retention_schedules!C:D,2,FALSE),\"\")","v":""},null,null,null,null,null,null,null,null,null,null,null,null,null,null,null,null,null,"x"]
[{"$f":"B1209&A1200","v":"All records0"},"All records",{"$f":"IFERROR(VLOOKUP(A1209,retention_schedules!C:D,2,FALSE),\"\")","v":""},null,null,null,null,null,null,null,null,null,null,null,null,null,null,null,null,null,"x"]
[{"$f":"CONCATENATE(\"Section 2 - Digital Records - \",A1200)","v":"Section 2 - Digital Records - 0"},null,null,null,null,null,null,null,null,null,null,null,null,null,null,null,null,null,null,null,"x"]
[{"$f":"CONCATENATE(\"Note - if you do not have information about the digital records system for \",A1200,\"  then proceed to section three\")","v":"Note - if you do not have information about the digital records system for 0  then proceed to section three"},null,null,null,null,null,null,null,null,null,null,null,null,null,null,null,null,null,null,null,"x"]
[2.1,{"$f":"CONCATENATE(\"EDRM and Content Management Systems - \",A1200)","v":"EDRM and Content Management Systems - 0"},null,null,null,null,null,null,null,null,null,null,null,null,null,null,null,null,null,null,"x"]
["2.1.1","In which year did you migrate onto the current EDRM / Content Management systems?",null,"2.1.2","What is the total volume of digital records held on the EDRM / Content Management systems?",null,null,"2.1.3","How many backup copies are held on your EDRM / Content Management systems? (\"0\" means no backup copies are held, \"1\" means the system contains one backup copy as well as the master copy, etc)",null,null,null,null,null,null,null,null,null,null,null,"x"]
[null,null,null,null,null,null,null,null,null,null,null,null,null,null,null,null,null,null,null,null,"x"]
[null,null,null,null,null,null,null,null,null,null,null,null,null,null,null,null,null,null,null,null,"x"]
[null,null,null,null,null,null,null,null,null,null,null,null,null,null,null,null,null,null,null,null,"x"]
[2.2000000000000002,{"$f":"CONCATENATE(\"Born Digital Records - outside the EDRM / Content Management systems - \",A1200)","v":"Born Digital Records - outside the EDRM / Content Management systems - 0"},null,null,null,null,null,null,null,null,null,null,null,null,null,null,null,null,null,null,"x"]
["2.2.1","What is the volume of  digital records held outwith the EDRM/ Content Management systems (e.g. on shared drives)? If you are not sure of the exact figure then please provide an estimate.",null,null,null,null,null,"2.2.2","How many backup copies are held on digital systems that sit outside the EDRM / Content Management systems? (\"0\" means no backup copies are held, \"1\" means that one backup copy as well as the master copy is held, etc.). If you are not sure of an exact figure then provide an estimate",null,null,null,null,null,null,null,null,null,null,null,"x"]
[null,null,null,null,null,null,null,null,null,null,null,null,null,null,null,null,null,null,null,null,"x"]
[null,null,null,null,null,null,null,null,null,null,null,null,null,null,null,null,null,null,null,null,"x"]
[null,null,null,null,null,null,null,null,null,null,null,null,null,null,null,null,null,null,null,null,"x"]
[2.2999999999999998,{"$f":"CONCATENATE(\"Backup copies - \",A1200)","v":"Backup copies - 0"},null,null,null,null,null,null,null,null,null,null,null,null,null,null,null,null,null,null,"x"]
["2.3.1","How many backup / access copies will you incorporate into the digital archive? (\"0\" means only the master copy will be preserved; \"1\" means the master copy and one copy will be preserved, etc.).",null,"2.3.2","When you migrate files in to the archive, will the backup copies of any of the records recorded in sections 2.1 and 2.2 be of a lower resolution / different file type to the master copy? (If you do not know the answer to this, select \"no\")",null,null,null,null,null,null,null,null,null,null,null,null,null,null,null,"x"]
[null,null,null,null,null,null,null,null,null,null,null,null,null,null,null,null,null,null,null,null,"x"]
[null,null,null,null,null,null,{"$f":"IF(E1225=input_lists!$K$11,\"In the below table, provide details of the files you plan to archive with different backup resolutions\",\"\")","v":""},null,null,null,null,null,null,null,null,null,null,null,null,null,"x"]
[null,null,null,null,null,null,null,null,null,null,null,null,null,null,null,null,null,null,null,null,"x"]
[null,null,null,null,"Master Copy file type","Master Copy resolution","Master Copy volume (do not include duplicates)","units","Backup Copy file type","Backup Copy resolution","Are these master copies held on the EDRM/Content Management system or off the EDRM/Content Management system?",null,null,null,null,null,null,null,null,null,"x"]
[null,null,null,null,null,null,null,null,null,null,null,null,null,null,null,null,null,null,null,null,"x"]
[null,null,null,null,null,null,null,null,null,null,null,null,null,null,null,null,null,null,null,null,"x"]
[null,null,null,null,null,null,null,null,null,null,null,null,null,null,null,null,null,null,null,null,"x"]
[null,null,null,null,null,null,null,null,null,null,null,null,null,null,null,null,null,null,null,null,"x"]
[null,null,null,null,null,null,null,null,null,null,null,null,null,null,null,null,null,null,null,null,{"$f":"IF($A$1200=0,\"x\",\"\")","v":"x"}]
[null,null,null,null,null,null,null,null,null,null,null,null,null,null,null,null,null,null,null,null,"x"]
[null,null,null,null,null,null,null,null,null,null,null,null,null,null,null,null,null,null,null,null,"x"]
[null,null,null,null,null,null,null,null,null,null,null,null,null,null,null,null,null,null,null,null,"x"]
[null,null,null,null,null,null,null,null,null,null,null,null,null,null,null,null,null,null,null,null,"x"]
[null,null,null,null,null,null,null,null,null,null,null,null,null,null,null,null,null,null,null,null,"x"]
[{"$f":"CONCATENATE(\"Section 3 - Planned Digitisation - \",A1200)","v":"Section 3 - Planned Digitisation - 0"},null,null,null,null,null,null,null,null,null,null,null,null,null,null,null,null,null,null,null,"x"]
["Note: any records that are already digitised should be recorded in Section 2 - Digital Records (above)",null,null,null,null,null,null,null,null,null,null,null,null,null,null,null,null,null,null,null,"x"]
[3.1,{"$f":"CONCATENATE(\"Records planned for digitisation - provide details for each file type you plan on digitising in relation to - \",A1200)","v":"Records planned for digitisation - provide details for each file type you plan on digitising in relation to - 0"},null,null,null,null,null,null,null,null,null,null,null,null,null,null,null,null,null,null,"x"]
["3.1.1",{"$f":"CONCATENATE(\"Are there any large digitisation projects planned within \",A1200,\" in the near future? (If you do not know the answer to this question, select no.)\")","v":"Are there any large digitisation projects planned within 0 in the near future? (If you do not know the answer to this question, select no.)"},null,null,null,null,null,null,null,null,null,null,null,null,null,null,null,null,null,null,"x"]
[null,null,null,null,null,null,null,null,null,null,null,null,null,null,null,null,null,null,null,null,"x"]
[null,null,null,{"$f":"IF(B1243=input_lists!$K$11,\"In the below table, provide details of your planned digitisation project\",\"\")","v":""},null,null,null,null,null,null,null,null,null,null,null,null,null,null,null,null,"x"]
[null,null,null,null,null,null,null,null,null,null,null,null,null,null,null,null,null,null,null,null,"x"]
["3.2.1","File type you plan to digitise to (master copy):","3.2.2","Volume of files you plan to digitise:",null,"3.2.3","File type of backup copies:","3.2.4","Resolution of Master Copy:","3.2.5","Resolution of Backup Copies:","3.2.6","Will you compress your files?","3.2.7","Colour scale used:",null,null,null,null,null,"x"]
[null,null,null,null,null,null,null,null,null,null,null,null,null,null,null,null,null,null,null,null,"x"]
[null,null,null,null,null,null,null,null,null,null,null,null,null,null,null,null,null,null,null,null,"x"]
[null,null,null,null,null,null,null,null,null,null,null,null,null,null,null,null,null,null,null,null,"x"]
[null,null,null,null,null,null,null,null,null,null,null,null,null,null,null,null,null,null,null,null,"x"]
[null,null,null,null,null,null,null,null,null,null,null,null,null,null,null,null,null,null,null,null,"x"]
[null,null,null,null,null,null,null,null,null,null,null,null,null,null,null,null,null,null,null,null,"x"]
[null,null,null,null,null,null,null,null,null,null,null,null,null,null,null,null,null,null,null,null,"x"]
[null,null,null,null,null,null,null,null,null,null,null,null,null,null,null,null,null,null,null,null,"x"]
[null,null,null,null,null,null,null,null,null,null,null,null,null,null,null,null,null,null,null,null,{"$f":"IF($A$1200=0,\"x\",\"\")","v":"x"}]
[{"$f":"CONCATENATE(\"Section 4 - Paper Records - \",A1200)","v":"Section 4 - Paper Records - 0"},null,null,null,null,null,null,null,null,null,null,null,null,null,null,null,null,null,null,null,"x"]
[{"$f":"CONCATENATE(\"This section is for users who have decided on the paper based calculations approach for \",A1200)","v":"This section is for users who have decided on the paper based calculations approach for 0"},null,null,null,null,null,null,null,null,null,null,null,null,null,null,null,null,null,null,null,"x"]
[4.0999999999999996,{"$f":"CONCATENATE(\"Paper records - \",A1200)","v":"Paper records - 0"},null,null,null,null,null,null,null,null,null,null,null,null,null,null,null,null,null,null,"x"]
["4.1.1",{"$f":"CONCATENATE(\"What is the average annual volume of paper records created by \",A1199,\"? This figure should reflect total records created, not just records which are deposited into the archive.\")","v":"What is the average annual volume of paper records created by ? This figure should reflect total records created, not just records which are deposited into the archive."},null,"4.1.2","How many backup / access copies will you incorporate into the digital archive? (\"0\" means only the master copy will be preserved; \"1\" means the master copy and one copy will be preserved, etc.).",null,null,null,null,null,null,null,null,null,null,null,null,null,null,null,"x"]
[null,null,null,null,null,null,null,null,null,null,null,null,null,null,null,null,null,null,null,null,"x"]
[null,null,null,null,null,null,null,null,null,null,null,null,null,null,null,null,null,null,null,null,"x"]
[null,null,null,null,null,null,null,null,null,null,null,null,null,null,null,null,null,null,null,null,"x"]
[null,null,null,null,null,null,null,null,null,null,null,null,null,null,null,null,null,null,null,null,"x"]
[{"$f":"selected_functions!A25","v":0},null,null,null,null,null,null,null,null,null,null,null,null,null,null,null,null,null,null,null,{"$f":"IF($A$1263=0,\"x\",\"\")","v":"x"}]
[{"$f":"CONCATENATE(\"Section 1 - Percentage of records to be preserved - \",A1263)","v":"Section 1 - Percentage of records to be preserved - 0"},null,null,null,null,null,null,null,null,null,null,null,null,null,null,null,null,null,null,null,"x"]
[1.1000000000000001,{"$f":"CONCATENATE(\"Percentage of records to be preserved - \",A1263)","v":"Percentage of records to be preserved - 0"},null,null,null,null,null,null,null,null,null,null,null,null,null,null,null,null,null,null,"x"]
["1.1.1",{"$f":"CONCATENATE(\"This table provides a guide for the percentage of records aligned with different retention schedules for \",A1263,\". You may wish to use this to inform the answer you provide in question 1.1.2\")","v":"This table provides a guide for the percentage of records aligned with different retention schedules for 0. You may wish to use this to inform the answer you provide in question 1.1.2"},null,"1.1.2",{"$f":"CONCATENATE(\"What is the percentage of records you intend to incorporate into the digital archive for \",A1263,\"?\")","v":"What is the percentage of records you intend to incorporate into the digital archive for 0?"},null,null,null,null,null,null,null,null,null,null,null,null,null,null,null,"x"]
[null,null,null,null,null,null,null,null,null,null,null,null,null,null,null,null,null,null,null,null,"x"]
[{"$f":"B1268&A1263","v":"Permanent0"},"Permanent",{"$f":"IFERROR(VLOOKUP(A1268,retention_schedules!C:D,2,FALSE),\"\")","v":""},null,null,null,null,null,null,null,null,null,null,null,null,null,null,null,null,null,"x"]
[{"$f":"B1269&A1263","v":"30 years +0"},"30 years +",{"$f":"IFERROR(VLOOKUP(A1269,retention_schedules!C:D,2,FALSE),\"\")","v":""},null,null,null,null,null,null,null,null,null,null,null,null,null,null,null,null,null,"x"]
[{"$f":"B1270&A1263","v":"20 years +0"},"20 years +",{"$f":"IFERROR(VLOOKUP(A1270,retention_schedules!C:D,2,FALSE),\"\")","v":""},null,null,null,null,null,null,null,null,null,null,null,null,null,null,null,null,null,"x"]
[{"$f":"B1271&A1263","v":"10 years +0"},"10 years +",{"$f":"IFERROR(VLOOKUP(A1271,retention_schedules!C:D,2,FALSE),\"\")","v":""},null,null,null,null,null,null,null,null,null,null,null,null,null,null,null,null,null,"x"]
[{"$f":"B1272&A1263","v":"All records0"},"All records",{"$f":"IFERROR(VLOOKUP(A1272,retention_schedules!C:D,2,FALSE),\"\")","v":""},null,null,null,null,null,null,null,null,null,null,null,null,null,null,null,null,null,"x"]
[{"$f":"CONCATENATE(\"Section 2 - Digital Records - \",A1263)","v":"Section 2 - Digital Records - 0"},null,null,null,null,null,null,null,null,null,null,null,null,null,null,null,null,null,null,null,"x"]
[{"$f":"CONCATENATE(\"Note - if you do not have information about the digital records system for \",A1263,\"  then proceed to section three\")","v":"Note - if you do not have information about the digital records system for 0  then proceed to section three"},null,null,null,null,null,null,null,null,null,null,null,null,null,null,null,null,null,null,null,"x"]
[2.1,{"$f":"CONCATENATE(\"EDRM and Content Management Systems - \",A1263)","v":"EDRM and Content Management Systems - 0"},null,null,null,null,null,null,null,null,null,null,null,null,null,null,null,null,null,null,"x"]
["2.1.1","In which year did you migrate onto the current EDRM / Content Management systems?",null,"2.1.2","What is the total volume of digital records held on the EDRM / Content Management systems?",null,null,"2.1.3","How many backup copies are held on your EDRM / Content Management systems? (\"0\" means no backup copies are held, \"1\" means the system contains one backup copy as well as the master copy, etc)",null,null,null,null,null,null,null,null,null,null,null,"x"]
[null,null,null,null,null,null,null,null,null,null,null,null,null,null,null,null,null,null,null,null,"x"]
[null,null,null,null,null,null,null,null,null,null,null,null,null,null,null,null,null,null,null,null,"x"]
[null,null,null,null,null,null,null,null,null,null,null,null,null,null,null,null,null,null,null,null,"x"]
[2.2000000000000002,{"$f":"CONCATENATE(\"Born Digital Records - outside the EDRM / Content Management systems - \",A1263)","v":"Born Digital Records - outside the EDRM / Content Management systems - 0"},null,null,null,null,null,null,null,null,null,null,null,null,null,null,null,null,null,null,"x"]
["2.2.1","What is the volume of  digital records held outwith the EDRM/ Content Management systems (e.g. on shared drives)? If you are not sure of the exact figure then please provide an estimate.",null,null,null,null,null,"2.2.2","How many backup copies are held on digital systems that sit outside the EDRM / Content Management systems? (\"0\" means no backup copies are held, \"1\" means that one backup copy as well as the master copy is held, etc.). If you are not sure of an exact figure then provide an estimate",null,null,null,null,null,null,null,null,null,null,null,"x"]
[null,null,null,null,null,null,null,null,null,null,null,null,null,null,null,null,null,null,null,null,"x"]
[null,null,null,null,null,null,null,null,null,null,null,null,null,null,null,null,null,null,null,null,"x"]
[null,null,null,null,null,null,null,null,null,null,null,null,null,null,null,null,null,null,null,null,"x"]
[2.2999999999999998,{"$f":"CONCATENATE(\"Backup copies - \",A1263)","v":"Backup copies - 0"},null,null,null,null,null,null,null,null,null,null,null,null,null,null,null,null,null,null,"x"]
["2.3.1","How many backup / access copies will you incorporate into the digital archive? (\"0\" means only the master copy will be preserved; \"1\" means the master copy and one copy will be preserved, etc.).",null,"2.3.2","When you migrate files in to the archive, will the backup copies of any of the records recorded in sections 2.1 and 2.2 be of a lower resolution / different file type to the master copy? (If you do not know the answer to this, select \"no\")",null,null,null,null,null,null,null,null,null,null,null,null,null,null,null,"x"]
[null,null,null,null,null,null,null,null,null,null,null,null,null,null,null,null,null,null,null,null,"x"]
[null,null,null,null,null,null,{"$f":"IF(E1288=input_lists!$K$11,\"In the below table, provide details of the files you plan to archive with different backup resolutions\",\"\")","v":""},null,null,null,null,null,null,null,null,null,null,null,null,null,"x"]
[null,null,null,null,null,null,null,null,null,null,null,null,null,null,null,null,null,null,null,null,"x"]
[null,null,null,null,"Master Copy file type","Master Copy resolution","Master Copy volume (do not include duplicates)","units","Backup Copy file type","Backup Copy resolution","Are these master copies held on the EDRM/Content Management system or off the EDRM/Content Management system?",null,null,null,null,null,null,null,null,null,"x"]
[null,null,null,null,null,null,null,null,null,null,null,null,null,null,null,null,null,null,null,null,"x"]
[null,null,null,null,null,null,null,null,null,null,null,null,null,null,null,null,null,null,null,null,"x"]
[null,null,null,null,null,null,null,null,null,null,null,null,null,null,null,null,null,null,null,null,"x"]
[null,null,null,null,null,null,null,null,null,null,null,null,null,null,null,null,null,null,null,null,"x"]
[null,null,null,null,null,null,null,null,null,null,null,null,null,null,null,null,null,null,null,null,{"$f":"IF($A$1263=0,\"x\",\"\")","v":"x"}]
[null,null,null,null,null,null,null,null,null,null,null,null,null,null,null,null,null,null,null,null,"x"]
[null,null,null,null,null,null,null,null,null,null,null,null,null,null,null,null,null,null,null,null,"x"]
[null,null,null,null,null,null,null,null,null,null,null,null,null,null,null,null,null,null,null,null,"x"]
[null,null,null,null,null,null,null,null,null,null,null,null,null,null,null,null,null,null,null,null,"x"]
[null,null,null,null,null,null,null,null,null,null,null,null,null,null,null,null,null,null,null,null,"x"]
[{"$f":"CONCATENATE(\"Section 3 - Planned Digitisation - \",A1263)","v":"Section 3 - Planned Digitisation - 0"},null,null,null,null,null,null,null,null,null,null,null,null,null,null,null,null,null,null,null,"x"]
["Note: any records that are already digitised should be recorded in Section 2 - Digital Records (above)",null,null,null,null,null,null,null,null,null,null,null,null,null,null,null,null,null,null,null,"x"]
[3.1,{"$f":"CONCATENATE(\"Records planned for digitisation - provide details for each file type you plan on digitising in relation to - \",A1263)","v":"Records planned for digitisation - provide details for each file type you plan on digitising in relation to - 0"},null,null,null,null,null,null,null,null,null,null,null,null,null,null,null,null,null,null,"x"]
["3.1.1",{"$f":"CONCATENATE(\"Are there any large digitisation projects planned within \",A1263,\" in the near future? (If you do not know the answer to this question, select no.)\")","v":"Are there any large digitisation projects planned within 0 in the near future? (If you do not know the answer to this question, select no.)"},null,null,null,null,null,null,null,null,null,null,null,null,null,null,null,null,null,null,"x"]
[null,null,null,null,null,null,null,null,null,null,null,null,null,null,null,null,null,null,null,null,"x"]
[null,null,null,{"$f":"IF(B1306=input_lists!$K$11,\"In the below table, provide details of your planned digitisation project\",\"\")","v":""},null,null,null,null,null,null,null,null,null,null,null,null,null,null,null,null,"x"]
[null,null,null,null,null,null,null,null,null,null,null,null,null,null,null,null,null,null,null,null,"x"]
["3.2.1","File type you plan to digitise to (master copy):","3.2.2","Volume of files you plan to digitise:",null,"3.2.3","File type of backup copies:","3.2.4","Resolution of Master Copy:","3.2.5","Resolution of Backup Copies:","3.2.6","Will you compress your files?","3.2.7","Colour scale used:",null,null,null,null,null,"x"]
[null,null,null,null,null,null,null,null,null,null,null,null,null,null,null,null,null,null,null,null,"x"]
[null,null,null,null,null,null,null,null,null,null,null,null,null,null,null,null,null,null,null,null,"x"]
[null,null,null,null,null,null,null,null,null,null,null,null,null,null,null,null,null,null,null,null,"x"]
[null,null,null,null,null,null,null,null,null,null,null,null,null,null,null,null,null,null,null,null,"x"]
[null,null,null,null,null,null,null,null,null,null,null,null,null,null,null,null,null,null,null,null,"x"]
[null,null,null,null,null,null,null,null,null,null,null,null,null,null,null,null,null,null,null,null,"x"]
[null,null,null,null,null,null,null,null,null,null,null,null,null,null,null,null,null,null,null,null,"x"]
[null,null,null,null,null,null,null,null,null,null,null,null,null,null,null,null,null,null,null,null,"x"]
[null,null,null,null,null,null,null,null,null,null,null,null,null,null,null,null,null,null,null,null,{"$f":"IF($A$1263=0,\"x\",\"\")","v":"x"}]
[{"$f":"CONCATENATE(\"Section 4 - Paper Records - \",A1263)","v":"Section 4 - Paper Records - 0"},null,null,null,null,null,null,null,null,null,null,null,null,null,null,null,null,null,null,null,"x"]
[{"$f":"CONCATENATE(\"This section is for users who have decided on the paper based calculations approach for \",A1263)","v":"This section is for users who have decided on the paper based calculations approach for 0"},null,null,null,null,null,null,null,null,null,null,null,null,null,null,null,null,null,null,null,"x"]
[4.0999999999999996,{"$f":"CONCATENATE(\"Paper records - \",A1263)","v":"Paper records - 0"},null,null,null,null,null,null,null,null,null,null,null,null,null,null,null,null,null,null,"x"]
["4.1.1",{"$f":"CONCATENATE(\"What is the average annual volume of paper records created by \",A1262,\"? This figure should reflect total records created, not just records which are deposited into the archive.\")","v":"What is the average annual volume of paper records created by ? This figure should reflect total records created, not just records which are deposited into the archive."},null,"4.1.2","How many backup / access copies will you incorporate into the digital archive? (\"0\" means only the master copy will be preserved; \"1\" means the master copy and one copy will be preserved, etc.).",null,null,null,null,null,null,null,null,null,null,null,null,null,null,null,"x"]
[null,null,null,null,null,null,null,null,null,null,null,null,null,null,null,null,null,null,null,null,"x"]
[null,null,null,null,null,null,null,null,null,null,null,null,null,null,null,null,null,null,null,null,"x"]
[null,null,null,null,null,null,null,null,null,null,null,null,null,null,null,null,null,null,null,null,"x"]
[null,null,null,null,null,null,null,null,null,null,null,null,null,null,null,null,null,null,null,null,"x"]
[{"$f":"selected_functions!A26","v":0},null,null,null,null,null,null,null,null,null,null,null,null,null,null,null,null,null,null,null,{"$f":"IF($A$1326=0,\"x\",\"\")","v":"x"}]
[{"$f":"CONCATENATE(\"Section 1 - Percentage of records to be preserved - \",A1326)","v":"Section 1 - Percentage of records to be preserved - 0"},null,null,null,null,null,null,null,null,null,null,null,null,null,null,null,null,null,null,null,"x"]
[1.1000000000000001,{"$f":"CONCATENATE(\"Percentage of records to be preserved - \",A1326)","v":"Percentage of records to be preserved - 0"},null,null,null,null,null,null,null,null,null,null,null,null,null,null,null,null,null,null,"x"]
["1.1.1",{"$f":"CONCATENATE(\"This table provides a guide for the percentage of records aligned with different retention schedules for \",A1326,\". You may wish to use this to inform the answer you provide in question 1.1.2\")","v":"This table provides a guide for the percentage of records aligned with different retention schedules for 0. You may wish to use this to inform the answer you provide in question 1.1.2"},null,"1.1.2",{"$f":"CONCATENATE(\"What is the percentage of records you intend to incorporate into the digital archive for \",A1326,\"?\")","v":"What is the percentage of records you intend to incorporate into the digital archive for 0?"},null,null,null,null,null,null,null,null,null,null,null,null,null,null,null,"x"]
[null,null,null,null,null,null,null,null,null,null,null,null,null,null,null,null,null,null,null,null,"x"]
[{"$f":"B1331&A1326","v":"Permanent0"},"Permanent",{"$f":"IFERROR(VLOOKUP(A1331,retention_schedules!C:D,2,FALSE),\"\")","v":""},null,null,null,null,null,null,null,null,null,null,null,null,null,null,null,null,null,"x"]
[{"$f":"B1332&A1326","v":"30 years +0"},"30 years +",{"$f":"IFERROR(VLOOKUP(A1332,retention_schedules!C:D,2,FALSE),\"\")","v":""},null,null,null,null,null,null,null,null,null,null,null,null,null,null,null,null,null,"x"]
[{"$f":"B1333&A1326","v":"20 years +0"},"20 years +",{"$f":"IFERROR(VLOOKUP(A1333,retention_schedules!C:D,2,FALSE),\"\")","v":""},null,null,null,null,null,null,null,null,null,null,null,null,null,null,null,null,null,"x"]
[{"$f":"B1334&A1326","v":"10 years +0"},"10 years +",{"$f":"IFERROR(VLOOKUP(A1334,retention_schedules!C:D,2,FALSE),\"\")","v":""},null,null,null,null,null,null,null,null,null,null,null,null,null,null,null,null,null,"x"]
[{"$f":"B1335&A1326","v":"All records0"},"All records",{"$f":"IFERROR(VLOOKUP(A1335,retention_schedules!C:D,2,FALSE),\"\")","v":""},null,null,null,null,null,null,null,null,null,null,null,null,null,null,null,null,null,"x"]
[{"$f":"CONCATENATE(\"Section 2 - Digital Records - \",A1326)","v":"Section 2 - Digital Records - 0"},null,null,null,null,null,null,null,null,null,null,null,null,null,null,null,null,null,null,null,"x"]
[{"$f":"CONCATENATE(\"Note - if you do not have information about the digital records system for \",A1326,\"  then proceed to section three\")","v":"Note - if you do not have information about the digital records system for 0  then proceed to section three"},null,null,null,null,null,null,null,null,null,null,null,null,null,null,null,null,null,null,null,"x"]
[2.1,{"$f":"CONCATENATE(\"EDRM and Content Management Systems - \",A1326)","v":"EDRM and Content Management Systems - 0"},null,null,null,null,null,null,null,null,null,null,null,null,null,null,null,null,null,null,"x"]
["2.1.1","In which year did you migrate onto the current EDRM / Content Management systems?",null,"2.1.2","What is the total volume of digital records held on the EDRM / Content Management systems?",null,null,"2.1.3","How many backup copies are held on your EDRM / Content Management systems? (\"0\" means no backup copies are held, \"1\" means the system contains one backup copy as well as the master copy, etc)",null,null,null,null,null,null,null,null,null,null,null,"x"]
[null,null,null,null,null,null,null,null,null,null,null,null,null,null,null,null,null,null,null,null,"x"]
[null,null,null,null,null,null,null,null,null,null,null,null,null,null,null,null,null,null,null,null,"x"]
[null,null,null,null,null,null,null,null,null,null,null,null,null,null,null,null,null,null,null,null,"x"]
[2.2000000000000002,{"$f":"CONCATENATE(\"Born Digital Records - outside the EDRM / Content Management systems - \",A1326)","v":"Born Digital Records - outside the EDRM / Content Management systems - 0"},null,null,null,null,null,null,null,null,null,null,null,null,null,null,null,null,null,null,"x"]
["2.2.1","What is the volume of  digital records held outwith the EDRM/ Content Management systems (e.g. on shared drives)? If you are not sure of the exact figure then please provide an estimate.",null,null,null,null,null,"2.2.2","How many backup copies are held on digital systems that sit outside the EDRM / Content Management systems? (\"0\" means no backup copies are held, \"1\" means that one backup copy as well as the master copy is held, etc.). If you are not sure of an exact figure then provide an estimate",null,null,null,null,null,null,null,null,null,null,null,"x"]
[null,null,null,null,null,null,null,null,null,null,null,null,null,null,null,null,null,null,null,null,"x"]
[null,null,null,null,null,null,null,null,null,null,null,null,null,null,null,null,null,null,null,null,"x"]
[null,null,null,null,null,null,null,null,null,null,null,null,null,null,null,null,null,null,null,null,"x"]
[2.2999999999999998,{"$f":"CONCATENATE(\"Backup copies - \",A1326)","v":"Backup copies - 0"},null,null,null,null,null,null,null,null,null,null,null,null,null,null,null,null,null,null,"x"]
["2.3.1","How many backup / access copies will you incorporate into the digital archive? (\"0\" means only the master copy will be preserved; \"1\" means the master copy and one copy will be preserved, etc.).",null,"2.3.2","When you migrate files in to the archive, will the backup copies of any of the records recorded in sections 2.1 and 2.2 be of a lower resolution / different file type to the master copy? (If you do not know the answer to this, select \"no\")",null,null,null,null,null,null,null,null,null,null,null,null,null,null,null,"x"]
[null,null,null,null,null,null,null,null,null,null,null,null,null,null,null,null,null,null,null,null,"x"]
[null,null,null,null,null,null,{"$f":"IF(E1351=input_lists!$K$11,\"In the below table, provide details of the files you plan to archive with different backup resolutions\",\"\")","v":""},null,null,null,null,null,null,null,null,null,null,null,null,null,"x"]
[null,null,null,null,null,null,null,null,null,null,null,null,null,null,null,null,null,null,null,null,"x"]
[null,null,null,null,"Master Copy file type","Master Copy resolution","Master Copy volume (do not include duplicates)","units","Backup Copy file type","Backup Copy resolution","Are these master copies held on the EDRM/Content Management system or off the EDRM/Content Management system?",null,null,null,null,null,null,null,null,null,"x"]
[null,null,null,null,null,null,null,null,null,null,null,null,null,null,null,null,null,null,null,null,"x"]
[null,null,null,null,null,null,null,null,null,null,null,null,null,null,null,null,null,null,null,null,"x"]
[null,null,null,null,null,null,null,null,null,null,null,null,null,null,null,null,null,null,null,null,"x"]
[null,null,null,null,null,null,null,null,null,null,null,null,null,null,null,null,null,null,null,null,"x"]
[null,null,null,null,null,null,null,null,null,null,null,null,null,null,null,null,null,null,null,null,{"$f":"IF($A$1326=0,\"x\",\"\")","v":"x"}]
[null,null,null,null,null,null,null,null,null,null,null,null,null,null,null,null,null,null,null,null,"x"]
[null,null,null,null,null,null,null,null,null,null,null,null,null,null,null,null,null,null,null,null,"x"]
[null,null,null,null,null,null,null,null,null,null,null,null,null,null,null,null,null,null,null,null,"x"]
[null,null,null,null,null,null,null,null,null,null,null,null,null,null,null,null,null,null,null,null,"x"]
[null,null,null,null,null,null,null,null,null,null,null,null,null,null,null,null,null,null,null,null,"x"]
[{"$f":"CONCATENATE(\"Section 3 - Planned Digitisation - \",A1326)","v":"Section 3 - Planned Digitisation - 0"},null,null,null,null,null,null,null,null,null,null,null,null,null,null,null,null,null,null,null,"x"]
["Note: any records that are already digitised should be recorded in Section 2 - Digital Records (above)",null,null,null,null,null,null,null,null,null,null,null,null,null,null,null,null,null,null,null,"x"]
[3.1,{"$f":"CONCATENATE(\"Records planned for digitisation - provide details for each file type you plan on digitising in relation to - \",A1326)","v":"Records planned for digitisation - provide details for each file type you plan on digitising in relation to - 0"},null,null,null,null,null,null,null,null,null,null,null,null,null,null,null,null,null,null,"x"]
["3.1.1",{"$f":"CONCATENATE(\"Are there any large digitisation projects planned within \",A1326,\" in the near future? (If you do not know the answer to this question, select no.)\")","v":"Are there any large digitisation projects planned within 0 in the near future? (If you do not know the answer to this question, select no.)"},null,null,null,null,null,null,null,null,null,null,null,null,null,null,null,null,null,null,"x"]
[null,null,null,null,null,null,null,null,null,null,null,null,null,null,null,null,null,null,null,null,"x"]
[null,null,null,{"$f":"IF(B1369=input_lists!$K$11,\"In the below table, provide details of your planned digitisation project\",\"\")","v":""},null,null,null,null,null,null,null,null,null,null,null,null,null,null,null,null,"x"]
[null,null,null,null,null,null,null,null,null,null,null,null,null,null,null,null,null,null,null,null,"x"]
["3.2.1","File type you plan to digitise to (master copy):","3.2.2","Volume of files you plan to digitise:",null,"3.2.3","File type of backup copies:","3.2.4","Resolution of Master Copy:","3.2.5","Resolution of Backup Copies:","3.2.6","Will you compress your files?","3.2.7","Colour scale used:",null,null,null,null,null,"x"]
[null,null,null,null,null,null,null,null,null,null,null,null,null,null,null,null,null,null,null,null,"x"]
[null,null,null,null,null,null,null,null,null,null,null,null,null,null,null,null,null,null,null,null,"x"]
[null,null,null,null,null,null,null,null,null,null,null,null,null,null,null,null,null,null,null,null,"x"]
[null,null,null,null,null,null,null,null,null,null,null,null,null,null,null,null,null,null,null,null,"x"]
[null,null,null,null,null,null,null,null,null,null,null,null,null,null,null,null,null,null,null,null,"x"]
[null,null,null,null,null,null,null,null,null,null,null,null,null,null,null,null,null,null,null,null,"x"]
[null,null,null,null,null,null,null,null,null,null,null,null,null,null,null,null,null,null,null,null,"x"]
[null,null,null,null,null,null,null,null,null,null,null,null,null,null,null,null,null,null,null,null,"x"]
[null,null,null,null,null,null,null,null,null,null,null,null,null,null,null,null,null,null,null,null,{"$f":"IF($A$1326=0,\"x\",\"\")","v":"x"}]
[{"$f":"CONCATENATE(\"Section 4 - Paper Records - \",A1326)","v":"Section 4 - Paper Records - 0"},null,null,null,null,null,null,null,null,null,null,null,null,null,null,null,null,null,null,null,"x"]
[{"$f":"CONCATENATE(\"This section is for users who have decided on the paper based calculations approach for \",A1326)","v":"This section is for users who have decided on the paper based calculations approach for 0"},null,null,null,null,null,null,null,null,null,null,null,null,null,null,null,null,null,null,null,"x"]
[4.0999999999999996,{"$f":"CONCATENATE(\"Paper records - \",A1326)","v":"Paper records - 0"},null,null,null,null,null,null,null,null,null,null,null,null,null,null,null,null,null,null,"x"]
["4.1.1",{"$f":"CONCATENATE(\"What is the average annual volume of paper records created by \",A1325,\"? This figure should reflect total records created, not just records which are deposited into the archive.\")","v":"What is the average annual volume of paper records created by ? This figure should reflect total records created, not just records which are deposited into the archive."},null,"4.1.2","How many backup / access copies will you incorporate into the digital archive? (\"0\" means only the master copy will be preserved; \"1\" means the master copy and one copy will be preserved, etc.).",null,null,null,null,null,null,null,null,null,null,null,null,null,null,null,"x"]
[null,null,null,null,null,null,null,null,null,null,null,null,null,null,null,null,null,null,null,null,"x"]
[null,null,null,null,null,null,null,null,null,null,null,null,null,null,null,null,null,null,null,null,"x"]
[null,null,null,null,null,null,null,null,null,null,null,null,null,null,null,null,null,null,null,null,"x"]
[null,null,null,null,null,null,null,null,null,null,null,null,null,null,null,null,null,null,null,null,"x"]
[{"$f":"selected_functions!A27","v":0},null,null,null,null,null,null,null,null,null,null,null,null,null,null,null,null,null,null,null,{"$f":"IF($A$1389=0,\"x\",\"\")","v":"x"}]
[{"$f":"CONCATENATE(\"Section 1 - Percentage of records to be preserved - \",A1389)","v":"Section 1 - Percentage of records to be preserved - 0"},null,null,null,null,null,null,null,null,null,null,null,null,null,null,null,null,null,null,null,"x"]
[1.1000000000000001,{"$f":"CONCATENATE(\"Percentage of records to be preserved - \",A1389)","v":"Percentage of records to be preserved - 0"},null,null,null,null,null,null,null,null,null,null,null,null,null,null,null,null,null,null,"x"]
["1.1.1",{"$f":"CONCATENATE(\"This table provides a guide for the percentage of records aligned with different retention schedules for \",A1389,\". You may wish to use this to inform the answer you provide in question 1.1.2\")","v":"This table provides a guide for the percentage of records aligned with different retention schedules for 0. You may wish to use this to inform the answer you provide in question 1.1.2"},null,"1.1.2",{"$f":"CONCATENATE(\"What is the percentage of records you intend to incorporate into the digital archive for \",A1389,\"?\")","v":"What is the percentage of records you intend to incorporate into the digital archive for 0?"},null,null,null,null,null,null,null,null,null,null,null,null,null,null,null,"x"]
[null,null,null,null,null,null,null,null,null,null,null,null,null,null,null,null,null,null,null,null,"x"]
[{"$f":"B1394&A1389","v":"Permanent0"},"Permanent",{"$f":"IFERROR(VLOOKUP(A1394,retention_schedules!C:D,2,FALSE),\"\")","v":""},null,null,null,null,null,null,null,null,null,null,null,null,null,null,null,null,null,"x"]
[{"$f":"B1395&A1389","v":"30 years +0"},"30 years +",{"$f":"IFERROR(VLOOKUP(A1395,retention_schedules!C:D,2,FALSE),\"\")","v":""},null,null,null,null,null,null,null,null,null,null,null,null,null,null,null,null,null,"x"]
[{"$f":"B1396&A1389","v":"20 years +0"},"20 years +",{"$f":"IFERROR(VLOOKUP(A1396,retention_schedules!C:D,2,FALSE),\"\")","v":""},null,null,null,null,null,null,null,null,null,null,null,null,null,null,null,null,null,"x"]
[{"$f":"B1397&A1389","v":"10 years +0"},"10 years +",{"$f":"IFERROR(VLOOKUP(A1397,retention_schedules!C:D,2,FALSE),\"\")","v":""},null,null,null,null,null,null,null,null,null,null,null,null,null,null,null,null,null,"x"]
[{"$f":"B1398&A1389","v":"All records0"},"All records",{"$f":"IFERROR(VLOOKUP(A1398,retention_schedules!C:D,2,FALSE),\"\")","v":""},null,null,null,null,null,null,null,null,null,null,null,null,null,null,null,null,null,"x"]
[{"$f":"CONCATENATE(\"Section 2 - Digital Records - \",A1389)","v":"Section 2 - Digital Records - 0"},null,null,null,null,null,null,null,null,null,null,null,null,null,null,null,null,null,null,null,"x"]
[{"$f":"CONCATENATE(\"Note - if you do not have information about the digital records system for \",A1389,\"  then proceed to section three\")","v":"Note - if you do not have information about the digital records system for 0  then proceed to section three"},null,null,null,null,null,null,null,null,null,null,null,null,null,null,null,null,null,null,null,"x"]
[2.1,{"$f":"CONCATENATE(\"EDRM and Content Management Systems - \",A1389)","v":"EDRM and Content Management Systems - 0"},null,null,null,null,null,null,null,null,null,null,null,null,null,null,null,null,null,null,"x"]
["2.1.1","In which year did you migrate onto the current EDRM / Content Management systems?",null,"2.1.2","What is the total volume of digital records held on the EDRM / Content Management systems?",null,null,"2.1.3","How many backup copies are held on your EDRM / Content Management systems? (\"0\" means no backup copies are held, \"1\" means the system contains one backup copy as well as the master copy, etc)",null,null,null,null,null,null,null,null,null,null,null,"x"]
[null,null,null,null,null,null,null,null,null,null,null,null,null,null,null,null,null,null,null,null,"x"]
[null,null,null,null,null,null,null,null,null,null,null,null,null,null,null,null,null,null,null,null,"x"]
[null,null,null,null,null,null,null,null,null,null,null,null,null,null,null,null,null,null,null,null,"x"]
[2.2000000000000002,{"$f":"CONCATENATE(\"Born Digital Records - outside the EDRM / Content Management systems - \",A1389)","v":"Born Digital Records - outside the EDRM / Content Management systems - 0"},null,null,null,null,null,null,null,null,null,null,null,null,null,null,null,null,null,null,"x"]
["2.2.1","What is the volume of  digital records held outwith the EDRM/ Content Management systems (e.g. on shared drives)? If you are not sure of the exact figure then please provide an estimate.",null,null,null,null,null,"2.2.2","How many backup copies are held on digital systems that sit outside the EDRM / Content Management systems? (\"0\" means no backup copies are held, \"1\" means that one backup copy as well as the master copy is held, etc.). If you are not sure of an exact figure then provide an estimate",null,null,null,null,null,null,null,null,null,null,null,"x"]
[null,null,null,null,null,null,null,null,null,null,null,null,null,null,null,null,null,null,null,null,"x"]
[null,null,null,null,null,null,null,null,null,null,null,null,null,null,null,null,null,null,null,null,"x"]
[null,null,null,null,null,null,null,null,null,null,null,null,null,null,null,null,null,null,null,null,"x"]
[2.2999999999999998,{"$f":"CONCATENATE(\"Backup copies - \",A1389)","v":"Backup copies - 0"},null,null,null,null,null,null,null,null,null,null,null,null,null,null,null,null,null,null,"x"]
["2.3.1","How many backup / access copies will you incorporate into the digital archive? (\"0\" means only the master copy will be preserved; \"1\" means the master copy and one copy will be preserved, etc.).",null,"2.3.2","When you migrate files in to the archive, will the backup copies of any of the records recorded in sections 2.1 and 2.2 be of a lower resolution / different file type to the master copy? (If you do not know the answer to this, select \"no\")",null,null,null,null,null,null,null,null,null,null,null,null,null,null,null,"x"]
[null,null,null,null,null,null,null,null,null,null,null,null,null,null,null,null,null,null,null,null,"x"]
[null,null,null,null,null,null,{"$f":"IF(E1414=input_lists!$K$11,\"In the below table, provide details of the files you plan to archive with different backup resolutions\",\"\")","v":""},null,null,null,null,null,null,null,null,null,null,null,null,null,"x"]
[null,null,null,null,null,null,null,null,null,null,null,null,null,null,null,null,null,null,null,null,"x"]
[null,null,null,null,"Master Copy file type","Master Copy resolution","Master Copy volume (do not include duplicates)","units","Backup Copy file type","Backup Copy resolution","Are these master copies held on the EDRM/Content Management system or off the EDRM/Content Management system?",null,null,null,null,null,null,null,null,null,"x"]
[null,null,null,null,null,null,null,null,null,null,null,null,null,null,null,null,null,null,null,null,"x"]
[null,null,null,null,null,null,null,null,null,null,null,null,null,null,null,null,null,null,null,null,"x"]
[null,null,null,null,null,null,null,null,null,null,null,null,null,null,null,null,null,null,null,null,"x"]
[null,null,null,null,null,null,null,null,null,null,null,null,null,null,null,null,null,null,null,null,"x"]
[null,null,null,null,null,null,null,null,null,null,null,null,null,null,null,null,null,null,null,null,{"$f":"IF($A$1389=0,\"x\",\"\")","v":"x"}]
[null,null,null,null,null,null,null,null,null,null,null,null,null,null,null,null,null,null,null,null,"x"]
[null,null,null,null,null,null,null,null,null,null,null,null,null,null,null,null,null,null,null,null,"x"]
[null,null,null,null,null,null,null,null,null,null,null,null,null,null,null,null,null,null,null,null,"x"]
[null,null,null,null,null,null,null,null,null,null,null,null,null,null,null,null,null,null,null,null,"x"]
[null,null,null,null,null,null,null,null,null,null,null,null,null,null,null,null,null,null,null,null,"x"]
[{"$f":"CONCATENATE(\"Section 3 - Planned Digitisation - \",A1389)","v":"Section 3 - Planned Digitisation - 0"},null,null,null,null,null,null,null,null,null,null,null,null,null,null,null,null,null,null,null,"x"]
["Note: any records that are already digitised should be recorded in Section 2 - Digital Records (above)",null,null,null,null,null,null,null,null,null,null,null,null,null,null,null,null,null,null,null,"x"]
[3.1,{"$f":"CONCATENATE(\"Records planned for digitisation - provide details for each file type you plan on digitising in relation to - \",A1389)","v":"Records planned for digitisation - provide details for each file type you plan on digitising in relation to - 0"},null,null,null,null,null,null,null,null,null,null,null,null,null,null,null,null,null,null,"x"]
["3.1.1",{"$f":"CONCATENATE(\"Are there any large digitisation projects planned within \",A1389,\" in the near future? (If you do not know the answer to this question, select no.)\")","v":"Are there any large digitisation projects planned within 0 in the near future? (If you do not know the answer to this question, select no.)"},null,null,null,null,null,null,null,null,null,null,null,null,null,null,null,null,null,null,"x"]
[null,null,null,null,null,null,null,null,null,null,null,null,null,null,null,null,null,null,null,null,"x"]
[null,null,null,{"$f":"IF(B1432=input_lists!$K$11,\"In the below table, provide details of your planned digitisation project\",\"\")","v":""},null,null,null,null,null,null,null,null,null,null,null,null,null,null,null,null,"x"]
[null,null,null,null,null,null,null,null,null,null,null,null,null,null,null,null,null,null,null,null,"x"]
["3.2.1","File type you plan to digitise to (master copy):","3.2.2","Volume of files you plan to digitise:",null,"3.2.3","File type of backup copies:","3.2.4","Resolution of Master Copy:","3.2.5","Resolution of Backup Copies:","3.2.6","Will you compress your files?","3.2.7","Colour scale used:",null,null,null,null,null,"x"]
[null,null,null,null,null,null,null,null,null,null,null,null,null,null,null,null,null,null,null,null,"x"]
[null,null,null,null,null,null,null,null,null,null,null,null,null,null,null,null,null,null,null,null,"x"]
[null,null,null,null,null,null,null,null,null,null,null,null,null,null,null,null,null,null,null,null,"x"]
[null,null,null,null,null,null,null,null,null,null,null,null,null,null,null,null,null,null,null,null,"x"]
[null,null,null,null,null,null,null,null,null,null,null,null,null,null,null,null,null,null,null,null,"x"]
[null,null,null,null,null,null,null,null,null,null,null,null,null,null,null,null,null,null,null,null,"x"]
[null,null,null,null,null,null,null,null,null,null,null,null,null,null,null,null,null,null,null,null,"x"]
[null,null,null,null,null,null,null,null,null,null,null,null,null,null,null,null,null,null,null,null,"x"]
[null,null,null,null,null,null,null,null,null,null,null,null,null,null,null,null,null,null,null,null,{"$f":"IF($A$1389=0,\"x\",\"\")","v":"x"}]
[{"$f":"CONCATENATE(\"Section 4 - Paper Records - \",A1389)","v":"Section 4 - Paper Records - 0"},null,null,null,null,null,null,null,null,null,null,null,null,null,null,null,null,null,null,null,"x"]
[{"$f":"CONCATENATE(\"This section is for users who have decided on the paper based calculations approach for \",A1389)","v":"This section is for users who have decided on the paper based calculations approach for 0"},null,null,null,null,null,null,null,null,null,null,null,null,null,null,null,null,null,null,null,"x"]
[4.0999999999999996,{"$f":"CONCATENATE(\"Paper records - \",A1389)","v":"Paper records - 0"},null,null,null,null,null,null,null,null,null,null,null,null,null,null,null,null,null,null,"x"]
["4.1.1",{"$f":"CONCATENATE(\"What is the average annual volume of paper records created by \",A1388,\"? This figure should reflect total records created, not just records which are deposited into the archive.\")","v":"What is the average annual volume of paper records created by ? This figure should reflect total records created, not just records which are deposited into the archive."},null,"4.1.2","How many backup / access copies will you incorporate into the digital archive? (\"0\" means only the master copy will be preserved; \"1\" means the master copy and one copy will be preserved, etc.).",null,null,null,null,null,null,null,null,null,null,null,null,null,null,null,"x"]
[null,null,null,null,null,null,null,null,null,null,null,null,null,null,null,null,null,null,null,null,"x"]
[null,null,null,null,null,null,null,null,null,null,null,null,null,null,null,null,null,null,null,null,"x"]
[null,null,null,null,null,null,null,null,null,null,null,null,null,null,null,null,null,null,null,null,"x"]
[null,null,null,null,null,null,null,null,null,null,null,null,null,null,null,null,null,null,null,null,"x"]
[{"$f":"selected_functions!A28","v":0},null,null,null,null,null,null,null,null,null,null,null,null,null,null,null,null,null,null,null,{"$f":"IF($A$1452=0,\"x\",\"\")","v":"x"}]
[{"$f":"CONCATENATE(\"Section 1 - Percentage of records to be preserved - \",A1452)","v":"Section 1 - Percentage of records to be preserved - 0"},null,null,null,null,null,null,null,null,null,null,null,null,null,null,null,null,null,null,null,"x"]
[1.1000000000000001,{"$f":"CONCATENATE(\"Percentage of records to be preserved - \",A1452)","v":"Percentage of records to be preserved - 0"},null,null,null,null,null,null,null,null,null,null,null,null,null,null,null,null,null,null,"x"]
["1.1.1",{"$f":"CONCATENATE(\"This table provides a guide for the percentage of records aligned with different retention schedules for \",A1452,\". You may wish to use this to inform the answer you provide in question 1.1.2\")","v":"This table provides a guide for the percentage of records aligned with different retention schedules for 0. You may wish to use this to inform the answer you provide in question 1.1.2"},null,"1.1.2",{"$f":"CONCATENATE(\"What is the percentage of records you intend to incorporate into the digital archive for \",A1452,\"?\")","v":"What is the percentage of records you intend to incorporate into the digital archive for 0?"},null,null,null,null,null,null,null,null,null,null,null,null,null,null,null,"x"]
[null,null,null,null,null,null,null,null,null,null,null,null,null,null,null,null,null,null,null,null,"x"]
[{"$f":"B1457&A1452","v":"Permanent0"},"Permanent",{"$f":"IFERROR(VLOOKUP(A1457,retention_schedules!C:D,2,FALSE),\"\")","v":""},null,null,null,null,null,null,null,null,null,null,null,null,null,null,null,null,null,"x"]
[{"$f":"B1458&A1452","v":"30 years +0"},"30 years +",{"$f":"IFERROR(VLOOKUP(A1458,retention_schedules!C:D,2,FALSE),\"\")","v":""},null,null,null,null,null,null,null,null,null,null,null,null,null,null,null,null,null,"x"]
[{"$f":"B1459&A1452","v":"20 years +0"},"20 years +",{"$f":"IFERROR(VLOOKUP(A1459,retention_schedules!C:D,2,FALSE),\"\")","v":""},null,null,null,null,null,null,null,null,null,null,null,null,null,null,null,null,null,"x"]
[{"$f":"B1460&A1452","v":"10 years +0"},"10 years +",{"$f":"IFERROR(VLOOKUP(A1460,retention_schedules!C:D,2,FALSE),\"\")","v":""},null,null,null,null,null,null,null,null,null,null,null,null,null,null,null,null,null,"x"]
[{"$f":"B1461&A1452","v":"All records0"},"All records",{"$f":"IFERROR(VLOOKUP(A1461,retention_schedules!C:D,2,FALSE),\"\")","v":""},null,null,null,null,null,null,null,null,null,null,null,null,null,null,null,null,null,"x"]
[{"$f":"CONCATENATE(\"Section 2 - Digital Records - \",A1452)","v":"Section 2 - Digital Records - 0"},null,null,null,null,null,null,null,null,null,null,null,null,null,null,null,null,null,null,null,"x"]
[{"$f":"CONCATENATE(\"Note - if you do not have information about the digital records system for \",A1452,\"  then proceed to section three\")","v":"Note - if you do not have information about the digital records system for 0  then proceed to section three"},null,null,null,null,null,null,null,null,null,null,null,null,null,null,null,null,null,null,null,"x"]
[2.1,{"$f":"CONCATENATE(\"EDRM and Content Management Systems - \",A1452)","v":"EDRM and Content Management Systems - 0"},null,null,null,null,null,null,null,null,null,null,null,null,null,null,null,null,null,null,"x"]
["2.1.1","In which year did you migrate onto the current EDRM / Content Management systems?",null,"2.1.2","What is the total volume of digital records held on the EDRM / Content Management systems?",null,null,"2.1.3","How many backup copies are held on your EDRM / Content Management systems? (\"0\" means no backup copies are held, \"1\" means the system contains one backup copy as well as the master copy, etc)",null,null,null,null,null,null,null,null,null,null,null,"x"]
[null,null,null,null,null,null,null,null,null,null,null,null,null,null,null,null,null,null,null,null,"x"]
[null,null,null,null,null,null,null,null,null,null,null,null,null,null,null,null,null,null,null,null,"x"]
[null,null,null,null,null,null,null,null,null,null,null,null,null,null,null,null,null,null,null,null,"x"]
[2.2000000000000002,{"$f":"CONCATENATE(\"Born Digital Records - outside the EDRM / Content Management systems - \",A1452)","v":"Born Digital Records - outside the EDRM / Content Management systems - 0"},null,null,null,null,null,null,null,null,null,null,null,null,null,null,null,null,null,null,"x"]
["2.2.1","What is the volume of  digital records held outwith the EDRM/ Content Management systems (e.g. on shared drives)? If you are not sure of the exact figure then please provide an estimate.",null,null,null,null,null,"2.2.2","How many backup copies are held on digital systems that sit outside the EDRM / Content Management systems? (\"0\" means no backup copies are held, \"1\" means that one backup copy as well as the master copy is held, etc.). If you are not sure of an exact figure then provide an estimate",null,null,null,null,null,null,null,null,null,null,null,"x"]
[null,null,null,null,null,null,null,null,null,null,null,null,null,null,null,null,null,null,null,null,"x"]
[null,null,null,null,null,null,null,null,null,null,null,null,null,null,null,null,null,null,null,null,"x"]
[null,null,null,null,null,null,null,null,null,null,null,null,null,null,null,null,null,null,null,null,"x"]
[2.2999999999999998,{"$f":"CONCATENATE(\"Backup copies - \",A1452)","v":"Backup copies - 0"},null,null,null,null,null,null,null,null,null,null,null,null,null,null,null,null,null,null,"x"]
["2.3.1","How many backup / access copies will you incorporate into the digital archive? (\"0\" means only the master copy will be preserved; \"1\" means the master copy and one copy will be preserved, etc.).",null,"2.3.2","When you migrate files in to the archive, will the backup copies of any of the records recorded in sections 2.1 and 2.2 be of a lower resolution / different file type to the master copy? (If you do not know the answer to this, select \"no\")",null,null,null,null,null,null,null,null,null,null,null,null,null,null,null,"x"]
[null,null,null,null,null,null,null,null,null,null,null,null,null,null,null,null,null,null,null,null,"x"]
[null,null,null,null,null,null,{"$f":"IF(E1477=input_lists!$K$11,\"In the below table, provide details of the files you plan to archive with different backup resolutions\",\"\")","v":""},null,null,null,null,null,null,null,null,null,null,null,null,null,"x"]
[null,null,null,null,null,null,null,null,null,null,null,null,null,null,null,null,null,null,null,null,"x"]
[null,null,null,null,"Master Copy file type","Master Copy resolution","Master Copy volume (do not include duplicates)","units","Backup Copy file type","Backup Copy resolution","Are these master copies held on the EDRM/Content Management system or off the EDRM/Content Management system?",null,null,null,null,null,null,null,null,null,"x"]
[null,null,null,null,null,null,null,null,null,null,null,null,null,null,null,null,null,null,null,null,"x"]
[null,null,null,null,null,null,null,null,null,null,null,null,null,null,null,null,null,null,null,null,"x"]
[null,null,null,null,null,null,null,null,null,null,null,null,null,null,null,null,null,null,null,null,"x"]
[null,null,null,null,null,null,null,null,null,null,null,null,null,null,null,null,null,null,null,null,"x"]
[null,null,null,null,null,null,null,null,null,null,null,null,null,null,null,null,null,null,null,null,{"$f":"IF($A$1452=0,\"x\",\"\")","v":"x"}]
[null,null,null,null,null,null,null,null,null,null,null,null,null,null,null,null,null,null,null,null,"x"]
[null,null,null,null,null,null,null,null,null,null,null,null,null,null,null,null,null,null,null,null,"x"]
[null,null,null,null,null,null,null,null,null,null,null,null,null,null,null,null,null,null,null,null,"x"]
[null,null,null,null,null,null,null,null,null,null,null,null,null,null,null,null,null,null,null,null,"x"]
[null,null,null,null,null,null,null,null,null,null,null,null,null,null,null,null,null,null,null,null,"x"]
[{"$f":"CONCATENATE(\"Section 3 - Planned Digitisation - \",A1452)","v":"Section 3 - Planned Digitisation - 0"},null,null,null,null,null,null,null,null,null,null,null,null,null,null,null,null,null,null,null,"x"]
["Note: any records that are already digitised should be recorded in Section 2 - Digital Records (above)",null,null,null,null,null,null,null,null,null,null,null,null,null,null,null,null,null,null,null,"x"]
[3.1,{"$f":"CONCATENATE(\"Records planned for digitisation - provide details for each file type you plan on digitising in relation to - \",A1452)","v":"Records planned for digitisation - provide details for each file type you plan on digitising in relation to - 0"},null,null,null,null,null,null,null,null,null,null,null,null,null,null,null,null,null,null,"x"]
["3.1.1",{"$f":"CONCATENATE(\"Are there any large digitisation projects planned within \",A1452,\" in the near future? (If you do not know the answer to this question, select no.)\")","v":"Are there any large digitisation projects planned within 0 in the near future? (If you do not know the answer to this question, select no.)"},null,null,null,null,null,null,null,null,null,null,null,null,null,null,null,null,null,null,"x"]
[null,null,null,null,null,null,null,null,null,null,null,null,null,null,null,null,null,null,null,null,"x"]
[null,null,null,{"$f":"IF(B1495=input_lists!$K$11,\"In the below table, provide details of your planned digitisation project\",\"\")","v":""},null,null,null,null,null,null,null,null,null,null,null,null,null,null,null,null,"x"]
[null,null,null,null,null,null,null,null,null,null,null,null,null,null,null,null,null,null,null,null,"x"]
["3.2.1","File type you plan to digitise to (master copy):","3.2.2","Volume of files you plan to digitise:",null,"3.2.3","File type of backup copies:","3.2.4","Resolution of Master Copy:","3.2.5","Resolution of Backup Copies:","3.2.6","Will you compress your files?","3.2.7","Colour scale used:",null,null,null,null,null,"x"]
[null,null,null,null,null,null,null,null,null,null,null,null,null,null,null,null,null,null,null,null,"x"]
[null,null,null,null,null,null,null,null,null,null,null,null,null,null,null,null,null,null,null,null,"x"]
[null,null,null,null,null,null,null,null,null,null,null,null,null,null,null,null,null,null,null,null,"x"]
[null,null,null,null,null,null,null,null,null,null,null,null,null,null,null,null,null,null,null,null,"x"]
[null,null,null,null,null,null,null,null,null,null,null,null,null,null,null,null,null,null,null,null,"x"]
[null,null,null,null,null,null,null,null,null,null,null,null,null,null,null,null,null,null,null,null,"x"]
[null,null,null,null,null,null,null,null,null,null,null,null,null,null,null,null,null,null,null,null,"x"]
[null,null,null,null,null,null,null,null,null,null,null,null,null,null,null,null,null,null,null,null,"x"]
[null,null,null,null,null,null,null,null,null,null,null,null,null,null,null,null,null,null,null,null,{"$f":"IF($A$1452=0,\"x\",\"\")","v":"x"}]
[{"$f":"CONCATENATE(\"Section 4 - Paper Records - \",A1452)","v":"Section 4 - Paper Records - 0"},null,null,null,null,null,null,null,null,null,null,null,null,null,null,null,null,null,null,null,"x"]
[{"$f":"CONCATENATE(\"This section is for users who have decided on the paper based calculations approach for \",A1452)","v":"This section is for users who have decided on the paper based calculations approach for 0"},null,null,null,null,null,null,null,null,null,null,null,null,null,null,null,null,null,null,null,"x"]
[4.0999999999999996,{"$f":"CONCATENATE(\"Paper records - \",A1452)","v":"Paper records - 0"},null,null,null,null,null,null,null,null,null,null,null,null,null,null,null,null,null,null,"x"]
["4.1.1",{"$f":"CONCATENATE(\"What is the average annual volume of paper records created by \",A1451,\"? This figure should reflect total records created, not just records which are deposited into the archive.\")","v":"What is the average annual volume of paper records created by ? This figure should reflect total records created, not just records which are deposited into the archive."},null,"4.1.2","How many backup / access copies will you incorporate into the digital archive? (\"0\" means only the master copy will be preserved; \"1\" means the master copy and one copy will be preserved, etc.).",null,null,null,null,null,null,null,null,null,null,null,null,null,null,null,"x"]
[null,null,null,null,null,null,null,null,null,null,null,null,null,null,null,null,null,null,null,null,"x"]
[null,null,null,null,null,null,null,null,null,null,null,null,null,null,null,null,null,null,null,null,"x"]
[null,null,null,null,null,null,null,null,null,null,null,null,null,null,null,null,null,null,null,null,"x"]
[null,null,null,null,null,null,null,null,null,null,null,null,null,null,null,null,null,null,null,null,"x"]
[{"$f":"selected_functions!A29","v":0},null,null,null,null,null,null,null,null,null,null,null,null,null,null,null,null,null,null,null,{"$f":"IF($A$1515=0,\"x\",\"\")","v":"x"}]
[{"$f":"CONCATENATE(\"Section 1 - Percentage of records to be preserved - \",A1515)","v":"Section 1 - Percentage of records to be preserved - 0"},null,null,null,null,null,null,null,null,null,null,null,null,null,null,null,null,null,null,null,"x"]
[1.1000000000000001,{"$f":"CONCATENATE(\"Percentage of records to be preserved - \",A1515)","v":"Percentage of records to be preserved - 0"},null,null,null,null,null,null,null,null,null,null,null,null,null,null,null,null,null,null,"x"]
["1.1.1",{"$f":"CONCATENATE(\"This table provides a guide for the percentage of records aligned with different retention schedules for \",A1515,\". You may wish to use this to inform the answer you provide in question 1.1.2\")","v":"This table provides a guide for the percentage of records aligned with different retention schedules for 0. You may wish to use this to inform the answer you provide in question 1.1.2"},null,"1.1.2",{"$f":"CONCATENATE(\"What is the percentage of records you intend to incorporate into the digital archive for \",A1515,\"?\")","v":"What is the percentage of records you intend to incorporate into the digital archive for 0?"},null,null,null,null,null,null,null,null,null,null,null,null,null,null,null,"x"]
[null,null,null,null,null,null,null,null,null,null,null,null,null,null,null,null,null,null,null,null,"x"]
[{"$f":"B1520&A1515","v":"Permanent0"},"Permanent",{"$f":"IFERROR(VLOOKUP(A1520,retention_schedules!C:D,2,FALSE),\"\")","v":""},null,null,null,null,null,null,null,null,null,null,null,null,null,null,null,null,null,"x"]
[{"$f":"B1521&A1515","v":"30 years +0"},"30 years +",{"$f":"IFERROR(VLOOKUP(A1521,retention_schedules!C:D,2,FALSE),\"\")","v":""},null,null,null,null,null,null,null,null,null,null,null,null,null,null,null,null,null,"x"]
[{"$f":"B1522&A1515","v":"20 years +0"},"20 years +",{"$f":"IFERROR(VLOOKUP(A1522,retention_schedules!C:D,2,FALSE),\"\")","v":""},null,null,null,null,null,null,null,null,null,null,null,null,null,null,null,null,null,"x"]
[{"$f":"B1523&A1515","v":"10 years +0"},"10 years +",{"$f":"IFERROR(VLOOKUP(A1523,retention_schedules!C:D,2,FALSE),\"\")","v":""},null,null,null,null,null,null,null,null,null,null,null,null,null,null,null,null,null,"x"]
[{"$f":"B1524&A1515","v":"All records0"},"All records",{"$f":"IFERROR(VLOOKUP(A1524,retention_schedules!C:D,2,FALSE),\"\")","v":""},null,null,null,null,null,null,null,null,null,null,null,null,null,null,null,null,null,"x"]
[{"$f":"CONCATENATE(\"Section 2 - Digital Records - \",A1515)","v":"Section 2 - Digital Records - 0"},null,null,null,null,null,null,null,null,null,null,null,null,null,null,null,null,null,null,null,"x"]
[{"$f":"CONCATENATE(\"Note - if you do not have information about the digital records system for \",A1515,\"  then proceed to section three\")","v":"Note - if you do not have information about the digital records system for 0  then proceed to section three"},null,null,null,null,null,null,null,null,null,null,null,null,null,null,null,null,null,null,null,"x"]
[2.1,{"$f":"CONCATENATE(\"EDRM and Content Management Systems - \",A1515)","v":"EDRM and Content Management Systems - 0"},null,null,null,null,null,null,null,null,null,null,null,null,null,null,null,null,null,null,"x"]
["2.1.1","In which year did you migrate onto the current EDRM / Content Management systems?",null,"2.1.2","What is the total volume of digital records held on the EDRM / Content Management systems?",null,null,"2.1.3","How many backup copies are held on your EDRM / Content Management systems? (\"0\" means no backup copies are held, \"1\" means the system contains one backup copy as well as the master copy, etc)",null,null,null,null,null,null,null,null,null,null,null,"x"]
[null,null,null,null,null,null,null,null,null,null,null,null,null,null,null,null,null,null,null,null,"x"]
[null,null,null,null,null,null,null,null,null,null,null,null,null,null,null,null,null,null,null,null,"x"]
[null,null,null,null,null,null,null,null,null,null,null,null,null,null,null,null,null,null,null,null,"x"]
[2.2000000000000002,{"$f":"CONCATENATE(\"Born Digital Records - outside the EDRM / Content Management systems - \",A1515)","v":"Born Digital Records - outside the EDRM / Content Management systems - 0"},null,null,null,null,null,null,null,null,null,null,null,null,null,null,null,null,null,null,"x"]
["2.2.1","What is the volume of  digital records held outwith the EDRM/ Content Management systems (e.g. on shared drives)? If you are not sure of the exact figure then please provide an estimate.",null,null,null,null,null,"2.2.2","How many backup copies are held on digital systems that sit outside the EDRM / Content Management systems? (\"0\" means no backup copies are held, \"1\" means that one backup copy as well as the master copy is held, etc.). If you are not sure of an exact figure then provide an estimate",null,null,null,null,null,null,null,null,null,null,null,"x"]
[null,null,null,null,null,null,null,null,null,null,null,null,null,null,null,null,null,null,null,null,"x"]
[null,null,null,null,null,null,null,null,null,null,null,null,null,null,null,null,null,null,null,null,"x"]
[null,null,null,null,null,null,null,null,null,null,null,null,null,null,null,null,null,null,null,null,"x"]
[2.2999999999999998,{"$f":"CONCATENATE(\"Backup copies - \",A1515)","v":"Backup copies - 0"},null,null,null,null,null,null,null,null,null,null,null,null,null,null,null,null,null,null,"x"]
["2.3.1","How many backup / access copies will you incorporate into the digital archive? (\"0\" means only the master copy will be preserved; \"1\" means the master copy and one copy will be preserved, etc.).",null,"2.3.2","When you migrate files in to the archive, will the backup copies of any of the records recorded in sections 2.1 and 2.2 be of a lower resolution / different file type to the master copy? (If you do not know the answer to this, select \"no\")",null,null,null,null,null,null,null,null,null,null,null,null,null,null,null,"x"]
[null,null,null,null,null,null,null,null,null,null,null,null,null,null,null,null,null,null,null,null,"x"]
[null,null,null,null,null,null,{"$f":"IF(E1540=input_lists!$K$11,\"In the below table, provide details of the files you plan to archive with different backup resolutions\",\"\")","v":""},null,null,null,null,null,null,null,null,null,null,null,null,null,"x"]
[null,null,null,null,null,null,null,null,null,null,null,null,null,null,null,null,null,null,null,null,"x"]
[null,null,null,null,"Master Copy file type","Master Copy resolution","Master Copy volume (do not include duplicates)","units","Backup Copy file type","Backup Copy resolution","Are these master copies held on the EDRM/Content Management system or off the EDRM/Content Management system?",null,null,null,null,null,null,null,null,null,"x"]
[null,null,null,null,null,null,null,null,null,null,null,null,null,null,null,null,null,null,null,null,"x"]
[null,null,null,null,null,null,null,null,null,null,null,null,null,null,null,null,null,null,null,null,"x"]
[null,null,null,null,null,null,null,null,null,null,null,null,null,null,null,null,null,null,null,null,"x"]
[null,null,null,null,null,null,null,null,null,null,null,null,null,null,null,null,null,null,null,null,"x"]
[null,null,null,null,null,null,null,null,null,null,null,null,null,null,null,null,null,null,null,null,{"$f":"IF($A$1515=0,\"x\",\"\")","v":"x"}]
[null,null,null,null,null,null,null,null,null,null,null,null,null,null,null,null,null,null,null,null,"x"]
[null,null,null,null,null,null,null,null,null,null,null,null,null,null,null,null,null,null,null,null,"x"]
[null,null,null,null,null,null,null,null,null,null,null,null,null,null,null,null,null,null,null,null,"x"]
[null,null,null,null,null,null,null,null,null,null,null,null,null,null,null,null,null,null,null,null,"x"]
[null,null,null,null,null,null,null,null,null,null,null,null,null,null,null,null,null,null,null,null,"x"]
[{"$f":"CONCATENATE(\"Section 3 - Planned Digitisation - \",A1515)","v":"Section 3 - Planned Digitisation - 0"},null,null,null,null,null,null,null,null,null,null,null,null,null,null,null,null,null,null,null,"x"]
["Note: any records that are already digitised should be recorded in Section 2 - Digital Records (above)",null,null,null,null,null,null,null,null,null,null,null,null,null,null,null,null,null,null,null,"x"]
[3.1,{"$f":"CONCATENATE(\"Records planned for digitisation - provide details for each file type you plan on digitising in relation to - \",A1515)","v":"Records planned for digitisation - provide details for each file type you plan on digitising in relation to - 0"},null,null,null,null,null,null,null,null,null,null,null,null,null,null,null,null,null,null,"x"]
["3.1.1",{"$f":"CONCATENATE(\"Are there any large digitisation projects planned within \",A1515,\" in the near future? (If you do not know the answer to this question, select no.)\")","v":"Are there any large digitisation projects planned within 0 in the near future? (If you do not know the answer to this question, select no.)"},null,null,null,null,null,null,null,null,null,null,null,null,null,null,null,null,null,null,"x"]
[null,null,null,null,null,null,null,null,null,null,null,null,null,null,null,null,null,null,null,null,"x"]
[null,null,null,{"$f":"IF(B1558=input_lists!$K$11,\"In the below table, provide details of your planned digitisation project\",\"\")","v":""},null,null,null,null,null,null,null,null,null,null,null,null,null,null,null,null,"x"]
[null,null,null,null,null,null,null,null,null,null,null,null,null,null,null,null,null,null,null,null,"x"]
["3.2.1","File type you plan to digitise to (master copy):","3.2.2","Volume of files you plan to digitise:",null,"3.2.3","File type of backup copies:","3.2.4","Resolution of Master Copy:","3.2.5","Resolution of Backup Copies:","3.2.6","Will you compress your files?","3.2.7","Colour scale used:",null,null,null,null,null,"x"]
[null,null,null,null,null,null,null,null,null,null,null,null,null,null,null,null,null,null,null,null,"x"]
[null,null,null,null,null,null,null,null,null,null,null,null,null,null,null,null,null,null,null,null,"x"]
[null,null,null,null,null,null,null,null,null,null,null,null,null,null,null,null,null,null,null,null,"x"]
[null,null,null,null,null,null,null,null,null,null,null,null,null,null,null,null,null,null,null,null,"x"]
[null,null,null,null,null,null,null,null,null,null,null,null,null,null,null,null,null,null,null,null,"x"]
[null,null,null,null,null,null,null,null,null,null,null,null,null,null,null,null,null,null,null,null,"x"]
[null,null,null,null,null,null,null,null,null,null,null,null,null,null,null,null,null,null,null,null,"x"]
[null,null,null,null,null,null,null,null,null,null,null,null,null,null,null,null,null,null,null,null,"x"]
[null,null,null,null,null,null,null,null,null,null,null,null,null,null,null,null,null,null,null,null,{"$f":"IF($A$1515=0,\"x\",\"\")","v":"x"}]
[{"$f":"CONCATENATE(\"Section 4 - Paper Records - \",A1515)","v":"Section 4 - Paper Records - 0"},null,null,null,null,null,null,null,null,null,null,null,null,null,null,null,null,null,null,null,"x"]
[{"$f":"CONCATENATE(\"This section is for users who have decided on the paper based calculations approach for \",A1515)","v":"This section is for users who have decided on the paper based calculations approach for 0"},null,null,null,null,null,null,null,null,null,null,null,null,null,null,null,null,null,null,null,"x"]
[4.0999999999999996,{"$f":"CONCATENATE(\"Paper records - \",A1515)","v":"Paper records - 0"},null,null,null,null,null,null,null,null,null,null,null,null,null,null,null,null,null,null,"x"]
["4.1.1",{"$f":"CONCATENATE(\"What is the average annual volume of paper records created by \",A1514,\"? This figure should reflect total records created, not just records which are deposited into the archive.\")","v":"What is the average annual volume of paper records created by ? This figure should reflect total records created, not just records which are deposited into the archive."},null,"4.1.2","How many backup / access copies will you incorporate into the digital archive? (\"0\" means only the master copy will be preserved; \"1\" means the master copy and one copy will be preserved, etc.).",null,null,null,null,null,null,null,null,null,null,null,null,null,null,null,"x"]
[null,null,null,null,null,null,null,null,null,null,null,null,null,null,null,null,null,null,null,null,"x"]
[null,null,null,null,null,null,null,null,null,null,null,null,null,null,null,null,null,null,null,null,"x"]
[null,null,null,null,null,null,null,null,null,null,null,null,null,null,null,null,null,null,null,null,"x"]
[null,null,null,null,null,null,null,null,null,null,null,null,null,null,null,null,null,null,null,null,"x"]
[{"$f":"selected_functions!A30","v":0},null,null,null,null,null,null,null,null,null,null,null,null,null,null,null,null,null,null,null,{"$f":"IF($A$1578=0,\"x\",\"\")","v":"x"}]
[{"$f":"CONCATENATE(\"Section 1 - Percentage of records to be preserved - \",A1578)","v":"Section 1 - Percentage of records to be preserved - 0"},null,null,null,null,null,null,null,null,null,null,null,null,null,null,null,null,null,null,null,"x"]
[1.1000000000000001,{"$f":"CONCATENATE(\"Percentage of records to be preserved - \",A1578)","v":"Percentage of records to be preserved - 0"},null,null,null,null,null,null,null,null,null,null,null,null,null,null,null,null,null,null,"x"]
["1.1.1",{"$f":"CONCATENATE(\"This table provides a guide for the percentage of records aligned with different retention schedules for \",A1578,\". You may wish to use this to inform the answer you provide in question 1.1.2\")","v":"This table provides a guide for the percentage of records aligned with different retention schedules for 0. You may wish to use this to inform the answer you provide in question 1.1.2"},null,"1.1.2",{"$f":"CONCATENATE(\"What is the percentage of records you intend to incorporate into the digital archive for \",A1578,\"?\")","v":"What is the percentage of records you intend to incorporate into the digital archive for 0?"},null,null,null,null,null,null,null,null,null,null,null,null,null,null,null,"x"]
[null,null,null,null,null,null,null,null,null,null,null,null,null,null,null,null,null,null,null,null,"x"]
[{"$f":"B1583&A1578","v":"Permanent0"},"Permanent",{"$f":"IFERROR(VLOOKUP(A1583,retention_schedules!C:D,2,FALSE),\"\")","v":""},null,null,null,null,null,null,null,null,null,null,null,null,null,null,null,null,null,"x"]
[{"$f":"B1584&A1578","v":"30 years +0"},"30 years +",{"$f":"IFERROR(VLOOKUP(A1584,retention_schedules!C:D,2,FALSE),\"\")","v":""},null,null,null,null,null,null,null,null,null,null,null,null,null,null,null,null,null,"x"]
[{"$f":"B1585&A1578","v":"20 years +0"},"20 years +",{"$f":"IFERROR(VLOOKUP(A1585,retention_schedules!C:D,2,FALSE),\"\")","v":""},null,null,null,null,null,null,null,null,null,null,null,null,null,null,null,null,null,"x"]
[{"$f":"B1586&A1578","v":"10 years +0"},"10 years +",{"$f":"IFERROR(VLOOKUP(A1586,retention_schedules!C:D,2,FALSE),\"\")","v":""},null,null,null,null,null,null,null,null,null,null,null,null,null,null,null,null,null,"x"]
[{"$f":"B1587&A1578","v":"All records0"},"All records",{"$f":"IFERROR(VLOOKUP(A1587,retention_schedules!C:D,2,FALSE),\"\")","v":""},null,null,null,null,null,null,null,null,null,null,null,null,null,null,null,null,null,"x"]
[{"$f":"CONCATENATE(\"Section 2 - Digital Records - \",A1578)","v":"Section 2 - Digital Records - 0"},null,null,null,null,null,null,null,null,null,null,null,null,null,null,null,null,null,null,null,"x"]
[{"$f":"CONCATENATE(\"Note - if you do not have information about the digital records system for \",A1578,\"  then proceed to section three\")","v":"Note - if you do not have information about the digital records system for 0  then proceed to section three"},null,null,null,null,null,null,null,null,null,null,null,null,null,null,null,null,null,null,null,"x"]
[2.1,{"$f":"CONCATENATE(\"EDRM and Content Management Systems - \",A1578)","v":"EDRM and Content Management Systems - 0"},null,null,null,null,null,null,null,null,null,null,null,null,null,null,null,null,null,null,"x"]
["2.1.1","In which year did you migrate onto the current EDRM / Content Management systems?",null,"2.1.2","What is the total volume of digital records held on the EDRM / Content Management systems?",null,null,"2.1.3","How many backup copies are held on your EDRM / Content Management systems? (\"0\" means no backup copies are held, \"1\" means the system contains one backup copy as well as the master copy, etc)",null,null,null,null,null,null,null,null,null,null,null,"x"]
[null,null,null,null,null,null,null,null,null,null,null,null,null,null,null,null,null,null,null,null,"x"]
[null,null,null,null,null,null,null,null,null,null,null,null,null,null,null,null,null,null,null,null,"x"]
[null,null,null,null,null,null,null,null,null,null,null,null,null,null,null,null,null,null,null,null,"x"]
[2.2000000000000002,{"$f":"CONCATENATE(\"Born Digital Records - outside the EDRM / Content Management systems - \",A1578)","v":"Born Digital Records - outside the EDRM / Content Management systems - 0"},null,null,null,null,null,null,null,null,null,null,null,null,null,null,null,null,null,null,"x"]
["2.2.1","What is the volume of  digital records held outwith the EDRM/ Content Management systems (e.g. on shared drives)? If you are not sure of the exact figure then please provide an estimate.",null,null,null,null,null,"2.2.2","How many backup copies are held on digital systems that sit outside the EDRM / Content Management systems? (\"0\" means no backup copies are held, \"1\" means that one backup copy as well as the master copy is held, etc.). If you are not sure of an exact figure then provide an estimate",null,null,null,null,null,null,null,null,null,null,null,"x"]
[null,null,null,null,null,null,null,null,null,null,null,null,null,null,null,null,null,null,null,null,"x"]
[null,null,null,null,null,null,null,null,null,null,null,null,null,null,null,null,null,null,null,null,"x"]
[null,null,null,null,null,null,null,null,null,null,null,null,null,null,null,null,null,null,null,null,"x"]
[2.2999999999999998,{"$f":"CONCATENATE(\"Backup copies - \",A1578)","v":"Backup copies - 0"},null,null,null,null,null,null,null,null,null,null,null,null,null,null,null,null,null,null,"x"]
["2.3.1","How many backup / access copies will you incorporate into the digital archive? (\"0\" means only the master copy will be preserved; \"1\" means the master copy and one copy will be preserved, etc.).",null,"2.3.2","When you migrate files in to the archive, will the backup copies of any of the records recorded in sections 2.1 and 2.2 be of a lower resolution / different file type to the master copy? (If you do not know the answer to this, select \"no\")",null,null,null,null,null,null,null,null,null,null,null,null,null,null,null,"x"]
[null,null,null,null,null,null,null,null,null,null,null,null,null,null,null,null,null,null,null,null,"x"]
[null,null,null,null,null,null,{"$f":"IF(E1603=input_lists!$K$11,\"In the below table, provide details of the files you plan to archive with different backup resolutions\",\"\")","v":""},null,null,null,null,null,null,null,null,null,null,null,null,null,"x"]
[null,null,null,null,null,null,null,null,null,null,null,null,null,null,null,null,null,null,null,null,"x"]
[null,null,null,null,"Master Copy file type","Master Copy resolution","Master Copy volume (do not include duplicates)","units","Backup Copy file type","Backup Copy resolution","Are these master copies held on the EDRM/Content Management system or off the EDRM/Content Management system?",null,null,null,null,null,null,null,null,null,"x"]
[null,null,null,null,null,null,null,null,null,null,null,null,null,null,null,null,null,null,null,null,"x"]
[null,null,null,null,null,null,null,null,null,null,null,null,null,null,null,null,null,null,null,null,"x"]
[null,null,null,null,null,null,null,null,null,null,null,null,null,null,null,null,null,null,null,null,"x"]
[null,null,null,null,null,null,null,null,null,null,null,null,null,null,null,null,null,null,null,null,"x"]
[null,null,null,null,null,null,null,null,null,null,null,null,null,null,null,null,null,null,null,null,{"$f":"IF($A$1578=0,\"x\",\"\")","v":"x"}]
[null,null,null,null,null,null,null,null,null,null,null,null,null,null,null,null,null,null,null,null,"x"]
[null,null,null,null,null,null,null,null,null,null,null,null,null,null,null,null,null,null,null,null,"x"]
[null,null,null,null,null,null,null,null,null,null,null,null,null,null,null,null,null,null,null,null,"x"]
[null,null,null,null,null,null,null,null,null,null,null,null,null,null,null,null,null,null,null,null,"x"]
[null,null,null,null,null,null,null,null,null,null,null,null,null,null,null,null,null,null,null,null,"x"]
[{"$f":"CONCATENATE(\"Section 3 - Planned Digitisation - \",A1578)","v":"Section 3 - Planned Digitisation - 0"},null,null,null,null,null,null,null,null,null,null,null,null,null,null,null,null,null,null,null,"x"]
["Note: any records that are already digitised should be recorded in Section 2 - Digital Records (above)",null,null,null,null,null,null,null,null,null,null,null,null,null,null,null,null,null,null,null,"x"]
[3.1,{"$f":"CONCATENATE(\"Records planned for digitisation - provide details for each file type you plan on digitising in relation to - \",A1578)","v":"Records planned for digitisation - provide details for each file type you plan on digitising in relation to - 0"},null,null,null,null,null,null,null,null,null,null,null,null,null,null,null,null,null,null,"x"]
["3.1.1",{"$f":"CONCATENATE(\"Are there any large digitisation projects planned within \",A1578,\" in the near future? (If you do not know the answer to this question, select no.)\")","v":"Are there any large digitisation projects planned within 0 in the near future? (If you do not know the answer to this question, select no.)"},null,null,null,null,null,null,null,null,null,null,null,null,null,null,null,null,null,null,"x"]
[null,null,null,null,null,null,null,null,null,null,null,null,null,null,null,null,null,null,null,null,"x"]
[null,null,null,{"$f":"IF(B1621=input_lists!$K$11,\"In the below table, provide details of your planned digitisation project\",\"\")","v":""},null,null,null,null,null,null,null,null,null,null,null,null,null,null,null,null,"x"]
[null,null,null,null,null,null,null,null,null,null,null,null,null,null,null,null,null,null,null,null,"x"]
["3.2.1","File type you plan to digitise to (master copy):","3.2.2","Volume of files you plan to digitise:",null,"3.2.3","File type of backup copies:","3.2.4","Resolution of Master Copy:","3.2.5","Resolution of Backup Copies:","3.2.6","Will you compress your files?","3.2.7","Colour scale used:",null,null,null,null,null,"x"]
[null,null,null,null,null,null,null,null,null,null,null,null,null,null,null,null,null,null,null,null,"x"]
[null,null,null,null,null,null,null,null,null,null,null,null,null,null,null,null,null,null,null,null,"x"]
[null,null,null,null,null,null,null,null,null,null,null,null,null,null,null,null,null,null,null,null,"x"]
[null,null,null,null,null,null,null,null,null,null,null,null,null,null,null,null,null,null,null,null,"x"]
[null,null,null,null,null,null,null,null,null,null,null,null,null,null,null,null,null,null,null,null,"x"]
[null,null,null,null,null,null,null,null,null,null,null,null,null,null,null,null,null,null,null,null,"x"]
[null,null,null,null,null,null,null,null,null,null,null,null,null,null,null,null,null,null,null,null,"x"]
[null,null,null,null,null,null,null,null,null,null,null,null,null,null,null,null,null,null,null,null,"x"]
[null,null,null,null,null,null,null,null,null,null,null,null,null,null,null,null,null,null,null,null,{"$f":"IF($A$1578=0,\"x\",\"\")","v":"x"}]
[{"$f":"CONCATENATE(\"Section 4 - Paper Records - \",A1578)","v":"Section 4 - Paper Records - 0"},null,null,null,null,null,null,null,null,null,null,null,null,null,null,null,null,null,null,null,"x"]
[{"$f":"CONCATENATE(\"This section is for users who have decided on the paper based calculations approach for \",A1578)","v":"This section is for users who have decided on the paper based calculations approach for 0"},null,null,null,null,null,null,null,null,null,null,null,null,null,null,null,null,null,null,null,"x"]
[4.0999999999999996,{"$f":"CONCATENATE(\"Paper records - \",A1578)","v":"Paper records - 0"},null,null,null,null,null,null,null,null,null,null,null,null,null,null,null,null,null,null,"x"]
["4.1.1",{"$f":"CONCATENATE(\"What is the average annual volume of paper records created by \",A1577,\"? This figure should reflect total records created, not just records which are deposited into the archive.\")","v":"What is the average annual volume of paper records created by ? This figure should reflect total records created, not just records which are deposited into the archive."},null,"4.1.2","How many backup / access copies will you incorporate into the digital archive? (\"0\" means only the master copy will be preserved; \"1\" means the master copy and one copy will be preserved, etc.).",null,null,null,null,null,null,null,null,null,null,null,null,null,null,null,"x"]
[null,null,null,null,null,null,null,null,null,null,null,null,null,null,null,null,null,null,null,null,"x"]
[null,null,null,null,null,null,null,null,null,null,null,null,null,null,null,null,null,null,null,null,"x"]
[null,null,null,null,null,null,null,null,null,null,null,null,null,null,null,null,null,null,null,null,"x"]
[null,null,null,null,null,null,null,null,null,null,null,null,null,null,null,null,null,null,null,null,"x"]
[{"$f":"selected_functions!A31","v":0},null,null,null,null,null,null,null,null,null,null,null,null,null,null,null,null,null,null,null,{"$f":"IF($A$1641=0,\"x\",\"\")","v":"x"}]
["Section 1 - Percentage of records to be preserved",null,null,null,null,null,null,null,null,null,null,null,null,null,null,null,null,null,null,null,"x"]
[1.1000000000000001,{"$f":"CONCATENATE(\"Percentage of records to be preserved - \",A1641)","v":"Percentage of records to be preserved - 0"},null,null,null,null,null,null,null,null,null,null,null,null,null,null,null,null,null,null,"x"]
["1.1.1",{"$f":"CONCATENATE(\"This table provides a guide for the percentage of records aligned with different retention schedules for \",A1641,\". You may wish to use this to inform the answer you provide in question 1.1.2\")","v":"This table provides a guide for the percentage of records aligned with different retention schedules for 0. You may wish to use this to inform the answer you provide in question 1.1.2"},null,"1.1.2",{"$f":"CONCATENATE(\"What is the percentage of records you intend to incorporate into the digital archive for \",A1641,\"?\")","v":"What is the percentage of records you intend to incorporate into the digital archive for 0?"},null,null,null,null,null,null,null,null,null,null,null,null,null,null,null,"x"]
[null,null,null,null,null,null,null,null,null,null,null,null,null,null,null,null,null,null,null,null,"x"]
[{"$f":"B1646&A1641","v":"Permanent0"},"Permanent",{"$f":"IFERROR(VLOOKUP(A1646,retention_schedules!C:D,2,FALSE),\"\")","v":""},null,null,null,null,null,null,null,null,null,null,null,null,null,null,null,null,null,"x"]
[{"$f":"B1647&A1641","v":"30 years +0"},"30 years +",{"$f":"IFERROR(VLOOKUP(A1647,retention_schedules!C:D,2,FALSE),\"\")","v":""},null,null,null,null,null,null,null,null,null,null,null,null,null,null,null,null,null,"x"]
[{"$f":"B1648&A1641","v":"20 years +0"},"20 years +",{"$f":"IFERROR(VLOOKUP(A1648,retention_schedules!C:D,2,FALSE),\"\")","v":""},null,null,null,null,null,null,null,null,null,null,null,null,null,null,null,null,null,"x"]
[{"$f":"B1649&A1641","v":"10 years +0"},"10 years +",{"$f":"IFERROR(VLOOKUP(A1649,retention_schedules!C:D,2,FALSE),\"\")","v":""},null,null,null,null,null,null,null,null,null,null,null,null,null,null,null,null,null,"x"]
[{"$f":"B1650&A1641","v":"All records0"},"All records",{"$f":"IFERROR(VLOOKUP(A1650,retention_schedules!C:D,2,FALSE),\"\")","v":""},null,null,null,null,null,null,null,null,null,null,null,null,null,null,null,null,null,"x"]
[{"$f":"CONCATENATE(\"Section 2 - Digital Records - \",A1641)","v":"Section 2 - Digital Records - 0"},null,null,null,null,null,null,null,null,null,null,null,null,null,null,null,null,null,null,null,"x"]
[{"$f":"CONCATENATE(\"Note - if you do not have information about the digital records system for \",A1641,\"  then proceed to section three\")","v":"Note - if you do not have information about the digital records system for 0  then proceed to section three"},null,null,null,null,null,null,null,null,null,null,null,null,null,null,null,null,null,null,null,"x"]
[2.1,{"$f":"CONCATENATE(\"EDRM and Content Management Systems - \",A1641)","v":"EDRM and Content Management Systems - 0"},null,null,null,null,null,null,null,null,null,null,null,null,null,null,null,null,null,null,"x"]
["2.1.1","In which year did you migrate onto the current EDRM / Content Management systems?",null,"2.1.2","What is the total volume of digital records held on the EDRM / Content Management systems?",null,null,"2.1.3","How many backup copies are held on your EDRM / Content Management systems? (\"0\" means no backup copies are held, \"1\" means the system contains one backup copy as well as the master copy, etc)",null,null,null,null,null,null,null,null,null,null,null,"x"]
[null,null,null,null,null,null,null,null,null,null,null,null,null,null,null,null,null,null,null,null,"x"]
[null,null,null,null,null,null,null,null,null,null,null,null,null,null,null,null,null,null,null,null,"x"]
[null,null,null,null,null,null,null,null,null,null,null,null,null,null,null,null,null,null,null,null,"x"]
[2.2000000000000002,{"$f":"CONCATENATE(\"Born Digital Records - outside the EDRM / Content Management systems - \",A1641)","v":"Born Digital Records - outside the EDRM / Content Management systems - 0"},null,null,null,null,null,null,null,null,null,null,null,null,null,null,null,null,null,null,"x"]
["2.2.1","What is the volume of  digital records held outwith the EDRM/ Content Management systems (e.g. on shared drives)? If you are not sure of the exact figure then please provide an estimate.",null,null,null,null,null,"2.2.2","How many backup copies are held on digital systems that sit outside the EDRM / Content Management systems? (\"0\" means no backup copies are held, \"1\" means that one backup copy as well as the master copy is held, etc.). If you are not sure of an exact figure then provide an estimate",null,null,null,null,null,null,null,null,null,null,null,"x"]
[null,null,null,null,null,null,null,null,null,null,null,null,null,null,null,null,null,null,null,null,"x"]
[null,null,null,null,null,null,null,null,null,null,null,null,null,null,null,null,null,null,null,null,"x"]
[null,null,null,null,null,null,null,null,null,null,null,null,null,null,null,null,null,null,null,null,"x"]
[2.2999999999999998,{"$f":"CONCATENATE(\"Backup copies - \",A1641)","v":"Backup copies - 0"},null,null,null,null,null,null,null,null,null,null,null,null,null,null,null,null,null,null,"x"]
["2.3.1","How many backup / access copies will you incorporate into the digital archive? (\"0\" means only the master copy will be preserved; \"1\" means the master copy and one copy will be preserved, etc.).",null,"2.3.2","When you migrate files in to the archive, will the backup copies of any of the records recorded in sections 2.1 and 2.2 be of a lower resolution / different file type to the master copy? (If you do not know the answer to this, select \"no\")",null,null,null,null,null,null,null,null,null,null,null,null,null,null,null,"x"]
[null,null,null,null,null,null,null,null,null,null,null,null,null,null,null,null,null,null,null,null,"x"]
[null,null,null,null,null,null,{"$f":"IF(E1666=input_lists!$K$11,\"In the below table, provide details of the files you plan to archive with different backup resolutions\",\"\")","v":""},null,null,null,null,null,null,null,null,null,null,null,null,null,"x"]
[null,null,null,null,null,null,null,null,null,null,null,null,null,null,null,null,null,null,null,null,"x"]
[null,null,null,null,"Master Copy file type","Master Copy resolution","Master Copy volume (do not include duplicates)","units","Backup Copy file type","Backup Copy resolution","Are these master copies held on the EDRM/Content Management system or off the EDRM/Content Management system?",null,null,null,null,null,null,null,null,null,"x"]
[null,null,null,null,null,null,null,null,null,null,null,null,null,null,null,null,null,null,null,null,"x"]
[null,null,null,null,null,null,null,null,null,null,null,null,null,null,null,null,null,null,null,null,"x"]
[null,null,null,null,null,null,null,null,null,null,null,null,null,null,null,null,null,null,null,null,"x"]
[null,null,null,null,null,null,null,null,null,null,null,null,null,null,null,null,null,null,null,null,"x"]
[null,null,null,null,null,null,null,null,null,null,null,null,null,null,null,null,null,null,null,null,{"$f":"IF($A$1641=0,\"x\",\"\")","v":"x"}]
[null,null,null,null,null,null,null,null,null,null,null,null,null,null,null,null,null,null,null,null,"x"]
[null,null,null,null,null,null,null,null,null,null,null,null,null,null,null,null,null,null,null,null,"x"]
[null,null,null,null,null,null,null,null,null,null,null,null,null,null,null,null,null,null,null,null,"x"]
[null,null,null,null,null,null,null,null,null,null,null,null,null,null,null,null,null,null,null,null,"x"]
[null,null,null,null,null,null,null,null,null,null,null,null,null,null,null,null,null,null,null,null,"x"]
[{"$f":"CONCATENATE(\"Section 3 - Planned Digitisation - \",A1641)","v":"Section 3 - Planned Digitisation - 0"},null,null,null,null,null,null,null,null,null,null,null,null,null,null,null,null,null,null,null,"x"]
["Note: any records that are already digitised should be recorded in Section 2 - Digital Records (above)",null,null,null,null,null,null,null,null,null,null,null,null,null,null,null,null,null,null,null,"x"]
[3.1,{"$f":"CONCATENATE(\"Records planned for digitisation - provide details for each file type you plan on digitising in relation to - \",A1641)","v":"Records planned for digitisation - provide details for each file type you plan on digitising in relation to - 0"},null,null,null,null,null,null,null,null,null,null,null,null,null,null,null,null,null,null,"x"]
["3.1.1",{"$f":"CONCATENATE(\"Are there any large digitisation projects planned within \",A1641,\" in the near future? (If you do not know the answer to this question, select no.)\")","v":"Are there any large digitisation projects planned within 0 in the near future? (If you do not know the answer to this question, select no.)"},null,null,null,null,null,null,null,null,null,null,null,null,null,null,null,null,null,null,"x"]
[null,null,null,null,null,null,null,null,null,null,null,null,null,null,null,null,null,null,null,null,"x"]
[null,null,null,{"$f":"IF(B1684=input_lists!$K$11,\"In the below table, provide details of your planned digitisation project\",\"\")","v":""},null,null,null,null,null,null,null,null,null,null,null,null,null,null,null,null,"x"]
[null,null,null,null,null,null,null,null,null,null,null,null,null,null,null,null,null,null,null,null,"x"]
["3.2.1","File type you plan to digitise to (master copy):","3.2.2","Volume of files you plan to digitise:",null,"3.2.3","File type of backup copies:","3.2.4","Resolution of Master Copy:","3.2.5","Resolution of Backup Copies:","3.2.6","Will you compress your files?","3.2.7","Colour scale used:",null,null,null,null,null,"x"]
[null,null,null,null,null,null,null,null,null,null,null,null,null,null,null,null,null,null,null,null,"x"]
[null,null,null,null,null,null,null,null,null,null,null,null,null,null,null,null,null,null,null,null,"x"]
[null,null,null,null,null,null,null,null,null,null,null,null,null,null,null,null,null,null,null,null,"x"]
[null,null,null,null,null,null,null,null,null,null,null,null,null,null,null,null,null,null,null,null,"x"]
[null,null,null,null,null,null,null,null,null,null,null,null,null,null,null,null,null,null,null,null,"x"]
[null,null,null,null,null,null,null,null,null,null,null,null,null,null,null,null,null,null,null,null,"x"]
[null,null,null,null,null,null,null,null,null,null,null,null,null,null,null,null,null,null,null,null,"x"]
[null,null,null,null,null,null,null,null,null,null,null,null,null,null,null,null,null,null,null,null,"x"]
[null,null,null,null,null,null,null,null,null,null,null,null,null,null,null,null,null,null,null,null,{"$f":"IF($A$1641=0,\"x\",\"\")","v":"x"}]
[{"$f":"CONCATENATE(\"Section 4 - Paper Records - \",A1641)","v":"Section 4 - Paper Records - 0"},null,null,null,null,null,null,null,null,null,null,null,null,null,null,null,null,null,null,null,"x"]
[{"$f":"CONCATENATE(\"This section is for users who have decided on the paper based calculations approach for \",A1641)","v":"This section is for users who have decided on the paper based calculations approach for 0"},null,null,null,null,null,null,null,null,null,null,null,null,null,null,null,null,null,null,null,"x"]
[4.0999999999999996,{"$f":"CONCATENATE(\"Paper records - \",A1641)","v":"Paper records - 0"},null,null,null,null,null,null,null,null,null,null,null,null,null,null,null,null,null,null,"x"]
["4.1.1",{"$f":"CONCATENATE(\"What is the average annual volume of paper records created by \",A1640,\"? This figure should reflect total records created, not just records which are deposited into the archive.\")","v":"What is the average annual volume of paper records created by ? This figure should reflect total records created, not just records which are deposited into the archive."},null,"4.1.2","How many backup / access copies will you incorporate into the digital archive? (\"0\" means only the master copy will be preserved; \"1\" means the master copy and one copy will be preserved, etc.).",null,null,null,null,null,null,null,null,null,null,null,null,null,null,null,"x"]
[null,null,null,null,null,null,null,null,null,null,null,null,null,null,null,null,null,null,null,null,"x"]
[null,null,null,null,null,null,null,null,null,null,null,null,null,null,null,null,null,null,null,null,"x"]
[null,null,null,null,null,null,null,null,null,null,null,null,null,null,null,null,null,null,null,null,"x"]
[null,null,null,null,null,null,null,null,null,null,null,null,null,null,null,null,null,null,null,null,"x"]
[]
["Once you have answered all the questions that are relevant to you, you are ready to view your results! You can view your results on the overall_results and results_by_function tabs"]

{"sheet":"overall_results","index":4,"n_rows":76,"n_cols":43,"rows_kept":76,"cut":false,"hidden":false,"merged":[[75,2,75,4],[71,2,71,4],[5,7,5,9],[1,0,1,13],[0,0,0,13],[73,2,73,4]]}
[{"$f":"CONCATENATE(input_tab_one!C3,\", Overall Results\")","v":", Overall Results"}]
[{"$f":"CONCATENATE(\"Total storage needs are calculated at \",$E$71,\" \",$E$6,\" by \",$C$68)","v":"Total storage needs are calculated at 0 Terabytes by 3"}]
[null,null,null,null,null,null,null,null,null,null,null,null,null,null,null,null,null,null,null,null,null,null,null,null,null,null,null,null,null,null,null,null,null,null,null,null,null,null,null,null,null,null,"Unit"]
[null,null,null,null,"Select the unit you wish to view",null,null,null,null,null,null,null,null,null,null,null,null,null,null,null,null,null,null,null,null,null,null,null,null,null,null,null,null,null,null,null,null,null,null,null,null,null,{"$f":"input_lists!G11","v":"Kilobytes"}]
[null,null,null,null,null,null,null,null,null,null,null,null,null,null,null,null,null,null,null,null,null,null,null,null,null,null,null,null,null,null,null,null,null,null,null,null,null,null,null,null,null,null,{"$f":"input_lists!G12","v":"Megabytes"}]
[null,null,null,null,"Terabytes",null,null,null,null,null,null,null,null,null,null,null,null,null,null,null,null,null,null,null,null,null,null,null,null,null,null,null,null,null,null,null,null,null,null,null,null,null,{"$f":"input_lists!G13","v":"Gigabytes"}]
[null,null,null,null,null,null,null,null,null,null,null,null,null,null,null,null,null,null,null,null,null,null,null,null,null,null,null,null,null,null,null,null,null,null,null,null,null,null,null,null,null,null,{"$f":"input_lists!G14","v":"Terabytes"}]
[null,null,null,null,null,null,null,null,null,null,null,null,null,null,null,null,null,null,null,null,null,null,null,null,null,null,null,null,null,null,null,null,null,null,null,null,null,null,null,null,null,null,{"$f":"input_lists!G15","v":"Petabytes"}]
[]
[]
[]
[]
[]
[]
[]
[]
[]
[]
[]
[]
[]
[]
[]
[]
[]
[]
[]
[]
[]
[]
[]
[]
[]
[]
[]
[]
[]
[]
[]
[]
[]
[]
[]
[]
[null,null,{"$f":"\"Overall Storage Needs, \"&E6","v":"Overall Storage Needs, Terabytes"},null,null,null,"Overall Storage Needs by Function"]
[]
[{"$f":"CONCATENATE(\"Overall\",C47,$E$6)","v":"OverallYearTerabytes"},null,"Year",null,"Cumulative Overall Storage Needs",null,{"$f":"results_charts!R11","v":0},{"$f":"results_charts!S11","v":0},{"$f":"results_charts!T11","v":0},{"$f":"results_charts!U11","v":0},{"$f":"results_charts!V11","v":0},{"$f":"results_charts!W11","v":0},{"$f":"results_charts!X11","v":0},{"$f":"results_charts!Y11","v":0},{"$f":"results_charts!Z11","v":0},{"$f":"results_charts!AA11","v":0},{"$f":"results_charts!AB11","v":0},{"$f":"results_charts!AC11","v":0},{"$f":"results_charts!AD11","v":0},{"$f":"results_charts!AE11","v":0},{"$f":"results_charts!AF11","v":0},{"$f":"results_charts!AG11","v":0},{"$f":"results_charts!AH11","v":0},{"$f":"results_charts!AI11","v":0},{"$f":"results_charts!AJ11","v":0},{"$f":"results_charts!AK11","v":0},{"$f":"results_charts!AL11","v":0},{"$f":"results_charts!AM11","v":0},{"$f":"results_charts!AN11","v":0},{"$f":"results_charts!AO11","v":0},{"$f":"results_charts!AP11","v":0},{"$f":"results_charts!AQ11","v":0},{"$f":"results_charts!AR11","v":0}]
["Overall-17Terabytes",null,{"$f":"input_lists!D11","v":-17},null,{"$f":"VLOOKUP(A48,results_charts!$M$11:$AT$116,34,FALSE)","v":0},null,{"$f":"VLOOKUP($A48,results_charts!$M$11:$AT$116,6,FALSE)","v":0},{"$f":"VLOOKUP($A48,results_charts!$M$11:$AT$116,7,FALSE)","v":0},{"$f":"VLOOKUP($A48,results_charts!$M$11:$AT$116,8,FALSE)","v":0},{"$f":"VLOOKUP($A48,results_charts!$M$11:$AT$116,9,FALSE)","v":0},{"$f":"VLOOKUP($A48,results_charts!$M$11:$AT$116,10,FALSE)","v":0},{"$f":"VLOOKUP($A48,results_charts!$M$11:$AT$116,11,FALSE)","v":0},{"$f":"VLOOKUP($A48,results_charts!$M$11:$AT$116,12,FALSE)","v":0},{"$f":"VLOOKUP($A48,results_charts!$M$11:$AT$116,13,FALSE)","v":0},{"$f":"VLOOKUP($A48,results_charts!$M$11:$AT$116,14,FALSE)","v":0},{"$f":"VLOOKUP($A48,results_charts!$M$11:$AT$116,15,FALSE)","v":0},{"$f":"VLOOKUP($A48,results_charts!$M$11:$AT$116,16,FALSE)","v":0},{"$f":"VLOOKUP($A48,results_charts!$M$11:$AT$116,17,FALSE)","v":0},{"$f":"VLOOKUP($A48,results_charts!$M$11:$AT$116,18,FALSE)","v":0},{"$f":"VLOOKUP($A48,results_charts!$M$11:$AT$116,19,FALSE)","v":0},{"$f":"VLOOKUP($A48,results_charts!$M$11:$AT$116,20,FALSE)","v":0},{"$f":"VLOOKUP($A48,results_charts!$M$11:$AT$116,21,FALSE)","v":0},{"$f":"VLOOKUP($A48,results_charts!$M$11:$AT$116,22,FALSE)","v":0},{"$f":"VLOOKUP($A48,results_charts!$M$11:$AT$116,23,FALSE)","v":0},{"$f":"VLOOKUP($A48,results_charts!$M$11:$AT$116,24,FALSE)","v":0},{"$f":"VLOOKUP($A48,results_charts!$M$11:$AT$116,25,FALSE)","v":0},{"$f":"VLOOKUP($A48,results_charts!$M$11:$AT$116,26,FALSE)","v":0},{"$f":"VLOOKUP($A48,results_charts!$M$11:$AT$116,27,FALSE)","v":0},{"$f":"VLOOKUP($A48,results_charts!$M$11:$AT$116,28,FALSE)","v":0},{"$f":"VLOOKUP($A48,results_charts!$M$11:$AT$116,29,FALSE)","v":0},{"$f":"VLOOKUP($A48,results_charts!$M$11:$AT$116,30,FALSE)","v":0},{"$f":"VLOOKUP($A48,results_charts!$M$11:$AT$116,31,FALSE)","v":0},{"$f":"VLOOKUP($A48,results_charts!$M$11:$AT$116,32,FALSE)","v":0}]
["Overall-16Terabytes",null,{"$f":"input_lists!D12","v":-16},null,{"$f":"VLOOKUP(A49,results_charts!$M$11:$AT$116,34,FALSE)","v":0},null,{"$f":"VLOOKUP($A49,results_charts!$M$11:$AT$116,6,FALSE)","v":0},{"$f":"VLOOKUP($A49,results_charts!$M$11:$AT$116,7,FALSE)","v":0},{"$f":"VLOOKUP($A49,results_charts!$M$11:$AT$116,8,FALSE)","v":0},{"$f":"VLOOKUP($A49,results_charts!$M$11:$AT$116,9,FALSE)","v":0},{"$f":"VLOOKUP($A49,results_charts!$M$11:$AT$116,10,FALSE)","v":0},{"$f":"VLOOKUP($A49,results_charts!$M$11:$AT$116,11,FALSE)","v":0},{"$f":"VLOOKUP($A49,results_charts!$M$11:$AT$116,12,FALSE)","v":0},{"$f":"VLOOKUP($A49,results_charts!$M$11:$AT$116,13,FALSE)","v":0},{"$f":"VLOOKUP($A49,results_charts!$M$11:$AT$116,14,FALSE)","v":0},{"$f":"VLOOKUP($A49,results_charts!$M$11:$AT$116,15,FALSE)","v":0},{"$f":"VLOOKUP($A49,results_charts!$M$11:$AT$116,16,FALSE)","v":0},{"$f":"VLOOKUP($A49,results_charts!$M$11:$AT$116,17,FALSE)","v":0},{"$f":"VLOOKUP($A49,results_charts!$M$11:$AT$116,18,FALSE)","v":0},{"$f":"VLOOKUP($A49,results_charts!$M$11:$AT$116,19,FALSE)","v":0},{"$f":"VLOOKUP($A49,results_charts!$M$11:$AT$116,20,FALSE)","v":0},{"$f":"VLOOKUP($A49,results_charts!$M$11:$AT$116,21,FALSE)","v":0},{"$f":"VLOOKUP($A49,results_charts!$M$11:$AT$116,22,FALSE)","v":0},{"$f":"VLOOKUP($A49,results_charts!$M$11:$AT$116,23,FALSE)","v":0},{"$f":"VLOOKUP($A49,results_charts!$M$11:$AT$116,24,FALSE)","v":0},{"$f":"VLOOKUP($A49,results_charts!$M$11:$AT$116,25,FALSE)","v":0},{"$f":"VLOOKUP($A49,results_charts!$M$11:$AT$116,26,FALSE)","v":0},{"$f":"VLOOKUP($A49,results_charts!$M$11:$AT$116,27,FALSE)","v":0},{"$f":"VLOOKUP($A49,results_charts!$M$11:$AT$116,28,FALSE)","v":0},{"$f":"VLOOKUP($A49,results_charts!$M$11:$AT$116,29,FALSE)","v":0},{"$f":"VLOOKUP($A49,results_charts!$M$11:$AT$116,30,FALSE)","v":0},{"$f":"VLOOKUP($A49,results_charts!$M$11:$AT$116,31,FALSE)","v":0},{"$f":"VLOOKUP($A49,results_charts!$M$11:$AT$116,32,FALSE)","v":0}]
["Overall-15Terabytes",null,{"$f":"input_lists!D13","v":-15},null,{"$f":"VLOOKUP(A50,results_charts!$M$11:$AT$116,34,FALSE)","v":0},null,{"$f":"VLOOKUP($A50,results_charts!$M$11:$AT$116,6,FALSE)","v":0},{"$f":"VLOOKUP($A50,results_charts!$M$11:$AT$116,7,FALSE)","v":0},{"$f":"VLOOKUP($A50,results_charts!$M$11:$AT$116,8,FALSE)","v":0},{"$f":"VLOOKUP($A50,results_charts!$M$11:$AT$116,9,FALSE)","v":0},{"$f":"VLOOKUP($A50,results_charts!$M$11:$AT$116,10,FALSE)","v":0},{"$f":"VLOOKUP($A50,results_charts!$M$11:$AT$116,11,FALSE)","v":0},{"$f":"VLOOKUP($A50,results_charts!$M$11:$AT$116,12,FALSE)","v":0},{"$f":"VLOOKUP($A50,results_charts!$M$11:$AT$116,13,FALSE)","v":0},{"$f":"VLOOKUP($A50,results_charts!$M$11:$AT$116,14,FALSE)","v":0},{"$f":"VLOOKUP($A50,results_charts!$M$11:$AT$116,15,FALSE)","v":0},{"$f":"VLOOKUP($A50,results_charts!$M$11:$AT$116,16,FALSE)","v":0},{"$f":"VLOOKUP($A50,results_charts!$M$11:$AT$116,17,FALSE)","v":0},{"$f":"VLOOKUP($A50,results_charts!$M$11:$AT$116,18,FALSE)","v":0},{"$f":"VLOOKUP($A50,results_charts!$M$11:$AT$116,19,FALSE)","v":0},{"$f":"VLOOKUP($A50,results_charts!$M$11:$AT$116,20,FALSE)","v":0},{"$f":"VLOOKUP($A50,results_charts!$M$11:$AT$116,21,FALSE)","v":0},{"$f":"VLOOKUP($A50,results_charts!$M$11:$AT$116,22,FALSE)","v":0},{"$f":"VLOOKUP($A50,results_charts!$M$11:$AT$116,23,FALSE)","v":0},{"$f":"VLOOKUP($A50,results_charts!$M$11:$AT$116,24,FALSE)","v":0},{"$f":"VLOOKUP($A50,results_charts!$M$11:$AT$116,25,FALSE)","v":0},{"$f":"VLOOKUP($A50,results_charts!$M$11:$AT$116,26,FALSE)","v":0},{"$f":"VLOOKUP($A50,results_charts!$M$11:$AT$116,27,FALSE)","v":0},{"$f":"VLOOKUP($A50,results_charts!$M$11:$AT$116,28,FALSE)","v":0},{"$f":"VLOOKUP($A50,results_charts!$M$11:$AT$116,29,FALSE)","v":0},{"$f":"VLOOKUP($A50,results_charts!$M$11:$AT$116,30,FALSE)","v":0},{"$f":"VLOOKUP($A50,results_charts!$M$11:$AT$116,31,FALSE)","v":0},{"$f":"VLOOKUP($A50,results_charts!$M$11:$AT$116,32,FALSE)","v":0}]
["Overall-14Terabytes",null,{"$f":"input_lists!D14","v":-14},null,{"$f":"VLOOKUP(A51,results_charts!$M$11:$AT$116,34,FALSE)","v":0},null,{"$f":"VLOOKUP($A51,results_charts!$M$11:$AT$116,6,FALSE)","v":0},{"$f":"VLOOKUP($A51,results_charts!$M$11:$AT$116,7,FALSE)","v":0},{"$f":"VLOOKUP($A51,results_charts!$M$11:$AT$116,8,FALSE)","v":0},{"$f":"VLOOKUP($A51,results_charts!$M$11:$AT$116,9,FALSE)","v":0},{"$f":"VLOOKUP($A51,results_charts!$M$11:$AT$116,10,FALSE)","v":0},{"$f":"VLOOKUP($A51,results_charts!$M$11:$AT$116,11,FALSE)","v":0},{"$f":"VLOOKUP($A51,results_charts!$M$11:$AT$116,12,FALSE)","v":0},{"$f":"VLOOKUP($A51,results_charts!$M$11:$AT$116,13,FALSE)","v":0},{"$f":"VLOOKUP($A51,results_charts!$M$11:$AT$116,14,FALSE)","v":0},{"$f":"VLOOKUP($A51,results_charts!$M$11:$AT$116,15,FALSE)","v":0},{"$f":"VLOOKUP($A51,results_charts!$M$11:$AT$116,16,FALSE)","v":0},{"$f":"VLOOKUP($A51,results_charts!$M$11:$AT$116,17,FALSE)","v":0},{"$f":"VLOOKUP($A51,results_charts!$M$11:$AT$116,18,FALSE)","v":0},{"$f":"VLOOKUP($A51,results_charts!$M$11:$AT$116,19,FALSE)","v":0},{"$f":"VLOOKUP($A51,results_charts!$M$11:$AT$116,20,FALSE)","v":0},{"$f":"VLOOKUP($A51,results_charts!$M$11:$AT$116,21,FALSE)","v":0},{"$f":"VLOOKUP($A51,results_charts!$M$11:$AT$116,22,FALSE)","v":0},{"$f":"VLOOKUP($A51,results_charts!$M$11:$AT$116,23,FALSE)","v":0},{"$f":"VLOOKUP($A51,results_charts!$M$11:$AT$116,24,FALSE)","v":0},{"$f":"VLOOKUP($A51,results_charts!$M$11:$AT$116,25,FALSE)","v":0},{"$f":"VLOOKUP($A51,results_charts!$M$11:$AT$116,26,FALSE)","v":0},{"$f":"VLOOKUP($A51,results_charts!$M$11:$AT$116,27,FALSE)","v":0},{"$f":"VLOOKUP($A51,results_charts!$M$11:$AT$116,28,FALSE)","v":0},{"$f":"VLOOKUP($A51,results_charts!$M$11:$AT$116,29,FALSE)","v":0},{"$f":"VLOOKUP($A51,results_charts!$M$11:$AT$116,30,FALSE)","v":0},{"$f":"VLOOKUP($A51,results_charts!$M$11:$AT$116,31,FALSE)","v":0},{"$f":"VLOOKUP($A51,results_charts!$M$11:$AT$116,32,FALSE)","v":0}]
["Overall-13Terabytes",null,{"$f":"input_lists!D15","v":-13},null,{"$f":"VLOOKUP(A52,results_charts!$M$11:$AT$116,34,FALSE)","v":0},null,{"$f":"VLOOKUP($A52,results_charts!$M$11:$AT$116,6,FALSE)","v":0},{"$f":"VLOOKUP($A52,results_charts!$M$11:$AT$116,7,FALSE)","v":0},{"$f":"VLOOKUP($A52,results_charts!$M$11:$AT$116,8,FALSE)","v":0},{"$f":"VLOOKUP($A52,results_charts!$M$11:$AT$116,9,FALSE)","v":0},{"$f":"VLOOKUP($A52,results_charts!$M$11:$AT$116,10,FALSE)","v":0},{"$f":"VLOOKUP($A52,results_charts!$M$11:$AT$116,11,FALSE)","v":0},{"$f":"VLOOKUP($A52,results_charts!$M$11:$AT$116,12,FALSE)","v":0},{"$f":"VLOOKUP($A52,results_charts!$M$11:$AT$116,13,FALSE)","v":0},{"$f":"VLOOKUP($A52,results_charts!$M$11:$AT$116,14,FALSE)","v":0},{"$f":"VLOOKUP($A52,results_charts!$M$11:$AT$116,15,FALSE)","v":0},{"$f":"VLOOKUP($A52,results_charts!$M$11:$AT$116,16,FALSE)","v":0},{"$f":"VLOOKUP($A52,results_charts!$M$11:$AT$116,17,FALSE)","v":0},{"$f":"VLOOKUP($A52,results_charts!$M$11:$AT$116,18,FALSE)","v":0},{"$f":"VLOOKUP($A52,results_charts!$M$11:$AT$116,19,FALSE)","v":0},{"$f":"VLOOKUP($A52,results_charts!$M$11:$AT$116,20,FALSE)","v":0},{"$f":"VLOOKUP($A52,results_charts!$M$11:$AT$116,21,FALSE)","v":0},{"$f":"VLOOKUP($A52,results_charts!$M$11:$AT$116,22,FALSE)","v":0},{"$f":"VLOOKUP($A52,results_charts!$M$11:$AT$116,23,FALSE)","v":0},{"$f":"VLOOKUP($A52,results_charts!$M$11:$AT$116,24,FALSE)","v":0},{"$f":"VLOOKUP($A52,results_charts!$M$11:$AT$116,25,FALSE)","v":0},{"$f":"VLOOKUP($A52,results_charts!$M$11:$AT$116,26,FALSE)","v":0},{"$f":"VLOOKUP($A52,results_charts!$M$11:$AT$116,27,FALSE)","v":0},{"$f":"VLOOKUP($A52,results_charts!$M$11:$AT$116,28,FALSE)","v":0},{"$f":"VLOOKUP($A52,results_charts!$M$11:$AT$116,29,FALSE)","v":0},{"$f":"VLOOKUP($A52,results_charts!$M$11:$AT$116,30,FALSE)","v":0},{"$f":"VLOOKUP($A52,results_charts!$M$11:$AT$116,31,FALSE)","v":0},{"$f":"VLOOKUP($A52,results_charts!$M$11:$AT$116,32,FALSE)","v":0}]
["Overall-12Terabytes",null,{"$f":"input_lists!D16","v":-12},null,{"$f":"VLOOKUP(A53,results_charts!$M$11:$AT$116,34,FALSE)","v":0},null,{"$f":"VLOOKUP($A53,results_charts!$M$11:$AT$116,6,FALSE)","v":0},{"$f":"VLOOKUP($A53,results_charts!$M$11:$AT$116,7,FALSE)","v":0},{"$f":"VLOOKUP($A53,results_charts!$M$11:$AT$116,8,FALSE)","v":0},{"$f":"VLOOKUP($A53,results_charts!$M$11:$AT$116,9,FALSE)","v":0},{"$f":"VLOOKUP($A53,results_charts!$M$11:$AT$116,10,FALSE)","v":0},{"$f":"VLOOKUP($A53,results_charts!$M$11:$AT$116,11,FALSE)","v":0},{"$f":"VLOOKUP($A53,results_charts!$M$11:$AT$116,12,FALSE)","v":0},{"$f":"VLOOKUP($A53,results_charts!$M$11:$AT$116,13,FALSE)","v":0},{"$f":"VLOOKUP($A53,results_charts!$M$11:$AT$116,14,FALSE)","v":0},{"$f":"VLOOKUP($A53,results_charts!$M$11:$AT$116,15,FALSE)","v":0},{"$f":"VLOOKUP($A53,results_charts!$M$11:$AT$116,16,FALSE)","v":0},{"$f":"VLOOKUP($A53,results_charts!$M$11:$AT$116,17,FALSE)","v":0},{"$f":"VLOOKUP($A53,results_charts!$M$11:$AT$116,18,FALSE)","v":0},{"$f":"VLOOKUP($A53,results_charts!$M$11:$AT$116,19,FALSE)","v":0},{"$f":"VLOOKUP($A53,results_charts!$M$11:$AT$116,20,FALSE)","v":0},{"$f":"VLOOKUP($A53,results_charts!$M$11:$AT$116,21,FALSE)","v":0},{"$f":"VLOOKUP($A53,results_charts!$M$11:$AT$116,22,FALSE)","v":0},{"$f":"VLOOKUP($A53,results_charts!$M$11:$AT$116,23,FALSE)","v":0},{"$f":"VLOOKUP($A53,results_charts!$M$11:$AT$116,24,FALSE)","v":0},{"$f":"VLOOKUP($A53,results_charts!$M$11:$AT$116,25,FALSE)","v":0},{"$f":"VLOOKUP($A53,results_charts!$M$11:$AT$116,26,FALSE)","v":0},{"$f":"VLOOKUP($A53,results_charts!$M$11:$AT$116,27,FALSE)","v":0},{"$f":"VLOOKUP($A53,results_charts!$M$11:$AT$116,28,FALSE)","v":0},{"$f":"VLOOKUP($A53,results_charts!$M$11:$AT$116,29,FALSE)","v":0},{"$f":"VLOOKUP($A53,results_charts!$M$11:$AT$116,30,FALSE)","v":0},{"$f":"VLOOKUP($A53,results_charts!$M$11:$AT$116,31,FALSE)","v":0},{"$f":"VLOOKUP($A53,results_charts!$M$11:$AT$116,32,FALSE)","v":0}]
["Overall-11Terabytes",null,{"$f":"input_lists!D17","v":-11},null,{"$f":"VLOOKUP(A54,results_charts!$M$11:$AT$116,34,FALSE)","v":0},null,{"$f":"VLOOKUP($A54,results_charts!$M$11:$AT$116,6,FALSE)","v":0},{"$f":"VLOOKUP($A54,results_charts!$M$11:$AT$116,7,FALSE)","v":0},{"$f":"VLOOKUP($A54,results_charts!$M$11:$AT$116,8,FALSE)","v":0},{"$f":"VLOOKUP($A54,results_charts!$M$11:$AT$116,9,FALSE)","v":0},{"$f":"VLOOKUP($A54,results_charts!$M$11:$AT$116,10,FALSE)","v":0},{"$f":"VLOOKUP($A54,results_charts!$M$11:$AT$116,11,FALSE)","v":0},{"$f":"VLOOKUP($A54,results_charts!$M$11:$AT$116,12,FALSE)","v":0},{"$f":"VLOOKUP($A54,results_charts!$M$11:$AT$116,13,FALSE)","v":0},{"$f":"VLOOKUP($A54,results_charts!$M$11:$AT$116,14,FALSE)","v":0},{"$f":"VLOOKUP($A54,results_charts!$M$11:$AT$116,15,FALSE)","v":0},{"$f":"VLOOKUP($A54,results_charts!$M$11:$AT$116,16,FALSE)","v":0},{"$f":"VLOOKUP($A54,results_charts!$M$11:$AT$116,17,FALSE)","v":0},{"$f":"VLOOKUP($A54,results_charts!$M$11:$AT$116,18,FALSE)","v":0},{"$f":"VLOOKUP($A54,results_charts!$M$11:$AT$116,19,FALSE)","v":0},{"$f":"VLOOKUP($A54,results_charts!$M$11:$AT$116,20,FALSE)","v":0},{"$f":"VLOOKUP($A54,results_charts!$M$11:$AT$116,21,FALSE)","v":0},{"$f":"VLOOKUP($A54,results_charts!$M$11:$AT$116,22,FALSE)","v":0},{"$f":"VLOOKUP($A54,results_charts!$M$11:$AT$116,23,FALSE)","v":0},{"$f":"VLOOKUP($A54,results_charts!$M$11:$AT$116,24,FALSE)","v":0},{"$f":"VLOOKUP($A54,results_charts!$M$11:$AT$116,25,FALSE)","v":0},{"$f":"VLOOKUP($A54,results_charts!$M$11:$AT$116,26,FALSE)","v":0},{"$f":"VLOOKUP($A54,results_charts!$M$11:$AT$116,27,FALSE)","v":0},{"$f":"VLOOKUP($A54,results_charts!$M$11:$AT$116,28,FALSE)","v":0},{"$f":"VLOOKUP($A54,results_charts!$M$11:$AT$116,29,FALSE)","v":0},{"$f":"VLOOKUP($A54,results_charts!$M$11:$AT$116,30,FALSE)","v":0},{"$f":"VLOOKUP($A54,results_charts!$M$11:$AT$116,31,FALSE)","v":0},{"$f":"VLOOKUP($A54,results_charts!$M$11:$AT$116,32,FALSE)","v":0}]
["Overall-10Terabytes",null,{"$f":"input_lists!D18","v":-10},null,{"$f":"VLOOKUP(A55,results_charts!$M$11:$AT$116,34,FALSE)","v":0},null,{"$f":"VLOOKUP($A55,results_charts!$M$11:$AT$116,6,FALSE)","v":0},{"$f":"VLOOKUP($A55,results_charts!$M$11:$AT$116,7,FALSE)","v":0},{"$f":"VLOOKUP($A55,results_charts!$M$11:$AT$116,8,FALSE)","v":0},{"$f":"VLOOKUP($A55,results_charts!$M$11:$AT$116,9,FALSE)","v":0},{"$f":"VLOOKUP($A55,results_charts!$M$11:$AT$116,10,FALSE)","v":0},{"$f":"VLOOKUP($A55,results_charts!$M$11:$AT$116,11,FALSE)","v":0},{"$f":"VLOOKUP($A55,results_charts!$M$11:$AT$116,12,FALSE)","v":0},{"$f":"VLOOKUP($A55,results_charts!$M$11:$AT$116,13,FALSE)","v":0},{"$f":"VLOOKUP($A55,results_charts!$M$11:$AT$116,14,FALSE)","v":0},{"$f":"VLOOKUP($A55,results_charts!$M$11:$AT$116,15,FALSE)","v":0},{"$f":"VLOOKUP($A55,results_charts!$M$11:$AT$116,16,FALSE)","v":0},{"$f":"VLOOKUP($A55,results_charts!$M$11:$AT$116,17,FALSE)","v":0},{"$f":"VLOOKUP($A55,results_charts!$M$11:$AT$116,18,FALSE)","v":0},{"$f":"VLOOKUP($A55,results_charts!$M$11:$AT$116,19,FALSE)","v":0},{"$f":"VLOOKUP($A55,results_charts!$M$11:$AT$116,20,FALSE)","v":0},{"$f":"VLOOKUP($A55,results_charts!$M$11:$AT$116,21,FALSE)","v":0},{"$f":"VLOOKUP($A55,results_charts!$M$11:$AT$116,22,FALSE)","v":0},{"$f":"VLOOKUP($A55,results_charts!$M$11:$AT$116,23,FALSE)","v":0},{"$f":"VLOOKUP($A55,results_charts!$M$11:$AT$116,24,FALSE)","v":0},{"$f":"VLOOKUP($A55,results_charts!$M$11:$AT$116,25,FALSE)","v":0},{"$f":"VLOOKUP($A55,results_charts!$M$11:$AT$116,26,FALSE)","v":0},{"$f":"VLOOKUP($A55,results_charts!$M$11:$AT$116,27,FALSE)","v":0},{"$f":"VLOOKUP($A55,results_charts!$M$11:$AT$116,28,FALSE)","v":0},{"$f":"VLOOKUP($A55,results_charts!$M$11:$AT$116,29,FALSE)","v":0},{"$f":"VLOOKUP($A55,results_charts!$M$11:$AT$116,30,FALSE)","v":0},{"$f":"VLOOKUP($A55,results_charts!$M$11:$AT$116,31,FALSE)","v":0},{"$f":"VLOOKUP($A55,results_charts!$M$11:$AT$116,32,FALSE)","v":0}]
["Overall-9Terabytes",null,{"$f":"input_lists!D19","v":-9},null,{"$f":"VLOOKUP(A56,results_charts!$M$11:$AT$116,34,FALSE)","v":0},null,{"$f":"VLOOKUP($A56,results_charts!$M$11:$AT$116,6,FALSE)","v":0},{"$f":"VLOOKUP($A56,results_charts!$M$11:$AT$116,7,FALSE)","v":0},{"$f":"VLOOKUP($A56,results_charts!$M$11:$AT$116,8,FALSE)","v":0},{"$f":"VLOOKUP($A56,results_charts!$M$11:$AT$116,9,FALSE)","v":0},{"$f":"VLOOKUP($A56,results_charts!$M$11:$AT$116,10,FALSE)","v":0},{"$f":"VLOOKUP($A56,results_charts!$M$11:$AT$116,11,FALSE)","v":0},{"$f":"VLOOKUP($A56,results_charts!$M$11:$AT$116,12,FALSE)","v":0},{"$f":"VLOOKUP($A56,results_charts!$M$11:$AT$116,13,FALSE)","v":0},{"$f":"VLOOKUP($A56,results_charts!$M$11:$AT$116,14,FALSE)","v":0},{"$f":"VLOOKUP($A56,results_charts!$M$11:$AT$116,15,FALSE)","v":0},{"$f":"VLOOKUP($A56,results_charts!$M$11:$AT$116,16,FALSE)","v":0},{"$f":"VLOOKUP($A56,results_charts!$M$11:$AT$116,17,FALSE)","v":0},{"$f":"VLOOKUP($A56,results_charts!$M$11:$AT$116,18,FALSE)","v":0},{"$f":"VLOOKUP($A56,results_charts!$M$11:$AT$116,19,FALSE)","v":0},{"$f":"VLOOKUP($A56,results_charts!$M$11:$AT$116,20,FALSE)","v":0},{"$f":"VLOOKUP($A56,results_charts!$M$11:$AT$116,21,FALSE)","v":0},{"$f":"VLOOKUP($A56,results_charts!$M$11:$AT$116,22,FALSE)","v":0},{"$f":"VLOOKUP($A56,results_charts!$M$11:$AT$116,23,FALSE)","v":0},{"$f":"VLOOKUP($A56,results_charts!$M$11:$AT$116,24,FALSE)","v":0},{"$f":"VLOOKUP($A56,results_charts!$M$11:$AT$116,25,FALSE)","v":0},{"$f":"VLOOKUP($A56,results_charts!$M$11:$AT$116,26,FALSE)","v":0},{"$f":"VLOOKUP($A56,results_charts!$M$11:$AT$116,27,FALSE)","v":0},{"$f":"VLOOKUP($A56,results_charts!$M$11:$AT$116,28,FALSE)","v":0},{"$f":"VLOOKUP($A56,results_charts!$M$11:$AT$116,29,FALSE)","v":0},{"$f":"VLOOKUP($A56,results_charts!$M$11:$AT$116,30,FALSE)","v":0},{"$f":"VLOOKUP($A56,results_charts!$M$11:$AT$116,31,FALSE)","v":0},{"$f":"VLOOKUP($A56,results_charts!$M$11:$AT$116,32,FALSE)","v":0}]
["Overall-8Terabytes",null,{"$f":"input_lists!D20","v":-8},null,{"$f":"VLOOKUP(A57,results_charts!$M$11:$AT$116,34,FALSE)","v":0},null,{"$f":"VLOOKUP($A57,results_charts!$M$11:$AT$116,6,FALSE)","v":0},{"$f":"VLOOKUP($A57,results_charts!$M$11:$AT$116,7,FALSE)","v":0},{"$f":"VLOOKUP($A57,results_charts!$M$11:$AT$116,8,FALSE)","v":0},{"$f":"VLOOKUP($A57,results_charts!$M$11:$AT$116,9,FALSE)","v":0},{"$f":"VLOOKUP($A57,results_charts!$M$11:$AT$116,10,FALSE)","v":0},{"$f":"VLOOKUP($A57,results_charts!$M$11:$AT$116,11,FALSE)","v":0},{"$f":"VLOOKUP($A57,results_charts!$M$11:$AT$116,12,FALSE)","v":0},{"$f":"VLOOKUP($A57,results_charts!$M$11:$AT$116,13,FALSE)","v":0},{"$f":"VLOOKUP($A57,results_charts!$M$11:$AT$116,14,FALSE)","v":0},{"$f":"VLOOKUP($A57,results_charts!$M$11:$AT$116,15,FALSE)","v":0},{"$f":"VLOOKUP($A57,results_charts!$M$11:$AT$116,16,FALSE)","v":0},{"$f":"VLOOKUP($A57,results_charts!$M$11:$AT$116,17,FALSE)","v":0},{"$f":"VLOOKUP($A57,results_charts!$M$11:$AT$116,18,FALSE)","v":0},{"$f":"VLOOKUP($A57,results_charts!$M$11:$AT$116,19,FALSE)","v":0},{"$f":"VLOOKUP($A57,results_charts!$M$11:$AT$116,20,FALSE)","v":0},{"$f":"VLOOKUP($A57,results_charts!$M$11:$AT$116,21,FALSE)","v":0},{"$f":"VLOOKUP($A57,results_charts!$M$11:$AT$116,22,FALSE)","v":0},{"$f":"VLOOKUP($A57,results_charts!$M$11:$AT$116,23,FALSE)","v":0},{"$f":"VLOOKUP($A57,results_charts!$M$11:$AT$116,24,FALSE)","v":0},{"$f":"VLOOKUP($A57,results_charts!$M$11:$AT$116,25,FALSE)","v":0},{"$f":"VLOOKUP($A57,results_charts!$M$11:$AT$116,26,FALSE)","v":0},{"$f":"VLOOKUP($A57,results_charts!$M$11:$AT$116,27,FALSE)","v":0},{"$f":"VLOOKUP($A57,results_charts!$M$11:$AT$116,28,FALSE)","v":0},{"$f":"VLOOKUP($A57,results_charts!$M$11:$AT$116,29,FALSE)","v":0},{"$f":"VLOOKUP($A57,results_charts!$M$11:$AT$116,30,FALSE)","v":0},{"$f":"VLOOKUP($A57,results_charts!$M$11:$AT$116,31,FALSE)","v":0},{"$f":"VLOOKUP($A57,results_charts!$M$11:$AT$116,32,FALSE)","v":0}]
["Overall-7Terabytes",null,{"$f":"input_lists!D21","v":-7},null,{"$f":"VLOOKUP(A58,results_charts!$M$11:$AT$116,34,FALSE)","v":0},null,{"$f":"VLOOKUP($A58,results_charts!$M$11:$AT$116,6,FALSE)","v":0},{"$f":"VLOOKUP($A58,results_charts!$M$11:$AT$116,7,FALSE)","v":0},{"$f":"VLOOKUP($A58,results_charts!$M$11:$AT$116,8,FALSE)","v":0},{"$f":"VLOOKUP($A58,results_charts!$M$11:$AT$116,9,FALSE)","v":0},{"$f":"VLOOKUP($A58,results_charts!$M$11:$AT$116,10,FALSE)","v":0},{"$f":"VLOOKUP($A58,results_charts!$M$11:$AT$116,11,FALSE)","v":0},{"$f":"VLOOKUP($A58,results_charts!$M$11:$AT$116,12,FALSE)","v":0},{"$f":"VLOOKUP($A58,results_charts!$M$11:$AT$116,13,FALSE)","v":0},{"$f":"VLOOKUP($A58,results_charts!$M$11:$AT$116,14,FALSE)","v":0},{"$f":"VLOOKUP($A58,results_charts!$M$11:$AT$116,15,FALSE)","v":0},{"$f":"VLOOKUP($A58,results_charts!$M$11:$AT$116,16,FALSE)","v":0},{"$f":"VLOOKUP($A58,results_charts!$M$11:$AT$116,17,FALSE)","v":0},{"$f":"VLOOKUP($A58,results_charts!$M$11:$AT$116,18,FALSE)","v":0},{"$f":"VLOOKUP($A58,results_charts!$M$11:$AT$116,19,FALSE)","v":0},{"$f":"VLOOKUP($A58,results_charts!$M$11:$AT$116,20,FALSE)","v":0},{"$f":"VLOOKUP($A58,results_charts!$M$11:$AT$116,21,FALSE)","v":0},{"$f":"VLOOKUP($A58,results_charts!$M$11:$AT$116,22,FALSE)","v":0},{"$f":"VLOOKUP($A58,results_charts!$M$11:$AT$116,23,FALSE)","v":0},{"$f":"VLOOKUP($A58,results_charts!$M$11:$AT$116,24,FALSE)","v":0},{"$f":"VLOOKUP($A58,results_charts!$M$11:$AT$116,25,FALSE)","v":0},{"$f":"VLOOKUP($A58,results_charts!$M$11:$AT$116,26,FALSE)","v":0},{"$f":"VLOOKUP($A58,results_charts!$M$11:$AT$116,27,FALSE)","v":0},{"$f":"VLOOKUP($A58,results_charts!$M$11:$AT$116,28,FALSE)","v":0},{"$f":"VLOOKUP($A58,results_charts!$M$11:$AT$116,29,FALSE)","v":0},{"$f":"VLOOKUP($A58,results_charts!$M$11:$AT$116,30,FALSE)","v":0},{"$f":"VLOOKUP($A58,results_charts!$M$11:$AT$116,31,FALSE)","v":0},{"$f":"VLOOKUP($A58,results_charts!$M$11:$AT$116,32,FALSE)","v":0}]
["Overall-6Terabytes",null,{"$f":"input_lists!D22","v":-6},null,{"$f":"VLOOKUP(A59,results_charts!$M$11:$AT$116,34,FALSE)","v":0},null,{"$f":"VLOOKUP($A59,results_charts!$M$11:$AT$116,6,FALSE)","v":0},{"$f":"VLOOKUP($A59,results_charts!$M$11:$AT$116,7,FALSE)","v":0},{"$f":"VLOOKUP($A59,results_charts!$M$11:$AT$116,8,FALSE)","v":0},{"$f":"VLOOKUP($A59,results_charts!$M$11:$AT$116,9,FALSE)","v":0},{"$f":"VLOOKUP($A59,results_charts!$M$11:$AT$116,10,FALSE)","v":0},{"$f":"VLOOKUP($A59,results_charts!$M$11:$AT$116,11,FALSE)","v":0},{"$f":"VLOOKUP($A59,results_charts!$M$11:$AT$116,12,FALSE)","v":0},{"$f":"VLOOKUP($A59,results_charts!$M$11:$AT$116,13,FALSE)","v":0},{"$f":"VLOOKUP($A59,results_charts!$M$11:$AT$116,14,FALSE)","v":0},{"$f":"VLOOKUP($A59,results_charts!$M$11:$AT$116,15,FALSE)","v":0},{"$f":"VLOOKUP($A59,results_charts!$M$11:$AT$116,16,FALSE)","v":0},{"$f":"VLOOKUP($A59,results_charts!$M$11:$AT$116,17,FALSE)","v":0},{"$f":"VLOOKUP($A59,results_charts!$M$11:$AT$116,18,FALSE)","v":0},{"$f":"VLOOKUP($A59,results_charts!$M$11:$AT$116,19,FALSE)","v":0},{"$f":"VLOOKUP($A59,results_charts!$M$11:$AT$116,20,FALSE)","v":0},{"$f":"VLOOKUP($A59,results_charts!$M$11:$AT$116,21,FALSE)","v":0},{"$f":"VLOOKUP($A59,results_charts!$M$11:$AT$116,22,FALSE)","v":0},{"$f":"VLOOKUP($A59,results_charts!$M$11:$AT$116,23,FALSE)","v":0},{"$f":"VLOOKUP($A59,results_charts!$M$11:$AT$116,24,FALSE)","v":0},{"$f":"VLOOKUP($A59,results_charts!$M$11:$AT$116,25,FALSE)","v":0},{"$f":"VLOOKUP($A59,results_charts!$M$11:$AT$116,26,FALSE)","v":0},{"$f":"VLOOKUP($A59,results_charts!$M$11:$AT$116,27,FALSE)","v":0},{"$f":"VLOOKUP($A59,results_charts!$M$11:$AT$116,28,FALSE)","v":0},{"$f":"VLOOKUP($A59,results_charts!$M$11:$AT$116,29,FALSE)","v":0},{"$f":"VLOOKUP($A59,results_charts!$M$11:$AT$116,30,FALSE)","v":0},{"$f":"VLOOKUP($A59,results_charts!$M$11:$AT$116,31,FALSE)","v":0},{"$f":"VLOOKUP($A59,results_charts!$M$11:$AT$116,32,FALSE)","v":0}]
["Overall-5Terabytes",null,{"$f":"input_lists!D23","v":-5},null,{"$f":"VLOOKUP(A60,results_charts!$M$11:$AT$116,34,FALSE)","v":0},null,{"$f":"VLOOKUP($A60,results_charts!$M$11:$AT$116,6,FALSE)","v":0},{"$f":"VLOOKUP($A60,results_charts!$M$11:$AT$116,7,FALSE)","v":0},{"$f":"VLOOKUP($A60,results_charts!$M$11:$AT$116,8,FALSE)","v":0},{"$f":"VLOOKUP($A60,results_charts!$M$11:$AT$116,9,FALSE)","v":0},{"$f":"VLOOKUP($A60,results_charts!$M$11:$AT$116,10,FALSE)","v":0},{"$f":"VLOOKUP($A60,results_charts!$M$11:$AT$116,11,FALSE)","v":0},{"$f":"VLOOKUP($A60,results_charts!$M$11:$AT$116,12,FALSE)","v":0},{"$f":"VLOOKUP($A60,results_charts!$M$11:$AT$116,13,FALSE)","v":0},{"$f":"VLOOKUP($A60,results_charts!$M$11:$AT$116,14,FALSE)","v":0},{"$f":"VLOOKUP($A60,results_charts!$M$11:$AT$116,15,FALSE)","v":0},{"$f":"VLOOKUP($A60,results_charts!$M$11:$AT$116,16,FALSE)","v":0},{"$f":"VLOOKUP($A60,results_charts!$M$11:$AT$116,17,FALSE)","v":0},{"$f":"VLOOKUP($A60,results_charts!$M$11:$AT$116,18,FALSE)","v":0},{"$f":"VLOOKUP($A60,results_charts!$M$11:$AT$116,19,FALSE)","v":0},{"$f":"VLOOKUP($A60,results_charts!$M$11:$AT$116,20,FALSE)","v":0},{"$f":"VLOOKUP($A60,results_charts!$M$11:$AT$116,21,FALSE)","v":0},{"$f":"VLOOKUP($A60,results_charts!$M$11:$AT$116,22,FALSE)","v":0},{"$f":"VLOOKUP($A60,results_charts!$M$11:$AT$116,23,FALSE)","v":0},{"$f":"VLOOKUP($A60,results_charts!$M$11:$AT$116,24,FALSE)","v":0},{"$f":"VLOOKUP($A60,results_charts!$M$11:$AT$116,25,FALSE)","v":0},{"$f":"VLOOKUP($A60,results_charts!$M$11:$AT$116,26,FALSE)","v":0},{"$f":"VLOOKUP($A60,results_charts!$M$11:$AT$116,27,FALSE)","v":0},{"$f":"VLOOKUP($A60,results_charts!$M$11:$AT$116,28,FALSE)","v":0},{"$f":"VLOOKUP($A60,results_charts!$M$11:$AT$116,29,FALSE)","v":0},{"$f":"VLOOKUP($A60,results_charts!$M$11:$AT$116,30,FALSE)","v":0},{"$f":"VLOOKUP($A60,results_charts!$M$11:$AT$116,31,FALSE)","v":0},{"$f":"VLOOKUP($A60,results_charts!$M$11:$AT$116,32,FALSE)","v":0}]
["Overall-4Terabytes",null,{"$f":"input_lists!D24","v":-4},null,{"$f":"VLOOKUP(A61,results_charts!$M$11:$AT$116,34,FALSE)","v":0},null,{"$f":"VLOOKUP($A61,results_charts!$M$11:$AT$116,6,FALSE)","v":0},{"$f":"VLOOKUP($A61,results_charts!$M$11:$AT$116,7,FALSE)","v":0},{"$f":"VLOOKUP($A61,results_charts!$M$11:$AT$116,8,FALSE)","v":0},{"$f":"VLOOKUP($A61,results_charts!$M$11:$AT$116,9,FALSE)","v":0},{"$f":"VLOOKUP($A61,results_charts!$M$11:$AT$116,10,FALSE)","v":0},{"$f":"VLOOKUP($A61,results_charts!$M$11:$AT$116,11,FALSE)","v":0},{"$f":"VLOOKUP($A61,results_charts!$M$11:$AT$116,12,FALSE)","v":0},{"$f":"VLOOKUP($A61,results_charts!$M$11:$AT$116,13,FALSE)","v":0},{"$f":"VLOOKUP($A61,results_charts!$M$11:$AT$116,14,FALSE)","v":0},{"$f":"VLOOKUP($A61,results_charts!$M$11:$AT$116,15,FALSE)","v":0},{"$f":"VLOOKUP($A61,results_charts!$M$11:$AT$116,16,FALSE)","v":0},{"$f":"VLOOKUP($A61,results_charts!$M$11:$AT$116,17,FALSE)","v":0},{"$f":"VLOOKUP($A61,results_charts!$M$11:$AT$116,18,FALSE)","v":0},{"$f":"VLOOKUP($A61,results_charts!$M$11:$AT$116,19,FALSE)","v":0},{"$f":"VLOOKUP($A61,results_charts!$M$11:$AT$116,20,FALSE)","v":0},{"$f":"VLOOKUP($A61,results_charts!$M$11:$AT$116,21,FALSE)","v":0},{"$f":"VLOOKUP($A61,results_charts!$M$11:$AT$116,22,FALSE)","v":0},{"$f":"VLOOKUP($A61,results_charts!$M$11:$AT$116,23,FALSE)","v":0},{"$f":"VLOOKUP($A61,results_charts!$M$11:$AT$116,24,FALSE)","v":0},{"$f":"VLOOKUP($A61,results_charts!$M$11:$AT$116,25,FALSE)","v":0},{"$f":"VLOOKUP($A61,results_charts!$M$11:$AT$116,26,FALSE)","v":0},{"$f":"VLOOKUP($A61,results_charts!$M$11:$AT$116,27,FALSE)","v":0},{"$f":"VLOOKUP($A61,results_charts!$M$11:$AT$116,28,FALSE)","v":0},{"$f":"VLOOKUP($A61,results_charts!$M$11:$AT$116,29,FALSE)","v":0},{"$f":"VLOOKUP($A61,results_charts!$M$11:$AT$116,30,FALSE)","v":0},{"$f":"VLOOKUP($A61,results_charts!$M$11:$AT$116,31,FALSE)","v":0},{"$f":"VLOOKUP($A61,results_charts!$M$11:$AT$116,32,FALSE)","v":0}]
["Overall-3Terabytes",null,{"$f":"input_lists!D25","v":-3},null,{"$f":"VLOOKUP(A62,results_charts!$M$11:$AT$116,34,FALSE)","v":0},null,{"$f":"VLOOKUP($A62,results_charts!$M$11:$AT$116,6,FALSE)","v":0},{"$f":"VLOOKUP($A62,results_charts!$M$11:$AT$116,7,FALSE)","v":0},{"$f":"VLOOKUP($A62,results_charts!$M$11:$AT$116,8,FALSE)","v":0},{"$f":"VLOOKUP($A62,results_charts!$M$11:$AT$116,9,FALSE)","v":0},{"$f":"VLOOKUP($A62,results_charts!$M$11:$AT$116,10,FALSE)","v":0},{"$f":"VLOOKUP($A62,results_charts!$M$11:$AT$116,11,FALSE)","v":0},{"$f":"VLOOKUP($A62,results_charts!$M$11:$AT$116,12,FALSE)","v":0},{"$f":"VLOOKUP($A62,results_charts!$M$11:$AT$116,13,FALSE)","v":0},{"$f":"VLOOKUP($A62,results_charts!$M$11:$AT$116,14,FALSE)","v":0},{"$f":"VLOOKUP($A62,results_charts!$M$11:$AT$116,15,FALSE)","v":0},{"$f":"VLOOKUP($A62,results_charts!$M$11:$AT$116,16,FALSE)","v":0},{"$f":"VLOOKUP($A62,results_charts!$M$11:$AT$116,17,FALSE)","v":0},{"$f":"VLOOKUP($A62,results_charts!$M$11:$AT$116,18,FALSE)","v":0},{"$f":"VLOOKUP($A62,results_charts!$M$11:$AT$116,19,FALSE)","v":0},{"$f":"VLOOKUP($A62,results_charts!$M$11:$AT$116,20,FALSE)","v":0},{"$f":"VLOOKUP($A62,results_charts!$M$11:$AT$116,21,FALSE)","v":0},{"$f":"VLOOKUP($A62,results_charts!$M$11:$AT$116,22,FALSE)","v":0},{"$f":"VLOOKUP($A62,results_charts!$M$11:$AT$116,23,FALSE)","v":0},{"$f":"VLOOKUP($A62,results_charts!$M$11:$AT$116,24,FALSE)","v":0},{"$f":"VLOOKUP($A62,results_charts!$M$11:$AT$116,25,FALSE)","v":0},{"$f":"VLOOKUP($A62,results_charts!$M$11:$AT$116,26,FALSE)","v":0},{"$f":"VLOOKUP($A62,results_charts!$M$11:$AT$116,27,FALSE)","v":0},{"$f":"VLOOKUP($A62,results_charts!$M$11:$AT$116,28,FALSE)","v":0},{"$f":"VLOOKUP($A62,results_charts!$M$11:$AT$116,29,FALSE)","v":0},{"$f":"VLOOKUP($A62,results_charts!$M$11:$AT$116,30,FALSE)","v":0},{"$f":"VLOOKUP($A62,results_charts!$M$11:$AT$116,31,FALSE)","v":0},{"$f":"VLOOKUP($A62,results_charts!$M$11:$AT$116,32,FALSE)","v":0}]
["Overall-2Terabytes",null,{"$f":"input_lists!D26","v":-2},null,{"$f":"VLOOKUP(A63,results_charts!$M$11:$AT$116,34,FALSE)","v":0},null,{"$f":"VLOOKUP($A63,results_charts!$M$11:$AT$116,6,FALSE)","v":0},{"$f":"VLOOKUP($A63,results_charts!$M$11:$AT$116,7,FALSE)","v":0},{"$f":"VLOOKUP($A63,results_charts!$M$11:$AT$116,8,FALSE)","v":0},{"$f":"VLOOKUP($A63,results_charts!$M$11:$AT$116,9,FALSE)","v":0},{"$f":"VLOOKUP($A63,results_charts!$M$11:$AT$116,10,FALSE)","v":0},{"$f":"VLOOKUP($A63,results_charts!$M$11:$AT$116,11,FALSE)","v":0},{"$f":"VLOOKUP($A63,results_charts!$M$11:$AT$116,12,FALSE)","v":0},{"$f":"VLOOKUP($A63,results_charts!$M$11:$AT$116,13,FALSE)","v":0},{"$f":"VLOOKUP($A63,results_charts!$M$11:$AT$116,14,FALSE)","v":0},{"$f":"VLOOKUP($A63,results_charts!$M$11:$AT$116,15,FALSE)","v":0},{"$f":"VLOOKUP($A63,results_charts!$M$11:$AT$116,16,FALSE)","v":0},{"$f":"VLOOKUP($A63,results_charts!$M$11:$AT$116,17,FALSE)","v":0},{"$f":"VLOOKUP($A63,results_charts!$M$11:$AT$116,18,FALSE)","v":0},{"$f":"VLOOKUP($A63,results_charts!$M$11:$AT$116,19,FALSE)","v":0},{"$f":"VLOOKUP($A63,results_charts!$M$11:$AT$116,20,FALSE)","v":0},{"$f":"VLOOKUP($A63,results_charts!$M$11:$AT$116,21,FALSE)","v":0},{"$f":"VLOOKUP($A63,results_charts!$M$11:$AT$116,22,FALSE)","v":0},{"$f":"VLOOKUP($A63,results_charts!$M$11:$AT$116,23,FALSE)","v":0},{"$f":"VLOOKUP($A63,results_charts!$M$11:$AT$116,24,FALSE)","v":0},{"$f":"VLOOKUP($A63,results_charts!$M$11:$AT$116,25,FALSE)","v":0},{"$f":"VLOOKUP($A63,results_charts!$M$11:$AT$116,26,FALSE)","v":0},{"$f":"VLOOKUP($A63,results_charts!$M$11:$AT$116,27,FALSE)","v":0},{"$f":"VLOOKUP($A63,results_charts!$M$11:$AT$116,28,FALSE)","v":0},{"$f":"VLOOKUP($A63,results_charts!$M$11:$AT$116,29,FALSE)","v":0},{"$f":"VLOOKUP($A63,results_charts!$M$11:$AT$116,30,FALSE)","v":0},{"$f":"VLOOKUP($A63,results_charts!$M$11:$AT$116,31,FALSE)","v":0},{"$f":"VLOOKUP($A63,results_charts!$M$11:$AT$116,32,FALSE)","v":0}]
["Overall-1Terabytes",null,{"$f":"input_lists!D27","v":-1},null,{"$f":"VLOOKUP(A64,results_charts!$M$11:$AT$116,34,FALSE)","v":0},null,{"$f":"VLOOKUP($A64,results_charts!$M$11:$AT$116,6,FALSE)","v":0},{"$f":"VLOOKUP($A64,results_charts!$M$11:$AT$116,7,FALSE)","v":0},{"$f":"VLOOKUP($A64,results_charts!$M$11:$AT$116,8,FALSE)","v":0},{"$f":"VLOOKUP($A64,results_charts!$M$11:$AT$116,9,FALSE)","v":0},{"$f":"VLOOKUP($A64,results_charts!$M$11:$AT$116,10,FALSE)","v":0},{"$f":"VLOOKUP($A64,results_charts!$M$11:$AT$116,11,FALSE)","v":0},{"$f":"VLOOKUP($A64,results_charts!$M$11:$AT$116,12,FALSE)","v":0},{"$f":"VLOOKUP($A64,results_charts!$M$11:$AT$116,13,FALSE)","v":0},{"$f":"VLOOKUP($A64,results_charts!$M$11:$AT$116,14,FALSE)","v":0},{"$f":"VLOOKUP($A64,results_charts!$M$11:$AT$116,15,FALSE)","v":0},{"$f":"VLOOKUP($A64,results_charts!$M$11:$AT$116,16,FALSE)","v":0},{"$f":"VLOOKUP($A64,results_charts!$M$11:$AT$116,17,FALSE)","v":0},{"$f":"VLOOKUP($A64,results_charts!$M$11:$AT$116,18,FALSE)","v":0},{"$f":"VLOOKUP($A64,results_charts!$M$11:$AT$116,19,FALSE)","v":0},{"$f":"VLOOKUP($A64,results_charts!$M$11:$AT$116,20,FALSE)","v":0},{"$f":"VLOOKUP($A64,results_charts!$M$11:$AT$116,21,FALSE)","v":0},{"$f":"VLOOKUP($A64,results_charts!$M$11:$AT$116,22,FALSE)","v":0},{"$f":"VLOOKUP($A64,results_charts!$M$11:$AT$116,23,FALSE)","v":0},{"$f":"VLOOKUP($A64,results_charts!$M$11:$AT$116,24,FALSE)","v":0},{"$f":"VLOOKUP($A64,results_charts!$M$11:$AT$116,25,FALSE)","v":0},{"$f":"VLOOKUP($A64,results_charts!$M$11:$AT$116,26,FALSE)","v":0},{"$f":"VLOOKUP($A64,results_charts!$M$11:$AT$116,27,FALSE)","v":0},{"$f":"VLOOKUP($A64,results_charts!$M$11:$AT$116,28,FALSE)","v":0},{"$f":"VLOOKUP($A64,results_charts!$M$11:$AT$116,29,FALSE)","v":0},{"$f":"VLOOKUP($A64,results_charts!$M$11:$AT$116,30,FALSE)","v":0},{"$f":"VLOOKUP($A64,results_charts!$M$11:$AT$116,31,FALSE)","v":0},{"$f":"VLOOKUP($A64,results_charts!$M$11:$AT$116,32,FALSE)","v":0}]
["Overall0Terabytes",null,{"$f":"input_lists!D28","v":0},null,{"$f":"VLOOKUP(A65,results_charts!$M$11:$AT$116,34,FALSE)","v":0},null,{"$f":"VLOOKUP($A65,results_charts!$M$11:$AT$116,6,FALSE)","v":0},{"$f":"VLOOKUP($A65,results_charts!$M$11:$AT$116,7,FALSE)","v":0},{"$f":"VLOOKUP($A65,results_charts!$M$11:$AT$116,8,FALSE)","v":0},{"$f":"VLOOKUP($A65,results_charts!$M$11:$AT$116,9,FALSE)","v":0},{"$f":"VLOOKUP($A65,results_charts!$M$11:$AT$116,10,FALSE)","v":0},{"$f":"VLOOKUP($A65,results_charts!$M$11:$AT$116,11,FALSE)","v":0},{"$f":"VLOOKUP($A65,results_charts!$M$11:$AT$116,12,FALSE)","v":0},{"$f":"VLOOKUP($A65,results_charts!$M$11:$AT$116,13,FALSE)","v":0},{"$f":"VLOOKUP($A65,results_charts!$M$11:$AT$116,14,FALSE)","v":0},{"$f":"VLOOKUP($A65,results_charts!$M$11:$AT$116,15,FALSE)","v":0},{"$f":"VLOOKUP($A65,results_charts!$M$11:$AT$116,16,FALSE)","v":0},{"$f":"VLOOKUP($A65,results_charts!$M$11:$AT$116,17,FALSE)","v":0},{"$f":"VLOOKUP($A65,results_charts!$M$11:$AT$116,18,FALSE)","v":0},{"$f":"VLOOKUP($A65,results_charts!$M$11:$AT$116,19,FALSE)","v":0},{"$f":"VLOOKUP($A65,results_charts!$M$11:$AT$116,20,FALSE)","v":0},{"$f":"VLOOKUP($A65,results_charts!$M$11:$AT$116,21,FALSE)","v":0},{"$f":"VLOOKUP($A65,results_charts!$M$11:$AT$116,22,FALSE)","v":0},{"$f":"VLOOKUP($A65,results_charts!$M$11:$AT$116,23,FALSE)","v":0},{"$f":"VLOOKUP($A65,results_charts!$M$11:$AT$116,24,FALSE)","v":0},{"$f":"VLOOKUP($A65,results_charts!$M$11:$AT$116,25,FALSE)","v":0},{"$f":"VLOOKUP($A65,results_charts!$M$11:$AT$116,26,FALSE)","v":0},{"$f":"VLOOKUP($A65,results_charts!$M$11:$AT$116,27,FALSE)","v":0},{"$f":"VLOOKUP($A65,results_charts!$M$11:$AT$116,28,FALSE)","v":0},{"$f":"VLOOKUP($A65,results_charts!$M$11:$AT$116,29,FALSE)","v":0},{"$f":"VLOOKUP($A65,results_charts!$M$11:$AT$116,30,FALSE)","v":0},{"$f":"VLOOKUP($A65,results_charts!$M$11:$AT$116,31,FALSE)","v":0},{"$f":"VLOOKUP($A65,results_charts!$M$11:$AT$116,32,FALSE)","v":0}]
["Overall1Terabytes",null,{"$f":"input_lists!D29","v":1},null,{"$f":"VLOOKUP(A66,results_charts!$M$11:$AT$116,34,FALSE)","v":0},null,{"$f":"VLOOKUP($A66,results_charts!$M$11:$AT$116,6,FALSE)","v":0},{"$f":"VLOOKUP($A66,results_charts!$M$11:$AT$116,7,FALSE)","v":0},{"$f":"VLOOKUP($A66,results_charts!$M$11:$AT$116,8,FALSE)","v":0},{"$f":"VLOOKUP($A66,results_charts!$M$11:$AT$116,9,FALSE)","v":0},{"$f":"VLOOKUP($A66,results_charts!$M$11:$AT$116,10,FALSE)","v":0},{"$f":"VLOOKUP($A66,results_charts!$M$11:$AT$116,11,FALSE)","v":0},{"$f":"VLOOKUP($A66,results_charts!$M$11:$AT$116,12,FALSE)","v":0},{"$f":"VLOOKUP($A66,results_charts!$M$11:$AT$116,13,FALSE)","v":0},{"$f":"VLOOKUP($A66,results_charts!$M$11:$AT$116,14,FALSE)","v":0},{"$f":"VLOOKUP($A66,results_charts!$M$11:$AT$116,15,FALSE)","v":0},{"$f":"VLOOKUP($A66,results_charts!$M$11:$AT$116,16,FALSE)","v":0},{"$f":"VLOOKUP($A66,results_charts!$M$11:$AT$116,17,FALSE)","v":0},{"$f":"VLOOKUP($A66,results_charts!$M$11:$AT$116,18,FALSE)","v":0},{"$f":"VLOOKUP($A66,results_charts!$M$11:$AT$116,19,FALSE)","v":0},{"$f":"VLOOKUP($A66,results_charts!$M$11:$AT$116,20,FALSE)","v":0},{"$f":"VLOOKUP($A66,results_charts!$M$11:$AT$116,21,FALSE)","v":0},{"$f":"VLOOKUP($A66,results_charts!$M$11:$AT$116,22,FALSE)","v":0},{"$f":"VLOOKUP($A66,results_charts!$M$11:$AT$116,23,FALSE)","v":0},{"$f":"VLOOKUP($A66,results_charts!$M$11:$AT$116,24,FALSE)","v":0},{"$f":"VLOOKUP($A66,results_charts!$M$11:$AT$116,25,FALSE)","v":0},{"$f":"VLOOKUP($A66,results_charts!$M$11:$AT$116,26,FALSE)","v":0},{"$f":"VLOOKUP($A66,results_charts!$M$11:$AT$116,27,FALSE)","v":0},{"$f":"VLOOKUP($A66,results_charts!$M$11:$AT$116,28,FALSE)","v":0},{"$f":"VLOOKUP($A66,results_charts!$M$11:$AT$116,29,FALSE)","v":0},{"$f":"VLOOKUP($A66,results_charts!$M$11:$AT$116,30,FALSE)","v":0},{"$f":"VLOOKUP($A66,results_charts!$M$11:$AT$116,31,FALSE)","v":0},{"$f":"VLOOKUP($A66,results_charts!$M$11:$AT$116,32,FALSE)","v":0}]
["Overall2Terabytes",null,{"$f":"input_lists!D30","v":2},null,{"$f":"VLOOKUP(A67,results_charts!$M$11:$AT$116,34,FALSE)","v":0},null,{"$f":"VLOOKUP($A67,results_charts!$M$11:$AT$116,6,FALSE)","v":0},{"$f":"VLOOKUP($A67,results_charts!$M$11:$AT$116,7,FALSE)","v":0},{"$f":"VLOOKUP($A67,results_charts!$M$11:$AT$116,8,FALSE)","v":0},{"$f":"VLOOKUP($A67,results_charts!$M$11:$AT$116,9,FALSE)","v":0},{"$f":"VLOOKUP($A67,results_charts!$M$11:$AT$116,10,FALSE)","v":0},{"$f":"VLOOKUP($A67,results_charts!$M$11:$AT$116,11,FALSE)","v":0},{"$f":"VLOOKUP($A67,results_charts!$M$11:$AT$116,12,FALSE)","v":0},{"$f":"VLOOKUP($A67,results_charts!$M$11:$AT$116,13,FALSE)","v":0},{"$f":"VLOOKUP($A67,results_charts!$M$11:$AT$116,14,FALSE)","v":0},{"$f":"VLOOKUP($A67,results_charts!$M$11:$AT$116,15,FALSE)","v":0},{"$f":"VLOOKUP($A67,results_charts!$M$11:$AT$116,16,FALSE)","v":0},{"$f":"VLOOKUP($A67,results_charts!$M$11:$AT$116,17,FALSE)","v":0},{"$f":"VLOOKUP($A67,results_charts!$M$11:$AT$116,18,FALSE)","v":0},{"$f":"VLOOKUP($A67,results_charts!$M$11:$AT$116,19,FALSE)","v":0},{"$f":"VLOOKUP($A67,results_charts!$M$11:$AT$116,20,FALSE)","v":0},{"$f":"VLOOKUP($A67,results_charts!$M$11:$AT$116,21,FALSE)","v":0},{"$f":"VLOOKUP($A67,results_charts!$M$11:$AT$116,22,FALSE)","v":0},{"$f":"VLOOKUP($A67,results_charts!$M$11:$AT$116,23,FALSE)","v":0},{"$f":"VLOOKUP($A67,results_charts!$M$11:$AT$116,24,FALSE)","v":0},{"$f":"VLOOKUP($A67,results_charts!$M$11:$AT$116,25,FALSE)","v":0},{"$f":"VLOOKUP($A67,results_charts!$M$11:$AT$116,26,FALSE)","v":0},{"$f":"VLOOKUP($A67,results_charts!$M$11:$AT$116,27,FALSE)","v":0},{"$f":"VLOOKUP($A67,results_charts!$M$11:$AT$116,28,FALSE)","v":0},{"$f":"VLOOKUP($A67,results_charts!$M$11:$AT$116,29,FALSE)","v":0},{"$f":"VLOOKUP($A67,results_charts!$M$11:$AT$116,30,FALSE)","v":0},{"$f":"VLOOKUP($A67,results_charts!$M$11:$AT$116,31,FALSE)","v":0},{"$f":"VLOOKUP($A67,results_charts!$M$11:$AT$116,32,FALSE)","v":0}]
["Overall3Terabytes",null,{"$f":"input_lists!D31","v":3},null,{"$f":"VLOOKUP(A68,results_charts!$M$11:$AT$116,34,FALSE)","v":0},null,{"$f":"VLOOKUP($A68,results_charts!$M$11:$AT$116,6,FALSE)","v":0},{"$f":"VLOOKUP($A68,results_charts!$M$11:$AT$116,7,FALSE)","v":0},{"$f":"VLOOKUP($A68,results_charts!$M$11:$AT$116,8,FALSE)","v":0},{"$f":"VLOOKUP($A68,results_charts!$M$11:$AT$116,9,FALSE)","v":0},{"$f":"VLOOKUP($A68,results_charts!$M$11:$AT$116,10,FALSE)","v":0},{"$f":"VLOOKUP($A68,results_charts!$M$11:$AT$116,11,FALSE)","v":0},{"$f":"VLOOKUP($A68,results_charts!$M$11:$AT$116,12,FALSE)","v":0},{"$f":"VLOOKUP($A68,results_charts!$M$11:$AT$116,13,FALSE)","v":0},{"$f":"VLOOKUP($A68,results_charts!$M$11:$AT$116,14,FALSE)","v":0},{"$f":"VLOOKUP($A68,results_charts!$M$11:$AT$116,15,FALSE)","v":0},{"$f":"VLOOKUP($A68,results_charts!$M$11:$AT$116,16,FALSE)","v":0},{"$f":"VLOOKUP($A68,results_charts!$M$11:$AT$116,17,FALSE)","v":0},{"$f":"VLOOKUP($A68,results_charts!$M$11:$AT$116,18,FALSE)","v":0},{"$f":"VLOOKUP($A68,results_charts!$M$11:$AT$116,19,FALSE)","v":0},{"$f":"VLOOKUP($A68,results_charts!$M$11:$AT$116,20,FALSE)","v":0},{"$f":"VLOOKUP($A68,results_charts!$M$11:$AT$116,21,FALSE)","v":0},{"$f":"VLOOKUP($A68,results_charts!$M$11:$AT$116,22,FALSE)","v":0},{"$f":"VLOOKUP($A68,results_charts!$M$11:$AT$116,23,FALSE)","v":0},{"$f":"VLOOKUP($A68,results_charts!$M$11:$AT$116,24,FALSE)","v":0},{"$f":"VLOOKUP($A68,results_charts!$M$11:$AT$116,25,FALSE)","v":0},{"$f":"VLOOKUP($A68,results_charts!$M$11:$AT$116,26,FALSE)","v":0},{"$f":"VLOOKUP($A68,results_charts!$M$11:$AT$116,27,FALSE)","v":0},{"$f":"VLOOKUP($A68,results_charts!$M$11:$AT$116,28,FALSE)","v":0},{"$f":"VLOOKUP($A68,results_charts!$M$11:$AT$116,29,FALSE)","v":0},{"$f":"VLOOKUP($A68,results_charts!$M$11:$AT$116,30,FALSE)","v":0},{"$f":"VLOOKUP($A68,results_charts!$M$11:$AT$116,31,FALSE)","v":0},{"$f":"VLOOKUP($A68,results_charts!$M$11:$AT$116,32,FALSE)","v":0}]
["OverallTerabytes"]
[null,null,"Total",null,{"$f":"E68","v":0},null,{"$f":"G68","v":0},{"$f":"H68","v":0},0,0,0,0,0,0,0,0,0,0,0,0,0,0,0,0,0,0,0,0,0,0,0,0,0]
[null,null,null,null,{"$f":"ROUND(E70,1)","v":0}]
[null,null,"% of total storage needs",null,null,null,{"$f":"G70/$E$70","v":{"$error":"#DIV/0!"}},{"$f":"H70/$E$70","v":{"$error":"#DIV/0!"}},{"$error":"#DIV/0!"},{"$error":"#DIV/0!"},{"$error":"#DIV/0!"},{"$error":"#DIV/0!"},{"$error":"#DIV/0!"},{"$error":"#DIV/0!"},{"$error":"#DIV/0!"},{"$error":"#DIV/0!"},{"$error":"#DIV/0!"},{"$error":"#DIV/0!"},{"$error":"#DIV/0!"},{"$error":"#DIV/0!"},{"$error":"#DIV/0!"},{"$error":"#DIV/0!"},{"$error":"#DIV/0!"},{"$error":"#DIV/0!"},{"$error":"#DIV/0!"},{"$error":"#DIV/0!"},{"$error":"#DIV/0!"},{"$error":"#DIV/0!"},{"$error":"#DIV/0!"},{"$error":"#DIV/0!"},{"$error":"#DIV/0!"},{"$error":"#DIV/0!"},{"$error":"#DIV/0!"}]
[]
[null,null,"% of records selected for preservation",null,null,null,{"$f":"VLOOKUP(G47,input_database!$A$5:$B$31,2,FALSE)","v":0},{"$f":"VLOOKUP(H47,input_database!$A$5:$B$31,2,FALSE)","v":0},{"$f":"VLOOKUP(I47,input_database!$A$5:$B$31,2,FALSE)","v":0},{"$f":"VLOOKUP(J47,input_database!$A$5:$B$31,2,FALSE)","v":0},{"$f":"VLOOKUP(K47,input_database!$A$5:$B$31,2,FALSE)","v":0},{"$f":"VLOOKUP(L47,input_database!$A$5:$B$31,2,FALSE)","v":0},{"$f":"VLOOKUP(M47,input_database!$A$5:$B$31,2,FALSE)","v":0},{"$f":"VLOOKUP(N47,input_database!$A$5:$B$31,2,FALSE)","v":0},{"$f":"VLOOKUP(O47,input_database!$A$5:$B$31,2,FALSE)","v":0},{"$f":"VLOOKUP(P47,input_database!$A$5:$B$31,2,FALSE)","v":0},{"$f":"VLOOKUP(Q47,input_database!$A$5:$B$31,2,FALSE)","v":0},{"$f":"VLOOKUP(R47,input_database!$A$5:$B$31,2,FALSE)","v":0},{"$f":"VLOOKUP(S47,input_database!$A$5:$B$31,2,FALSE)","v":0},{"$f":"VLOOKUP(T47,input_database!$A$5:$B$31,2,FALSE)","v":0},{"$f":"VLOOKUP(U47,input_database!$A$5:$B$31,2,FALSE)","v":0},{"$f":"VLOOKUP(V47,input_database!$A$5:$B$31,2,FALSE)","v":0},{"$f":"VLOOKUP(W47,input_database!$A$5:$B$31,2,FALSE)","v":0},{"$f":"VLOOKUP(X47,input_database!$A$5:$B$31,2,FALSE)","v":0},{"$f":"VLOOKUP(Y47,input_database!$A$5:$B$31,2,FALSE)","v":0},{"$f":"VLOOKUP(Z47,input_database!$A$5:$B$31,2,FALSE)","v":0},{"$f":"VLOOKUP(AA47,input_database!$A$5:$B$31,2,FALSE)","v":0},{"$f":"VLOOKUP(AB47,input_database!$A$5:$B$31,2,FALSE)","v":0},{"$f":"VLOOKUP(AC47,input_database!$A$5:$B$31,2,FALSE)","v":0},{"$f":"VLOOKUP(AD47,input_database!$A$5:$B$31,2,FALSE)","v":0},{"$f":"VLOOKUP(AE47,input_database!$A$5:$B$31,2,FALSE)","v":0},{"$f":"VLOOKUP(AF47,input_database!$A$5:$B$31,2,FALSE)","v":0},{"$f":"VLOOKUP(AG47,input_database!$A$5:$B$31,2,FALSE)","v":0}]
[]
[null,null,"No. of backup copies to be made",null,null,null,{"$f":"IFERROR(IF(input_database!$M$5>0,input_database!$M$5,input_database!$CG$5),0)","v":0},{"$f":"IFERROR(IF(input_database!$M$6>0,input_database!$M$6,input_database!$CG$6),0)","v":0},{"$f":"IFERROR(IF(input_database!$M$7>0,input_database!$M$7,input_database!$CG$7),0)","v":0},{"$f":"IFERROR(IF(input_database!$M$8>0,input_database!$M$8,input_database!$CG$8),0)","v":0},{"$f":"IFERROR(IF(input_database!$M$9>0,input_database!$M$9,input_database!$CG$9),0)","v":0},{"$f":"IFERROR(IF(input_database!$M$10>0,input_database!$M$10,input_database!$CG$10),0)","v":0},{"$f":"IFERROR(IF(input_database!$M$11>0,input_database!$M$11,input_database!$CG$11),0)","v":0},{"$f":"IFERROR(IF(input_database!$M$12>0,input_database!$M$12,input_database!$CG$12),0)","v":0},{"$f":"IFERROR(IF(input_database!$M$13>0,input_database!$M$13,input_database!$CG$13),0)","v":0},{"$f":"IFERROR(IF(input_database!$M$14>0,input_database!$M$14,input_database!$CG$14),0)","v":0},{"$f":"IFERROR(IF(input_database!$M$15>0,input_database!$M$15,input_database!$CG$15),0)","v":0},{"$f":"IFERROR(IF(input_database!$M$16>0,input_database!$M$16,input_database!$CG$16),0)","v":0},{"$f":"IFERROR(IF(input_database!$M$17>0,input_database!$M$17,input_database!$CG$17),0)","v":0},{"$f":"IFERROR(IF(input_database!$M$18>0,input_database!$M$18,input_database!$CG$18),0)","v":0},{"$f":"IFERROR(IF(input_database!$M$19>0,input_database!$M$19,input_database!$CG$19),0)","v":0},{"$f":"IFERROR(IF(input_database!$M$20>0,input_database!$M$20,input_database!$CG$20),0)","v":0},{"$f":"IFERROR(IF(input_database!$M$21>0,input_database!$M$21,input_database!$CG$21),0)","v":0},{"$f":"IFERROR(IF(input_database!$M$22>0,input_database!$M$22,input_database!$CG$22),0)","v":0},{"$f":"IFERROR(IF(input_database!$M$23>0,input_database!$M$23,input_database!$CG$23),0)","v":0},{"$f":"IFERROR(IF(input_database!$M$24>0,input_database!$M$24,input_database!$CG$24),0)","v":0},{"$f":"IFERROR(IF(input_database!$M$25>0,input_database!$M$25,input_database!$CG$25),0)","v":0},{"$f":"IFERROR(IF(input_database!$M$26>0,input_database!$M$26,input_database!$CG$26),0)","v":0},{"$f":"IFERROR(IF(input_database!$M$27>0,input_database!$M$27,input_database!$CG$27),0)","v":0},{"$f":"IFERROR(IF(input_database!$M$28>0,input_database!$M$28,input_database!$CG$28),0)","v":0},{"$f":"IFERROR(IF(input_database!$M$29>0,input_database!$M$29,input_database!$CG$29),0)","v":0},{"$f":"IFERROR(IF(input_database!$M$30>0,input_database!$M$30,input_database!$CG$30),0)","v":0},{"$f":"IFERROR(IF(input_database!$M$31>0,input_database!$M$31,input_database!$CG$31),0)","v":0},{"$f":"IFERROR(IF(input_database!$M$32>0,input_database!$M$32,input_database!$CG$32),0)","v":0}]

{"sheet":"results_by_function","index":5,"n_rows":70,"n_cols":24,"rows_kept":70,"cut":false,"hidden":false,"merged":[[8,5,8,7],[1,0,1,14],[2,0,2,14],[0,0,0,14]]}
[{"$f":"CONCATENATE(input_tab_one!C3,\", Results by Function\")","v":", Results by Function"}]
[{"$f":"CONCATENATE($D$7,\" will have amassed \",$J$69,\" \",$D$9,\" of digital storage needs by \",$D$67)","v":{"$error":"#N/A"}}]
[{"$f":"\"Calculations based on \"&(VLOOKUP(D7,input_database!$A:$B,2,FALSE))*100&\"% of records being selected for preservation\"","v":{"$error":"#N/A"}}]
[null,null,null,null,null,null,null,null,null,null,null,null,null,null,null,null,null,null,null,null,null,null,"units","function"]
[null,null,null,"Select the function and the unit you want to view",null,null,{"$f":"CONCATENATE(G70,\" \",D9,\" already amassed\")","v":{"$error":"#N/A"}},null,{"$f":"CONCATENATE(H70,\" \",D9,\" planned digitisation\")","v":{"$error":"#N/A"}},null,{"$f":"CONCATENATE(I70,\" \",D9,\" future records estimate\")","v":{"$error":"#N/A"}},{"$f":"CONCATENATE(J70,\" \",D9,\" total records estimate\")","v":{"$error":"#N/A"}},null,null,null,null,null,null,null,null,null,null,{"$f":"input_lists!G11","v":"Kilobytes"},{"$f":"input_lists!C11","v":"ADULT CARE SERVICES"}]
[null,null,null,null,null,null,null,null,null,null,null,null,null,null,null,null,null,null,null,null,null,null,{"$f":"input_lists!G12","v":"Megabytes"},{"$f":"input_lists!C12","v":"CEMETERIES & CREMATORIA"}]
[null,null,"Function:","CEMETERIES & CREMATORIA",null,null,null,null,null,null,null,null,null,null,null,null,null,null,null,null,null,null,{"$f":"input_lists!G13","v":"Gigabytes"},{"$f":"input_lists!C13","v":"CHILDREN & FAMILIES"}]
[null,null,null,null,null,null,null,null,null,null,null,null,null,null,null,null,null,null,null,null,null,null,{"$f":"input_lists!G14","v":"Terabytes"},{"$f":"input_lists!C14","v":"COMMUNITY SAFETY & EMERGENCIES"}]
[null,null,"Unit:","Kilobytes",null,null,null,null,null,null,null,null,null,null,null,null,null,null,null,null,null,null,{"$f":"input_lists!G15","v":"Petabytes"},{"$f":"input_lists!C15","v":"CONSUMER AFFAIRS"}]
[null,null,null,null,null,null,null,null,null,null,null,null,null,null,null,null,null,null,null,null,null,null,null,{"$f":"input_lists!C16","v":"COUNCIL PROPERTY"}]
[{"$f":"CONCATENATE($D$7,2)","v":"CEMETERIES & CREMATORIA2"},null,null,null,null,null,null,null,null,null,null,null,null,null,null,null,null,null,null,null,null,null,null,{"$f":"input_lists!C17","v":"CRIMINAL JUSTICE"}]
[null,null,null,null,null,null,null,null,null,null,null,null,null,null,null,null,null,null,null,null,null,null,null,{"$f":"input_lists!C18","v":"DEMOCRACY"}]
[null,null,null,null,null,null,null,null,null,null,null,null,null,null,null,null,null,null,null,null,null,null,null,{"$f":"input_lists!C19","v":"ECONOMIC DEVELOPMENT"}]
[null,null,null,null,null,null,null,null,null,null,null,null,null,null,null,null,null,null,null,null,null,null,null,{"$f":"input_lists!C20","v":"EDUCATION & SKILLS"}]
[null,null,null,null,null,null,null,null,null,null,null,null,null,null,null,null,null,null,null,null,null,null,null,{"$f":"input_lists!C21","v":"ENVIRONMENTAL PROTECTION"}]
[null,null,null,null,null,null,null,null,null,null,null,null,null,null,null,null,null,null,null,null,null,null,null,{"$f":"input_lists!C22","v":"FINANCE"}]
[null,null,null,null,null,null,null,null,null,null,null,null,null,null,null,null,null,null,null,null,null,null,null,{"$f":"input_lists!C23","v":"HEALTH & SAFETY"}]
[null,null,null,null,null,null,null,null,null,null,null,null,null,null,null,null,null,null,null,null,null,null,null,{"$f":"input_lists!C24","v":"HOUSING"}]
[null,null,null,null,null,null,null,null,null,null,null,null,null,null,null,null,null,null,null,null,null,null,null,{"$f":"input_lists!C25","v":"HUMAN RESOURCES"}]
[null,null,null,null,null,null,null,null,null,null,null,null,null,null,null,null,null,null,null,null,null,null,null,{"$f":"input_lists!C26","v":"ICT"}]
[null,null,null,null,null,null,null,null,null,null,null,null,null,null,null,null,null,null,null,null,null,null,null,{"$f":"input_lists!C27","v":"INFORMATION MANAGEMENT"}]
[null,null,null,null,null,null,null,null,null,null,null,null,null,null,null,null,null,null,null,null,null,null,null,{"$f":"input_lists!C28","v":"LEGAL SERVICES"}]
[null,null,null,null,null,null,null,null,null,null,null,null,null,null,null,null,null,null,null,null,null,null,null,{"$f":"input_lists!C29","v":"LEISURE & CULTURE"}]
[null,null,null,null,null,null,null,null,null,null,null,null,null,null,null,null,null,null,null,null,null,null,null,{"$f":"input_lists!C30","v":"MANAGEMENT"}]
[null,null,null,null,null,null,null,null,null,null,null,null,null,null,null,null,null,null,null,null,null,null,null,{"$f":"input_lists!C31","v":"PLANNING & BUILDING STANDARDS"}]
[null,null,null,null,null,null,null,null,null,null,null,null,null,null,null,null,null,null,null,null,null,null,null,{"$f":"input_lists!C32","v":"PROCUREMENT"}]
[null,null,null,null,null,null,null,null,null,null,null,null,null,null,null,null,null,null,null,null,null,null,null,{"$f":"input_lists!C33","v":"REGISTRARS"}]
[null,null,null,null,null,null,null,null,null,null,null,null,null,null,null,null,null,null,null,null,null,null,null,{"$f":"input_lists!C34","v":"RISK MANAGEMENT & INSURANCE"}]
[null,null,null,null,null,null,null,null,null,null,null,null,null,null,null,null,null,null,null,null,null,null,null,{"$f":"input_lists!C35","v":"TRANSPORT & INFRASTRUCTURE"}]
[null,null,null,null,null,null,null,null,null,null,null,null,null,null,null,null,null,null,null,null,null,null,null,{"$f":"input_lists!C36","v":"WASTE MANAGEMENT"}]
[null,null,null,null,null,null,null,null,null,null,null,null,null,null,null,null,null,null,null,null,null,null,null,{"$f":"input_lists!C37","v":"OVERALL STORAGE REQUIREMENTS"}]
[null,null,null,null,null,null,null,null,null,null,null,null,null,null,null,null,null,null,null,null,null,null,null,{"$f":"input_lists!C38","v":0}]
[]
[]
[]
[]
[]
[]
[]
[]
[]
[]
[]
[null,null,null,{"$f":"D7&\", \"&D9","v":"CEMETERIES & CREMATORIA, Kilobytes"}]
[]
[null,null,null,"Year","Known - on EDRM / Content Management systems","Known - Outwith EDRM / Content Management systems","Calculations based on paper records","Planned Digitisation","Estimated - future annual storage requirements","Cumulative (Known + Estimated)"]
[{"$f":"CONCATENATE($D$7,D47,$D$9)","v":"CEMETERIES & CREMATORIA-17Kilobytes"},null,null,{"$f":"input_lists!D11","v":-17},{"$f":"VLOOKUP($A47,results_charts!$B$11:$K$2846,5,FALSE)","v":{"$error":"#N/A"}},{"$f":"VLOOKUP($A47,results_charts!$B$11:$K$2846,6,FALSE)","v":{"$error":"#N/A"}},{"$f":"VLOOKUP($A47,results_charts!$B$11:$K$2846,7,FALSE)","v":{"$error":"#N/A"}},{"$f":"VLOOKUP($A47,results_charts!$B$11:$K$2846,8,FALSE)","v":{"$error":"#N/A"}},{"$f":"VLOOKUP($A47,results_charts!$B$11:$K$2846,9,FALSE)","v":{"$error":"#N/A"}},{"$f":"VLOOKUP($A47,results_charts!$B$11:$K$2846,10,FALSE)","v":{"$error":"#N/A"}}]
[{"$f":"CONCATENATE($D$7,D48,$D$9)","v":"CEMETERIES & CREMATORIA-16Kilobytes"},null,null,{"$f":"input_lists!D12","v":-16},{"$f":"VLOOKUP(A48,results_charts!$B$11:$K$2846,5,FALSE)","v":{"$error":"#N/A"}},{"$f":"VLOOKUP($A48,results_charts!$B$11:$K$2846,6,FALSE)","v":{"$error":"#N/A"}},{"$f":"VLOOKUP($A48,results_charts!$B$11:$K$2846,7,FALSE)","v":{"$error":"#N/A"}},{"$f":"VLOOKUP($A48,results_charts!$B$11:$K$2846,8,FALSE)","v":{"$error":"#N/A"}},{"$f":"VLOOKUP($A48,results_charts!$B$11:$K$2846,9,FALSE)","v":{"$error":"#N/A"}},{"$f":"VLOOKUP($A48,results_charts!$B$11:$K$2846,10,FALSE)","v":{"$error":"#N/A"}}]
["CEMETERIES & CREMATORIA-15Kilobytes",null,null,{"$f":"input_lists!D13","v":-15},{"$f":"VLOOKUP(A49,results_charts!$B$11:$K$2846,5,FALSE)","v":{"$error":"#N/A"}},{"$f":"VLOOKUP($A49,results_charts!$B$11:$K$2846,6,FALSE)","v":{"$error":"#N/A"}},{"$f":"VLOOKUP($A49,results_charts!$B$11:$K$2846,7,FALSE)","v":{"$error":"#N/A"}},{"$f":"VLOOKUP($A49,results_charts!$B$11:$K$2846,8,FALSE)","v":{"$error":"#N/A"}},{"$f":"VLOOKUP($A49,results_charts!$B$11:$K$2846,9,FALSE)","v":{"$error":"#N/A"}},{"$f":"VLOOKUP($A49,results_charts!$B$11:$K$2846,10,FALSE)","v":{"$error":"#N/A"}}]
["CEMETERIES & CREMATORIA-14Kilobytes",null,null,{"$f":"input_lists!D14","v":-14},{"$f":"VLOOKUP(A50,results_charts!$B$11:$K$2846,5,FALSE)","v":{"$error":"#N/A"}},{"$f":"VLOOKUP($A50,results_charts!$B$11:$K$2846,6,FALSE)","v":{"$error":"#N/A"}},{"$f":"VLOOKUP($A50,results_charts!$B$11:$K$2846,7,FALSE)","v":{"$error":"#N/A"}},{"$f":"VLOOKUP($A50,results_charts!$B$11:$K$2846,8,FALSE)","v":{"$error":"#N/A"}},{"$f":"VLOOKUP($A50,results_charts!$B$11:$K$2846,9,FALSE)","v":{"$error":"#N/A"}},{"$f":"VLOOKUP($A50,results_charts!$B$11:$K$2846,10,FALSE)","v":{"$error":"#N/A"}}]
["CEMETERIES & CREMATORIA-13Kilobytes",null,null,{"$f":"input_lists!D15","v":-13},{"$f":"VLOOKUP(A51,results_charts!$B$11:$K$2846,5,FALSE)","v":{"$error":"#N/A"}},{"$f":"VLOOKUP($A51,results_charts!$B$11:$K$2846,6,FALSE)","v":{"$error":"#N/A"}},{"$f":"VLOOKUP($A51,results_charts!$B$11:$K$2846,7,FALSE)","v":{"$error":"#N/A"}},{"$f":"VLOOKUP($A51,results_charts!$B$11:$K$2846,8,FALSE)","v":{"$error":"#N/A"}},{"$f":"VLOOKUP($A51,results_charts!$B$11:$K$2846,9,FALSE)","v":{"$error":"#N/A"}},{"$f":"VLOOKUP($A51,results_charts!$B$11:$K$2846,10,FALSE)","v":{"$error":"#N/A"}}]
["CEMETERIES & CREMATORIA-12Kilobytes",null,null,{"$f":"input_lists!D16","v":-12},{"$f":"VLOOKUP(A52,results_charts!$B$11:$K$2846,5,FALSE)","v":{"$error":"#N/A"}},{"$f":"VLOOKUP($A52,results_charts!$B$11:$K$2846,6,FALSE)","v":{"$error":"#N/A"}},{"$f":"VLOOKUP($A52,results_charts!$B$11:$K$2846,7,FALSE)","v":{"$error":"#N/A"}},{"$f":"VLOOKUP($A52,results_charts!$B$11:$K$2846,8,FALSE)","v":{"$error":"#N/A"}},{"$f":"VLOOKUP($A52,results_charts!$B$11:$K$2846,9,FALSE)","v":{"$error":"#N/A"}},{"$f":"VLOOKUP($A52,results_charts!$B$11:$K$2846,10,FALSE)","v":{"$error":"#N/A"}}]
["CEMETERIES & CREMATORIA-11Kilobytes",null,null,{"$f":"input_lists!D17","v":-11},{"$f":"VLOOKUP(A53,results_charts!$B$11:$K$2846,5,FALSE)","v":{"$error":"#N/A"}},{"$f":"VLOOKUP($A53,results_charts!$B$11:$K$2846,6,FALSE)","v":{"$error":"#N/A"}},{"$f":"VLOOKUP($A53,results_charts!$B$11:$K$2846,7,FALSE)","v":{"$error":"#N/A"}},{"$f":"VLOOKUP($A53,results_charts!$B$11:$K$2846,8,FALSE)","v":{"$error":"#N/A"}},{"$f":"VLOOKUP($A53,results_charts!$B$11:$K$2846,9,FALSE)","v":{"$error":"#N/A"}},{"$f":"VLOOKUP($A53,results_charts!$B$11:$K$2846,10,FALSE)","v":{"$error":"#N/A"}}]
["CEMETERIES & CREMATORIA-10Kilobytes",null,null,{"$f":"input_lists!D18","v":-10},{"$f":"VLOOKUP(A54,results_charts!$B$11:$K$2846,5,FALSE)","v":{"$error":"#N/A"}},{"$f":"VLOOKUP($A54,results_charts!$B$11:$K$2846,6,FALSE)","v":{"$error":"#N/A"}},{"$f":"VLOOKUP($A54,results_charts!$B$11:$K$2846,7,FALSE)","v":{"$error":"#N/A"}},{"$f":"VLOOKUP($A54,results_charts!$B$11:$K$2846,8,FALSE)","v":{"$error":"#N/A"}},{"$f":"VLOOKUP($A54,results_charts!$B$11:$K$2846,9,FALSE)","v":{"$error":"#N/A"}},{"$f":"VLOOKUP($A54,results_charts!$B$11:$K$2846,10,FALSE)","v":{"$error":"#N/A"}}]
["CEMETERIES & CREMATORIA-9Kilobytes",null,null,{"$f":"input_lists!D19","v":-9},{"$f":"VLOOKUP(A55,results_charts!$B$11:$K$2846,5,FALSE)","v":{"$error":"#N/A"}},{"$f":"VLOOKUP($A55,results_charts!$B$11:$K$2846,6,FALSE)","v":{"$error":"#N/A"}},{"$f":"VLOOKUP($A55,results_charts!$B$11:$K$2846,7,FALSE)","v":{"$error":"#N/A"}},{"$f":"VLOOKUP($A55,results_charts!$B$11:$K$2846,8,FALSE)","v":{"$error":"#N/A"}},{"$f":"VLOOKUP($A55,results_charts!$B$11:$K$2846,9,FALSE)","v":{"$error":"#N/A"}},{"$f":"VLOOKUP($A55,results_charts!$B$11:$K$2846,10,FALSE)","v":{"$error":"#N/A"}}]
["CEMETERIES & CREMATORIA-8Kilobytes",null,null,{"$f":"input_lists!D20","v":-8},{"$f":"VLOOKUP(A56,results_charts!$B$11:$K$2846,5,FALSE)","v":{"$error":"#N/A"}},{"$f":"VLOOKUP($A56,results_charts!$B$11:$K$2846,6,FALSE)","v":{"$error":"#N/A"}},{"$f":"VLOOKUP($A56,results_charts!$B$11:$K$2846,7,FALSE)","v":{"$error":"#N/A"}},{"$f":"VLOOKUP($A56,results_charts!$B$11:$K$2846,8,FALSE)","v":{"$error":"#N/A"}},{"$f":"VLOOKUP($A56,results_charts!$B$11:$K$2846,9,FALSE)","v":{"$error":"#N/A"}},{"$f":"VLOOKUP($A56,results_charts!$B$11:$K$2846,10,FALSE)","v":{"$error":"#N/A"}}]
["CEMETERIES & CREMATORIA-7Kilobytes",null,null,{"$f":"input_lists!D21","v":-7},{"$f":"VLOOKUP(A57,results_charts!$B$11:$K$2846,5,FALSE)","v":{"$error":"#N/A"}},{"$f":"VLOOKUP($A57,results_charts!$B$11:$K$2846,6,FALSE)","v":{"$error":"#N/A"}},{"$f":"VLOOKUP($A57,results_charts!$B$11:$K$2846,7,FALSE)","v":{"$error":"#N/A"}},{"$f":"VLOOKUP($A57,results_charts!$B$11:$K$2846,8,FALSE)","v":{"$error":"#N/A"}},{"$f":"VLOOKUP($A57,results_charts!$B$11:$K$2846,9,FALSE)","v":{"$error":"#N/A"}},{"$f":"VLOOKUP($A57,results_charts!$B$11:$K$2846,10,FALSE)","v":{"$error":"#N/A"}}]
["CEMETERIES & CREMATORIA-6Kilobytes",null,null,{"$f":"input_lists!D22","v":-6},{"$f":"VLOOKUP(A58,results_charts!$B$11:$K$2846,5,FALSE)","v":{"$error":"#N/A"}},{"$f":"VLOOKUP($A58,results_charts!$B$11:$K$2846,6,FALSE)","v":{"$error":"#N/A"}},{"$f":"VLOOKUP($A58,results_charts!$B$11:$K$2846,7,FALSE)","v":{"$error":"#N/A"}},{"$f":"VLOOKUP($A58,results_charts!$B$11:$K$2846,8,FALSE)","v":{"$error":"#N/A"}},{"$f":"VLOOKUP($A58,results_charts!$B$11:$K$2846,9,FALSE)","v":{"$error":"#N/A"}},{"$f":"VLOOKUP($A58,results_charts!$B$11:$K$2846,10,FALSE)","v":{"$error":"#N/A"}}]
[{"$f":"CONCATENATE($D$7,D59,$D$9)","v":"CEMETERIES & CREMATORIA-5Kilobytes"},null,null,{"$f":"input_lists!D23","v":-5},{"$f":"VLOOKUP(A59,results_charts!$B$11:$K$2846,5,FALSE)","v":{"$error":"#N/A"}},{"$f":"VLOOKUP($A59,results_charts!$B$11:$K$2846,6,FALSE)","v":{"$error":"#N/A"}},{"$f":"VLOOKUP($A59,results_charts!$B$11:$K$2846,7,FALSE)","v":{"$error":"#N/A"}},{"$f":"VLOOKUP($A59,results_charts!$B$11:$K$2846,8,FALSE)","v":{"$error":"#N/A"}},{"$f":"VLOOKUP($A59,results_charts!$B$11:$K$2846,9,FALSE)","v":{"$error":"#N/A"}},{"$f":"VLOOKUP($A59,results_charts!$B$11:$K$2846,10,FALSE)","v":{"$error":"#N/A"}}]
["CEMETERIES & CREMATORIA-4Kilobytes",null,null,{"$f":"input_lists!D24","v":-4},{"$f":"VLOOKUP(A60,results_charts!$B$11:$K$2846,5,FALSE)","v":{"$error":"#N/A"}},{"$f":"VLOOKUP($A60,results_charts!$B$11:$K$2846,6,FALSE)","v":{"$error":"#N/A"}},{"$f":"VLOOKUP($A60,results_charts!$B$11:$K$2846,7,FALSE)","v":{"$error":"#N/A"}},{"$f":"VLOOKUP($A60,results_charts!$B$11:$K$2846,8,FALSE)","v":{"$error":"#N/A"}},{"$f":"VLOOKUP($A60,results_charts!$B$11:$K$2846,9,FALSE)","v":{"$error":"#N/A"}},{"$f":"VLOOKUP($A60,results_charts!$B$11:$K$2846,10,FALSE)","v":{"$error":"#N/A"}}]
["CEMETERIES & CREMATORIA-3Kilobytes",null,null,{"$f":"input_lists!D25","v":-3},{"$f":"VLOOKUP(A61,results_charts!$B$11:$K$2846,5,FALSE)","v":{"$error":"#N/A"}},{"$f":"VLOOKUP($A61,results_charts!$B$11:$K$2846,6,FALSE)","v":{"$error":"#N/A"}},{"$f":"VLOOKUP($A61,results_charts!$B$11:$K$2846,7,FALSE)","v":{"$error":"#N/A"}},{"$f":"VLOOKUP($A61,results_charts!$B$11:$K$2846,8,FALSE)","v":{"$error":"#N/A"}},{"$f":"VLOOKUP($A61,results_charts!$B$11:$K$2846,9,FALSE)","v":{"$error":"#N/A"}},{"$f":"VLOOKUP($A61,results_charts!$B$11:$K$2846,10,FALSE)","v":{"$error":"#N/A"}}]
["CEMETERIES & CREMATORIA-2Kilobytes",null,null,{"$f":"input_lists!D26","v":-2},{"$f":"VLOOKUP(A62,results_charts!$B$11:$K$2846,5,FALSE)","v":{"$error":"#N/A"}},{"$f":"VLOOKUP($A62,results_charts!$B$11:$K$2846,6,FALSE)","v":{"$error":"#N/A"}},{"$f":"VLOOKUP($A62,results_charts!$B$11:$K$2846,7,FALSE)","v":{"$error":"#N/A"}},{"$f":"VLOOKUP($A62,results_charts!$B$11:$K$2846,8,FALSE)","v":{"$error":"#N/A"}},{"$f":"VLOOKUP($A62,results_charts!$B$11:$K$2846,9,FALSE)","v":{"$error":"#N/A"}},{"$f":"VLOOKUP($A62,results_charts!$B$11:$K$2846,10,FALSE)","v":{"$error":"#N/A"}}]
["CEMETERIES & CREMATORIA-1Kilobytes",null,null,{"$f":"input_lists!D27","v":-1},{"$f":"VLOOKUP(A63,results_charts!$B$11:$K$2846,5,FALSE)","v":{"$error":"#N/A"}},{"$f":"VLOOKUP($A63,results_charts!$B$11:$K$2846,6,FALSE)","v":{"$error":"#N/A"}},{"$f":"VLOOKUP($A63,results_charts!$B$11:$K$2846,7,FALSE)","v":{"$error":"#N/A"}},{"$f":"VLOOKUP($A63,results_charts!$B$11:$K$2846,8,FALSE)","v":{"$error":"#N/A"}},{"$f":"VLOOKUP($A63,results_charts!$B$11:$K$2846,9,FALSE)","v":{"$error":"#N/A"}},{"$f":"VLOOKUP($A63,results_charts!$B$11:$K$2846,10,FALSE)","v":{"$error":"#N/A"}}]
["CEMETERIES & CREMATORIA0Kilobytes",null,null,{"$f":"input_lists!D28","v":0},{"$f":"VLOOKUP(A64,results_charts!$B$11:$K$2846,5,FALSE)","v":{"$error":"#N/A"}},{"$f":"VLOOKUP($A64,results_charts!$B$11:$K$2846,6,FALSE)","v":{"$error":"#N/A"}},{"$f":"VLOOKUP($A64,results_charts!$B$11:$K$2846,7,FALSE)","v":{"$error":"#N/A"}},{"$f":"VLOOKUP($A64,results_charts!$B$11:$K$2846,8,FALSE)","v":{"$error":"#N/A"}},{"$f":"VLOOKUP($A64,results_charts!$B$11:$K$2846,9,FALSE)","v":{"$error":"#N/A"}},{"$f":"VLOOKUP($A64,results_charts!$B$11:$K$2846,10,FALSE)","v":{"$error":"#N/A"}}]
["CEMETERIES & CREMATORIA1Kilobytes",null,null,{"$f":"input_lists!D29","v":1},{"$f":"VLOOKUP(A65,results_charts!$B$11:$K$2846,5,FALSE)","v":{"$error":"#N/A"}},{"$f":"VLOOKUP($A65,results_charts!$B$11:$K$2846,6,FALSE)","v":{"$error":"#N/A"}},{"$f":"VLOOKUP($A65,results_charts!$B$11:$K$2846,7,FALSE)","v":{"$error":"#N/A"}},{"$f":"VLOOKUP($A65,results_charts!$B$11:$K$2846,8,FALSE)","v":{"$error":"#N/A"}},{"$f":"VLOOKUP($A65,results_charts!$B$11:$K$2846,9,FALSE)","v":{"$error":"#N/A"}},{"$f":"VLOOKUP($A65,results_charts!$B$11:$K$2846,10,FALSE)","v":{"$error":"#N/A"}}]
["CEMETERIES & CREMATORIA2Kilobytes",null,null,{"$f":"input_lists!D30","v":2},{"$f":"VLOOKUP(A66,results_charts!$B$11:$K$2846,5,FALSE)","v":{"$error":"#N/A"}},{"$f":"VLOOKUP($A66,results_charts!$B$11:$K$2846,6,FALSE)","v":{"$error":"#N/A"}},{"$f":"VLOOKUP($A66,results_charts!$B$11:$K$2846,7,FALSE)","v":{"$error":"#N/A"}},{"$f":"VLOOKUP($A66,results_charts!$B$11:$K$2846,8,FALSE)","v":{"$error":"#N/A"}},{"$f":"VLOOKUP($A66,results_charts!$B$11:$K$2846,9,FALSE)","v":{"$error":"#N/A"}},{"$f":"VLOOKUP($A66,results_charts!$B$11:$K$2846,10,FALSE)","v":{"$error":"#N/A"}}]
["CEMETERIES & CREMATORIA3Kilobytes",null,null,{"$f":"input_lists!D31","v":3},{"$f":"VLOOKUP(A67,results_charts!$B$11:$K$2846,5,FALSE)","v":{"$error":"#N/A"}},{"$f":"VLOOKUP($A67,results_charts!$B$11:$K$2846,6,FALSE)","v":{"$error":"#N/A"}},{"$f":"VLOOKUP($A67,results_charts!$B$11:$K$2846,7,FALSE)","v":{"$error":"#N/A"}},{"$f":"VLOOKUP($A67,results_charts!$B$11:$K$2846,8,FALSE)","v":{"$error":"#N/A"}},{"$f":"VLOOKUP($A67,results_charts!$B$11:$K$2846,9,FALSE)","v":{"$error":"#N/A"}},{"$f":"VLOOKUP($A67,results_charts!$B$11:$K$2846,10,FALSE)","v":{"$error":"#N/A"}}]
[{"$f":"CONCATENATE($D$7,3)","v":"CEMETERIES & CREMATORIA3"}]
[{"$f":"CONCATENATE($D$7,4)","v":"CEMETERIES & CREMATORIA4"},null,null,"Total",{"$f":"SUM(E47:E67)","v":{"$error":"#N/A"}},{"$f":"SUM(F47:F67)","v":{"$error":"#N/A"}},{"$error":"#N/A"},{"$error":"#N/A"},{"$error":"#N/A"},{"$f":"ROUND(J67,1)","v":{"$error":"#N/A"}}]
[null,null,null,null,null,null,{"$f":"ROUND(SUM(E69:G69),1)","v":{"$error":"#N/A"}},{"$f":"ROUND(SUM(H69),1)","v":{"$error":"#N/A"}},{"$f":"ROUND(SUM(I69),1)","v":{"$error":"#N/A"}},{"$f":"ROUND(SUM(J69),1)","v":{"$error":"#N/A"}}]

{"sheet":"input_lists","index":6,"n_rows":42,"n_cols":22,"rows_kept":42,"cut":false,"hidden":true,"merged":[]}
[]
[]
[]
[null,null,null,null,null,null,null,null,null,null,null,null,"Based on TNA Guidelines"]
[]
[]
[]
[null,null,null,"this is a formula!"]
[]
["Local Authority",null,"Department","Year","Month","Month 2","Digital Units","Paper Units","Number",null,"Boodlean",null,"File Type","Resolution (PPI)",null,"PDF_Conversion",null,"EDRMS Status",null,"Colour",null,"Boodlean_2"]
["Aberdeen City",1,"ADULT CARE SERVICES",{"$f":"D12-1","v":-17},"January",1,"Kilobytes","Linear Metres",0,null,"Yes",null,"PDF / PDF A","72 dpi",null,"email",null,"on EDRMS system",null,"B+W",null,"Yes - backup and mastercopy"]
["Aberdeenshire",2,"CEMETERIES & CREMATORIA",-16,"February",2,"Megabytes","Bankers Boxes (43x35x27)",1,null,"No",null,"TIFF / TIF","100 dpi",null,"office packages or similar",null,"off EDRMS system",null,"Greyscale",null,"Yes - backup copy only"]
["Angus",3,"CHILDREN & FAMILIES",-15,"March",3,"Gigabytes","Crates (59x39x31)",2,null,null,null,"JPEG / JPEG 2000","200 dpi",null,"CAD files",null,null,null,"Colour",null,"No"]
["Argyll and Bute",4,"COMMUNITY SAFETY & EMERGENCIES",-14,"April",4,"Terabytes","Hours (audio files)",3,null,null,null,"Wave / Wav format","300 dpi",null,null,null,"EDRMS_status",null,"NA (audio files)"]
["City of Edinburgh",5,"CONSUMER AFFAIRS",-13,"May",5,"Petabytes","Minutes (audio files)",4,null,null,null,"MP3","400 dpi"]
["Clackmannanshire",6,"COUNCIL PROPERTY",-12,"June",6,null,null,5,null,null,null,"MP4","600 dpi"]
["Comhairle nan Eilean Siar",7,"CRIMINAL JUSTICE",-11,"July",7,null,null,6,null,null,null,null,"NA (audio files)"]
["Dumfries and Galloway",8,"DEMOCRACY",-10,"August",8]
["Dundee City",9,"ECONOMIC DEVELOPMENT",-9,"September",9]
["East Ayrshire",10,"EDUCATION & SKILLS",-8,"October",10]
["East Dunbartonshire",11,"ENVIRONMENTAL PROTECTION",-7,"November",11]
["East Lothian",12,"FINANCE",-6,"December",12]
["East Renfrewshire",13,"HEALTH & SAFETY",-5]
["Falkirk",14,"HOUSING",-4]
["Fife",15,"HUMAN RESOURCES",-3]
["Glasgow City",16,"ICT",-2]
["Highland",17,"INFORMATION MANAGEMENT",{"$f":"D28-1","v":-1}]
["Inverclyde",18,"LEGAL SERVICES",{"$f":"input_database!C5","v":0}]
["Midlothian",19,"LEISURE & CULTURE",{"$f":"D28+1","v":1}]
["Moray",20,"MANAGEMENT",{"$f":"D29+1","v":2}]
["North Ayrshire",21,"PLANNING & BUILDING STANDARDS",3]
["North Lanarkshire",22,"PROCUREMENT"]
["Orkney Islands",23,"REGISTRARS"]
["Perth and Kinross",24,"RISK MANAGEMENT & INSURANCE"]
["Renfrewshire",25,"TRANSPORT & INFRASTRUCTURE"]
["Scottish Borders",26,"WASTE MANAGEMENT"]
["Shetland Islands",27,"OVERALL STORAGE REQUIREMENTS"]
["South Ayrshire"]
["South Lanarkshire"]
["Stirling"]
["West Dunbartonshire"]
["West Lothian"]

{"sheet":"calculation_lists","index":7,"n_rows":334,"n_cols":30,"rows_kept":334,"cut":false,"hidden":true,"merged":[]}
[]
[null,null,null,null,null,null,null,null,null,null,null,null,null,null,null,null,null,null,null,null,null,"convertor_analogue_unit"]
[null,null,null,null,null,null,null,null,null,null,null,null,null,null,null,null,null,null,null,null,null,"ratios_between_analogue_storage_types"]
[null,null,null,null,null,null,null,null,null,null,null,null,null,"nb - for PDF, TIF, and JPEG, answering not relevant returns the same value as 300dpi"]
[null,null,null,null,null,null,null,null,null,null,null,null,null,"For WAV, all are the same"]
[]
[null,"convert_lowres_backup",null,null,null,null,null,null,"normalising_pdf",null,null,null,null,"convert_paper_digitised",null,"convert_digitial_unit",null,null,"Converting original unit to kb"]
[null,"Calculating backup copy storage usage for backup copies stored at lower resolutions / file types",null,null,null,null,null,null,"Normalising to PDF",null,null,null,null,"Converting analogue to digitised volumes: linear meter equivalent in kb",null,null,null,null,"Original Volume","Conversion factor to KB",null,"Ratios Between Analogue Storage Types",null,null,"compressed_files_conversion",null,null,null,"colour_scale_conversion"]
[null,"Column1","Column2","Column3","Column4","Column6","Column7",null,"Reference","Original file type","Intended resolution","Conversion Rate",null,"File Type: Master Copy","Resolution: Master Copy","Reference","kb",null,"Kilobytes",1,null,"Unit","Conversion factor",null,"Reference","Compression ratio - master copy","Compression ratio - backup copy",null,"Column1","Column2"]
[null,"File type: Master Copy","Resolution: Master Copy","File type: Backup Copy","Resolution: Backup Copy","Reference","Conversion Rate",null,{"$f":"CONCATENATE(J10,K10)","v":"email72 dpi"},{"$f":"input_lists!P11","v":"email"},{"$f":"input_lists!N11","v":"72 dpi"},1,null,{"$f":"input_lists!$M$11","v":"PDF / PDF A"},"72 dpi",{"$f":"CONCATENATE(N10,O10)","v":"PDF / PDF A72 dpi"},37587.745439999999,null,"Megabytes",1024,null,"Files",3.2000000000000001E-2,null,{"$f":"CONCATENATE(input_lists!$V$11,input_lists!M11)","v":"Yes - backup and mastercopyPDF / PDF A"},0.1,0.1,null,{"$f":"input_lists!T11","v":"B+W"},1]
["PDF / PDF A","PDF / PDF A","72 dpi","PDF / PDF A","72 dpi",{"$f":"CONCATENATE(B11,C11,D11,E11)","v":"PDF / PDF A72 dpiPDF / PDF A72 dpi"},1,null,{"$f":"CONCATENATE(J11,K11)","v":"office packages or similar72 dpi"},{"$f":"input_lists!P12","v":"office packages or similar"},{"$f":"K10","v":"72 dpi"},1,null,{"$f":"input_lists!$M$12","v":"TIFF / TIF"},"72 dpi",{"$f":"CONCATENATE(N11,O11)","v":"TIFF / TIF72 dpi"},1499170.7947834043,null,"Gigabytes",1048576,null,"Bankers Boxes (43x35x27)",{"$f":"(W10/0.27)*2","v":0.23703703703703702},null,{"$f":"CONCATENATE(input_lists!$V$11,input_lists!M12)","v":"Yes - backup and mastercopyTIFF / TIF"},0.5,0.5,null,{"$f":"input_lists!T12","v":"Greyscale"},8]
["TIFF / TIF","PDF / PDF A","72 dpi","PDF / PDF A","100 dpi","PDF / PDF A72 dpiPDF / PDF A100 dpi",1.9290123456790125,null,"CAD files72 dpi",{"$f":"input_lists!P13","v":"CAD files"},{"$f":"K11","v":"72 dpi"},1,null,{"$f":"input_lists!$M$13","v":"JPEG / JPEG 2000"},"72 dpi","JPEG / JPEG 200072 dpi",37587.745439999999,null,"Terabytes",1073741824,null,"Linear Metres",1,null,{"$f":"CONCATENATE(input_lists!$V$11,input_lists!M13)","v":"Yes - backup and mastercopyJPEG / JPEG 2000"},0.1,0.1,null,{"$f":"input_lists!T13","v":"Colour"},24]
["JPEG / JPEG 2000","PDF / PDF A","72 dpi","PDF / PDF A","200 dpi","PDF / PDF A72 dpiPDF / PDF A200 dpi",7.7160493827160499,null,"email100 dpi",{"$f":"J10","v":"email"},{"$f":"input_lists!N12","v":"100 dpi"},1,null,{"$f":"input_lists!$M$14","v":"Wave / Wav format"},"72 dpi","Wave / Wav format72 dpi",1670548.2713921454,null,"Petabytes",1099511627776,null,"Crates (59x39x31)",{"$f":"(W10/0.31)*3","v":0.30967741935483872},null,{"$f":"CONCATENATE(input_lists!$V$11,input_lists!M14)","v":"Yes - backup and mastercopyWave / Wav format"},0.5,0.5,null,"NA (audio files)",1]
[null,"PDF / PDF A","72 dpi","PDF / PDF A","300 dpi","PDF / PDF A72 dpiPDF / PDF A300 dpi",17.361111111111111,null,"office packages or similar100 dpi",{"$f":"J11","v":"office packages or similar"},{"$f":"K13","v":"100 dpi"},1,null,"MP3","72 dpi","MP372 dpi",50156.653691185347,null,null,null,null,"Minutes (audio files)",{"$f":"W15/60","v":1.6666666666666666E-2},null,{"$f":"CONCATENATE(input_lists!$V$11,input_lists!M15)","v":"Yes - backup and mastercopyMP3"},0.8,0.8]
[null,"PDF / PDF A","72 dpi","PDF / PDF A","400 dpi","PDF / PDF A72 dpiPDF / PDF A400 dpi",30.8641975308642,null,"CAD files100 dpi","CAD files",{"$f":"K14","v":"100 dpi"},1,null,{"$f":"input_lists!$M$11","v":"PDF / PDF A"},"100 dpi","PDF / PDF A100 dpi",72507.225000000006,null,"conversion factors taken from http://bit-calculator.com/",null,null,"Hours (audio files)",1,null,{"$f":"CONCATENATE(input_lists!$V$12,input_lists!M11)","v":"Yes - backup copy onlyPDF / PDF A"},1,0.1]
[null,"PDF / PDF A","72 dpi","PDF / PDF A","600 dpi","PDF / PDF A72 dpiPDF / PDF A600 dpi",69.444444444444443,null,{"$f":"CONCATENATE(J16,K16)","v":"email200 dpi"},{"$f":"J10","v":"email"},{"$f":"input_lists!N13","v":"200 dpi"},1,null,{"$f":"input_lists!$M$12","v":"TIFF / TIF"},"100 dpi","TIFF / TIF100 dpi",2891918.9714186043,null,null,null,null,null,null,null,{"$f":"CONCATENATE(input_lists!$V$12,input_lists!M12)","v":"Yes - backup copy onlyTIFF / TIF"},1,0.5]
[null,"PDF / PDF A","100 dpi","PDF / PDF A","72 dpi","PDF / PDF A100 dpiPDF / PDF A72 dpi",0.51839999999999997,null,{"$f":"CONCATENATE(J17,K17)","v":"office packages or similar200 dpi"},{"$f":"J11","v":"office packages or similar"},{"$f":"K16","v":"200 dpi"},1,null,{"$f":"input_lists!$M$13","v":"JPEG / JPEG 2000"},"100 dpi","JPEG / JPEG 2000100 dpi",72507.225000000006,null,"kb_conversion",null,null,null,null,null,{"$f":"CONCATENATE(input_lists!$V$12,input_lists!M13)","v":"Yes - backup copy onlyJPEG / JPEG 2000"},1,0.1]
[null,"PDF / PDF A","100 dpi","PDF / PDF A","100 dpi","PDF / PDF A100 dpiPDF / PDF A100 dpi",1,null,"CAD files200 dpi","CAD files",{"$f":"K17","v":"200 dpi"},1,null,{"$f":"input_lists!$M$14","v":"Wave / Wav format"},"100 dpi","Wave / Wav format100 dpi",1670548.2713921454,null,null,null,null,null,null,null,{"$f":"CONCATENATE(input_lists!$V$12,input_lists!M14)","v":"Yes - backup copy onlyWave / Wav format"},0.5,1]
[null,"PDF / PDF A","100 dpi","PDF / PDF A","200 dpi","PDF / PDF A100 dpiPDF / PDF A200 dpi",4,null,"email300 dpi",{"$f":"J16","v":"email"},{"$f":"input_lists!N14","v":"300 dpi"},1,null,"MP3","100 dpi","MP3100 dpi",50156.653691185347,null,null,null,null,null,null,null,{"$f":"CONCATENATE(input_lists!$V$12,input_lists!M15)","v":"Yes - backup copy onlyMP3"},0.8,1]
[null,"PDF / PDF A","100 dpi","PDF / PDF A","300 dpi","PDF / PDF A100 dpiPDF / PDF A300 dpi",9,null,"office packages or similar300 dpi",{"$f":"J17","v":"office packages or similar"},{"$f":"K19","v":"300 dpi"},1,null,{"$f":"input_lists!$M$11","v":"PDF / PDF A"},"200 dpi","PDF / PDF A200 dpi",290028.90000000002,null,null,null,null,null,null,null,{"$f":"CONCATENATE(input_lists!$V$13,input_lists!M11)","v":"NoPDF / PDF A"},1,1]
[null,"PDF / PDF A","100 dpi","PDF / PDF A","400 dpi","PDF / PDF A100 dpiPDF / PDF A400 dpi",16,null,"CAD files300 dpi","CAD files",{"$f":"K20","v":"300 dpi"},1,null,{"$f":"input_lists!$M$12","v":"TIFF / TIF"},"200 dpi","TIFF / TIF200 dpi",11567675.885674417,null,null,null,null,null,null,null,{"$f":"CONCATENATE(input_lists!$V$13,input_lists!M12)","v":"NoTIFF / TIF"},1,1]
[null,"PDF / PDF A","100 dpi","PDF / PDF A","600 dpi","PDF / PDF A100 dpiPDF / PDF A600 dpi",36,null,{"$f":"CONCATENATE(J22,K22)","v":"email400 dpi"},{"$f":"J16","v":"email"},{"$f":"input_lists!N15","v":"400 dpi"},1,null,{"$f":"input_lists!$M$13","v":"JPEG / JPEG 2000"},"200 dpi","JPEG / JPEG 2000200 dpi",290028.90000000002,null,null,null,null,null,null,null,{"$f":"CONCATENATE(input_lists!$V$13,input_lists!M13)","v":"NoJPEG / JPEG 2000"},1,1]
[null,"PDF / PDF A","200 dpi","PDF / PDF A","72 dpi","PDF / PDF A200 dpiPDF / PDF A72 dpi",0.12959999999999999,null,{"$f":"CONCATENATE(J23,K23)","v":"office packages or similar400 dpi"},{"$f":"J17","v":"office packages or similar"},{"$f":"K22","v":"400 dpi"},1,null,{"$f":"input_lists!$M$14","v":"Wave / Wav format"},"200 dpi","Wave / Wav format200 dpi",1670548.2713921454,null,null,null,null,null,null,null,{"$f":"CONCATENATE(input_lists!$V$13,input_lists!M14)","v":"NoWave / Wav format"},1,1]
[null,"PDF / PDF A","200 dpi","PDF / PDF A","100 dpi","PDF / PDF A200 dpiPDF / PDF A100 dpi",0.25,null,"CAD files400 dpi","CAD files",{"$f":"K23","v":"400 dpi"},1,null,"MP3","200 dpi","MP3200 dpi",50156.653691185347,null,null,null,null,null,null,null,{"$f":"CONCATENATE(input_lists!$V$13,input_lists!M15)","v":"NoMP3"},1,1]
[null,"PDF / PDF A","200 dpi","PDF / PDF A","200 dpi","PDF / PDF A200 dpiPDF / PDF A200 dpi",1,null,"email600 dpi",{"$f":"J22","v":"email"},{"$f":"input_lists!N16","v":"600 dpi"},1,null,{"$f":"input_lists!$M$11","v":"PDF / PDF A"},"300 dpi","PDF / PDF A300 dpi",652565.02500000002]
[null,"PDF / PDF A","200 dpi","PDF / PDF A","300 dpi","PDF / PDF A200 dpiPDF / PDF A300 dpi",2.25,null,"office packages or similar600 dpi",{"$f":"J23","v":"office packages or similar"},{"$f":"K25","v":"600 dpi"},1,null,{"$f":"input_lists!$M$12","v":"TIFF / TIF"},"300 dpi","TIFF / TIF300 dpi",26027270.742767438]
[null,"PDF / PDF A","200 dpi","PDF / PDF A","400 dpi","PDF / PDF A200 dpiPDF / PDF A400 dpi",4,null,"CAD files600 dpi","CAD files",{"$f":"K26","v":"600 dpi"},1,null,{"$f":"input_lists!$M$13","v":"JPEG / JPEG 2000"},"300 dpi","JPEG / JPEG 2000300 dpi",652565.02500000002]
[null,"PDF / PDF A","200 dpi","PDF / PDF A","600 dpi","PDF / PDF A200 dpiPDF / PDF A600 dpi",9,null,null,null,null,null,null,{"$f":"input_lists!$M$14","v":"Wave / Wav format"},"300 dpi","Wave / Wav format300 dpi",1670548.2713921454]
[null,"PDF / PDF A","300 dpi","PDF / PDF A","72 dpi","PDF / PDF A300 dpiPDF / PDF A72 dpi",5.7599999999999998E-2,null,null,null,null,null,null,"MP3","300 dpi","MP3300 dpi",50156.653691185347]
[null,"PDF / PDF A","300 dpi","PDF / PDF A","100 dpi","PDF / PDF A300 dpiPDF / PDF A100 dpi",0.11111111111111112,null,null,null,null,null,null,{"$f":"N25","v":"PDF / PDF A"},"400 dpi","PDF / PDF A400 dpi",1160115.6000000001]
[null,"PDF / PDF A","300 dpi","PDF / PDF A","200 dpi","PDF / PDF A300 dpiPDF / PDF A200 dpi",0.44444444444444448,null,null,null,null,null,null,{"$f":"N26","v":"TIFF / TIF"},"400 dpi","TIFF / TIF400 dpi",46270703.542697668]
[null,"PDF / PDF A","300 dpi","PDF / PDF A","300 dpi","PDF / PDF A300 dpiPDF / PDF A300 dpi",1,null,null,null,null,null,null,{"$f":"N27","v":"JPEG / JPEG 2000"},"400 dpi","JPEG / JPEG 2000400 dpi",1160115.6000000001]
[null,"PDF / PDF A","300 dpi","PDF / PDF A","400 dpi","PDF / PDF A300 dpiPDF / PDF A400 dpi",1.7777777777777779,null,null,null,null,null,null,{"$f":"N28","v":"Wave / Wav format"},"400 dpi","Wave / Wav format400 dpi",1670548.2713921454]
[null,"PDF / PDF A","300 dpi","PDF / PDF A","600 dpi","PDF / PDF A300 dpiPDF / PDF A600 dpi",4,null,null,null,null,null,null,"MP3","400 dpi","MP3400 dpi",50156.653691185347]
[null,"PDF / PDF A","400 dpi","PDF / PDF A","72 dpi","PDF / PDF A400 dpiPDF / PDF A72 dpi",3.2399999999999998E-2,null,null,null,null,null,null,{"$f":"N30","v":"PDF / PDF A"},"600 dpi","PDF / PDF A600 dpi",2610260.1]
[null,"PDF / PDF A","400 dpi","PDF / PDF A","100 dpi","PDF / PDF A400 dpiPDF / PDF A100 dpi",6.25E-2,null,null,null,null,null,null,{"$f":"N31","v":"TIFF / TIF"},"600 dpi","TIFF / TIF600 dpi",104109082.97106975]
[null,"PDF / PDF A","400 dpi","PDF / PDF A","200 dpi","PDF / PDF A400 dpiPDF / PDF A200 dpi",0.25,null,null,null,null,null,null,{"$f":"N32","v":"JPEG / JPEG 2000"},"600 dpi","JPEG / JPEG 2000600 dpi",2610260.1]
[null,"PDF / PDF A","400 dpi","PDF / PDF A","300 dpi","PDF / PDF A400 dpiPDF / PDF A300 dpi",0.5625,null,null,null,null,null,null,{"$f":"N33","v":"Wave / Wav format"},"600 dpi","Wave / Wav format600 dpi",1670548.2713921454]
[null,"PDF / PDF A","400 dpi","PDF / PDF A","400 dpi","PDF / PDF A400 dpiPDF / PDF A400 dpi",1,null,null,null,null,null,null,"MP3","600 dpi","MP3600 dpi",50156.653691185347]
[null,"PDF / PDF A","400 dpi","PDF / PDF A","600 dpi","PDF / PDF A400 dpiPDF / PDF A600 dpi",2.25,null,null,null,null,null,null,{"$f":"N35","v":"PDF / PDF A"},"NA (audio files)","PDF / PDF ANA (audio files)",652565.02500000002]
[null,"PDF / PDF A","600 dpi","PDF / PDF A","72 dpi","PDF / PDF A600 dpiPDF / PDF A72 dpi",1.44E-2,null,null,null,null,null,null,{"$f":"N36","v":"TIFF / TIF"},"NA (audio files)","TIFF / TIFNA (audio files)",26027270.742767438]
[null,"PDF / PDF A","600 dpi","PDF / PDF A","100 dpi","PDF / PDF A600 dpiPDF / PDF A100 dpi",2.777777777777778E-2,null,null,null,null,null,null,{"$f":"N37","v":"JPEG / JPEG 2000"},"NA (audio files)","JPEG / JPEG 2000NA (audio files)",652565.02500000002]
[null,"PDF / PDF A","600 dpi","PDF / PDF A","200 dpi","PDF / PDF A600 dpiPDF / PDF A200 dpi",0.11111111111111112,null,null,null,null,null,null,{"$f":"N38","v":"Wave / Wav format"},"NA (audio files)","Wave / Wav formatNA (audio files)",1670548.2713921454]
[null,"PDF / PDF A","600 dpi","PDF / PDF A","300 dpi","PDF / PDF A600 dpiPDF / PDF A300 dpi",0.25,null,null,null,null,null,null,{"$f":"N39","v":"MP3"},"NA (audio files)",{"$f":"CONCATENATE(N44,O44)","v":"MP3NA (audio files)"},50156.653691185347]
[null,"PDF / PDF A","600 dpi","PDF / PDF A","400 dpi","PDF / PDF A600 dpiPDF / PDF A400 dpi",0.44444444444444448]
[null,"PDF / PDF A","600 dpi","PDF / PDF A","600 dpi","PDF / PDF A600 dpiPDF / PDF A600 dpi",1]
[null,"PDF / PDF A","72 dpi","TIFF / TIF","72 dpi","PDF / PDF A72 dpiTIFF / TIF72 dpi",1]
[null,"PDF / PDF A","72 dpi","TIFF / TIF","100 dpi","PDF / PDF A72 dpiTIFF / TIF100 dpi",1.9290123456790125]
[null,"PDF / PDF A","72 dpi","TIFF / TIF","200 dpi","PDF / PDF A72 dpiTIFF / TIF200 dpi",7.7160493827160499]
[null,"PDF / PDF A","72 dpi","TIFF / TIF","300 dpi","PDF / PDF A72 dpiTIFF / TIF300 dpi",17.361111111111111]
[null,"PDF / PDF A","72 dpi","TIFF / TIF","400 dpi","PDF / PDF A72 dpiTIFF / TIF400 dpi",30.8641975308642]
[null,"PDF / PDF A","72 dpi","TIFF / TIF","600 dpi","PDF / PDF A72 dpiTIFF / TIF600 dpi",69.444444444444443]
[null,"PDF / PDF A","100 dpi","TIFF / TIF","72 dpi","PDF / PDF A100 dpiTIFF / TIF72 dpi",0.51839999999999997]
[null,"PDF / PDF A","100 dpi","TIFF / TIF","100 dpi","PDF / PDF A100 dpiTIFF / TIF100 dpi",1]
[null,"PDF / PDF A","100 dpi","TIFF / TIF","200 dpi","PDF / PDF A100 dpiTIFF / TIF200 dpi",4]
[null,"PDF / PDF A","100 dpi","TIFF / TIF","300 dpi","PDF / PDF A100 dpiTIFF / TIF300 dpi",9]
[null,"PDF / PDF A","100 dpi","TIFF / TIF","400 dpi","PDF / PDF A100 dpiTIFF / TIF400 dpi",16]
[null,"PDF / PDF A","100 dpi","TIFF / TIF","600 dpi","PDF / PDF A100 dpiTIFF / TIF600 dpi",36]
[null,"PDF / PDF A","200 dpi","TIFF / TIF","72 dpi","PDF / PDF A200 dpiTIFF / TIF72 dpi",0.12959999999999999]
[null,"PDF / PDF A","200 dpi","TIFF / TIF","100 dpi","PDF / PDF A200 dpiTIFF / TIF100 dpi",0.25]
[null,"PDF / PDF A","200 dpi","TIFF / TIF","200 dpi","PDF / PDF A200 dpiTIFF / TIF200 dpi",1]
[null,"PDF / PDF A","200 dpi","TIFF / TIF","300 dpi","PDF / PDF A200 dpiTIFF / TIF300 dpi",2.25]
[null,"PDF / PDF A","200 dpi","TIFF / TIF","400 dpi","PDF / PDF A200 dpiTIFF / TIF400 dpi",4]
[null,"PDF / PDF A","200 dpi","TIFF / TIF","600 dpi","PDF / PDF A200 dpiTIFF / TIF600 dpi",9]
[null,"PDF / PDF A","300 dpi","TIFF / TIF","72 dpi","PDF / PDF A300 dpiTIFF / TIF72 dpi",5.7599999999999998E-2]
[null,"PDF / PDF A","300 dpi","TIFF / TIF","100 dpi","PDF / PDF A300 dpiTIFF / TIF100 dpi",0.11111111111111112]
[null,"PDF / PDF A","300 dpi","TIFF / TIF","200 dpi","PDF / PDF A300 dpiTIFF / TIF200 dpi",0.44444444444444448]
[null,"PDF / PDF A","300 dpi","TIFF / TIF","300 dpi","PDF / PDF A300 dpiTIFF / TIF300 dpi",1]
[null,"PDF / PDF A","300 dpi","TIFF / TIF","400 dpi","PDF / PDF A300 dpiTIFF / TIF400 dpi",1.7777777777777779]
[null,"PDF / PDF A","300 dpi","TIFF / TIF","600 dpi","PDF / PDF A300 dpiTIFF / TIF600 dpi",4]
[null,"PDF / PDF A","400 dpi","TIFF / TIF","72 dpi","PDF / PDF A400 dpiTIFF / TIF72 dpi",3.2399999999999998E-2]
[null,"PDF / PDF A","400 dpi","TIFF / TIF","100 dpi","PDF / PDF A400 dpiTIFF / TIF100 dpi",6.25E-2]
[null,"PDF / PDF A","400 dpi","TIFF / TIF","200 dpi","PDF / PDF A400 dpiTIFF / TIF200 dpi",0.25]
[null,"PDF / PDF A","400 dpi","TIFF / TIF","300 dpi","PDF / PDF A400 dpiTIFF / TIF300 dpi",0.5625]
[null,"PDF / PDF A","400 dpi","TIFF / TIF","400 dpi",{"$f":"CONCATENATE(B75,C75,D75,E75)","v":"PDF / PDF A400 dpiTIFF / TIF400 dpi"},1]
[null,"PDF / PDF A","400 dpi","TIFF / TIF","600 dpi","PDF / PDF A400 dpiTIFF / TIF600 dpi",2.25]
[null,"PDF / PDF A","600 dpi","TIFF / TIF","72 dpi","PDF / PDF A600 dpiTIFF / TIF72 dpi",1.44E-2]
[null,"PDF / PDF A","600 dpi","TIFF / TIF","100 dpi","PDF / PDF A600 dpiTIFF / TIF100 dpi",2.777777777777778E-2]
[null,"PDF / PDF A","600 dpi","TIFF / TIF","200 dpi","PDF / PDF A600 dpiTIFF / TIF200 dpi",0.11111111111111112]
[null,"PDF / PDF A","600 dpi","TIFF / TIF","300 dpi","PDF / PDF A600 dpiTIFF / TIF300 dpi",0.25]
[null,"PDF / PDF A","600 dpi","TIFF / TIF","400 dpi","PDF / PDF A600 dpiTIFF / TIF400 dpi",0.44444444444444448]
[null,"PDF / PDF A","600 dpi","TIFF / TIF","600 dpi","PDF / PDF A600 dpiTIFF / TIF600 dpi",1]
[null,"PDF / PDF A","72 dpi","JPEG / JPEG 2000","72 dpi","PDF / PDF A72 dpiJPEG / JPEG 200072 dpi",1]
[null,"PDF / PDF A","72 dpi","JPEG / JPEG 2000","100 dpi","PDF / PDF A72 dpiJPEG / JPEG 2000100 dpi",1.9290123456790125]
[null,"PDF / PDF A","72 dpi","JPEG / JPEG 2000","200 dpi","PDF / PDF A72 dpiJPEG / JPEG 2000200 dpi",7.7160493827160499]
[null,"PDF / PDF A","72 dpi","JPEG / JPEG 2000","300 dpi","PDF / PDF A72 dpiJPEG / JPEG 2000300 dpi",17.361111111111111]
[null,"PDF / PDF A","72 dpi","JPEG / JPEG 2000","400 dpi","PDF / PDF A72 dpiJPEG / JPEG 2000400 dpi",30.8641975308642]
[null,"PDF / PDF A","72 dpi","JPEG / JPEG 2000","600 dpi","PDF / PDF A72 dpiJPEG / JPEG 2000600 dpi",69.444444444444443]
[null,"PDF / PDF A","100 dpi","JPEG / JPEG 2000","72 dpi","PDF / PDF A100 dpiJPEG / JPEG 200072 dpi",0.51839999999999997]
[null,"PDF / PDF A","100 dpi","JPEG / JPEG 2000","100 dpi","PDF / PDF A100 dpiJPEG / JPEG 2000100 dpi",1]
[null,"PDF / PDF A","100 dpi","JPEG / JPEG 2000","200 dpi","PDF / PDF A100 dpiJPEG / JPEG 2000200 dpi",4]
[null,"PDF / PDF A","100 dpi","JPEG / JPEG 2000","300 dpi","PDF / PDF A100 dpiJPEG / JPEG 2000300 dpi",9]
[null,"PDF / PDF A","100 dpi","JPEG / JPEG 2000","400 dpi","PDF / PDF A100 dpiJPEG / JPEG 2000400 dpi",16]
[null,"PDF / PDF A","100 dpi","JPEG / JPEG 2000","600 dpi","PDF / PDF A100 dpiJPEG / JPEG 2000600 dpi",36]
[null,"PDF / PDF A","200 dpi","JPEG / JPEG 2000","72 dpi","PDF / PDF A200 dpiJPEG / JPEG 200072 dpi",0.12959999999999999]
[null,"PDF / PDF A","200 dpi","JPEG / JPEG 2000","100 dpi","PDF / PDF A200 dpiJPEG / JPEG 2000100 dpi",0.25]
[null,"PDF / PDF A","200 dpi","JPEG / JPEG 2000","200 dpi","PDF / PDF A200 dpiJPEG / JPEG 2000200 dpi",1]
[null,"PDF / PDF A","200 dpi","JPEG / JPEG 2000","300 dpi","PDF / PDF A200 dpiJPEG / JPEG 2000300 dpi",2.25]
[null,"PDF / PDF A","200 dpi","JPEG / JPEG 2000","400 dpi","PDF / PDF A200 dpiJPEG / JPEG 2000400 dpi",4]
[null,"PDF / PDF A","200 dpi","JPEG / JPEG 2000","600 dpi","PDF / PDF A200 dpiJPEG / JPEG 2000600 dpi",9]
[null,"PDF / PDF A","300 dpi","JPEG / JPEG 2000","72 dpi","PDF / PDF A300 dpiJPEG / JPEG 200072 dpi",5.7599999999999998E-2]
[null,"PDF / PDF A","300 dpi","JPEG / JPEG 2000","100 dpi","PDF / PDF A300 dpiJPEG / JPEG 2000100 dpi",0.11111111111111112]
[null,"PDF / PDF A","300 dpi","JPEG / JPEG 2000","200 dpi","PDF / PDF A300 dpiJPEG / JPEG 2000200 dpi",0.44444444444444448]
[null,"PDF / PDF A","300 dpi","JPEG / JPEG 2000","300 dpi","PDF / PDF A300 dpiJPEG / JPEG 2000300 dpi",1]
[null,"PDF / PDF A","300 dpi","JPEG / JPEG 2000","400 dpi","PDF / PDF A300 dpiJPEG / JPEG 2000400 dpi",1.7777777777777779]
[null,"PDF / PDF A","300 dpi","JPEG / JPEG 2000","600 dpi","PDF / PDF A300 dpiJPEG / JPEG 2000600 dpi",4]
[null,"PDF / PDF A","400 dpi","JPEG / JPEG 2000","72 dpi","PDF / PDF A400 dpiJPEG / JPEG 200072 dpi",3.2399999999999998E-2]
[null,"PDF / PDF A","400 dpi","JPEG / JPEG 2000","100 dpi","PDF / PDF A400 dpiJPEG / JPEG 2000100 dpi",6.25E-2]
[null,"PDF / PDF A","400 dpi","JPEG / JPEG 2000","200 dpi","PDF / PDF A400 dpiJPEG / JPEG 2000200 dpi",0.25]
[null,"PDF / PDF A","400 dpi","JPEG / JPEG 2000","300 dpi","PDF / PDF A400 dpiJPEG / JPEG 2000300 dpi",0.5625]
[null,"PDF / PDF A","400 dpi","JPEG / JPEG 2000","400 dpi","PDF / PDF A400 dpiJPEG / JPEG 2000400 dpi",1]
[null,"PDF / PDF A","400 dpi","JPEG / JPEG 2000","600 dpi","PDF / PDF A400 dpiJPEG / JPEG 2000600 dpi",2.25]
[null,"PDF / PDF A","600 dpi","JPEG / JPEG 2000","72 dpi","PDF / PDF A600 dpiJPEG / JPEG 200072 dpi",1.44E-2]
[null,"PDF / PDF A","600 dpi","JPEG / JPEG 2000","100 dpi","PDF / PDF A600 dpiJPEG / JPEG 2000100 dpi",2.777777777777778E-2]
[null,"PDF / PDF A","600 dpi","JPEG / JPEG 2000","200 dpi","PDF / PDF A600 dpiJPEG / JPEG 2000200 dpi",0.11111111111111112]
[null,"PDF / PDF A","600 dpi","JPEG / JPEG 2000","300 dpi","PDF / PDF A600 dpiJPEG / JPEG 2000300 dpi",0.25]
[null,"PDF / PDF A","600 dpi","JPEG / JPEG 2000","400 dpi","PDF / PDF A600 dpiJPEG / JPEG 2000400 dpi",0.44444444444444448]
[null,"PDF / PDF A","600 dpi","JPEG / JPEG 2000","600 dpi","PDF / PDF A600 dpiJPEG / JPEG 2000600 dpi",1]
[null,"TIFF / TIF","72 dpi","PDF / PDF A","72 dpi","TIFF / TIF72 dpiPDF / PDF A72 dpi",1]
[null,"TIFF / TIF","72 dpi","PDF / PDF A","100 dpi","TIFF / TIF72 dpiPDF / PDF A100 dpi",1.9290123456790125]
[null,"TIFF / TIF","72 dpi","PDF / PDF A","200 dpi","TIFF / TIF72 dpiPDF / PDF A200 dpi",7.7160493827160499]
[null,"TIFF / TIF","72 dpi","PDF / PDF A","300 dpi","TIFF / TIF72 dpiPDF / PDF A300 dpi",17.361111111111111]
[null,"TIFF / TIF","72 dpi","PDF / PDF A","400 dpi","TIFF / TIF72 dpiPDF / PDF A400 dpi",30.8641975308642]
[null,"TIFF / TIF","72 dpi","PDF / PDF A","600 dpi","TIFF / TIF72 dpiPDF / PDF A600 dpi",69.444444444444443]
[null,"TIFF / TIF","100 dpi","PDF / PDF A","72 dpi","TIFF / TIF100 dpiPDF / PDF A72 dpi",0.51839999999999997]
[null,"TIFF / TIF","100 dpi","PDF / PDF A","100 dpi","TIFF / TIF100 dpiPDF / PDF A100 dpi",1]
[null,"TIFF / TIF","100 dpi","PDF / PDF A","200 dpi","TIFF / TIF100 dpiPDF / PDF A200 dpi",4]
[null,"TIFF / TIF","100 dpi","PDF / PDF A","300 dpi","TIFF / TIF100 dpiPDF / PDF A300 dpi",9]
[null,"TIFF / TIF","100 dpi","PDF / PDF A","400 dpi","TIFF / TIF100 dpiPDF / PDF A400 dpi",16]
[null,"TIFF / TIF","100 dpi","PDF / PDF A","600 dpi","TIFF / TIF100 dpiPDF / PDF A600 dpi",36]
[null,"TIFF / TIF","200 dpi","PDF / PDF A","72 dpi","TIFF / TIF200 dpiPDF / PDF A72 dpi",0.12959999999999999]
[null,"TIFF / TIF","200 dpi","PDF / PDF A","100 dpi","TIFF / TIF200 dpiPDF / PDF A100 dpi",0.25]
[null,"TIFF / TIF","200 dpi","PDF / PDF A","200 dpi","TIFF / TIF200 dpiPDF / PDF A200 dpi",1]
[null,"TIFF / TIF","200 dpi","PDF / PDF A","300 dpi","TIFF / TIF200 dpiPDF / PDF A300 dpi",2.25]
[null,"TIFF / TIF","200 dpi","PDF / PDF A","400 dpi","TIFF / TIF200 dpiPDF / PDF A400 dpi",4]
[null,"TIFF / TIF","200 dpi","PDF / PDF A","600 dpi","TIFF / TIF200 dpiPDF / PDF A600 dpi",9]
[null,"TIFF / TIF","300 dpi","PDF / PDF A","72 dpi","TIFF / TIF300 dpiPDF / PDF A72 dpi",5.7599999999999998E-2]
[null,"TIFF / TIF","300 dpi","PDF / PDF A","100 dpi","TIFF / TIF300 dpiPDF / PDF A100 dpi",0.11111111111111112]
[null,"TIFF / TIF","300 dpi","PDF / PDF A","200 dpi",{"$f":"CONCATENATE(B139,C139,D139,E139)","v":"TIFF / TIF300 dpiPDF / PDF A200 dpi"},0.44444444444444448]
[null,"TIFF / TIF","300 dpi","PDF / PDF A","300 dpi","TIFF / TIF300 dpiPDF / PDF A300 dpi",1]
[null,"TIFF / TIF","300 dpi","PDF / PDF A","400 dpi","TIFF / TIF300 dpiPDF / PDF A400 dpi",1.7777777777777779]
[null,"TIFF / TIF","300 dpi","PDF / PDF A","600 dpi","TIFF / TIF300 dpiPDF / PDF A600 dpi",4]
[null,"TIFF / TIF","400 dpi","PDF / PDF A","72 dpi","TIFF / TIF400 dpiPDF / PDF A72 dpi",3.2399999999999998E-2]
[null,"TIFF / TIF","400 dpi","PDF / PDF A","100 dpi","TIFF / TIF400 dpiPDF / PDF A100 dpi",6.25E-2]
[null,"TIFF / TIF","400 dpi","PDF / PDF A","200 dpi","TIFF / TIF400 dpiPDF / PDF A200 dpi",0.25]
[null,"TIFF / TIF","400 dpi","PDF / PDF A","300 dpi","TIFF / TIF400 dpiPDF / PDF A300 dpi",0.5625]
[null,"TIFF / TIF","400 dpi","PDF / PDF A","400 dpi","TIFF / TIF400 dpiPDF / PDF A400 dpi",1]
[null,"TIFF / TIF","400 dpi","PDF / PDF A","600 dpi","TIFF / TIF400 dpiPDF / PDF A600 dpi",2.25]
[null,"TIFF / TIF","600 dpi","PDF / PDF A","72 dpi","TIFF / TIF600 dpiPDF / PDF A72 dpi",1.44E-2]
[null,"TIFF / TIF","600 dpi","PDF / PDF A","100 dpi","TIFF / TIF600 dpiPDF / PDF A100 dpi",2.777777777777778E-2]
[null,"TIFF / TIF","600 dpi","PDF / PDF A","200 dpi","TIFF / TIF600 dpiPDF / PDF A200 dpi",0.11111111111111112]
[null,"TIFF / TIF","600 dpi","PDF / PDF A","300 dpi","TIFF / TIF600 dpiPDF / PDF A300 dpi",0.25]
[null,"TIFF / TIF","600 dpi","PDF / PDF A","400 dpi","TIFF / TIF600 dpiPDF / PDF A400 dpi",0.44444444444444448]
[null,"TIFF / TIF","600 dpi","PDF / PDF A","600 dpi","TIFF / TIF600 dpiPDF / PDF A600 dpi",1]
[null,"TIFF / TIF","72 dpi","TIFF / TIF","72 dpi","TIFF / TIF72 dpiTIFF / TIF72 dpi",1]
[null,"TIFF / TIF","72 dpi","TIFF / TIF","100 dpi","TIFF / TIF72 dpiTIFF / TIF100 dpi",1.9290123456790125]
[null,"TIFF / TIF","72 dpi","TIFF / TIF","200 dpi","TIFF / TIF72 dpiTIFF / TIF200 dpi",7.7160493827160499]
[null,"TIFF / TIF","72 dpi","TIFF / TIF","300 dpi","TIFF / TIF72 dpiTIFF / TIF300 dpi",17.361111111111111]
[null,"TIFF / TIF","72 dpi","TIFF / TIF","400 dpi","TIFF / TIF72 dpiTIFF / TIF400 dpi",30.8641975308642]
[null,"TIFF / TIF","72 dpi","TIFF / TIF","600 dpi","TIFF / TIF72 dpiTIFF / TIF600 dpi",69.444444444444443]
[null,"TIFF / TIF","100 dpi","TIFF / TIF","72 dpi","TIFF / TIF100 dpiTIFF / TIF72 dpi",0.51839999999999997]
[null,"TIFF / TIF","100 dpi","TIFF / TIF","100 dpi","TIFF / TIF100 dpiTIFF / TIF100 dpi",1]
[null,"TIFF / TIF","100 dpi","TIFF / TIF","200 dpi","TIFF / TIF100 dpiTIFF / TIF200 dpi",4]
[null,"TIFF / TIF","100 dpi","TIFF / TIF","300 dpi","TIFF / TIF100 dpiTIFF / TIF300 dpi",9]
[null,"TIFF / TIF","100 dpi","TIFF / TIF","400 dpi","TIFF / TIF100 dpiTIFF / TIF400 dpi",16]
[null,"TIFF / TIF","100 dpi","TIFF / TIF","600 dpi","TIFF / TIF100 dpiTIFF / TIF600 dpi",36]
[null,"TIFF / TIF","200 dpi","TIFF / TIF","72 dpi","TIFF / TIF200 dpiTIFF / TIF72 dpi",0.12959999999999999]
[null,"TIFF / TIF","200 dpi","TIFF / TIF","100 dpi","TIFF / TIF200 dpiTIFF / TIF100 dpi",0.25]
[null,"TIFF / TIF","200 dpi","TIFF / TIF","200 dpi","TIFF / TIF200 dpiTIFF / TIF200 dpi",1]
[null,"TIFF / TIF","200 dpi","TIFF / TIF","300 dpi","TIFF / TIF200 dpiTIFF / TIF300 dpi",2.25]
[null,"TIFF / TIF","200 dpi","TIFF / TIF","400 dpi","TIFF / TIF200 dpiTIFF / TIF400 dpi",4]
[null,"TIFF / TIF","200 dpi","TIFF / TIF","600 dpi","TIFF / TIF200 dpiTIFF / TIF600 dpi",9]
[null,"TIFF / TIF","300 dpi","TIFF / TIF","72 dpi","TIFF / TIF300 dpiTIFF / TIF72 dpi",5.7599999999999998E-2]
[null,"TIFF / TIF","300 dpi","TIFF / TIF","100 dpi","TIFF / TIF300 dpiTIFF / TIF100 dpi",0.11111111111111112]
[null,"TIFF / TIF","300 dpi","TIFF / TIF","200 dpi","TIFF / TIF300 dpiTIFF / TIF200 dpi",0.44444444444444448]
[null,"TIFF / TIF","300 dpi","TIFF / TIF","300 dpi","TIFF / TIF300 dpiTIFF / TIF300 dpi",1]
[null,"TIFF / TIF","300 dpi","TIFF / TIF","400 dpi","TIFF / TIF300 dpiTIFF / TIF400 dpi",1.7777777777777779]
[null,"TIFF / TIF","300 dpi","TIFF / TIF","600 dpi","TIFF / TIF300 dpiTIFF / TIF600 dpi",4]
[null,"TIFF / TIF","400 dpi","TIFF / TIF","72 dpi","TIFF / TIF400 dpiTIFF / TIF72 dpi",3.2399999999999998E-2]
[null,"TIFF / TIF","400 dpi","TIFF / TIF","100 dpi","TIFF / TIF400 dpiTIFF / TIF100 dpi",6.25E-2]
[null,"TIFF / TIF","400 dpi","TIFF / TIF","200 dpi","TIFF / TIF400 dpiTIFF / TIF200 dpi",0.25]
[null,"TIFF / TIF","400 dpi","TIFF / TIF","300 dpi","TIFF / TIF400 dpiTIFF / TIF300 dpi",0.5625]
[null,"TIFF / TIF","400 dpi","TIFF / TIF","400 dpi","TIFF / TIF400 dpiTIFF / TIF400 dpi",1]
[null,"TIFF / TIF","400 dpi","TIFF / TIF","600 dpi","TIFF / TIF400 dpiTIFF / TIF600 dpi",2.25]
[null,"TIFF / TIF","600 dpi","TIFF / TIF","72 dpi","TIFF / TIF600 dpiTIFF / TIF72 dpi",1.44E-2]
[null,"TIFF / TIF","600 dpi","TIFF / TIF","100 dpi","TIFF / TIF600 dpiTIFF / TIF100 dpi",2.777777777777778E-2]
[null,"TIFF / TIF","600 dpi","TIFF / TIF","200 dpi","TIFF / TIF600 dpiTIFF / TIF200 dpi",0.11111111111111112]
[null,"TIFF / TIF","600 dpi","TIFF / TIF","300 dpi","TIFF / TIF600 dpiTIFF / TIF300 dpi",0.25]
[null,"TIFF / TIF","600 dpi","TIFF / TIF","400 dpi","TIFF / TIF600 dpiTIFF / TIF400 dpi",0.44444444444444448]
[null,"TIFF / TIF","600 dpi","TIFF / TIF","600 dpi","TIFF / TIF600 dpiTIFF / TIF600 dpi",1]
[null,"TIFF / TIF","72 dpi","JPEG / JPEG 2000","72 dpi","TIFF / TIF72 dpiJPEG / JPEG 200072 dpi",2.5072357046170023E-2]
[null,"TIFF / TIF","72 dpi","JPEG / JPEG 2000","100 dpi","TIFF / TIF72 dpiJPEG / JPEG 2000100 dpi",4.8364886277334151E-2]
[null,"TIFF / TIF","72 dpi","JPEG / JPEG 2000","200 dpi","TIFF / TIF72 dpiJPEG / JPEG 2000200 dpi",0.19345954510933661]
[null,"TIFF / TIF","72 dpi","JPEG / JPEG 2000","300 dpi","TIFF / TIF72 dpiJPEG / JPEG 2000300 dpi",0.43528397649600731]
[null,"TIFF / TIF","72 dpi","JPEG / JPEG 2000","400 dpi","TIFF / TIF72 dpiJPEG / JPEG 2000400 dpi",0.77383818043734642]
[null,"TIFF / TIF","72 dpi","JPEG / JPEG 2000","600 dpi","TIFF / TIF72 dpiJPEG / JPEG 2000600 dpi",1.7411359059840292]
[null,"TIFF / TIF","100 dpi","JPEG / JPEG 2000","72 dpi","TIFF / TIF100 dpiJPEG / JPEG 200072 dpi",1.2997509892734538E-2]
[null,"TIFF / TIF","100 dpi","JPEG / JPEG 2000","100 dpi","TIFF / TIF100 dpiJPEG / JPEG 2000100 dpi",2.5072357046170023E-2]
[null,"TIFF / TIF","100 dpi","JPEG / JPEG 2000","200 dpi","TIFF / TIF100 dpiJPEG / JPEG 2000200 dpi",0.10028942818468009]
[null,"TIFF / TIF","100 dpi","JPEG / JPEG 2000","300 dpi","TIFF / TIF100 dpiJPEG / JPEG 2000300 dpi",0.22565121341553021]
[null,"TIFF / TIF","100 dpi","JPEG / JPEG 2000","400 dpi","TIFF / TIF100 dpiJPEG / JPEG 2000400 dpi",0.40115771273872036]
[null,"TIFF / TIF","100 dpi","JPEG / JPEG 2000","600 dpi","TIFF / TIF100 dpiJPEG / JPEG 2000600 dpi",0.90260485366212084]
[null,"TIFF / TIF","200 dpi","JPEG / JPEG 2000","72 dpi",{"$f":"CONCATENATE(B203,C203,D203,E203)","v":"TIFF / TIF200 dpiJPEG / JPEG 200072 dpi"},3.2493774731836345E-3]
[null,"TIFF / TIF","200 dpi","JPEG / JPEG 2000","100 dpi","TIFF / TIF200 dpiJPEG / JPEG 2000100 dpi",6.2680892615425057E-3]
[null,"TIFF / TIF","200 dpi","JPEG / JPEG 2000","200 dpi","TIFF / TIF200 dpiJPEG / JPEG 2000200 dpi",2.5072357046170023E-2]
[null,"TIFF / TIF","200 dpi","JPEG / JPEG 2000","300 dpi","TIFF / TIF200 dpiJPEG / JPEG 2000300 dpi",5.6412803353882553E-2]
[null,"TIFF / TIF","200 dpi","JPEG / JPEG 2000","400 dpi","TIFF / TIF200 dpiJPEG / JPEG 2000400 dpi",0.10028942818468009]
[null,"TIFF / TIF","200 dpi","JPEG / JPEG 2000","600 dpi","TIFF / TIF200 dpiJPEG / JPEG 2000600 dpi",0.22565121341553021]
[null,"TIFF / TIF","300 dpi","JPEG / JPEG 2000","72 dpi","TIFF / TIF300 dpiJPEG / JPEG 200072 dpi",1.4441677658593934E-3]
[null,"TIFF / TIF","300 dpi","JPEG / JPEG 2000","100 dpi","TIFF / TIF300 dpiJPEG / JPEG 2000100 dpi",2.785817449574447E-3]
[null,"TIFF / TIF","300 dpi","JPEG / JPEG 2000","200 dpi","TIFF / TIF300 dpiJPEG / JPEG 2000200 dpi",1.1143269798297788E-2]
[null,"TIFF / TIF","300 dpi","JPEG / JPEG 2000","300 dpi","TIFF / TIF300 dpiJPEG / JPEG 2000300 dpi",2.5072357046170023E-2]
[null,"TIFF / TIF","300 dpi","JPEG / JPEG 2000","400 dpi","TIFF / TIF300 dpiJPEG / JPEG 2000400 dpi",4.4573079193191152E-2]
[null,"TIFF / TIF","300 dpi","JPEG / JPEG 2000","600 dpi","TIFF / TIF300 dpiJPEG / JPEG 2000600 dpi",0.10028942818468009]
[null,"TIFF / TIF","400 dpi","JPEG / JPEG 2000","72 dpi","TIFF / TIF400 dpiJPEG / JPEG 200072 dpi",8.1234436829590864E-4]
[null,"TIFF / TIF","400 dpi","JPEG / JPEG 2000","100 dpi","TIFF / TIF400 dpiJPEG / JPEG 2000100 dpi",1.5670223153856264E-3]
[null,"TIFF / TIF","400 dpi","JPEG / JPEG 2000","200 dpi","TIFF / TIF400 dpiJPEG / JPEG 2000200 dpi",6.2680892615425057E-3]
[null,"TIFF / TIF","400 dpi","JPEG / JPEG 2000","300 dpi","TIFF / TIF400 dpiJPEG / JPEG 2000300 dpi",1.4103200838470638E-2]
[null,"TIFF / TIF","400 dpi","JPEG / JPEG 2000","400 dpi","TIFF / TIF400 dpiJPEG / JPEG 2000400 dpi",2.5072357046170023E-2]
[null,"TIFF / TIF","400 dpi","JPEG / JPEG 2000","600 dpi","TIFF / TIF400 dpiJPEG / JPEG 2000600 dpi",5.6412803353882553E-2]
[null,"TIFF / TIF","600 dpi","JPEG / JPEG 2000","72 dpi","TIFF / TIF600 dpiJPEG / JPEG 200072 dpi",3.6104194146484834E-4]
[null,"TIFF / TIF","600 dpi","JPEG / JPEG 2000","100 dpi","TIFF / TIF600 dpiJPEG / JPEG 2000100 dpi",6.9645436239361175E-4]
[null,"TIFF / TIF","600 dpi","JPEG / JPEG 2000","200 dpi","TIFF / TIF600 dpiJPEG / JPEG 2000200 dpi",2.785817449574447E-3]
[null,"TIFF / TIF","600 dpi","JPEG / JPEG 2000","300 dpi","TIFF / TIF600 dpiJPEG / JPEG 2000300 dpi",6.2680892615425057E-3]
[null,"TIFF / TIF","600 dpi","JPEG / JPEG 2000","400 dpi","TIFF / TIF600 dpiJPEG / JPEG 2000400 dpi",1.1143269798297788E-2]
[null,"TIFF / TIF","600 dpi","JPEG / JPEG 2000","600 dpi","TIFF / TIF600 dpiJPEG / JPEG 2000600 dpi",2.5072357046170023E-2]
[null,"JPEG / JPEG 2000","72 dpi","PDF / PDF A","72 dpi","JPEG / JPEG 200072 dpiPDF / PDF A72 dpi",1]
[null,"JPEG / JPEG 2000","72 dpi","PDF / PDF A","100 dpi","JPEG / JPEG 200072 dpiPDF / PDF A100 dpi",1.9290123456790125]
[null,"JPEG / JPEG 2000","72 dpi","PDF / PDF A","200 dpi","JPEG / JPEG 200072 dpiPDF / PDF A200 dpi",7.7160493827160499]
[null,"JPEG / JPEG 2000","72 dpi","PDF / PDF A","300 dpi","JPEG / JPEG 200072 dpiPDF / PDF A300 dpi",17.361111111111111]
[null,"JPEG / JPEG 2000","72 dpi","PDF / PDF A","400 dpi","JPEG / JPEG 200072 dpiPDF / PDF A400 dpi",30.8641975308642]
[null,"JPEG / JPEG 2000","72 dpi","PDF / PDF A","600 dpi","JPEG / JPEG 200072 dpiPDF / PDF A600 dpi",69.444444444444443]
[null,"JPEG / JPEG 2000","100 dpi","PDF / PDF A","72 dpi","JPEG / JPEG 2000100 dpiPDF / PDF A72 dpi",0.51839999999999997]
[null,"JPEG / JPEG 2000","100 dpi","PDF / PDF A","100 dpi","JPEG / JPEG 2000100 dpiPDF / PDF A100 dpi",1]
[null,"JPEG / JPEG 2000","100 dpi","PDF / PDF A","200 dpi","JPEG / JPEG 2000100 dpiPDF / PDF A200 dpi",4]
[null,"JPEG / JPEG 2000","100 dpi","PDF / PDF A","300 dpi","JPEG / JPEG 2000100 dpiPDF / PDF A300 dpi",9]
[null,"JPEG / JPEG 2000","100 dpi","PDF / PDF A","400 dpi","JPEG / JPEG 2000100 dpiPDF / PDF A400 dpi",16]
[null,"JPEG / JPEG 2000","100 dpi","PDF / PDF A","600 dpi","JPEG / JPEG 2000100 dpiPDF / PDF A600 dpi",36]
[null,"JPEG / JPEG 2000","200 dpi","PDF / PDF A","72 dpi","JPEG / JPEG 2000200 dpiPDF / PDF A72 dpi",0.12959999999999999]
[null,"JPEG / JPEG 2000","200 dpi","PDF / PDF A","100 dpi","JPEG / JPEG 2000200 dpiPDF / PDF A100 dpi",0.25]
[null,"JPEG / JPEG 2000","200 dpi","PDF / PDF A","200 dpi","JPEG / JPEG 2000200 dpiPDF / PDF A200 dpi",1]
[null,"JPEG / JPEG 2000","200 dpi","PDF / PDF A","300 dpi","JPEG / JPEG 2000200 dpiPDF / PDF A300 dpi",2.25]
[null,"JPEG / JPEG 2000","200 dpi","PDF / PDF A","400 dpi","JPEG / JPEG 2000200 dpiPDF / PDF A400 dpi",4]
[null,"JPEG / JPEG 2000","200 dpi","PDF / PDF A","600 dpi","JPEG / JPEG 2000200 dpiPDF / PDF A600 dpi",9]
[null,"JPEG / JPEG 2000","300 dpi","PDF / PDF A","72 dpi","JPEG / JPEG 2000300 dpiPDF / PDF A72 dpi",5.7599999999999998E-2]
[null,"JPEG / JPEG 2000","300 dpi","PDF / PDF A","100 dpi","JPEG / JPEG 2000300 dpiPDF / PDF A100 dpi",0.11111111111111112]
[null,"JPEG / JPEG 2000","300 dpi","PDF / PDF A","200 dpi","JPEG / JPEG 2000300 dpiPDF / PDF A200 dpi",0.44444444444444448]
[null,"JPEG / JPEG 2000","300 dpi","PDF / PDF A","300 dpi","JPEG / JPEG 2000300 dpiPDF / PDF A300 dpi",1]
[null,"JPEG / JPEG 2000","300 dpi","PDF / PDF A","400 dpi","JPEG / JPEG 2000300 dpiPDF / PDF A400 dpi",1.7777777777777779]
[null,"JPEG / JPEG 2000","300 dpi","PDF / PDF A","600 dpi","JPEG / JPEG 2000300 dpiPDF / PDF A600 dpi",4]
[null,"JPEG / JPEG 2000","400 dpi","PDF / PDF A","72 dpi","JPEG / JPEG 2000400 dpiPDF / PDF A72 dpi",3.2399999999999998E-2]
[null,"JPEG / JPEG 2000","400 dpi","PDF / PDF A","100 dpi","JPEG / JPEG 2000400 dpiPDF / PDF A100 dpi",6.25E-2]
[null,"JPEG / JPEG 2000","400 dpi","PDF / PDF A","200 dpi","JPEG / JPEG 2000400 dpiPDF / PDF A200 dpi",0.25]
[null,"JPEG / JPEG 2000","400 dpi","PDF / PDF A","300 dpi","JPEG / JPEG 2000400 dpiPDF / PDF A300 dpi",0.5625]
[null,"JPEG / JPEG 2000","400 dpi","PDF / PDF A","400 dpi","JPEG / JPEG 2000400 dpiPDF / PDF A400 dpi",1]
[null,"JPEG / JPEG 2000","400 dpi","PDF / PDF A","600 dpi","JPEG / JPEG 2000400 dpiPDF / PDF A600 dpi",2.25]
[null,"JPEG / JPEG 2000","600 dpi","PDF / PDF A","72 dpi","JPEG / JPEG 2000600 dpiPDF / PDF A72 dpi",1.44E-2]
[null,"JPEG / JPEG 2000","600 dpi","PDF / PDF A","100 dpi","JPEG / JPEG 2000600 dpiPDF / PDF A100 dpi",2.777777777777778E-2]
[null,"JPEG / JPEG 2000","600 dpi","PDF / PDF A","200 dpi","JPEG / JPEG 2000600 dpiPDF / PDF A200 dpi",0.11111111111111112]
[null,"JPEG / JPEG 2000","600 dpi","PDF / PDF A","300 dpi","JPEG / JPEG 2000600 dpiPDF / PDF A300 dpi",0.25]
[null,"JPEG / JPEG 2000","600 dpi","PDF / PDF A","400 dpi","JPEG / JPEG 2000600 dpiPDF / PDF A400 dpi",0.44444444444444448]
[null,"JPEG / JPEG 2000","600 dpi","PDF / PDF A","600 dpi","JPEG / JPEG 2000600 dpiPDF / PDF A600 dpi",1]
[null,"JPEG / JPEG 2000","72 dpi","TIFF / TIF","72 dpi","JPEG / JPEG 200072 dpiTIFF / TIF72 dpi",39.884562833822478]
[null,"JPEG / JPEG 2000","72 dpi","TIFF / TIF","100 dpi","JPEG / JPEG 200072 dpiTIFF / TIF100 dpi",76.937814108453864]
[null,"JPEG / JPEG 2000","72 dpi","TIFF / TIF","200 dpi","JPEG / JPEG 200072 dpiTIFF / TIF200 dpi",307.75125643381546]
[null,"JPEG / JPEG 2000","72 dpi","TIFF / TIF","300 dpi","JPEG / JPEG 200072 dpiTIFF / TIF300 dpi",692.44032697608463]
[null,"JPEG / JPEG 2000","72 dpi","TIFF / TIF","400 dpi",{"$f":"CONCATENATE(B267,C267,D267,E267)","v":"JPEG / JPEG 200072 dpiTIFF / TIF400 dpi"},1231.0050257352618]
[null,"JPEG / JPEG 2000","72 dpi","TIFF / TIF","600 dpi","JPEG / JPEG 200072 dpiTIFF / TIF600 dpi",2769.7613079043385]
[null,"JPEG / JPEG 2000","100 dpi","TIFF / TIF","72 dpi","JPEG / JPEG 2000100 dpiTIFF / TIF72 dpi",20.67615737305357]
[null,"JPEG / JPEG 2000","100 dpi","TIFF / TIF","100 dpi","JPEG / JPEG 2000100 dpiTIFF / TIF100 dpi",39.884562833822478]
[null,"JPEG / JPEG 2000","100 dpi","TIFF / TIF","200 dpi","JPEG / JPEG 2000100 dpiTIFF / TIF200 dpi",159.53825133528991]
[null,"JPEG / JPEG 2000","100 dpi","TIFF / TIF","300 dpi","JPEG / JPEG 2000100 dpiTIFF / TIF300 dpi",358.96106550440231]
[null,"JPEG / JPEG 2000","100 dpi","TIFF / TIF","400 dpi","JPEG / JPEG 2000100 dpiTIFF / TIF400 dpi",638.15300534115966]
[null,"JPEG / JPEG 2000","100 dpi","TIFF / TIF","600 dpi","JPEG / JPEG 2000100 dpiTIFF / TIF600 dpi",1435.8442620176093]
[null,"JPEG / JPEG 2000","200 dpi","TIFF / TIF","72 dpi","JPEG / JPEG 2000200 dpiTIFF / TIF72 dpi",5.1690393432633925]
[null,"JPEG / JPEG 2000","200 dpi","TIFF / TIF","100 dpi","JPEG / JPEG 2000200 dpiTIFF / TIF100 dpi",9.9711407084556196]
[null,"JPEG / JPEG 2000","200 dpi","TIFF / TIF","200 dpi","JPEG / JPEG 2000200 dpiTIFF / TIF200 dpi",39.884562833822478]
[null,"JPEG / JPEG 2000","200 dpi","TIFF / TIF","300 dpi","JPEG / JPEG 2000200 dpiTIFF / TIF300 dpi",89.740266376100578]
[null,"JPEG / JPEG 2000","200 dpi","TIFF / TIF","400 dpi","JPEG / JPEG 2000200 dpiTIFF / TIF400 dpi",159.53825133528991]
[null,"JPEG / JPEG 2000","200 dpi","TIFF / TIF","600 dpi","JPEG / JPEG 2000200 dpiTIFF / TIF600 dpi",358.96106550440231]
[null,"JPEG / JPEG 2000","300 dpi","TIFF / TIF","72 dpi","JPEG / JPEG 2000300 dpiTIFF / TIF72 dpi",2.2973508192281749]
[null,"JPEG / JPEG 2000","300 dpi","TIFF / TIF","100 dpi","JPEG / JPEG 2000300 dpiTIFF / TIF100 dpi",4.431618092646942]
[null,"JPEG / JPEG 2000","300 dpi","TIFF / TIF","200 dpi","JPEG / JPEG 2000300 dpiTIFF / TIF200 dpi",17.726472370587768]
[null,"JPEG / JPEG 2000","300 dpi","TIFF / TIF","300 dpi","JPEG / JPEG 2000300 dpiTIFF / TIF300 dpi",39.884562833822478]
[null,"JPEG / JPEG 2000","300 dpi","TIFF / TIF","400 dpi","JPEG / JPEG 2000300 dpiTIFF / TIF400 dpi",70.905889482351071]
[null,"JPEG / JPEG 2000","300 dpi","TIFF / TIF","600 dpi","JPEG / JPEG 2000300 dpiTIFF / TIF600 dpi",159.53825133528991]
[null,"JPEG / JPEG 2000","400 dpi","TIFF / TIF","72 dpi","JPEG / JPEG 2000400 dpiTIFF / TIF72 dpi",1.2922598358158481]
[null,"JPEG / JPEG 2000","400 dpi","TIFF / TIF","100 dpi","JPEG / JPEG 2000400 dpiTIFF / TIF100 dpi",2.4927851771139049]
[null,"JPEG / JPEG 2000","400 dpi","TIFF / TIF","200 dpi","JPEG / JPEG 2000400 dpiTIFF / TIF200 dpi",9.9711407084556196]
[null,"JPEG / JPEG 2000","400 dpi","TIFF / TIF","300 dpi","JPEG / JPEG 2000400 dpiTIFF / TIF300 dpi",22.435066594025145]
[null,"JPEG / JPEG 2000","400 dpi","TIFF / TIF","400 dpi","JPEG / JPEG 2000400 dpiTIFF / TIF400 dpi",39.884562833822478]
[null,"JPEG / JPEG 2000","400 dpi","TIFF / TIF","600 dpi","JPEG / JPEG 2000400 dpiTIFF / TIF600 dpi",89.740266376100578]
[null,"JPEG / JPEG 2000","600 dpi","TIFF / TIF","72 dpi","JPEG / JPEG 2000600 dpiTIFF / TIF72 dpi",0.57433770480704371]
[null,"JPEG / JPEG 2000","600 dpi","TIFF / TIF","100 dpi","JPEG / JPEG 2000600 dpiTIFF / TIF100 dpi",1.1079045231617355]
[null,"JPEG / JPEG 2000","600 dpi","TIFF / TIF","200 dpi","JPEG / JPEG 2000600 dpiTIFF / TIF200 dpi",4.431618092646942]
[null,"JPEG / JPEG 2000","600 dpi","TIFF / TIF","300 dpi","JPEG / JPEG 2000600 dpiTIFF / TIF300 dpi",9.9711407084556196]
[null,"JPEG / JPEG 2000","600 dpi","TIFF / TIF","400 dpi","JPEG / JPEG 2000600 dpiTIFF / TIF400 dpi",17.726472370587768]
[null,"JPEG / JPEG 2000","600 dpi","TIFF / TIF","600 dpi","JPEG / JPEG 2000600 dpiTIFF / TIF600 dpi",39.884562833822478]
[null,"JPEG / JPEG 2000","72 dpi","JPEG / JPEG 2000","72 dpi","JPEG / JPEG 200072 dpiJPEG / JPEG 200072 dpi",1]
[null,"JPEG / JPEG 2000","72 dpi","JPEG / JPEG 2000","100 dpi","JPEG / JPEG 200072 dpiJPEG / JPEG 2000100 dpi",1.9290123456790125]
[null,"JPEG / JPEG 2000","72 dpi","JPEG / JPEG 2000","200 dpi","JPEG / JPEG 200072 dpiJPEG / JPEG 2000200 dpi",7.7160493827160499]
[null,"JPEG / JPEG 2000","72 dpi","JPEG / JPEG 2000","300 dpi","JPEG / JPEG 200072 dpiJPEG / JPEG 2000300 dpi",17.361111111111111]
[null,"JPEG / JPEG 2000","72 dpi","JPEG / JPEG 2000","400 dpi","JPEG / JPEG 200072 dpiJPEG / JPEG 2000400 dpi",30.8641975308642]
[null,"JPEG / JPEG 2000","72 dpi","JPEG / JPEG 2000","600 dpi","JPEG / JPEG 200072 dpiJPEG / JPEG 2000600 dpi",69.444444444444443]
[null,"JPEG / JPEG 2000","100 dpi","JPEG / JPEG 2000","72 dpi",{"$f":"CONCATENATE(B305,C305,D305,E305)","v":"JPEG / JPEG 2000100 dpiJPEG / JPEG 200072 dpi"},0.51839999999999997]
[null,"JPEG / JPEG 2000","100 dpi","JPEG / JPEG 2000","100 dpi","JPEG / JPEG 2000100 dpiJPEG / JPEG 2000100 dpi",1]
[null,"JPEG / JPEG 2000","100 dpi","JPEG / JPEG 2000","200 dpi","JPEG / JPEG 2000100 dpiJPEG / JPEG 2000200 dpi",4]
[null,"JPEG / JPEG 2000","100 dpi","JPEG / JPEG 2000","300 dpi","JPEG / JPEG 2000100 dpiJPEG / JPEG 2000300 dpi",9]
[null,"JPEG / JPEG 2000","100 dpi","JPEG / JPEG 2000","400 dpi","JPEG / JPEG 2000100 dpiJPEG / JPEG 2000400 dpi",16]
[null,"JPEG / JPEG 2000","100 dpi","JPEG / JPEG 2000","600 dpi","JPEG / JPEG 2000100 dpiJPEG / JPEG 2000600 dpi",36]
[null,"JPEG / JPEG 2000","200 dpi","JPEG / JPEG 2000","72 dpi","JPEG / JPEG 2000200 dpiJPEG / JPEG 200072 dpi",0.12959999999999999]
[null,"JPEG / JPEG 2000","200 dpi","JPEG / JPEG 2000","100 dpi","JPEG / JPEG 2000200 dpiJPEG / JPEG 2000100 dpi",0.25]
[null,"JPEG / JPEG 2000","200 dpi","JPEG / JPEG 2000","200 dpi","JPEG / JPEG 2000200 dpiJPEG / JPEG 2000200 dpi",1]
[null,"JPEG / JPEG 2000","200 dpi","JPEG / JPEG 2000","300 dpi","JPEG / JPEG 2000200 dpiJPEG / JPEG 2000300 dpi",2.25]
[null,"JPEG / JPEG 2000","200 dpi","JPEG / JPEG 2000","400 dpi","JPEG / JPEG 2000200 dpiJPEG / JPEG 2000400 dpi",4]
[null,"JPEG / JPEG 2000","200 dpi","JPEG / JPEG 2000","600 dpi","JPEG / JPEG 2000200 dpiJPEG / JPEG 2000600 dpi",9]
[null,"JPEG / JPEG 2000","300 dpi","JPEG / JPEG 2000","72 dpi","JPEG / JPEG 2000300 dpiJPEG / JPEG 200072 dpi",5.7599999999999998E-2]
[null,"JPEG / JPEG 2000","300 dpi","JPEG / JPEG 2000","100 dpi","JPEG / JPEG 2000300 dpiJPEG / JPEG 2000100 dpi",0.11111111111111112]
[null,"JPEG / JPEG 2000","300 dpi","JPEG / JPEG 2000","200 dpi","JPEG / JPEG 2000300 dpiJPEG / JPEG 2000200 dpi",0.44444444444444448]
[null,"JPEG / JPEG 2000","300 dpi","JPEG / JPEG 2000","300 dpi","JPEG / JPEG 2000300 dpiJPEG / JPEG 2000300 dpi",1]
[null,"JPEG / JPEG 2000","300 dpi","JPEG / JPEG 2000","400 dpi","JPEG / JPEG 2000300 dpiJPEG / JPEG 2000400 dpi",1.7777777777777779]
[null,"JPEG / JPEG 2000","300 dpi","JPEG / JPEG 2000","600 dpi","JPEG / JPEG 2000300 dpiJPEG / JPEG 2000600 dpi",4]
[null,"JPEG / JPEG 2000","400 dpi","JPEG / JPEG 2000","72 dpi","JPEG / JPEG 2000400 dpiJPEG / JPEG 200072 dpi",3.2399999999999998E-2]
[null,"JPEG / JPEG 2000","400 dpi","JPEG / JPEG 2000","100 dpi","JPEG / JPEG 2000400 dpiJPEG / JPEG 2000100 dpi",6.25E-2]
[null,"JPEG / JPEG 2000","400 dpi","JPEG / JPEG 2000","200 dpi","JPEG / JPEG 2000400 dpiJPEG / JPEG 2000200 dpi",0.25]
[null,"JPEG / JPEG 2000","400 dpi","JPEG / JPEG 2000","300 dpi","JPEG / JPEG 2000400 dpiJPEG / JPEG 2000300 dpi",0.5625]
[null,"JPEG / JPEG 2000","400 dpi","JPEG / JPEG 2000","400 dpi","JPEG / JPEG 2000400 dpiJPEG / JPEG 2000400 dpi",1]
[null,"JPEG / JPEG 2000","400 dpi","JPEG / JPEG 2000","600 dpi","JPEG / JPEG 2000400 dpiJPEG / JPEG 2000600 dpi",2.25]
[null,"JPEG / JPEG 2000","600 dpi","JPEG / JPEG 2000","72 dpi","JPEG / JPEG 2000600 dpiJPEG / JPEG 200072 dpi",1.44E-2]
[null,"JPEG / JPEG 2000","600 dpi","JPEG / JPEG 2000","100 dpi","JPEG / JPEG 2000600 dpiJPEG / JPEG 2000100 dpi",2.777777777777778E-2]
[null,"JPEG / JPEG 2000","600 dpi","JPEG / JPEG 2000","200 dpi","JPEG / JPEG 2000600 dpiJPEG / JPEG 2000200 dpi",0.11111111111111112]
[null,"JPEG / JPEG 2000","600 dpi","JPEG / JPEG 2000","300 dpi","JPEG / JPEG 2000600 dpiJPEG / JPEG 2000300 dpi",0.25]
[null,"JPEG / JPEG 2000","600 dpi","JPEG / JPEG 2000","400 dpi","JPEG / JPEG 2000600 dpiJPEG / JPEG 2000400 dpi",0.44444444444444448]
[null,"JPEG / JPEG 2000","600 dpi","JPEG / JPEG 2000","600 dpi","JPEG / JPEG 2000600 dpiJPEG / JPEG 2000600 dpi",1]

{"sheet":"retention_schedules","index":8,"n_rows":142,"n_cols":4,"rows_kept":142,"cut":false,"hidden":true,"merged":[]}
[]
["Function","Retention Schedule","Reference","% of records"]
["ADULT CARE SERVICES","All records",{"$f":"B3&A3","v":"All recordsADULT CARE SERVICES"},1]
["ADULT CARE SERVICES","10 years +","10 years +ADULT CARE SERVICES",0.65536332179930801]
["ADULT CARE SERVICES","20 years +","20 years +ADULT CARE SERVICES",0.44844290657439445]
["ADULT CARE SERVICES","30 years +","30 years +ADULT CARE SERVICES",0.43391003460207611]
["ADULT CARE SERVICES","Permanent","PermanentADULT CARE SERVICES",0.43391003460207611]
["OVERALL STORAGE REQUIREMENTS","All records","All recordsOVERALL STORAGE REQUIREMENTS",1]
["OVERALL STORAGE REQUIREMENTS","10 years +","10 years +OVERALL STORAGE REQUIREMENTS",0.41283040258830661]
["OVERALL STORAGE REQUIREMENTS","20 years +","20 years +OVERALL STORAGE REQUIREMENTS",0.25696323906225316]
["OVERALL STORAGE REQUIREMENTS","30 years +","30 years +OVERALL STORAGE REQUIREMENTS",0.23392638455983333]
["OVERALL STORAGE REQUIREMENTS","Permanent","PermanentOVERALL STORAGE REQUIREMENTS",0.18790381507155984]
["CEMETERIES & CREMATORIA","All records","All recordsCEMETERIES & CREMATORIA",1]
["CEMETERIES & CREMATORIA","10 years +","10 years +CEMETERIES & CREMATORIA",0.41283040258830661]
["CEMETERIES & CREMATORIA","20 years +","20 years +CEMETERIES & CREMATORIA",0.25696323906225316]
["CEMETERIES & CREMATORIA","30 years +","30 years +CEMETERIES & CREMATORIA",0.23392638455983333]
["CEMETERIES & CREMATORIA","Permanent","PermanentCEMETERIES & CREMATORIA",0.18790381507155984]
["CHILDREN & FAMILIES","All records","All recordsCHILDREN & FAMILIES",1]
["CHILDREN & FAMILIES","10 years +","10 years +CHILDREN & FAMILIES",0.98387963460505101]
["CHILDREN & FAMILIES","20 years +","20 years +CHILDREN & FAMILIES",0.98387963460505101]
["CHILDREN & FAMILIES","30 years +","30 years +CHILDREN & FAMILIES",0.98387963460505101]
["CHILDREN & FAMILIES","Permanent","PermanentCHILDREN & FAMILIES",0.98387963460505101]
["COMMUNITY SAFETY & EMERGENCIES","All records","All recordsCOMMUNITY SAFETY & EMERGENCIES",1]
["COMMUNITY SAFETY & EMERGENCIES","10 years +","10 years +COMMUNITY SAFETY & EMERGENCIES",0.41283040258830661]
["COMMUNITY SAFETY & EMERGENCIES","20 years +","20 years +COMMUNITY SAFETY & EMERGENCIES",0.25696323906225316]
["COMMUNITY SAFETY & EMERGENCIES","30 years +","30 years +COMMUNITY SAFETY & EMERGENCIES",0.23392638455983333]
["COMMUNITY SAFETY & EMERGENCIES","Permanent","PermanentCOMMUNITY SAFETY & EMERGENCIES",0.18790381507155984]
["CONSUMER AFFAIRS","All records","All recordsCONSUMER AFFAIRS",1]
["CONSUMER AFFAIRS","10 years +","10 years +CONSUMER AFFAIRS",0]
["CONSUMER AFFAIRS","20 years +","20 years +CONSUMER AFFAIRS",0]
["CONSUMER AFFAIRS","30 years +","30 years +CONSUMER AFFAIRS",0]
["CONSUMER AFFAIRS","Permanent","PermanentCONSUMER AFFAIRS",0]
["COUNCIL PROPERTY","All records","All recordsCOUNCIL PROPERTY",1]
["COUNCIL PROPERTY","10 years +","10 years +COUNCIL PROPERTY",0.41283040258830661]
["COUNCIL PROPERTY","20 years +",{"$f":"B35&A35","v":"20 years +COUNCIL PROPERTY"},0.25696323906225316]
["COUNCIL PROPERTY","30 years +","30 years +COUNCIL PROPERTY",0.23392638455983333]
["COUNCIL PROPERTY","Permanent","PermanentCOUNCIL PROPERTY",0.18790381507155984]
["CRIMINAL JUSTICE","All records","All recordsCRIMINAL JUSTICE",1]
["CRIMINAL JUSTICE","10 years +","10 years +CRIMINAL JUSTICE",0.41283040258830661]
["CRIMINAL JUSTICE","20 years +","20 years +CRIMINAL JUSTICE",0.25696323906225316]
["CRIMINAL JUSTICE","30 years +","30 years +CRIMINAL JUSTICE",0.23392638455983333]
["CRIMINAL JUSTICE","Permanent","PermanentCRIMINAL JUSTICE",0.18790381507155984]
["DEMOCRACY","All records","All recordsDEMOCRACY",1]
["DEMOCRACY","10 years +","10 years +DEMOCRACY",0.41283040258830661]
["DEMOCRACY","20 years +","20 years +DEMOCRACY",0.25696323906225316]
["DEMOCRACY","30 years +","30 years +DEMOCRACY",0.23392638455983333]
["DEMOCRACY","Permanent","PermanentDEMOCRACY",0.18790381507155984]
["ECONOMIC DEVELOPMENT","All records","All recordsECONOMIC DEVELOPMENT",1]
["ECONOMIC DEVELOPMENT","10 years +","10 years +ECONOMIC DEVELOPMENT",0.10714285714285714]
["ECONOMIC DEVELOPMENT","20 years +","20 years +ECONOMIC DEVELOPMENT",0]
["ECONOMIC DEVELOPMENT","30 years +","30 years +ECONOMIC DEVELOPMENT",0]
["ECONOMIC DEVELOPMENT","Permanent","PermanentECONOMIC DEVELOPMENT",0]
["EDUCATION & SKILLS","All records","All recordsEDUCATION & SKILLS",1]
["EDUCATION & SKILLS","10 years +","10 years +EDUCATION & SKILLS",0.75818639798488663]
["EDUCATION & SKILLS","20 years +","20 years +EDUCATION & SKILLS",0.11586901763224182]
["EDUCATION & SKILLS","30 years +","30 years +EDUCATION & SKILLS",0.11586901763224182]
["EDUCATION & SKILLS","Permanent","PermanentEDUCATION & SKILLS",0.11586901763224182]
["ENVIRONMENTAL PROTECTION","All records","All recordsENVIRONMENTAL PROTECTION",1]
["ENVIRONMENTAL PROTECTION","10 years +","10 years +ENVIRONMENTAL PROTECTION",0]
["ENVIRONMENTAL PROTECTION","20 years +","20 years +ENVIRONMENTAL PROTECTION",0]
["ENVIRONMENTAL PROTECTION","30 years +","30 years +ENVIRONMENTAL PROTECTION",0]
["ENVIRONMENTAL PROTECTION","Permanent","PermanentENVIRONMENTAL PROTECTION",0]
["FINANCE","All records","All recordsFINANCE",1]
["FINANCE","10 years +","10 years +FINANCE",0]
["FINANCE","20 years +","20 years +FINANCE",0]
["FINANCE","30 years +","30 years +FINANCE",0]
["FINANCE","Permanent",{"$f":"B67&A67","v":"PermanentFINANCE"},0]
["HEALTH & SAFETY","All records","All recordsHEALTH & SAFETY",1]
["HEALTH & SAFETY","10 years +","10 years +HEALTH & SAFETY",0.41283040258830661]
["HEALTH & SAFETY","20 years +","20 years +HEALTH & SAFETY",0.25696323906225316]
["HEALTH & SAFETY","30 years +","30 years +HEALTH & SAFETY",0.23392638455983333]
["HEALTH & SAFETY","Permanent","PermanentHEALTH & SAFETY",0.18790381507155984]
["HOUSING","All records","All recordsHOUSING",1]
["HOUSING","10 years +","10 years +HOUSING",0.41283040258830661]
["HOUSING","20 years +","20 years +HOUSING",0.25696323906225316]
["HOUSING","30 years +","30 years +HOUSING",0.23392638455983333]
["HOUSING","Permanent","PermanentHOUSING",0.18790381507155984]
["HUMAN RESOURCES","All records","All recordsHUMAN RESOURCES",1]
["HUMAN RESOURCES","10 years +","10 years +HUMAN RESOURCES",0.35483870967741937]
["HUMAN RESOURCES","20 years +","20 years +HUMAN RESOURCES",0.28494623655913981]
["HUMAN RESOURCES","30 years +","30 years +HUMAN RESOURCES",0]
["HUMAN RESOURCES","Permanent","PermanentHUMAN RESOURCES",0]
["ICT","All records","All recordsICT",1]
["ICT","10 years +","10 years +ICT",0.41283040258830661]
["ICT","20 years +","20 years +ICT",0.25696323906225316]
["ICT","30 years +","30 years +ICT",0.23392638455983333]
["ICT","Permanent","PermanentICT",0.18790381507155984]
["INFORMATION MANAGEMENT","All records","All recordsINFORMATION MANAGEMENT",1]
["INFORMATION MANAGEMENT","10 years +","10 years +INFORMATION MANAGEMENT",0.90909090909090906]
["INFORMATION MANAGEMENT","20 years +","20 years +INFORMATION MANAGEMENT",0.90909090909090906]
["INFORMATION MANAGEMENT","30 years +","30 years +INFORMATION MANAGEMENT",0.90909090909090906]
["INFORMATION MANAGEMENT","Permanent","PermanentINFORMATION MANAGEMENT",0.90909090909090906]
["LEGAL SERVICES","All records","All recordsLEGAL SERVICES",1]
["LEGAL SERVICES","10 years +","10 years +LEGAL SERVICES",1]
["LEGAL SERVICES","20 years +","20 years +LEGAL SERVICES",0]
["LEGAL SERVICES","30 years +","30 years +LEGAL SERVICES",0]
["LEGAL SERVICES","Permanent","PermanentLEGAL SERVICES",0]
["LEISURE & CULTURE","All records","All recordsLEISURE & CULTURE",1]
["LEISURE & CULTURE","All records",{"$f":"B99&A99","v":"All recordsLEISURE & CULTURE"},1]
["LEISURE & CULTURE","10 years +","10 years +LEISURE & CULTURE",0.23465703971119134]
["LEISURE & CULTURE","10 years +","10 years +LEISURE & CULTURE",0.41283040258830661]
["LEISURE & CULTURE","20 years +","20 years +LEISURE & CULTURE",0.23465703971119134]
["LEISURE & CULTURE","20 years +","20 years +LEISURE & CULTURE",0.25696323906225316]
["LEISURE & CULTURE","30 years +","30 years +LEISURE & CULTURE",0.23465703971119134]
["LEISURE & CULTURE","30 years +","30 years +LEISURE & CULTURE",0.23392638455983333]
["LEISURE & CULTURE","Permanent","PermanentLEISURE & CULTURE",0]
["LEISURE & CULTURE","Permanent","PermanentLEISURE & CULTURE",0.18790381507155984]
["MANAGEMENT","All records","All recordsMANAGEMENT",1]
["MANAGEMENT","10 years +","10 years +MANAGEMENT",0.36363636363636365]
["MANAGEMENT","20 years +","20 years +MANAGEMENT",0.36363636363636365]
["MANAGEMENT","30 years +","30 years +MANAGEMENT",0.36363636363636365]
["MANAGEMENT","Permanent","PermanentMANAGEMENT",0]
["PLANNING & BUILDING STANDARDS","All records","All recordsPLANNING & BUILDING STANDARDS",1]
["PLANNING & BUILDING STANDARDS","10 years +","10 years +PLANNING & BUILDING STANDARDS",0.41283040258830661]
["PLANNING & BUILDING STANDARDS","20 years +","20 years +PLANNING & BUILDING STANDARDS",0.25696323906225316]
["PLANNING & BUILDING STANDARDS","30 years +","30 years +PLANNING & BUILDING STANDARDS",0.23392638455983333]
["PLANNING & BUILDING STANDARDS","Permanent","PermanentPLANNING & BUILDING STANDARDS",0.18790381507155984]
["PROCUREMENT","All records","All recordsPROCUREMENT",1]
["PROCUREMENT","10 years +","10 years +PROCUREMENT",0]
["PROCUREMENT","20 years +","20 years +PROCUREMENT",0]
["PROCUREMENT","30 years +","30 years +PROCUREMENT",0]
["PROCUREMENT","Permanent","PermanentPROCUREMENT",0]
["REGISTRARS","All records","All recordsREGISTRARS",1]
["REGISTRARS","10 years +","10 years +REGISTRARS",0.41283040258830661]
["REGISTRARS","20 years +","20 years +REGISTRARS",0.25696323906225316]
["REGISTRARS","30 years +","30 years +REGISTRARS",0.23392638455983333]
["REGISTRARS","Permanent","PermanentREGISTRARS",0.18790381507155984]
["RISK MANAGEMENT & INSURANCE","All records","All recordsRISK MANAGEMENT & INSURANCE",1]
["RISK MANAGEMENT & INSURANCE","10 years +","10 years +RISK MANAGEMENT & INSURANCE",0.41283040258830661]
["RISK MANAGEMENT & INSURANCE","20 years +","20 years +RISK MANAGEMENT & INSURANCE",0.25696323906225316]
["RISK MANAGEMENT & INSURANCE","30 years +",{"$f":"B131&A131","v":"30 years +RISK MANAGEMENT & INSURANCE"},0.23392638455983333]
["RISK MANAGEMENT & INSURANCE","Permanent","PermanentRISK MANAGEMENT & INSURANCE",0.18790381507155984]
["TRANSPORT & INFRASTRUCTURE","All records","All recordsTRANSPORT & INFRASTRUCTURE",1]
["TRANSPORT & INFRASTRUCTURE","10 years +","10 years +TRANSPORT & INFRASTRUCTURE",0.41283040258830661]
["TRANSPORT & INFRASTRUCTURE","20 years +","20 years +TRANSPORT & INFRASTRUCTURE",0.25696323906225316]
["TRANSPORT & INFRASTRUCTURE","30 years +","30 years +TRANSPORT & INFRASTRUCTURE",0.23392638455983333]
["TRANSPORT & INFRASTRUCTURE","Permanent","PermanentTRANSPORT & INFRASTRUCTURE",0.18790381507155984]
["WASTE MANAGEMENT","All records","All recordsWASTE MANAGEMENT",1]
["WASTE MANAGEMENT","10 years +","10 years +WASTE MANAGEMENT",0.41283040258830661]
["WASTE MANAGEMENT","20 years +","20 years +WASTE MANAGEMENT",0.25696323906225316]
["WASTE MANAGEMENT","30 years +","30 years +WASTE MANAGEMENT",0.23392638455983333]
["WASTE MANAGEMENT","Permanent","PermanentWASTE MANAGEMENT",0.18790381507155984]

{"sheet":"input_database","index":9,"n_rows":31,"n_cols":190,"rows_kept":31,"cut":false,"hidden":true,"merged":[]}
["linked data: this section of the spreadsheet contains the information input by the local authorities into the tabs input_topline_data and input_departments",null,null,null,null,null,null,null,null,null,null,null,null,null,null,null,null,null,null,null,null,null,null,null,null,null,null,null,null,null,null,null,null,null,null,null,null,null,null,null,null,null,null,null,null,null,null,null,null,null,null,null,null,null,null,null,null,null,null,null,null,null,null,null,null,null,null,null,null,null,null,null,null,null,null,null,null,null,null,null,null,null,null,"input by local authorities before this point",null,"calculations past this point"]
["Question reference number:","1.1.2","input_topline_data","2.1.1","2.1.2","2.1.2","2.1.3","2.2.1","2.2.1","2.2.2","2.2.2","2.2.3","2.3.1","2.3.2","2.3.2","2.3.2","2.3.2","2.3.2","2.3.2","2.3.2","2.3.2","2.3.2","2.3.2","2.3.2","2.3.2","2.3.2","2.3.2",null,"2.3.2","2.3.2","2.3.2","2.3.2","2.3.2","2.3.2",null,"2.3.2","2.3.2","2.3.2","2.3.2","2.3.2","2.3.2",null,"2.3.2","2.3.2","2.3.2","2.3.2","2.3.2","2.3.2","2.3.2","3.1.1","3.2.1","3.2.2","3.2.2","3.2.3","3.2.4","3.2.5","3.2.6","3.2.7","3.2.1","3.2.2","3.2.2","3.2.3","3.2.4","3.2.5","3.2.6","3.2.7","3.2.1","3.2.2","3.2.2","3.2.3","3.2.4","3.2.5","3.2.6","3.2.7","3.2.1","3.2.2","3.2.2","3.2.3","3.2.4","3.2.5","3.2.6","3.2.7","4.1.1","4.1.1",null,"normalisation of data volumes provided by local authorities into KB",null,null,null,null,null,null,null,"Volume of files with different backup resolution",null,"Removing duplicates from data volumes provided",null,"calculating annual EDRMS storage, current and future",null,null,null,null,"calculating data volumes of of backup records to be preserved at same file type / resolution as mastercopy - current records",null,null,null,"calculating the data volumes of any backup copies of records with backup copies at lower resolutions than master copies - current records",null,null,null,null,null,null,null,null,null,null,null,null,null,"Calculating digital volume of planned digitisation projects",null,null,null,null,null,null,null,null,null,null,null,null,null,null,null,null,null,null,null,null,null,null,null,null,null,null,null,null,null,null,null,null,null,null,null,null,null,null,null,null,null,null,null,null,null,null,"calculating paper storage needs",null,null,null,null,null,null,null,null,null,"Final calculations of total volumes per record type",null,null,null,null,null,null,"Final calculations of total volumes per record type adjusted for percentage of records to be preserved"]
[null,null,null,null,1,null,null,2,null,3,null,null,null,null,null,null,4,null,null,null,null,null,null,5,null,null,null,null,null,null,6,null,null,null,null,null,null,7,null,null,null,null,null,null,8]
["Function","Percentage of data to be preserved","Date tool was updated","year of migration onto EDRMS system","Total volume of digital records held on the  department EDRMS system:","Unit EDRMS","How many backup copies are held on your EDRMS system?","Volume of  digital records held outside the live system (e.g. on an external drive, on USB sticks). ","Unit non EDRMS","Annual volume of  records still being created whose active lives are spent outside the live system. Note: exact figures are not needed to answer this question; please provide an estimate","Unit still being created","How many backup copies are held on digital systems that sit outside the EDRMS system?","How many backup copies of the data will be incorporated into the archive? ","Will the backup copies of any of the records recorded in sections 2.1 and 2.2 be of a lower resolution / different file type to the master copy?","Current Records - Different backup resolutions: Master Copy file type 1","Current Records - Different backup resolutions: Master Copy resolution 1","Current Records - Different backup resolutions: Master Copy volume 1","Current Records - Different backup resolutions: Master Copy units 1","Current Records - Different backup resolutions: Backup Copy file type 1","Current Records - Different backup resolutions: Backup Copy resolution 1","Current Records - are these documents held on or off the EDRMS system? 1","Current Records - Different backup resolutions: Master Copy file type 2","Current Records - Different backup resolutions: Master Copy resolution 2","Current Records - Different backup resolutions: Master Copy volume 2","Current Records - Different backup resolutions: Master Copy units 2","Current Records - Different backup resolutions: Backup Copy file type 2","Current Records - Different backup resolutions: Backup Copy resolution 2","Current Records - are these documents held on or off the EDRMS system? 2","Current Records - Different backup resolutions: Master Copy file type 3","Current Records - Different backup resolutions: Master Copy resolution 3","Current Records - Different backup resolutions: Master Copy volume 3","Current Records - Different backup resolutions: Master Copy units 3","Current Records - Different backup resolutions: Backup Copy file type 3","Current Records - Different backup resolutions: Backup Copy resolution 3","Current Records - are these documents held on or off the EDRMS system? 3","Current Records - Different backup resolutions: Master Copy file type 4","Current Records - Different backup resolutions: Master Copy resolution 4","Current Records - Different backup resolutions: Master Copy volume 4","Current Records - Different backup resolutions: Master Copy units 4","Current Records - Different backup resolutions: Backup Copy file type 4","Current Records - Different backup resolutions: Backup Copy resolution 4","Current Records - are these documents held on or off the EDRMS system? 4","Current Records - Different backup resolutions: Master Copy file type 5","Current Records - Different backup resolutions: Master Copy resolution 5","Current Records - Different backup resolutions: Master Copy volume 5","Current Records - Different backup resolutions: Master Copy units 5","Current Records - Different backup resolutions: Backup Copy file type 5","Current Records - Different backup resolutions: Backup Copy resolution 5","Current Records - are these documents held on or off the EDRMS system? 5","Do you have plans for digitisation in the near future?","Digitisation: File type of master copy 1","Digitisation: Volume of files you plan to digitise: 1","Digitisation: Volume of files you plan to digitise units: 1","Digitisation: File type of backup copies: 1","Digitisation: Resolution of Master Copy: 1","Digitisation: Resolution of Backup Copies: 1","compression - 1","colour - 1","Digitisation: File type of master copy 2","Digitisation: Volume of files you plan to digitise: 2","Digitisation: Volume of files you plan to digitise units: 2","Digitisation: File type of backup copies: 2","Digitisation: Resolution of Master Copy: 2","Digitisation: Resolution of Backup Copies: 2","compression - 2","colour - 2","Digitisation: File type of master copy 3","Digitisation: Volume of files you plan to digitise: 3","Digitisation: Volume of files you plan to digitise units: 3","Digitisation: File type of backup copies: 3","Digitisation: Resolution of Master Copy: 3","Digitisation: Resolution of Backup Copies: 3","compression - 3","colour - 3","Digitisation: File type of master copy 4","Digitisation: Volume of files you plan to digitise: 4","Digitisation: Volume of files you plan to digitise units: 4","Digitisation: File type of backup copies: 4","Digitisation: Resolution of Master Copy: 4","Digitisation: Resolution of Backup Copies: 4","compression - 4","colour - 4","Paper: Average annual volume of paper records created (prior to archival selection)","Paper: Average annual volume of paper records created - unit","number of copies you intend to create","normalised to KB: Total volume of digital records held on the  department EDRMS system:","normalised to KB: Volume of  digital records held outside the live system (e.g. on an external drive, on USB sticks).","normalised to KB: Annual volume of  records still being created whose active lives are spent outside the live system","Normalised to KB: Master Copy volume 1 (backup copies) - current records","Normalised to KB: Master Copy volume 2 (backup copies) - current records","Normalised to KB: Master Copy volume 3 (backup copies) - current records","Normalised to KB: Master Copy volume 4 (backup copies) - current records","Normalised to KB: Master Copy volume 5 (backup copies) - current records","KB - Total volume: Current records - different backup resolution - EDRMS","KB - Total volume: Current records - different backup resolution - non-EDRMS","KB - Duplicates Removed - All Records - current records - EDRMS","KB - Duplicates Removed - All Records - current records - non-EDRMS","migration onto EDRMS - midway through year","date tool updated","Total days EDRMS live","KB - Current Records - Annual Volume - Duplicates Removed -Master Copy -  EDRMS","KB - Current Records - Annual Volume - Duplicates Removed - PDF records Removed - Total Sum of backup copies - EDRMS","KB - Current Records - volume of records with backup copies at same resolution as mastercopies - EDRMS","KB - Current Records - volume of records with backup copies at same resolution as mastercopies - non-EDRMS","KB - Current Records - Total volume of backup copies at same resolution as mastercopies - EDRMS","KB - Current Records - Total volume of backup copies at same resolution as mastercopies - non-EDRMS","concatenate of different mastercopy and backup file types and resolutions - current records - 1","KB - different mastercopy and backup file types and resolutions - backup volume - current records - 1","concatenate of different mastercopy and backup file types and resolutions - current records - 2","KB - different mastercopy and backup file types and resolutions - backup volume - current records - 2","concatenate of different mastercopy and backup file types and resolutions - current records - 3","KB - different mastercopy and backup file types and resolutions - backup volume - current records - 3","concatenate of different mastercopy and backup file types and resolutions - current records - 4","KB - different mastercopy and backup file types and resolutions - backup volume - current records - 4","concatenate of different mastercopy and backup file types and resolutions - current records - 5","KB - different mastercopy and backup file types and resolutions - backup volume - current records - 5","KB - Backup Storage Volume - Different Backup Resolutions - Current Records - EDRMS","KB - Backup Storage Volume - Different Backup Resolutions - Current Records - non-EDRMS","KB - Backup Storage Volume - Different Backup Resolutions - Total sum of backup copies - Current Records - EDRMS","KB - Backup Storage Volume - Different Backup Resolutions - Total sum of backup copies - Current Records - non-EDRMS","1 - normalising paper volume from unit provided to volume in linear meters","1 - calculating digital equivalent of files to be digitised (digital equivalent) - master copy - concatenate","1 - mastercopy equivalent data storage in digital (kb)","1 - calculating digital equivalent of files to be digitised (digital equivalent) - backup copy - concatenate","1 - backup copy - equivalent data storage in digital (kb)","1 - master copy - adjusting for colour","1- mastercopy compression concatenate","1 - master copy - adjusting for compression","1 - backup copy - adjusting for colour","1 backup copy - compression concatenate","1 - backup copy - adjusting for compression","2 - normalising paper volume from unit provided to volume in linear meters","2 - calculating digital equivalent of files to be digitised (digital equivalent) - master copy - concatenate","2 - mastercopy equivalent data storage in digital (kb)","2 - calculating digital equivalent of files to be digitised (digital equivalent) - backup copy - concatenate","2 - backup copy - equivalent data storage in digital (kb)","2 - master copy - adjusting for colour","2 - master copy - compression concatenate","2 - master copy - adjusting for compression","2 - backup copy - adjusting for colour","2 - backup copy - compression concatenate","2 - backup copy - adjusting for compression","3 - normalising paper volume from unit provided to volume in linear meters","3 - calculating digital equivalent of files to be digitised (digital equivalent) - master copy - concatenate","3 - mastercopy equivalent data storage in digital (kb)","3 - calculating digital equivalent of files to be digitised (digital equivalent) - backup copy - concatenate","3 - backup copy - equivalent data storage in digital (kb)","3 - master copy - adjusting for colour","3 - master copy - compression concatenate","3 - master copy - adjusting for compression","3 - backup copy - adjusting for colour","3 - backup copy - compression concatenate","3 - backup copy - adjusting for compression","4 - normalising paper volume from unit provided to volume in linear meters","4 - calculating digital equivalent of files to be digitised (digital equivalent) - master copy - concatenate","4 - mastercopy equivalent data storage in digital (kb)","4 - calculating digital equivalent of files to be digitised (digital equivalent) - backup copy - concatenate","4 - backup copy - equivalent data storage in digital (kb)","4 - master copy - adjusting for colour","4 - master copy - compression concatenate","4 - master copy - adjusting for compression","4 - backup copy - adjusting for colour","4 - backup copy - compression concatenate","4 - backup copy - adjusting for compression","KB - Total digital storage mastercopy estimates for planned digitisation projects","KB - Total digital storage backup copy estimates for planned digitisation projects","KB - volumes of digitised records - SUM total backup copies","normalised to linear meters","Average size of file (analogue)","Calc: files per year (analogue)","Average documents per file (analogue)","calc: docs per year (analogue)","convertor factor analogue docs to digital docs: number of records created (3.5x more BDR created)","calc: digital docs per year equivalent","convertor factor average no of KB per digital doc","KB - to be archived annually - mastercopy","KB - to be archived annually - backup copies","KB - Current Records - Annual volume -  SUM Mastercopy + total sum of backup copies - EDRMS","KB - Future Records - Annual volume -  SUM Mastercopy + total sum of backup copies - EDRMS ","KB - Current Records - total volume -  SUM Mastercopy + total sum of backup copies - non-EDRMS ","KB - Current Records - annual volume - SUM Mastercopy + total sum of backup copies - non-EDRMS ","KB - Future Records - Annual volume -  SUM Mastercopy + total sum of backup copies - non-EDRMS","KB - volumes of digitised records - TOTAL sum of mastercopy + sum of backup copies","KB - using paper to calculate digital volumes - annual volume - TOTAL sum of mastercopy + backup copies ","KB - Current Records - Annual volume -  SUM Mastercopy + total sum of backup copies - EDRMS","KB - Future Records - Annual volume -  SUM Mastercopy + total sum of backup copies - EDRMS","KB - Current Records - total volume -  SUM Mastercopy + total sum of backup copies - non-EDRMS","KB - Future Records - Annual volume -  SUM Mastercopy + total sum of backup copies - non-EDRMS","KB - volumes of digitised records - TOTAL sum of mastercopy + sum of backup copies","KB - using paper to calculate digital volumes - annual volume - TOTAL sum of mastercopy + backup copies "]
[{"$f":"input_tab_two!A2","v":0},{"$f":"input_tab_two!E6","v":0},{"$f":"input_tab_one!$C$5","v":0},{"$f":"input_tab_two!B18","v":0},{"$f":"input_tab_two!E18","v":0},{"$f":"input_tab_two!F18","v":0},{"$f":"input_tab_two!I18","v":0},{"$f":"input_tab_two!B23","v":0},{"$f":"input_tab_two!C23","v":0},{"$f":"input_tab_two!E23","v":0},{"$f":"input_tab_two!F23","v":0},{"$f":"input_tab_two!I23","v":0},{"$f":"input_tab_two!B28","v":0},{"$f":"input_tab_two!E28","v":0},{"$f":"input_tab_two!E31","v":0},{"$f":"input_tab_two!F31","v":0},{"$f":"input_tab_two!G31","v":0},{"$f":"input_tab_two!H31","v":0},{"$f":"input_tab_two!I31","v":0},{"$f":"input_tab_two!J31","v":0},{"$f":"input_tab_two!K31","v":0},{"$f":"input_tab_two!E33","v":0},{"$f":"input_tab_two!F33","v":0},{"$f":"input_tab_two!G33","v":0},{"$f":"input_tab_two!H33","v":0},{"$f":"input_tab_two!I33","v":0},{"$f":"input_tab_two!J33","v":0},{"$f":"input_tab_two!K33","v":0},{"$f":"input_tab_two!E35","v":0},{"$f":"input_tab_two!F35","v":0},{"$f":"input_tab_two!G35","v":0},{"$f":"input_tab_two!H35","v":0},{"$f":"input_tab_two!I35","v":0},{"$f":"input_tab_two!J35","v":0},{"$f":"input_tab_two!K35","v":0},{"$f":"input_tab_two!E37","v":0},{"$f":"input_tab_two!F37","v":0},{"$f":"input_tab_two!G37","v":0},{"$f":"input_tab_two!H37","v":0},{"$f":"input_tab_two!I37","v":0},{"$f":"input_tab_two!J37","v":0},{"$f":"input_tab_two!K37","v":0},{"$f":"input_tab_two!E39","v":0},{"$f":"input_tab_two!F39","v":0},{"$f":"input_tab_two!G39","v":0},{"$f":"input_tab_two!H39","v":0},{"$f":"input_tab_two!I39","v":0},{"$f":"input_tab_two!J39","v":0},{"$f":"input_tab_two!K39","v":0},{"$f":"input_tab_two!B46","v":0},{"$f":"input_tab_two!B50","v":0},{"$f":"input_tab_two!D50","v":0},{"$f":"input_tab_two!E50","v":0},{"$f":"input_tab_two!G50","v":0},{"$f":"input_tab_two!I50","v":0},{"$f":"input_tab_two!K50","v":0},{"$f":"input_tab_two!M50","v":0},{"$f":"input_tab_two!O50","v":0},{"$f":"input_tab_two!B52","v":0},{"$f":"input_tab_two!D52","v":0},{"$f":"input_tab_two!E52","v":0},{"$f":"input_tab_two!G52","v":0},{"$f":"input_tab_two!I52","v":0},{"$f":"input_tab_two!K52","v":0},{"$f":"input_tab_two!M52","v":0},{"$f":"input_tab_two!O52","v":0},{"$f":"input_tab_two!B54","v":0},{"$f":"input_tab_two!D54","v":0},{"$f":"input_tab_two!E54","v":0},{"$f":"input_tab_two!G54","v":0},{"$f":"input_tab_two!I54","v":0},{"$f":"input_tab_two!K54","v":0},{"$f":"input_tab_two!M54","v":0},{"$f":"input_tab_two!O54","v":0},{"$f":"input_tab_two!B56","v":0},{"$f":"input_tab_two!D56","v":0},{"$f":"input_tab_two!E56","v":0},{"$f":"input_tab_two!G56","v":0},{"$f":"input_tab_two!I56","v":0},{"$f":"input_tab_two!K56","v":0},{"$f":"input_tab_two!M56","v":0},{"$f":"input_tab_two!O56","v":0},{"$f":"input_tab_two!B63","v":0},{"$f":"input_tab_two!C63","v":0},{"$f":"input_tab_two!E63","v":0},{"$f":"IFERROR(E5*(VLOOKUP(F5,kb_conversion[#All],2,FALSE)),\"\")","v":""},{"$f":"IFERROR(H5*(VLOOKUP(I5,kb_conversion[],2,FALSE)),\"\")","v":""},{"$f":"IFERROR(J5*(VLOOKUP(K5,kb_conversion[],2,FALSE)),\"\")","v":""},{"$f":"IFERROR(Q5*(VLOOKUP(R5,kb_conversion[],2,FALSE)),\"\")","v":""},{"$f":"IFERROR(X5*(VLOOKUP(Y5,kb_conversion[],2,FALSE)),\"\")","v":""},{"$f":"IFERROR(AE5*(VLOOKUP(AF5,kb_conversion[],2,FALSE)),\"\")","v":""},{"$f":"IFERROR(AL5*(VLOOKUP(AM5,kb_conversion[],2,FALSE)),\"\")","v":""},{"$f":"IFERROR(AS5*(VLOOKUP(AT5,kb_conversion[],2,FALSE)),\"\")","v":""},{"$f":"IF(U5=input_lists!$R$11,input_database!CK5,0)+IF(input_database!AB5=input_lists!$R$11,input_database!CL5,0)+IF(input_database!AI5=input_lists!$R$11,input_database!CM5,0)+IF(input_database!AP5=input_lists!$R$11,input_database!CN5,0)+IF(input_database!AW5=input_lists!$R$11,input_database!CO5,0)","v":0},{"$f":"SUM(CK5:CO5)-CP5","v":0},{"$f":"IFERROR(CH5/(G5+1),\"0\")","v":"0"},{"$f":"IFERROR(CI5/(L5+1),\"0\")","v":"0"},{"$f":"DATE(D5,6,1)","v":"1900-06-01"},{"$f":"DATE(C5,6,1)","v":"1900-06-01"},{"$f":"CU5-CT5","v":0},{"$f":"IFERROR((CR5/CV5)*365,\"\")","v":""},{"$f":"IFERROR(((DO5+DA5)/CV5)*365,\"0\")","v":"0"},{"$f":"IFERROR(CR5-SUM(IF($U$5=input_lists!$R$11,input_database!$CK$5,0)+IF($AB$5=input_lists!$R$11,input_database!$CL$5,0)+IF($AI$5=input_lists!$R$11,input_database!$CM$5,0)+IF($AP$5=input_lists!$R$11,input_database!$CN$5,0)+IF($AW$5=input_lists!$R$11,input_database!$CO$5,0)),\"\")","v":0},{"$f":"IFERROR(CS5-SUM(IF(U5=input_lists!$R$12,input_database!CK5,0)+IF(AB5=input_lists!$R$12,input_database!CL5,0)+IF(AI5=input_lists!$R$12,input_database!CM5,0)+IF(AP5=input_lists!$R$12,input_database!CN5,0)+IF(AW5=input_lists!$R$12,input_database!CO5,0)),\"\")","v":0},{"$f":"IFERROR(CY5*(M5),\"\")","v":0},{"$f":"IFERROR(CZ5*(M5),\"\")","v":0},{"$f":"CONCATENATE(O5,P5,S5,T5)","v":"0000"},{"$f":"IFERROR(CK5*(VLOOKUP(DC5,convert_lowres_backup[[#All],[Column6]:[Column7]],2,FALSE)),\"0\")","v":"0"},{"$f":"CONCATENATE(V5,W5,Z5,AA5)","v":"0000"},{"$f":"IFERROR(CL5*(VLOOKUP(DE5,convert_lowres_backup[[#All],[Column6]:[Column7]],2,FALSE)),\"0\")","v":"0"},{"$f":"CONCATENATE(AC5,AD5,AG5,AH5)","v":"0000"},{"$f":"IFERROR(CM5*(VLOOKUP(DG5,convert_lowres_backup[[#All],[Column6]:[Column7]],2,FALSE)),\"0\")","v":"0"},{"$f":"CONCATENATE(AJ5,AK5,AN5,AO5)","v":"0000"},{"$f":"IFERROR(CN5*(VLOOKUP(DI5,convert_lowres_backup[[#All],[Column6]:[Column7]],2,FALSE)),\"0\")","v":"0"},{"$f":"CONCATENATE(AQ5,AR5,AU5,AV5)","v":"0000"},{"$f":"IFERROR(CO5*(VLOOKUP(DK5,convert_lowres_backup[[#All],[Column6]:[Column7]],2,FALSE)),\"0\")","v":"0"},{"$f":"IF(U5=input_lists!$R$11,input_database!DD5,0)+IF(input_database!AB5=input_lists!$R$11,input_database!DF5,0)+IF(AI5=input_lists!$R$11,input_database!DH5,0)+IF(input_database!AP5=input_lists!$R$11,DJ5,0)+IF(input_database!AW5=input_lists!$R$11,input_database!DL5,0)","v":0},{"$f":"IFERROR(SUM(DD5+DF5+DH5+DJ5+DL5)-DM5,\"\")","v":0},{"$f":"DM5*M5","v":0},{"$f":"IFERROR(DN5*M5,\"\")","v":0},{"$f":"IFERROR(input_database!AZ5*VLOOKUP(BA5,ratios_between_analogue_storage_types[],2,FALSE),\"0\")","v":"0"},{"$f":"CONCATENATE(AY5,BC5)","v":"00"},{"$f":"IFERROR(DQ5*VLOOKUP(DR5,convert_paper_digitised[[#All],[Reference]:[kb]],2,FALSE),\"0\")","v":"0"},{"$f":"CONCATENATE(BB5,BD5)","v":"00"},{"$f":"IFERROR(DQ5*VLOOKUP(DT5,convert_paper_digitised[[#All],[Reference]:[kb]],2,FALSE),\"0\")","v":"0"},{"$f":"IFERROR(DS5*VLOOKUP(BF5,colour_scale_conversion[],2,FALSE),0)","v":0},{"$f":"BE5&AY5","v":"00"},{"$f":"IFERROR(DV5*VLOOKUP(DW5,compressed_files[],2,FALSE),0)","v":0},{"$f":"IFERROR(DU5*VLOOKUP(BF5,colour_scale_conversion[],2,FALSE),0)","v":0},{"$f":"BE5&BB5","v":"00"},{"$f":"IFERROR(DY5*VLOOKUP(DZ5,compressed_files[#All],3,FALSE),0)","v":0},{"$f":"IFERROR(input_database!BH5*VLOOKUP(BI5,ratios_between_analogue_storage_types[],2,FALSE),\"0\")","v":"0"},{"$f":"CONCATENATE(BG5,BK5)","v":"00"},{"$f":"IFERROR(EB5*VLOOKUP(EC5,convert_paper_digitised[[#All],[Reference]:[kb]],2,FALSE),\"0\")","v":"0"},{"$f":"CONCATENATE(BJ5,BL5)","v":"00"},{"$f":"IFERROR(EB5*VLOOKUP(EE5,convert_paper_digitised[[#All],[Reference]:[kb]],2,FALSE),\"0\")","v":"0"},{"$f":"IFERROR(ED5*VLOOKUP(BN5,colour_scale_conversion[],2,FALSE),0)","v":0},{"$f":"BM5&BG5","v":"00"},{"$f":"IFERROR(EG5*VLOOKUP(EH5,compressed_files[#All],2,FALSE),0)","v":0},{"$f":"IFERROR(EF5*VLOOKUP(BN5,colour_scale_conversion[#All],2,FALSE),0)","v":0},{"$f":"BM5&BJ5","v":"00"},{"$f":"IFERROR(EJ5*VLOOKUP(EK5,compressed_files[],3,FALSE),0)","v":0},{"$f":"IFERROR(BP5*VLOOKUP(BQ5,ratios_between_analogue_storage_types[],2,FALSE),\"0\")","v":"0"},{"$f":"CONCATENATE(BO5,BS5)","v":"00"},{"$f":"IFERROR(EM5*VLOOKUP(EN5,convert_paper_digitised[[#All],[Reference]:[kb]],2,FALSE),\"0\")","v":"0"},{"$f":"CONCATENATE(BR5,BT5)","v":"00"},{"$f":"IFERROR(EM5*VLOOKUP(EP5,convert_paper_digitised[[#All],[Reference]:[kb]],2,FALSE),\"0\")","v":"0"},{"$f":"IFERROR(EO5*VLOOKUP(BV5,colour_scale_conversion[#All],2,FALSE),0)","v":0},{"$f":"BU5&BO5","v":"00"},{"$f":"IFERROR(ER5*VLOOKUP(ES5,compressed_files[],2,FALSE),0)","v":0},{"$f":"IFERROR(EQ5*VLOOKUP(BV5,colour_scale_conversion[],2,FALSE),0)","v":0},{"$f":"BU5&BR5","v":"00"},{"$f":"IFERROR(EU5*VLOOKUP(EV5,compressed_files[],3,FALSE),0)","v":0},{"$f":"IFERROR(BX5*VLOOKUP(BY5,ratios_between_analogue_storage_types[],2,FALSE),\"0\")","v":"0"},{"$f":"CONCATENATE(BW5,CA5)","v":"00"},{"$f":"IFERROR(EX5*VLOOKUP(EY5,convert_paper_digitised[[#All],[Reference]:[kb]],2,FALSE),\"0\")","v":"0"},{"$f":"CONCATENATE(BZ5,CB5)","v":"00"},{"$f":"IFERROR(EX5*VLOOKUP(FA5,convert_paper_digitised[[#All],[Reference]:[kb]],2,FALSE),\"0\")","v":"0"},{"$f":"IFERROR(EZ5*VLOOKUP(CD5,colour_scale_conversion[],2,FALSE),0)","v":0},{"$f":"CC5&BW5","v":"00"},{"$f":"IFERROR(FC5*VLOOKUP(FD5,compressed_files[],2,FALSE),0)","v":0},{"$f":"IFERROR(FB5*VLOOKUP(CD5,colour_scale_conversion[],2,FALSE),0)","v":0},{"$f":"CC5&BZ5","v":"00"},{"$f":"IFERROR(FF5*VLOOKUP(FG5,compressed_files[],3,FALSE),0)","v":0},{"$f":"IFERROR(SUM(DX5+EI5+ET5+FE5),\"\")","v":0},{"$f":"SUM(EA5+EL5+EW5+FH5)","v":0},{"$f":"FJ5*(M5)","v":0},{"$f":"IFERROR(IF(SUM(FV5:FZ5)=0,CE5*VLOOKUP(CF5,ratios_between_analogue_storage_types[],2,FALSE),0),\"0\")","v":"0"},3.2000000000000001E-2,{"$f":"IFERROR(FL5/FM5,\"\")","v":0},46.8,{"$f":"IFERROR(FO5*FN5,\"\")","v":0},3.4598948060486525,{"$f":"IFERROR(FQ5*FP5,\"\")","v":0},482.95251786295574,{"$f":"IFERROR(FS5*FR5,\"\")","v":0},{"$f":"IFERROR(FT5*CG5,\"\")","v":0},{"$f":"IFERROR(CX5+CW5,\"\")","v":""},{"$f":"FV5","v":""},{"$f":"IFERROR(CS5+DB5+DP5,\"\")","v":0},{"$f":"IFERROR(FX5/17,\"\")","v":0},{"$f":"FY5","v":0},{"$f":"FI5+FK5","v":0},{"$f":"IFERROR(FU5+FT5,\"\")","v":0},{"$f":"IFERROR(FV5*B5,0)","v":0},{"$f":"IFERROR(GC5,0)","v":0},{"$f":"IFERROR(FY5*B5,0)","v":0},{"$f":"IFERROR(GE5,0)","v":0},{"$f":"IFERROR(GA5,0)","v":0},{"$f":"IFERROR(IF(SUM(GC5:GF5)=0,GB5*B5,0),0)","v":0}]
[{"$f":"input_tab_two!A66","v":0},{"$f":"input_tab_two!E70","v":0},{"$f":"input_tab_one!$C$5","v":0},{"$f":"input_tab_two!B81","v":0},{"$f":"input_tab_two!E81","v":0},{"$f":"input_tab_two!F81","v":0},{"$f":"input_tab_two!I81","v":0},{"$f":"input_tab_two!B86","v":0},{"$f":"input_tab_two!C86","v":0},{"$f":"input_tab_two!E86","v":0},{"$f":"input_tab_two!F86","v":0},{"$f":"input_tab_two!I86","v":0},{"$f":"input_tab_two!B91","v":0},{"$f":"input_tab_two!E91","v":0},{"$f":"input_tab_two!E94","v":0},{"$f":"input_tab_two!F94","v":0},{"$f":"input_tab_two!G94","v":0},{"$f":"input_tab_two!H94","v":0},{"$f":"input_tab_two!I94","v":0},{"$f":"input_tab_two!J94","v":0},{"$f":"input_tab_two!K94","v":0},{"$f":"input_tab_two!E96","v":0},{"$f":"input_tab_two!F96","v":0},{"$f":"input_tab_two!G96","v":0},{"$f":"input_tab_two!H96","v":0},{"$f":"input_tab_two!I96","v":0},{"$f":"input_tab_two!J96","v":0},{"$f":"input_tab_two!K96","v":0},{"$f":"input_tab_two!E98","v":0},{"$f":"input_tab_two!F98","v":0},{"$f":"input_tab_two!G98","v":0},{"$f":"input_tab_two!H98","v":0},{"$f":"input_tab_two!I98","v":0},{"$f":"input_tab_two!J98","v":0},{"$f":"input_tab_two!K98","v":0},{"$f":"input_tab_two!E100","v":0},{"$f":"input_tab_two!F100","v":0},{"$f":"input_tab_two!G100","v":0},{"$f":"input_tab_two!H100","v":0},{"$f":"input_tab_two!I100","v":0},{"$f":"input_tab_two!J100","v":0},{"$f":"input_tab_two!K100","v":0},{"$f":"input_tab_two!E102","v":0},{"$f":"input_tab_two!F102","v":0},{"$f":"input_tab_two!G102","v":0},{"$f":"input_tab_two!H102","v":0},{"$f":"input_tab_two!I102","v":0},{"$f":"input_tab_two!J102","v":0},{"$f":"input_tab_two!K102","v":0},{"$f":"input_tab_two!B109","v":0},{"$f":"input_tab_two!B113","v":0},{"$f":"input_tab_two!D113","v":0},{"$f":"input_tab_two!E113","v":0},{"$f":"input_tab_two!G113","v":0},{"$f":"input_tab_two!I113","v":0},{"$f":"input_tab_two!K113","v":0},{"$f":"input_tab_two!M113","v":0},{"$f":"input_tab_two!O113","v":0},{"$f":"input_tab_two!B115","v":0},{"$f":"input_tab_two!D115","v":0},{"$f":"input_tab_two!E115","v":0},{"$f":"input_tab_two!G115","v":0},{"$f":"input_tab_two!I115","v":0},{"$f":"input_tab_two!K115","v":0},{"$f":"input_tab_two!M115","v":0},{"$f":"input_tab_two!O115","v":0},{"$f":"input_tab_two!B117","v":0},{"$f":"input_tab_two!D117","v":0},{"$f":"input_tab_two!E117","v":0},{"$f":"input_tab_two!G117","v":0},{"$f":"input_tab_two!I117","v":0},{"$f":"input_tab_two!K117","v":0},{"$f":"input_tab_two!M117","v":0},{"$f":"input_tab_two!O117","v":0},{"$f":"input_tab_two!B119","v":0},{"$f":"input_tab_two!D119","v":0},{"$f":"input_tab_two!E119","v":0},{"$f":"input_tab_two!G119","v":0},{"$f":"input_tab_two!I119","v":0},{"$f":"input_tab_two!K119","v":0},{"$f":"input_tab_two!M119","v":0},{"$f":"input_tab_two!O119","v":0},{"$f":"input_tab_two!B126","v":0},{"$f":"input_tab_two!C126","v":0},{"$f":"input_tab_two!E126","v":0},{"$f":"IFERROR(E6*(VLOOKUP(F6,kb_conversion[#All],2,FALSE)),\"\")","v":""},{"$f":"IFERROR(H6*(VLOOKUP(I6,kb_conversion[],2,FALSE)),\"\")","v":""},{"$f":"IFERROR(J6*(VLOOKUP(K6,kb_conversion[],2,FALSE)),\"\")","v":""},{"$f":"IFERROR(Q6*(VLOOKUP(R6,kb_conversion[],2,FALSE)),\"\")","v":""},{"$f":"IFERROR(X6*(VLOOKUP(Y6,kb_conversion[],2,FALSE)),\"\")","v":""},{"$f":"IFERROR(AE6*(VLOOKUP(AF6,kb_conversion[],2,FALSE)),\"\")","v":""},{"$f":"IFERROR(AL6*(VLOOKUP(AM6,kb_conversion[],2,FALSE)),\"\")","v":""},{"$f":"IFERROR(AS6*(VLOOKUP(AT6,kb_conversion[],2,FALSE)),\"\")","v":""},{"$f":"IF(U6=input_lists!$R$11,input_database!CK6,0)+IF(input_database!AB6=input_lists!$R$11,input_database!CL6,0)+IF(input_database!AI6=input_lists!$R$11,input_database!CM6,0)+IF(input_database!AP6=input_lists!$R$11,input_database!CN6,0)+IF(input_database!AW6=input_lists!$R$11,input_database!CO6,0)","v":0},0,"0","0","1900-06-01","1900-06-01",0,"",{"$f":"IFERROR(((DO6+DA6)/CV6)*365,\"0\")","v":"0"},{"$f":"IFERROR(CR6-SUM(IF(U6=input_lists!$R$11,input_database!CK6,0)+IF(AB6=input_lists!$R$11,input_database!CL6,0)+IF(AI6=input_lists!$R$11,input_database!CM6,0)+IF(AP6=input_lists!$R$11,input_database!CN6,0)+IF(AW6=input_lists!$R$11,input_database!CO6,0)),\"\")","v":0},{"$f":"IFERROR(CS6-SUM(IF(U6=input_lists!$R$12,input_database!CK6,0)+IF(AB6=input_lists!$R$12,input_database!CL6,0)+IF(AI6=input_lists!$R$12,input_database!CM6,0)+IF(AP6=input_lists!$R$12,input_database!CN6,0)+IF(AW6=input_lists!$R$12,input_database!CO6,0)),\"\")","v":0},0,0,"0000",{"$f":"IFERROR(CK6*(VLOOKUP(DC6,convert_lowres_backup[[#All],[Column6]:[Column7]],2,FALSE)),\"0\")","v":"0"},"0000",{"$f":"IFERROR(CL6*(VLOOKUP(DE6,convert_lowres_backup[[#All],[Column6]:[Column7]],2,FALSE)),\"0\")","v":"0"},"0000",{"$f":"IFERROR(CM6*(VLOOKUP(DG6,convert_lowres_backup[[#All],[Column6]:[Column7]],2,FALSE)),\"0\")","v":"0"},"0000",{"$f":"IFERROR(CN6*(VLOOKUP(DI6,convert_lowres_backup[[#All],[Column6]:[Column7]],2,FALSE)),\"0\")","v":"0"},"0000",{"$f":"IFERROR(CO6*(VLOOKUP(DK6,convert_lowres_backup[[#All],[Column6]:[Column7]],2,FALSE)),\"0\")","v":"0"},{"$f":"IF(U6=input_lists!$R$11,input_database!DD6,0)+IF(input_database!AB6=input_lists!$R$11,input_database!DF6,0)+IF(AI6=input_lists!$R$11,input_database!DH6,0)+IF(input_database!AP6=input_lists!$R$11,DJ6,0)+IF(input_database!AW6=input_lists!$R$11,input_database!DL6,0)","v":0},{"$f":"IFERROR(SUM(DD6+DF6+DH6+DJ6+DL6)-DM6,\"\")","v":0},0,0,{"$f":"IFERROR(input_database!AZ6*VLOOKUP(BA6,ratios_between_analogue_storage_types[],2,FALSE),\"0\")","v":"0"},"00",{"$f":"IFERROR(DQ6*VLOOKUP(DR6,convert_paper_digitised[[#All],[Reference]:[kb]],2,FALSE),\"0\")","v":"0"},"00",{"$f":"IFERROR(DQ6*VLOOKUP(DT6,convert_paper_digitised[[#All],[Reference]:[kb]],2,FALSE),\"0\")","v":"0"},{"$f":"IFERROR(DS6*VLOOKUP(BF6,colour_scale_conversion[],2,FALSE),0)","v":0},"00",{"$f":"IFERROR(DV6*VLOOKUP(DW6,compressed_files[],2,FALSE),0)","v":0},{"$f":"IFERROR(DU6*VLOOKUP(BF6,colour_scale_conversion[],2,FALSE),0)","v":0},"00",{"$f":"IFERROR(DY6*VLOOKUP(DZ6,compressed_files[#All],3,FALSE),0)","v":0},{"$f":"IFERROR(input_database!BH6*VLOOKUP(BI6,ratios_between_analogue_storage_types[],2,FALSE),\"0\")","v":"0"},"00",{"$f":"IFERROR(EB6*VLOOKUP(EC6,convert_paper_digitised[[#All],[Reference]:[kb]],2,FALSE),\"0\")","v":"0"},"00",{"$f":"IFERROR(EB6*VLOOKUP(EE6,convert_paper_digitised[[#All],[Reference]:[kb]],2,FALSE),\"0\")","v":"0"},{"$f":"IFERROR(ED6*VLOOKUP(BN6,colour_scale_conversion[],2,FALSE),0)","v":0},"00",{"$f":"IFERROR(EG6*VLOOKUP(EH6,compressed_files[#All],2,FALSE),0)","v":0},{"$f":"IFERROR(EF6*VLOOKUP(BN6,colour_scale_conversion[#All],2,FALSE),0)","v":0},"00",{"$f":"IFERROR(EJ6*VLOOKUP(EK6,compressed_files[],3,FALSE),0)","v":0},{"$f":"IFERROR(BP6*VLOOKUP(BQ6,ratios_between_analogue_storage_types[],2,FALSE),\"0\")","v":"0"},"00",{"$f":"IFERROR(EM6*VLOOKUP(EN6,convert_paper_digitised[[#All],[Reference]:[kb]],2,FALSE),\"0\")","v":"0"},"00",{"$f":"IFERROR(EM6*VLOOKUP(EP6,convert_paper_digitised[[#All],[Reference]:[kb]],2,FALSE),\"0\")","v":"0"},{"$f":"IFERROR(EO6*VLOOKUP(BV6,colour_scale_conversion[#All],2,FALSE),0)","v":0},"00",{"$f":"IFERROR(ER6*VLOOKUP(ES6,compressed_files[],2,FALSE),0)","v":0},{"$f":"IFERROR(EQ6*VLOOKUP(BV6,colour_scale_conversion[],2,FALSE),0)","v":0},"00",{"$f":"IFERROR(EU6*VLOOKUP(EV6,compressed_files[],3,FALSE),0)","v":0},{"$f":"IFERROR(BX6*VLOOKUP(BY6,ratios_between_analogue_storage_types[],2,FALSE),\"0\")","v":"0"},"00",{"$f":"IFERROR(EX6*VLOOKUP(EY6,convert_paper_digitised[[#All],[Reference]:[kb]],2,FALSE),\"0\")","v":"0"},"00",{"$f":"IFERROR(EX6*VLOOKUP(FA6,convert_paper_digitised[[#All],[Reference]:[kb]],2,FALSE),\"0\")","v":"0"},{"$f":"IFERROR(EZ6*VLOOKUP(CD6,colour_scale_conversion[],2,FALSE),0)","v":0},"00",{"$f":"IFERROR(FC6*VLOOKUP(FD6,compressed_files[],2,FALSE),0)","v":0},{"$f":"IFERROR(FB6*VLOOKUP(CD6,colour_scale_conversion[],2,FALSE),0)","v":0},"00",{"$f":"IFERROR(FF6*VLOOKUP(FG6,compressed_files[],3,FALSE),0)","v":0},{"$f":"IFERROR(SUM(DX6+EI6+ET6+FE6),\"\")","v":0},{"$f":"SUM(EA6+EL6+EW6+FH6)","v":0},0,{"$f":"IFERROR(IF(SUM(FV6:FZ6)=0,CE6*VLOOKUP(CF6,ratios_between_analogue_storage_types[],2,FALSE),0),\"0\")","v":"0"},3.2000000000000001E-2,{"$f":"IFERROR(FL6/FM6,\"\")","v":0},46.8,{"$f":"IFERROR(FO6*FN6,\"\")","v":0},3.4598948060486525,{"$f":"IFERROR(FQ6*FP6,\"\")","v":0},482.95251786295574,0,0,"",{"$f":"FV6","v":""},0,{"$f":"IFERROR(FX6/17,\"\")","v":0},{"$f":"FY6","v":0},{"$f":"FI6+FK6","v":0},0,0,{"$f":"IFERROR(GC6,0)","v":0},0,{"$f":"IFERROR(GE6,0)","v":0},{"$f":"IFERROR(GA6,0)","v":0},0]
[{"$f":"input_tab_two!A129","v":0},{"$f":"input_tab_two!E133","v":0},{"$f":"input_tab_one!$C$5","v":0},{"$f":"input_tab_two!B144","v":0},{"$f":"input_tab_two!E144","v":0},{"$f":"input_tab_two!F144","v":0},{"$f":"input_tab_two!I144","v":0},{"$f":"input_tab_two!B149","v":0},{"$f":"input_tab_two!C149","v":0},{"$f":"input_tab_two!E149","v":0},{"$f":"input_tab_two!F149","v":0},{"$f":"input_tab_two!I149","v":0},{"$f":"input_tab_two!B154","v":0},{"$f":"input_tab_two!E154","v":0},{"$f":"input_tab_two!E157","v":0},{"$f":"input_tab_two!F157","v":0},{"$f":"input_tab_two!G157","v":0},{"$f":"input_tab_two!H157","v":0},{"$f":"input_tab_two!I157","v":0},{"$f":"input_tab_two!J157","v":0},{"$f":"input_tab_two!K157","v":0},{"$f":"input_tab_two!E159","v":0},{"$f":"input_tab_two!F159","v":0},{"$f":"input_tab_two!G159","v":0},{"$f":"input_tab_two!H159","v":0},{"$f":"input_tab_two!I159","v":0},{"$f":"input_tab_two!J159","v":0},{"$f":"input_tab_two!K159","v":0},{"$f":"input_tab_two!E161","v":0},{"$f":"input_tab_two!F161","v":0},{"$f":"input_tab_two!G161","v":0},{"$f":"input_tab_two!H161","v":0},{"$f":"input_tab_two!I161","v":0},{"$f":"input_tab_two!J161","v":0},{"$f":"input_tab_two!K161","v":0},{"$f":"input_tab_two!E163","v":0},{"$f":"input_tab_two!F163","v":0},{"$f":"input_tab_two!G163","v":0},{"$f":"input_tab_two!H163","v":0},{"$f":"input_tab_two!I163","v":0},{"$f":"input_tab_two!J163","v":0},{"$f":"input_tab_two!K163","v":0},{"$f":"input_tab_two!E165","v":0},{"$f":"input_tab_two!F165","v":0},{"$f":"input_tab_two!G165","v":0},{"$f":"input_tab_two!H165","v":0},{"$f":"input_tab_two!I165","v":0},{"$f":"input_tab_two!J165","v":0},{"$f":"input_tab_two!K165","v":0},{"$f":"input_tab_two!B172","v":0},{"$f":"input_tab_two!B176","v":0},{"$f":"input_tab_two!D176","v":0},{"$f":"input_tab_two!E176","v":0},{"$f":"input_tab_two!G176","v":0},{"$f":"input_tab_two!I176","v":0},{"$f":"input_tab_two!K176","v":0},{"$f":"input_tab_two!M176","v":0},{"$f":"input_tab_two!O176","v":0},{"$f":"input_tab_two!B178","v":0},{"$f":"input_tab_two!D178","v":0},{"$f":"input_tab_two!E178","v":0},{"$f":"input_tab_two!G178","v":0},{"$f":"input_tab_two!I178","v":0},{"$f":"input_tab_two!K178","v":0},{"$f":"input_tab_two!M178","v":0},{"$f":"input_tab_two!O178","v":0},{"$f":"input_tab_two!B180","v":0},{"$f":"input_tab_two!D180","v":0},{"$f":"input_tab_two!E180","v":0},{"$f":"input_tab_two!G180","v":0},{"$f":"input_tab_two!I180","v":0},{"$f":"input_tab_two!K180","v":0},{"$f":"input_tab_two!M180","v":0},{"$f":"input_tab_two!O180","v":0},{"$f":"input_tab_two!B182","v":0},{"$f":"input_tab_two!D182","v":0},{"$f":"input_tab_two!E182","v":0},{"$f":"input_tab_two!G182","v":0},{"$f":"input_tab_two!I182","v":0},{"$f":"input_tab_two!K182","v":0},{"$f":"input_tab_two!M182","v":0},{"$f":"input_tab_two!O182","v":0},{"$f":"input_tab_two!B189","v":0},{"$f":"input_tab_two!C189","v":0},{"$f":"input_tab_two!E189","v":0},{"$f":"IFERROR(E7*(VLOOKUP(F7,kb_conversion[#All],2,FALSE)),\"\")","v":""},{"$f":"IFERROR(H7*(VLOOKUP(I7,kb_conversion[],2,FALSE)),\"\")","v":""},{"$f":"IFERROR(J7*(VLOOKUP(K7,kb_conversion[],2,FALSE)),\"\")","v":""},{"$f":"IFERROR(Q7*(VLOOKUP(R7,kb_conversion[],2,FALSE)),\"\")","v":""},{"$f":"IFERROR(X7*(VLOOKUP(Y7,kb_conversion[],2,FALSE)),\"\")","v":""},{"$f":"IFERROR(AE7*(VLOOKUP(AF7,kb_conversion[],2,FALSE)),\"\")","v":""},{"$f":"IFERROR(AL7*(VLOOKUP(AM7,kb_conversion[],2,FALSE)),\"\")","v":""},{"$f":"IFERROR(AS7*(VLOOKUP(AT7,kb_conversion[],2,FALSE)),\"\")","v":""},{"$f":"IF(U7=input_lists!$R$11,input_database!CK7,0)+IF(input_database!AB7=input_lists!$R$11,input_database!CL7,0)+IF(input_database!AI7=input_lists!$R$11,input_database!CM7,0)+IF(input_database!AP7=input_lists!$R$11,input_database!CN7,0)+IF(input_database!AW7=input_lists!$R$11,input_database!CO7,0)","v":0},0,"0","0","1900-06-01","1900-06-01",0,"","0",{"$f":"IFERROR(CR7-SUM(IF(U7=input_lists!$R$11,input_database!CK7,0)+IF(AB7=input_lists!$R$11,input_database!CL7,0)+IF(AI7=input_lists!$R$11,input_database!CM7,0)+IF(AP7=input_lists!$R$11,input_database!CN7,0)+IF(AW7=input_lists!$R$11,input_database!CO7,0)),\"\")","v":0},{"$f":"IFERROR(CS7-SUM(IF(U7=input_lists!$R$12,input_database!CK7,0)+IF(AB7=input_lists!$R$12,input_database!CL7,0)+IF(AI7=input_lists!$R$12,input_database!CM7,0)+IF(AP7=input_lists!$R$12,input_database!CN7,0)+IF(AW7=input_lists!$R$12,input_database!CO7,0)),\"\")","v":0},0,0,"0000",{"$f":"IFERROR(CK7*(VLOOKUP(DC7,convert_lowres_backup[[#All],[Column6]:[Column7]],2,FALSE)),\"0\")","v":"0"},"0000",{"$f":"IFERROR(CL7*(VLOOKUP(DE7,convert_lowres_backup[[#All],[Column6]:[Column7]],2,FALSE)),\"0\")","v":"0"},"0000",{"$f":"IFERROR(CM7*(VLOOKUP(DG7,convert_lowres_backup[[#All],[Column6]:[Column7]],2,FALSE)),\"0\")","v":"0"},"0000",{"$f":"IFERROR(CN7*(VLOOKUP(DI7,convert_lowres_backup[[#All],[Column6]:[Column7]],2,FALSE)),\"0\")","v":"0"},"0000",{"$f":"IFERROR(CO7*(VLOOKUP(DK7,convert_lowres_backup[[#All],[Column6]:[Column7]],2,FALSE)),\"0\")","v":"0"},{"$f":"IF(U7=input_lists!$R$11,input_database!DD7,0)+IF(input_database!AB7=input_lists!$R$11,input_database!DF7,0)+IF(AI7=input_lists!$R$11,input_database!DH7,0)+IF(input_database!AP7=input_lists!$R$11,DJ7,0)+IF(input_database!AW7=input_lists!$R$11,input_database!DL7,0)","v":0},0,0,0,{"$f":"IFERROR(input_database!AZ7*VLOOKUP(BA7,ratios_between_analogue_storage_types[],2,FALSE),\"0\")","v":"0"},"00",{"$f":"IFERROR(DQ7*VLOOKUP(DR7,convert_paper_digitised[[#All],[Reference]:[kb]],2,FALSE),\"0\")","v":"0"},"00",{"$f":"IFERROR(DQ7*VLOOKUP(DT7,convert_paper_digitised[[#All],[Reference]:[kb]],2,FALSE),\"0\")","v":"0"},{"$f":"IFERROR(DS7*VLOOKUP(BF7,colour_scale_conversion[],2,FALSE),0)","v":0},"00",{"$f":"IFERROR(DV7*VLOOKUP(DW7,compressed_files[],2,FALSE),0)","v":0},{"$f":"IFERROR(DU7*VLOOKUP(BF7,colour_scale_conversion[],2,FALSE),0)","v":0},"00",{"$f":"IFERROR(DY7*VLOOKUP(DZ7,compressed_files[#All],3,FALSE),0)","v":0},{"$f":"IFERROR(input_database!BH7*VLOOKUP(BI7,ratios_between_analogue_storage_types[],2,FALSE),\"0\")","v":"0"},"00",{"$f":"IFERROR(EB7*VLOOKUP(EC7,convert_paper_digitised[[#All],[Reference]:[kb]],2,FALSE),\"0\")","v":"0"},"00",{"$f":"IFERROR(EB7*VLOOKUP(EE7,convert_paper_digitised[[#All],[Reference]:[kb]],2,FALSE),\"0\")","v":"0"},{"$f":"IFERROR(ED7*VLOOKUP(BN7,colour_scale_conversion[],2,FALSE),0)","v":0},"00",{"$f":"IFERROR(EG7*VLOOKUP(EH7,compressed_files[#All],2,FALSE),0)","v":0},{"$f":"IFERROR(EF7*VLOOKUP(BN7,colour_scale_conversion[#All],2,FALSE),0)","v":0},"00",{"$f":"IFERROR(EJ7*VLOOKUP(EK7,compressed_files[],3,FALSE),0)","v":0},{"$f":"IFERROR(BP7*VLOOKUP(BQ7,ratios_between_analogue_storage_types[],2,FALSE),\"0\")","v":"0"},"00",{"$f":"IFERROR(EM7*VLOOKUP(EN7,convert_paper_digitised[[#All],[Reference]:[kb]],2,FALSE),\"0\")","v":"0"},"00",{"$f":"IFERROR(EM7*VLOOKUP(EP7,convert_paper_digitised[[#All],[Reference]:[kb]],2,FALSE),\"0\")","v":"0"},{"$f":"IFERROR(EO7*VLOOKUP(BV7,colour_scale_conversion[#All],2,FALSE),0)","v":0},"00",{"$f":"IFERROR(ER7*VLOOKUP(ES7,compressed_files[],2,FALSE),0)","v":0},{"$f":"IFERROR(EQ7*VLOOKUP(BV7,colour_scale_conversion[],2,FALSE),0)","v":0},"00",{"$f":"IFERROR(EU7*VLOOKUP(EV7,compressed_files[],3,FALSE),0)","v":0},{"$f":"IFERROR(BX7*VLOOKUP(BY7,ratios_between_analogue_storage_types[],2,FALSE),\"0\")","v":"0"},"00",{"$f":"IFERROR(EX7*VLOOKUP(EY7,convert_paper_digitised[[#All],[Reference]:[kb]],2,FALSE),\"0\")","v":"0"},"00",{"$f":"IFERROR(EX7*VLOOKUP(FA7,convert_paper_digitised[[#All],[Reference]:[kb]],2,FALSE),\"0\")","v":"0"},{"$f":"IFERROR(EZ7*VLOOKUP(CD7,colour_scale_conversion[],2,FALSE),0)","v":0},"00",{"$f":"IFERROR(FC7*VLOOKUP(FD7,compressed_files[],2,FALSE),0)","v":0},{"$f":"IFERROR(FB7*VLOOKUP(CD7,colour_scale_conversion[],2,FALSE),0)","v":0},"00",{"$f":"IFERROR(FF7*VLOOKUP(FG7,compressed_files[],3,FALSE),0)","v":0},0,0,0,{"$f":"IFERROR(IF(SUM(FV7:FZ7)=0,CE7*VLOOKUP(CF7,ratios_between_analogue_storage_types[],2,FALSE),0),\"0\")","v":"0"},3.2000000000000001E-2,0,46.8,0,3.4598948060486525,0,482.95251786295574,0,0,"","",0,0,0,{"$f":"FI7+FK7","v":0},0,0,0,0,0,0,0]
[{"$f":"input_tab_two!A192","v":0},{"$f":"input_tab_two!E196","v":0},{"$f":"input_tab_one!$C$5","v":0},{"$f":"input_tab_two!B207","v":0},{"$f":"input_tab_two!E207","v":0},{"$f":"input_tab_two!F207","v":0},{"$f":"input_tab_two!I207","v":0},{"$f":"input_tab_two!B212","v":0},{"$f":"input_tab_two!C212","v":0},{"$f":"input_tab_two!E212","v":0},{"$f":"input_tab_two!F212","v":0},{"$f":"input_tab_two!I212","v":0},{"$f":"input_tab_two!B217","v":0},{"$f":"input_tab_two!E217","v":0},{"$f":"input_tab_two!E220","v":0},{"$f":"input_tab_two!F220","v":0},{"$f":"input_tab_two!G220","v":0},{"$f":"input_tab_two!H220","v":0},{"$f":"input_tab_two!I220","v":0},{"$f":"input_tab_two!J220","v":0},{"$f":"input_tab_two!K220","v":0},{"$f":"input_tab_two!E222","v":0},{"$f":"input_tab_two!F222","v":0},{"$f":"input_tab_two!G222","v":0},{"$f":"input_tab_two!H222","v":0},{"$f":"input_tab_two!I222","v":0},{"$f":"input_tab_two!J222","v":0},{"$f":"input_tab_two!K222","v":0},{"$f":"input_tab_two!E224","v":0},{"$f":"input_tab_two!F224","v":0},{"$f":"input_tab_two!G224","v":0},{"$f":"input_tab_two!H224","v":0},{"$f":"input_tab_two!I224","v":0},{"$f":"input_tab_two!J224","v":0},{"$f":"input_tab_two!K224","v":0},{"$f":"input_tab_two!E226","v":0},{"$f":"input_tab_two!F226","v":0},{"$f":"input_tab_two!G226","v":0},{"$f":"input_tab_two!H226","v":0},{"$f":"input_tab_two!I226","v":0},{"$f":"input_tab_two!J226","v":0},{"$f":"input_tab_two!K226","v":0},{"$f":"input_tab_two!E228","v":0},{"$f":"input_tab_two!F228","v":0},{"$f":"input_tab_two!G228","v":0},{"$f":"input_tab_two!H228","v":0},{"$f":"input_tab_two!I228","v":0},{"$f":"input_tab_two!J228","v":0},{"$f":"input_tab_two!K228","v":0},{"$f":"input_tab_two!B235","v":0},{"$f":"input_tab_two!B239","v":0},{"$f":"input_tab_two!D239","v":0},{"$f":"input_tab_two!E239","v":0},{"$f":"input_tab_two!G239","v":0},{"$f":"input_tab_two!I239","v":0},{"$f":"input_tab_two!K239","v":0},{"$f":"input_tab_two!M239","v":0},{"$f":"input_tab_two!O239","v":0},{"$f":"input_tab_two!B241","v":0},{"$f":"input_tab_two!D241","v":0},{"$f":"input_tab_two!E241","v":0},{"$f":"input_tab_two!G241","v":0},{"$f":"input_tab_two!I241","v":0},{"$f":"input_tab_two!K241","v":0},{"$f":"input_tab_two!M241","v":0},{"$f":"input_tab_two!O241","v":0},{"$f":"input_tab_two!B243","v":0},{"$f":"input_tab_two!D243","v":0},{"$f":"input_tab_two!E243","v":0},{"$f":"input_tab_two!G243","v":0},{"$f":"input_tab_two!I243","v":0},{"$f":"input_tab_two!K243","v":0},{"$f":"input_tab_two!M243","v":0},{"$f":"input_tab_two!O243","v":0},{"$f":"input_tab_two!B245","v":0},{"$f":"input_tab_two!D245","v":0},{"$f":"input_tab_two!E245","v":0},{"$f":"input_tab_two!G245","v":0},{"$f":"input_tab_two!I245","v":0},{"$f":"input_tab_two!K245","v":0},{"$f":"input_tab_two!M245","v":0},{"$f":"input_tab_two!O245","v":0},{"$f":"input_tab_two!B252","v":0},{"$f":"input_tab_two!C252","v":0},{"$f":"input_tab_two!E252","v":0},{"$f":"IFERROR(E8*(VLOOKUP(F8,kb_conversion[#All],2,FALSE)),\"\")","v":""},{"$f":"IFERROR(H8*(VLOOKUP(I8,kb_conversion[],2,FALSE)),\"\")","v":""},{"$f":"IFERROR(J8*(VLOOKUP(K8,kb_conversion[],2,FALSE)),\"\")","v":""},{"$f":"IFERROR(Q8*(VLOOKUP(R8,kb_conversion[],2,FALSE)),\"\")","v":""},{"$f":"IFERROR(X8*(VLOOKUP(Y8,kb_conversion[],2,FALSE)),\"\")","v":""},{"$f":"IFERROR(AE8*(VLOOKUP(AF8,kb_conversion[],2,FALSE)),\"\")","v":""},{"$f":"IFERROR(AL8*(VLOOKUP(AM8,kb_conversion[],2,FALSE)),\"\")","v":""},{"$f":"IFERROR(AS8*(VLOOKUP(AT8,kb_conversion[],2,FALSE)),\"\")","v":""},{"$f":"IF(U8=input_lists!$R$11,input_database!CK8,0)+IF(input_database!AB8=input_lists!$R$11,input_database!CL8,0)+IF(input_database!AI8=input_lists!$R$11,input_database!CM8,0)+IF(input_database!AP8=input_lists!$R$11,input_database!CN8,0)+IF(input_database!AW8=input_lists!$R$11,input_database!CO8,0)","v":0},0,"0","0","1900-06-01","1900-06-01",0,"","0",{"$f":"IFERROR(CR8-SUM(IF(U8=input_lists!$R$11,input_database!CK8,0)+IF(AB8=input_lists!$R$11,input_database!CL8,0)+IF(AI8=input_lists!$R$11,input_database!CM8,0)+IF(AP8=input_lists!$R$11,input_database!CN8,0)+IF(AW8=input_lists!$R$11,input_database!CO8,0)),\"\")","v":0},{"$f":"IFERROR(CS8-SUM(IF(U8=input_lists!$R$12,input_database!CK8,0)+IF(AB8=input_lists!$R$12,input_database!CL8,0)+IF(AI8=input_lists!$R$12,input_database!CM8,0)+IF(AP8=input_lists!$R$12,input_database!CN8,0)+IF(AW8=input_lists!$R$12,input_database!CO8,0)),\"\")","v":0},0,0,"0000",{"$f":"IFERROR(CK8*(VLOOKUP(DC8,convert_lowres_backup[[#All],[Column6]:[Column7]],2,FALSE)),\"0\")","v":"0"},"0000",{"$f":"IFERROR(CL8*(VLOOKUP(DE8,convert_lowres_backup[[#All],[Column6]:[Column7]],2,FALSE)),\"0\")","v":"0"},"0000",{"$f":"IFERROR(CM8*(VLOOKUP(DG8,convert_lowres_backup[[#All],[Column6]:[Column7]],2,FALSE)),\"0\")","v":"0"},"0000",{"$f":"IFERROR(CN8*(VLOOKUP(DI8,convert_lowres_backup[[#All],[Column6]:[Column7]],2,FALSE)),\"0\")","v":"0"},"0000",{"$f":"IFERROR(CO8*(VLOOKUP(DK8,convert_lowres_backup[[#All],[Column6]:[Column7]],2,FALSE)),\"0\")","v":"0"},{"$f":"IF(U8=input_lists!$R$11,input_database!DD8,0)+IF(input_database!AB8=input_lists!$R$11,input_database!DF8,0)+IF(AI8=input_lists!$R$11,input_database!DH8,0)+IF(input_database!AP8=input_lists!$R$11,DJ8,0)+IF(input_database!AW8=input_lists!$R$11,input_database!DL8,0)","v":0},0,0,0,{"$f":"IFERROR(input_database!AZ8*VLOOKUP(BA8,ratios_between_analogue_storage_types[],2,FALSE),\"0\")","v":"0"},"00",{"$f":"IFERROR(DQ8*VLOOKUP(DR8,convert_paper_digitised[[#All],[Reference]:[kb]],2,FALSE),\"0\")","v":"0"},"00",{"$f":"IFERROR(DQ8*VLOOKUP(DT8,convert_paper_digitised[[#All],[Reference]:[kb]],2,FALSE),\"0\")","v":"0"},{"$f":"IFERROR(DS8*VLOOKUP(BF8,colour_scale_conversion[],2,FALSE),0)","v":0},"00",{"$f":"IFERROR(DV8*VLOOKUP(DW8,compressed_files[],2,FALSE),0)","v":0},{"$f":"IFERROR(DU8*VLOOKUP(BF8,colour_scale_conversion[],2,FALSE),0)","v":0},"00",{"$f":"IFERROR(DY8*VLOOKUP(DZ8,compressed_files[#All],3,FALSE),0)","v":0},{"$f":"IFERROR(input_database!BH8*VLOOKUP(BI8,ratios_between_analogue_storage_types[],2,FALSE),\"0\")","v":"0"},"00",{"$f":"IFERROR(EB8*VLOOKUP(EC8,convert_paper_digitised[[#All],[Reference]:[kb]],2,FALSE),\"0\")","v":"0"},"00",{"$f":"IFERROR(EB8*VLOOKUP(EE8,convert_paper_digitised[[#All],[Reference]:[kb]],2,FALSE),\"0\")","v":"0"},{"$f":"IFERROR(ED8*VLOOKUP(BN8,colour_scale_conversion[],2,FALSE),0)","v":0},"00",{"$f":"IFERROR(EG8*VLOOKUP(EH8,compressed_files[#All],2,FALSE),0)","v":0},{"$f":"IFERROR(EF8*VLOOKUP(BN8,colour_scale_conversion[#All],2,FALSE),0)","v":0},"00",{"$f":"IFERROR(EJ8*VLOOKUP(EK8,compressed_files[],3,FALSE),0)","v":0},{"$f":"IFERROR(BP8*VLOOKUP(BQ8,ratios_between_analogue_storage_types[],2,FALSE),\"0\")","v":"0"},"00",{"$f":"IFERROR(EM8*VLOOKUP(EN8,convert_paper_digitised[[#All],[Reference]:[kb]],2,FALSE),\"0\")","v":"0"},"00",{"$f":"IFERROR(EM8*VLOOKUP(EP8,convert_paper_digitised[[#All],[Reference]:[kb]],2,FALSE),\"0\")","v":"0"},{"$f":"IFERROR(EO8*VLOOKUP(BV8,colour_scale_conversion[#All],2,FALSE),0)","v":0},"00",{"$f":"IFERROR(ER8*VLOOKUP(ES8,compressed_files[],2,FALSE),0)","v":0},{"$f":"IFERROR(EQ8*VLOOKUP(BV8,colour_scale_conversion[],2,FALSE),0)","v":0},"00",{"$f":"IFERROR(EU8*VLOOKUP(EV8,compressed_files[],3,FALSE),0)","v":0},{"$f":"IFERROR(BX8*VLOOKUP(BY8,ratios_between_analogue_storage_types[],2,FALSE),\"0\")","v":"0"},"00",{"$f":"IFERROR(EX8*VLOOKUP(EY8,convert_paper_digitised[[#All],[Reference]:[kb]],2,FALSE),\"0\")","v":"0"},"00",{"$f":"IFERROR(EX8*VLOOKUP(FA8,convert_paper_digitised[[#All],[Reference]:[kb]],2,FALSE),\"0\")","v":"0"},{"$f":"IFERROR(EZ8*VLOOKUP(CD8,colour_scale_conversion[],2,FALSE),0)","v":0},"00",{"$f":"IFERROR(FC8*VLOOKUP(FD8,compressed_files[],2,FALSE),0)","v":0},{"$f":"IFERROR(FB8*VLOOKUP(CD8,colour_scale_conversion[],2,FALSE),0)","v":0},"00",{"$f":"IFERROR(FF8*VLOOKUP(FG8,compressed_files[],3,FALSE),0)","v":0},0,0,0,{"$f":"IFERROR(IF(SUM(FV8:FZ8)=0,CE8*VLOOKUP(CF8,ratios_between_analogue_storage_types[],2,FALSE),0),\"0\")","v":"0"},3.2000000000000001E-2,0,46.8,0,3.4598948060486525,0,482.95251786295574,0,0,"","",0,0,0,{"$f":"FI8+FK8","v":0},0,0,0,0,0,0,0]
[{"$f":"input_tab_two!A255","v":0},{"$f":"input_tab_two!E259","v":0},{"$f":"input_tab_one!$C$5","v":0},{"$f":"input_tab_two!B270","v":0},{"$f":"input_tab_two!E270","v":0},{"$f":"input_tab_two!F270","v":0},{"$f":"input_tab_two!I270","v":0},{"$f":"input_tab_two!B275","v":0},{"$f":"input_tab_two!C275","v":0},{"$f":"input_tab_two!E275","v":0},{"$f":"input_tab_two!F275","v":0},{"$f":"input_tab_two!I275","v":0},{"$f":"input_tab_two!B280","v":0},{"$f":"input_tab_two!E280","v":0},{"$f":"input_tab_two!E283","v":0},{"$f":"input_tab_two!F283","v":0},{"$f":"input_tab_two!G283","v":0},{"$f":"input_tab_two!H283","v":0},{"$f":"input_tab_two!I283","v":0},{"$f":"input_tab_two!J283","v":0},{"$f":"input_tab_two!K283","v":0},{"$f":"input_tab_two!E285","v":0},{"$f":"input_tab_two!F285","v":0},{"$f":"input_tab_two!G285","v":0},{"$f":"input_tab_two!H285","v":0},{"$f":"input_tab_two!I285","v":0},{"$f":"input_tab_two!J285","v":0},{"$f":"input_tab_two!K285","v":0},{"$f":"input_tab_two!E287","v":0},{"$f":"input_tab_two!F287","v":0},{"$f":"input_tab_two!G287","v":0},{"$f":"input_tab_two!H287","v":0},{"$f":"input_tab_two!I287","v":0},{"$f":"input_tab_two!J287","v":0},{"$f":"input_tab_two!K287","v":0},{"$f":"input_tab_two!E289","v":0},{"$f":"input_tab_two!F289","v":0},{"$f":"input_tab_two!G289","v":0},{"$f":"input_tab_two!H289","v":0},{"$f":"input_tab_two!I289","v":0},{"$f":"input_tab_two!J289","v":0},{"$f":"input_tab_two!K289","v":0},{"$f":"input_tab_two!E291","v":0},{"$f":"input_tab_two!F291","v":0},{"$f":"input_tab_two!G291","v":0},{"$f":"input_tab_two!H291","v":0},{"$f":"input_tab_two!I291","v":0},{"$f":"input_tab_two!J291","v":0},{"$f":"input_tab_two!K291","v":0},{"$f":"input_tab_two!B298","v":0},{"$f":"input_tab_two!B302","v":0},{"$f":"input_tab_two!D302","v":0},{"$f":"input_tab_two!E302","v":0},{"$f":"input_tab_two!G302","v":0},{"$f":"input_tab_two!I302","v":0},{"$f":"input_tab_two!K302","v":0},{"$f":"input_tab_two!M302","v":0},{"$f":"input_tab_two!O302","v":0},{"$f":"input_tab_two!B304","v":0},{"$f":"input_tab_two!D304","v":0},{"$f":"input_tab_two!E304","v":0},{"$f":"input_tab_two!G304","v":0},{"$f":"input_tab_two!I304","v":0},{"$f":"input_tab_two!K304","v":0},{"$f":"input_tab_two!M304","v":0},{"$f":"input_tab_two!O304","v":0},{"$f":"input_tab_two!B306","v":0},{"$f":"input_tab_two!D306","v":0},{"$f":"input_tab_two!E306","v":0},{"$f":"input_tab_two!G306","v":0},{"$f":"input_tab_two!I306","v":0},{"$f":"input_tab_two!K306","v":0},{"$f":"input_tab_two!M306","v":0},{"$f":"input_tab_two!O306","v":0},{"$f":"input_tab_two!B308","v":0},{"$f":"input_tab_two!D308","v":0},{"$f":"input_tab_two!E308","v":0},{"$f":"input_tab_two!G308","v":0},{"$f":"input_tab_two!I308","v":0},{"$f":"input_tab_two!K308","v":0},{"$f":"input_tab_two!M308","v":0},{"$f":"input_tab_two!O308","v":0},{"$f":"input_tab_two!B315","v":0},{"$f":"input_tab_two!C315","v":0},{"$f":"input_tab_two!E315","v":0},{"$f":"IFERROR(E9*(VLOOKUP(F9,kb_conversion[#All],2,FALSE)),\"\")","v":""},{"$f":"IFERROR(H9*(VLOOKUP(I9,kb_conversion[],2,FALSE)),\"\")","v":""},{"$f":"IFERROR(J9*(VLOOKUP(K9,kb_conversion[],2,FALSE)),\"\")","v":""},{"$f":"IFERROR(Q9*(VLOOKUP(R9,kb_conversion[],2,FALSE)),\"\")","v":""},{"$f":"IFERROR(X9*(VLOOKUP(Y9,kb_conversion[],2,FALSE)),\"\")","v":""},{"$f":"IFERROR(AE9*(VLOOKUP(AF9,kb_conversion[],2,FALSE)),\"\")","v":""},{"$f":"IFERROR(AL9*(VLOOKUP(AM9,kb_conversion[],2,FALSE)),\"\")","v":""},{"$f":"IFERROR(AS9*(VLOOKUP(AT9,kb_conversion[],2,FALSE)),\"\")","v":""},{"$f":"IF(U9=input_lists!$R$11,input_database!CK9,0)+IF(input_database!AB9=input_lists!$R$11,input_database!CL9,0)+IF(input_database!AI9=input_lists!$R$11,input_database!CM9,0)+IF(input_database!AP9=input_lists!$R$11,input_database!CN9,0)+IF(input_database!AW9=input_lists!$R$11,input_database!CO9,0)","v":0},0,"0","0","1900-06-01","1900-06-01",0,"","0",{"$f":"IFERROR(CR9-SUM(IF(U9=input_lists!$R$11,input_database!CK9,0)+IF(AB9=input_lists!$R$11,input_database!CL9,0)+IF(AI9=input_lists!$R$11,input_database!CM9,0)+IF(AP9=input_lists!$R$11,input_database!CN9,0)+IF(AW9=input_lists!$R$11,input_database!CO9,0)),\"\")","v":0},{"$f":"IFERROR(CS9-SUM(IF(U9=input_lists!$R$12,input_database!CK9,0)+IF(AB9=input_lists!$R$12,input_database!CL9,0)+IF(AI9=input_lists!$R$12,input_database!CM9,0)+IF(AP9=input_lists!$R$12,input_database!CN9,0)+IF(AW9=input_lists!$R$12,input_database!CO9,0)),\"\")","v":0},0,0,"0000",{"$f":"IFERROR(CK9*(VLOOKUP(DC9,convert_lowres_backup[[#All],[Column6]:[Column7]],2,FALSE)),\"0\")","v":"0"},"0000",{"$f":"IFERROR(CL9*(VLOOKUP(DE9,convert_lowres_backup[[#All],[Column6]:[Column7]],2,FALSE)),\"0\")","v":"0"},"0000",{"$f":"IFERROR(CM9*(VLOOKUP(DG9,convert_lowres_backup[[#All],[Column6]:[Column7]],2,FALSE)),\"0\")","v":"0"},"0000",{"$f":"IFERROR(CN9*(VLOOKUP(DI9,convert_lowres_backup[[#All],[Column6]:[Column7]],2,FALSE)),\"0\")","v":"0"},"0000",{"$f":"IFERROR(CO9*(VLOOKUP(DK9,convert_lowres_backup[[#All],[Column6]:[Column7]],2,FALSE)),\"0\")","v":"0"},{"$f":"IF(U9=input_lists!$R$11,input_database!DD9,0)+IF(input_database!AB9=input_lists!$R$11,input_database!DF9,0)+IF(AI9=input_lists!$R$11,input_database!DH9,0)+IF(input_database!AP9=input_lists!$R$11,DJ9,0)+IF(input_database!AW9=input_lists!$R$11,input_database!DL9,0)","v":0},0,0,0,{"$f":"IFERROR(input_database!AZ9*VLOOKUP(BA9,ratios_between_analogue_storage_types[],2,FALSE),\"0\")","v":"0"},"00",{"$f":"IFERROR(DQ9*VLOOKUP(DR9,convert_paper_digitised[[#All],[Reference]:[kb]],2,FALSE),\"0\")","v":"0"},"00",{"$f":"IFERROR(DQ9*VLOOKUP(DT9,convert_paper_digitised[[#All],[Reference]:[kb]],2,FALSE),\"0\")","v":"0"},{"$f":"IFERROR(DS9*VLOOKUP(BF9,colour_scale_conversion[],2,FALSE),0)","v":0},"00",{"$f":"IFERROR(DV9*VLOOKUP(DW9,compressed_files[],2,FALSE),0)","v":0},{"$f":"IFERROR(DU9*VLOOKUP(BF9,colour_scale_conversion[],2,FALSE),0)","v":0},"00",{"$f":"IFERROR(DY9*VLOOKUP(DZ9,compressed_files[#All],3,FALSE),0)","v":0},{"$f":"IFERROR(input_database!BH9*VLOOKUP(BI9,ratios_between_analogue_storage_types[],2,FALSE),\"0\")","v":"0"},"00",{"$f":"IFERROR(EB9*VLOOKUP(EC9,convert_paper_digitised[[#All],[Reference]:[kb]],2,FALSE),\"0\")","v":"0"},"00",{"$f":"IFERROR(EB9*VLOOKUP(EE9,convert_paper_digitised[[#All],[Reference]:[kb]],2,FALSE),\"0\")","v":"0"},{"$f":"IFERROR(ED9*VLOOKUP(BN9,colour_scale_conversion[],2,FALSE),0)","v":0},"00",{"$f":"IFERROR(EG9*VLOOKUP(EH9,compressed_files[#All],2,FALSE),0)","v":0},{"$f":"IFERROR(EF9*VLOOKUP(BN9,colour_scale_conversion[#All],2,FALSE),0)","v":0},"00",{"$f":"IFERROR(EJ9*VLOOKUP(EK9,compressed_files[],3,FALSE),0)","v":0},{"$f":"IFERROR(BP9*VLOOKUP(BQ9,ratios_between_analogue_storage_types[],2,FALSE),\"0\")","v":"0"},"00",{"$f":"IFERROR(EM9*VLOOKUP(EN9,convert_paper_digitised[[#All],[Reference]:[kb]],2,FALSE),\"0\")","v":"0"},"00",{"$f":"IFERROR(EM9*VLOOKUP(EP9,convert_paper_digitised[[#All],[Reference]:[kb]],2,FALSE),\"0\")","v":"0"},{"$f":"IFERROR(EO9*VLOOKUP(BV9,colour_scale_conversion[#All],2,FALSE),0)","v":0},"00",{"$f":"IFERROR(ER9*VLOOKUP(ES9,compressed_files[],2,FALSE),0)","v":0},{"$f":"IFERROR(EQ9*VLOOKUP(BV9,colour_scale_conversion[],2,FALSE),0)","v":0},"00",{"$f":"IFERROR(EU9*VLOOKUP(EV9,compressed_files[],3,FALSE),0)","v":0},{"$f":"IFERROR(BX9*VLOOKUP(BY9,ratios_between_analogue_storage_types[],2,FALSE),\"0\")","v":"0"},"00",{"$f":"IFERROR(EX9*VLOOKUP(EY9,convert_paper_digitised[[#All],[Reference]:[kb]],2,FALSE),\"0\")","v":"0"},"00",{"$f":"IFERROR(EX9*VLOOKUP(FA9,convert_paper_digitised[[#All],[Reference]:[kb]],2,FALSE),\"0\")","v":"0"},{"$f":"IFERROR(EZ9*VLOOKUP(CD9,colour_scale_conversion[],2,FALSE),0)","v":0},"00",{"$f":"IFERROR(FC9*VLOOKUP(FD9,compressed_files[],2,FALSE),0)","v":0},{"$f":"IFERROR(FB9*VLOOKUP(CD9,colour_scale_conversion[],2,FALSE),0)","v":0},"00",{"$f":"IFERROR(FF9*VLOOKUP(FG9,compressed_files[],3,FALSE),0)","v":0},0,0,0,{"$f":"IFERROR(IF(SUM(FV9:FZ9)=0,CE9*VLOOKUP(CF9,ratios_between_analogue_storage_types[],2,FALSE),0),\"0\")","v":"0"},3.2000000000000001E-2,0,46.8,0,3.4598948060486525,0,482.95251786295574,0,0,"","",0,0,0,{"$f":"FI9+FK9","v":0},0,0,0,0,0,0,0]
[{"$f":"input_tab_two!A318","v":0},{"$f":"input_tab_two!E322","v":0},{"$f":"input_tab_one!$C$5","v":0},{"$f":"input_tab_two!B333","v":0},{"$f":"input_tab_two!E333","v":0},{"$f":"input_tab_two!F333","v":0},{"$f":"input_tab_two!I333","v":0},{"$f":"input_tab_two!B338","v":0},{"$f":"input_tab_two!C338","v":0},{"$f":"input_tab_two!E338","v":0},{"$f":"input_tab_two!F338","v":0},{"$f":"input_tab_two!I338","v":0},{"$f":"input_tab_two!B343","v":0},{"$f":"input_tab_two!E343","v":0},{"$f":"input_tab_two!E346","v":0},{"$f":"input_tab_two!F346","v":0},{"$f":"input_tab_two!G346","v":0},{"$f":"input_tab_two!H346","v":0},{"$f":"input_tab_two!I346","v":0},{"$f":"input_tab_two!J346","v":0},{"$f":"input_tab_two!K346","v":0},{"$f":"input_tab_two!E348","v":0},{"$f":"input_tab_two!F348","v":0},{"$f":"input_tab_two!G348","v":0},{"$f":"input_tab_two!H348","v":0},{"$f":"input_tab_two!I348","v":0},{"$f":"input_tab_two!J348","v":0},{"$f":"input_tab_two!K348","v":0},{"$f":"input_tab_two!E350","v":0},{"$f":"input_tab_two!F350","v":0},{"$f":"input_tab_two!G350","v":0},{"$f":"input_tab_two!H350","v":0},{"$f":"input_tab_two!I350","v":0},{"$f":"input_tab_two!J350","v":0},{"$f":"input_tab_two!K350","v":0},{"$f":"input_tab_two!E352","v":0},{"$f":"input_tab_two!F352","v":0},{"$f":"input_tab_two!G352","v":0},{"$f":"input_tab_two!H352","v":0},{"$f":"input_tab_two!I352","v":0},{"$f":"input_tab_two!J352","v":0},{"$f":"input_tab_two!K352","v":0},{"$f":"input_tab_two!E354","v":0},{"$f":"input_tab_two!F354","v":0},{"$f":"input_tab_two!G354","v":0},{"$f":"input_tab_two!H354","v":0},{"$f":"input_tab_two!I354","v":0},{"$f":"input_tab_two!J354","v":0},{"$f":"input_tab_two!K354","v":0},{"$f":"input_tab_two!B361","v":0},{"$f":"input_tab_two!B365","v":0},{"$f":"input_tab_two!D365","v":0},{"$f":"input_tab_two!E365","v":0},{"$f":"input_tab_two!G365","v":0},{"$f":"input_tab_two!I365","v":0},{"$f":"input_tab_two!K365","v":0},{"$f":"input_tab_two!M365","v":0},{"$f":"input_tab_two!O365","v":0},{"$f":"input_tab_two!B367","v":0},{"$f":"input_tab_two!D367","v":0},{"$f":"input_tab_two!E367","v":0},{"$f":"input_tab_two!G367","v":0},{"$f":"input_tab_two!I367","v":0},{"$f":"input_tab_two!K367","v":0},{"$f":"input_tab_two!M367","v":0},{"$f":"input_tab_two!O367","v":0},{"$f":"input_tab_two!B369","v":0},{"$f":"input_tab_two!D369","v":0},{"$f":"input_tab_two!E369","v":0},{"$f":"input_tab_two!G369","v":0},{"$f":"input_tab_two!I369","v":0},{"$f":"input_tab_two!K369","v":0},{"$f":"input_tab_two!M369","v":0},{"$f":"input_tab_two!O369","v":0},{"$f":"input_tab_two!B371","v":0},{"$f":"input_tab_two!D371","v":0},{"$f":"input_tab_two!E371","v":0},{"$f":"input_tab_two!G371","v":0},{"$f":"input_tab_two!I371","v":0},{"$f":"input_tab_two!K371","v":0},{"$f":"input_tab_two!M371","v":0},{"$f":"input_tab_two!O371","v":0},{"$f":"input_tab_two!B378","v":0},{"$f":"input_tab_two!C378","v":0},{"$f":"input_tab_two!E378","v":0},{"$f":"IFERROR(E10*(VLOOKUP(F10,kb_conversion[#All],2,FALSE)),\"\")","v":""},{"$f":"IFERROR(H10*(VLOOKUP(I10,kb_conversion[],2,FALSE)),\"\")","v":""},{"$f":"IFERROR(J10*(VLOOKUP(K10,kb_conversion[],2,FALSE)),\"\")","v":""},{"$f":"IFERROR(Q10*(VLOOKUP(R10,kb_conversion[],2,FALSE)),\"\")","v":""},{"$f":"IFERROR(X10*(VLOOKUP(Y10,kb_conversion[],2,FALSE)),\"\")","v":""},{"$f":"IFERROR(AE10*(VLOOKUP(AF10,kb_conversion[],2,FALSE)),\"\")","v":""},{"$f":"IFERROR(AL10*(VLOOKUP(AM10,kb_conversion[],2,FALSE)),\"\")","v":""},{"$f":"IFERROR(AS10*(VLOOKUP(AT10,kb_conversion[],2,FALSE)),\"\")","v":""},{"$f":"IF(U10=input_lists!$R$11,input_database!CK10,0)+IF(input_database!AB10=input_lists!$R$11,input_database!CL10,0)+IF(input_database!AI10=input_lists!$R$11,input_database!CM10,0)+IF(input_database!AP10=input_lists!$R$11,input_database!CN10,0)+IF(input_database!AW10=input_lists!$R$11,input_database!CO10,0)","v":0},0,"0","0","1900-06-01","1900-06-01",0,"","0",{"$f":"IFERROR(CR10-SUM(IF(U10=input_lists!$R$11,input_database!CK10,0)+IF(AB10=input_lists!$R$11,input_database!CL10,0)+IF(AI10=input_lists!$R$11,input_database!CM10,0)+IF(AP10=input_lists!$R$11,input_database!CN10,0)+IF(AW10=input_lists!$R$11,input_database!CO10,0)),\"\")","v":0},{"$f":"IFERROR(CS10-SUM(IF(U10=input_lists!$R$12,input_database!CK10,0)+IF(AB10=input_lists!$R$12,input_database!CL10,0)+IF(AI10=input_lists!$R$12,input_database!CM10,0)+IF(AP10=input_lists!$R$12,input_database!CN10,0)+IF(AW10=input_lists!$R$12,input_database!CO10,0)),\"\")","v":0},0,0,"0000",{"$f":"IFERROR(CK10*(VLOOKUP(DC10,convert_lowres_backup[[#All],[Column6]:[Column7]],2,FALSE)),\"0\")","v":"0"},"0000",{"$f":"IFERROR(CL10*(VLOOKUP(DE10,convert_lowres_backup[[#All],[Column6]:[Column7]],2,FALSE)),\"0\")","v":"0"},"0000",{"$f":"IFERROR(CM10*(VLOOKUP(DG10,convert_lowres_backup[[#All],[Column6]:[Column7]],2,FALSE)),\"0\")","v":"0"},"0000",{"$f":"IFERROR(CN10*(VLOOKUP(DI10,convert_lowres_backup[[#All],[Column6]:[Column7]],2,FALSE)),\"0\")","v":"0"},"0000",{"$f":"IFERROR(CO10*(VLOOKUP(DK10,convert_lowres_backup[[#All],[Column6]:[Column7]],2,FALSE)),\"0\")","v":"0"},{"$f":"IF(U10=input_lists!$R$11,input_database!DD10,0)+IF(input_database!AB10=input_lists!$R$11,input_database!DF10,0)+IF(AI10=input_lists!$R$11,input_database!DH10,0)+IF(input_database!AP10=input_lists!$R$11,DJ10,0)+IF(input_database!AW10=input_lists!$R$11,input_database!DL10,0)","v":0},0,0,0,{"$f":"IFERROR(input_database!AZ10*VLOOKUP(BA10,ratios_between_analogue_storage_types[],2,FALSE),\"0\")","v":"0"},"00",{"$f":"IFERROR(DQ10*VLOOKUP(DR10,convert_paper_digitised[[#All],[Reference]:[kb]],2,FALSE),\"0\")","v":"0"},"00",{"$f":"IFERROR(DQ10*VLOOKUP(DT10,convert_paper_digitised[[#All],[Reference]:[kb]],2,FALSE),\"0\")","v":"0"},{"$f":"IFERROR(DS10*VLOOKUP(BF10,colour_scale_conversion[],2,FALSE),0)","v":0},"00",{"$f":"IFERROR(DV10*VLOOKUP(DW10,compressed_files[],2,FALSE),0)","v":0},{"$f":"IFERROR(DU10*VLOOKUP(BF10,colour_scale_conversion[],2,FALSE),0)","v":0},"00",{"$f":"IFERROR(DY10*VLOOKUP(DZ10,compressed_files[#All],3,FALSE),0)","v":0},{"$f":"IFERROR(input_database!BH10*VLOOKUP(BI10,ratios_between_analogue_storage_types[],2,FALSE),\"0\")","v":"0"},"00",{"$f":"IFERROR(EB10*VLOOKUP(EC10,convert_paper_digitised[[#All],[Reference]:[kb]],2,FALSE),\"0\")","v":"0"},"00",{"$f":"IFERROR(EB10*VLOOKUP(EE10,convert_paper_digitised[[#All],[Reference]:[kb]],2,FALSE),\"0\")","v":"0"},{"$f":"IFERROR(ED10*VLOOKUP(BN10,colour_scale_conversion[],2,FALSE),0)","v":0},"00",{"$f":"IFERROR(EG10*VLOOKUP(EH10,compressed_files[#All],2,FALSE),0)","v":0},{"$f":"IFERROR(EF10*VLOOKUP(BN10,colour_scale_conversion[#All],2,FALSE),0)","v":0},"00",{"$f":"IFERROR(EJ10*VLOOKUP(EK10,compressed_files[],3,FALSE),0)","v":0},{"$f":"IFERROR(BP10*VLOOKUP(BQ10,ratios_between_analogue_storage_types[],2,FALSE),\"0\")","v":"0"},"00",{"$f":"IFERROR(EM10*VLOOKUP(EN10,convert_paper_digitised[[#All],[Reference]:[kb]],2,FALSE),\"0\")","v":"0"},"00",{"$f":"IFERROR(EM10*VLOOKUP(EP10,convert_paper_digitised[[#All],[Reference]:[kb]],2,FALSE),\"0\")","v":"0"},{"$f":"IFERROR(EO10*VLOOKUP(BV10,colour_scale_conversion[#All],2,FALSE),0)","v":0},"00",{"$f":"IFERROR(ER10*VLOOKUP(ES10,compressed_files[],2,FALSE),0)","v":0},{"$f":"IFERROR(EQ10*VLOOKUP(BV10,colour_scale_conversion[],2,FALSE),0)","v":0},"00",{"$f":"IFERROR(EU10*VLOOKUP(EV10,compressed_files[],3,FALSE),0)","v":0},{"$f":"IFERROR(BX10*VLOOKUP(BY10,ratios_between_analogue_storage_types[],2,FALSE),\"0\")","v":"0"},"00",{"$f":"IFERROR(EX10*VLOOKUP(EY10,convert_paper_digitised[[#All],[Reference]:[kb]],2,FALSE),\"0\")","v":"0"},"00",{"$f":"IFERROR(EX10*VLOOKUP(FA10,convert_paper_digitised[[#All],[Reference]:[kb]],2,FALSE),\"0\")","v":"0"},{"$f":"IFERROR(EZ10*VLOOKUP(CD10,colour_scale_conversion[],2,FALSE),0)","v":0},"00",{"$f":"IFERROR(FC10*VLOOKUP(FD10,compressed_files[],2,FALSE),0)","v":0},{"$f":"IFERROR(FB10*VLOOKUP(CD10,colour_scale_conversion[],2,FALSE),0)","v":0},"00",{"$f":"IFERROR(FF10*VLOOKUP(FG10,compressed_files[],3,FALSE),0)","v":0},0,0,0,{"$f":"IFERROR(IF(SUM(FV10:FZ10)=0,CE10*VLOOKUP(CF10,ratios_between_analogue_storage_types[],2,FALSE),0),\"0\")","v":"0"},3.2000000000000001E-2,0,46.8,0,3.4598948060486525,0,482.95251786295574,0,0,"","",0,0,0,{"$f":"FI10+FK10","v":0},0,0,0,0,0,0,0]
[{"$f":"input_tab_two!A381","v":0},{"$f":"input_tab_two!E385","v":0},{"$f":"input_tab_one!$C$5","v":0},{"$f":"input_tab_two!B396","v":0},{"$f":"input_tab_two!E396","v":0},{"$f":"input_tab_two!F396","v":0},{"$f":"input_tab_two!I396","v":0},{"$f":"input_tab_two!B401","v":0},{"$f":"input_tab_two!C401","v":0},{"$f":"input_tab_two!E401","v":0},{"$f":"input_tab_two!F401","v":0},{"$f":"input_tab_two!I401","v":0},{"$f":"input_tab_two!B406","v":0},{"$f":"input_tab_two!E406","v":0},{"$f":"input_tab_two!E409","v":0},{"$f":"input_tab_two!F409","v":0},{"$f":"input_tab_two!G409","v":0},{"$f":"input_tab_two!H409","v":0},{"$f":"input_tab_two!I409","v":0},{"$f":"input_tab_two!J409","v":0},{"$f":"input_tab_two!K409","v":0},{"$f":"input_tab_two!E411","v":0},{"$f":"input_tab_two!F411","v":0},{"$f":"input_tab_two!G411","v":0},{"$f":"input_tab_two!H411","v":0},{"$f":"input_tab_two!I411","v":0},{"$f":"input_tab_two!J411","v":0},{"$f":"input_tab_two!K411","v":0},{"$f":"input_tab_two!E413","v":0},{"$f":"input_tab_two!F413","v":0},{"$f":"input_tab_two!G413","v":0},{"$f":"input_tab_two!H413","v":0},{"$f":"input_tab_two!I413","v":0},{"$f":"input_tab_two!J413","v":0},{"$f":"input_tab_two!K413","v":0},{"$f":"input_tab_two!E415","v":0},{"$f":"input_tab_two!F415","v":0},{"$f":"input_tab_two!G415","v":0},{"$f":"input_tab_two!H415","v":0},{"$f":"input_tab_two!I415","v":0},{"$f":"input_tab_two!J415","v":0},{"$f":"input_tab_two!K415","v":0},{"$f":"input_tab_two!E417","v":0},{"$f":"input_tab_two!F417","v":0},{"$f":"input_tab_two!G417","v":0},{"$f":"input_tab_two!H417","v":0},{"$f":"input_tab_two!I417","v":0},{"$f":"input_tab_two!J417","v":0},{"$f":"input_tab_two!K417","v":0},{"$f":"input_tab_two!B424","v":0},{"$f":"input_tab_two!B428","v":0},{"$f":"input_tab_two!D428","v":0},{"$f":"input_tab_two!E428","v":0},{"$f":"input_tab_two!G428","v":0},{"$f":"input_tab_two!I428","v":0},{"$f":"input_tab_two!K428","v":0},{"$f":"input_tab_two!M428","v":0},{"$f":"input_tab_two!O428","v":0},{"$f":"input_tab_two!B430","v":0},{"$f":"input_tab_two!D430","v":0},{"$f":"input_tab_two!E430","v":0},{"$f":"input_tab_two!G430","v":0},{"$f":"input_tab_two!I430","v":0},{"$f":"input_tab_two!K430","v":0},{"$f":"input_tab_two!M430","v":0},{"$f":"input_tab_two!O430","v":0},{"$f":"input_tab_two!B432","v":0},{"$f":"input_tab_two!D432","v":0},{"$f":"input_tab_two!E432","v":0},{"$f":"input_tab_two!G432","v":0},{"$f":"input_tab_two!I432","v":0},{"$f":"input_tab_two!K432","v":0},{"$f":"input_tab_two!M432","v":0},{"$f":"input_tab_two!O432","v":0},{"$f":"input_tab_two!B434","v":0},{"$f":"input_tab_two!D434","v":0},{"$f":"input_tab_two!E434","v":0},{"$f":"input_tab_two!G434","v":0},{"$f":"input_tab_two!I434","v":0},{"$f":"input_tab_two!K434","v":0},{"$f":"input_tab_two!M434","v":0},{"$f":"input_tab_two!O434","v":0},{"$f":"input_tab_two!B441","v":0},{"$f":"input_tab_two!C441","v":0},{"$f":"input_tab_two!E441","v":0},{"$f":"IFERROR(E11*(VLOOKUP(F11,kb_conversion[#All],2,FALSE)),\"\")","v":""},{"$f":"IFERROR(H11*(VLOOKUP(I11,kb_conversion[],2,FALSE)),\"\")","v":""},{"$f":"IFERROR(J11*(VLOOKUP(K11,kb_conversion[],2,FALSE)),\"\")","v":""},{"$f":"IFERROR(Q11*(VLOOKUP(R11,kb_conversion[],2,FALSE)),\"\")","v":""},{"$f":"IFERROR(X11*(VLOOKUP(Y11,kb_conversion[],2,FALSE)),\"\")","v":""},{"$f":"IFERROR(AE11*(VLOOKUP(AF11,kb_conversion[],2,FALSE)),\"\")","v":""},{"$f":"IFERROR(AL11*(VLOOKUP(AM11,kb_conversion[],2,FALSE)),\"\")","v":""},{"$f":"IFERROR(AS11*(VLOOKUP(AT11,kb_conversion[],2,FALSE)),\"\")","v":""},{"$f":"IF(U11=input_lists!$R$11,input_database!CK11,0)+IF(input_database!AB11=input_lists!$R$11,input_database!CL11,0)+IF(input_database!AI11=input_lists!$R$11,input_database!CM11,0)+IF(input_database!AP11=input_lists!$R$11,input_database!CN11,0)+IF(input_database!AW11=input_lists!$R$11,input_database!CO11,0)","v":0},0,"0","0","1900-06-01","1900-06-01",0,"","0",{"$f":"IFERROR(CR11-SUM(IF(U11=input_lists!$R$11,input_database!CK11,0)+IF(AB11=input_lists!$R$11,input_database!CL11,0)+IF(AI11=input_lists!$R$11,input_database!CM11,0)+IF(AP11=input_lists!$R$11,input_database!CN11,0)+IF(AW11=input_lists!$R$11,input_database!CO11,0)),\"\")","v":0},{"$f":"IFERROR(CS11-SUM(IF(U11=input_lists!$R$12,input_database!CK11,0)+IF(AB11=input_lists!$R$12,input_database!CL11,0)+IF(AI11=input_lists!$R$12,input_database!CM11,0)+IF(AP11=input_lists!$R$12,input_database!CN11,0)+IF(AW11=input_lists!$R$12,input_database!CO11,0)),\"\")","v":0},0,0,"0000",{"$f":"IFERROR(CK11*(VLOOKUP(DC11,convert_lowres_backup[[#All],[Column6]:[Column7]],2,FALSE)),\"0\")","v":"0"},"0000",{"$f":"IFERROR(CL11*(VLOOKUP(DE11,convert_lowres_backup[[#All],[Column6]:[Column7]],2,FALSE)),\"0\")","v":"0"},"0000",{"$f":"IFERROR(CM11*(VLOOKUP(DG11,convert_lowres_backup[[#All],[Column6]:[Column7]],2,FALSE)),\"0\")","v":"0"},"0000",{"$f":"IFERROR(CN11*(VLOOKUP(DI11,convert_lowres_backup[[#All],[Column6]:[Column7]],2,FALSE)),\"0\")","v":"0"},"0000",{"$f":"IFERROR(CO11*(VLOOKUP(DK11,convert_lowres_backup[[#All],[Column6]:[Column7]],2,FALSE)),\"0\")","v":"0"},{"$f":"IF(U11=input_lists!$R$11,input_database!DD11,0)+IF(input_database!AB11=input_lists!$R$11,input_database!DF11,0)+IF(AI11=input_lists!$R$11,input_database!DH11,0)+IF(input_database!AP11=input_lists!$R$11,DJ11,0)+IF(input_database!AW11=input_lists!$R$11,input_database!DL11,0)","v":0},0,0,0,{"$f":"IFERROR(input_database!AZ11*VLOOKUP(BA11,ratios_between_analogue_storage_types[],2,FALSE),\"0\")","v":"0"},"00",{"$f":"IFERROR(DQ11*VLOOKUP(DR11,convert_paper_digitised[[#All],[Reference]:[kb]],2,FALSE),\"0\")","v":"0"},"00",{"$f":"IFERROR(DQ11*VLOOKUP(DT11,convert_paper_digitised[[#All],[Reference]:[kb]],2,FALSE),\"0\")","v":"0"},{"$f":"IFERROR(DS11*VLOOKUP(BF11,colour_scale_conversion[],2,FALSE),0)","v":0},"00",{"$f":"IFERROR(DV11*VLOOKUP(DW11,compressed_files[],2,FALSE),0)","v":0},{"$f":"IFERROR(DU11*VLOOKUP(BF11,colour_scale_conversion[],2,FALSE),0)","v":0},"00",{"$f":"IFERROR(DY11*VLOOKUP(DZ11,compressed_files[#All],3,FALSE),0)","v":0},{"$f":"IFERROR(input_database!BH11*VLOOKUP(BI11,ratios_between_analogue_storage_types[],2,FALSE),\"0\")","v":"0"},"00",{"$f":"IFERROR(EB11*VLOOKUP(EC11,convert_paper_digitised[[#All],[Reference]:[kb]],2,FALSE),\"0\")","v":"0"},"00",{"$f":"IFERROR(EB11*VLOOKUP(EE11,convert_paper_digitised[[#All],[Reference]:[kb]],2,FALSE),\"0\")","v":"0"},{"$f":"IFERROR(ED11*VLOOKUP(BN11,colour_scale_conversion[],2,FALSE),0)","v":0},"00",{"$f":"IFERROR(EG11*VLOOKUP(EH11,compressed_files[#All],2,FALSE),0)","v":0},{"$f":"IFERROR(EF11*VLOOKUP(BN11,colour_scale_conversion[#All],2,FALSE),0)","v":0},"00",{"$f":"IFERROR(EJ11*VLOOKUP(EK11,compressed_files[],3,FALSE),0)","v":0},{"$f":"IFERROR(BP11*VLOOKUP(BQ11,ratios_between_analogue_storage_types[],2,FALSE),\"0\")","v":"0"},"00",{"$f":"IFERROR(EM11*VLOOKUP(EN11,convert_paper_digitised[[#All],[Reference]:[kb]],2,FALSE),\"0\")","v":"0"},"00",{"$f":"IFERROR(EM11*VLOOKUP(EP11,convert_paper_digitised[[#All],[Reference]:[kb]],2,FALSE),\"0\")","v":"0"},{"$f":"IFERROR(EO11*VLOOKUP(BV11,colour_scale_conversion[#All],2,FALSE),0)","v":0},"00",{"$f":"IFERROR(ER11*VLOOKUP(ES11,compressed_files[],2,FALSE),0)","v":0},{"$f":"IFERROR(EQ11*VLOOKUP(BV11,colour_scale_conversion[],2,FALSE),0)","v":0},"00",{"$f":"IFERROR(EU11*VLOOKUP(EV11,compressed_files[],3,FALSE),0)","v":0},{"$f":"IFERROR(BX11*VLOOKUP(BY11,ratios_between_analogue_storage_types[],2,FALSE),\"0\")","v":"0"},"00",{"$f":"IFERROR(EX11*VLOOKUP(EY11,convert_paper_digitised[[#All],[Reference]:[kb]],2,FALSE),\"0\")","v":"0"},"00",{"$f":"IFERROR(EX11*VLOOKUP(FA11,convert_paper_digitised[[#All],[Reference]:[kb]],2,FALSE),\"0\")","v":"0"},{"$f":"IFERROR(EZ11*VLOOKUP(CD11,colour_scale_conversion[],2,FALSE),0)","v":0},"00",{"$f":"IFERROR(FC11*VLOOKUP(FD11,compressed_files[],2,FALSE),0)","v":0},{"$f":"IFERROR(FB11*VLOOKUP(CD11,colour_scale_conversion[],2,FALSE),0)","v":0},"00",{"$f":"IFERROR(FF11*VLOOKUP(FG11,compressed_files[],3,FALSE),0)","v":0},0,0,0,{"$f":"IFERROR(IF(SUM(FV11:FZ11)=0,CE11*VLOOKUP(CF11,ratios_between_analogue_storage_types[],2,FALSE),0),\"0\")","v":"0"},3.2000000000000001E-2,0,46.8,0,3.4598948060486525,0,482.95251786295574,0,0,"","",0,0,0,{"$f":"FI11+FK11","v":0},0,0,0,0,0,0,0]
[{"$f":"input_tab_two!A444","v":0},{"$f":"input_tab_two!E448","v":0},{"$f":"input_tab_one!$C$5","v":0},{"$f":"input_tab_two!B459","v":0},{"$f":"input_tab_two!E459","v":0},{"$f":"input_tab_two!F459","v":0},{"$f":"input_tab_two!I459","v":0},{"$f":"input_tab_two!B464","v":0},{"$f":"input_tab_two!C464","v":0},{"$f":"input_tab_two!E464","v":0},{"$f":"input_tab_two!F464","v":0},{"$f":"input_tab_two!I464","v":0},{"$f":"input_tab_two!B469","v":0},{"$f":"input_tab_two!E469","v":0},{"$f":"input_tab_two!E472","v":0},{"$f":"input_tab_two!F472","v":0},{"$f":"input_tab_two!G472","v":0},{"$f":"input_tab_two!H472","v":0},{"$f":"input_tab_two!I472","v":0},{"$f":"input_tab_two!J472","v":0},{"$f":"input_tab_two!K472","v":0},{"$f":"input_tab_two!E474","v":0},{"$f":"input_tab_two!F474","v":0},{"$f":"input_tab_two!G474","v":0},{"$f":"input_tab_two!H474","v":0},{"$f":"input_tab_two!I474","v":0},{"$f":"input_tab_two!J474","v":0},{"$f":"input_tab_two!K474","v":0},{"$f":"input_tab_two!E476","v":0},{"$f":"input_tab_two!F476","v":0},{"$f":"input_tab_two!G476","v":0},{"$f":"input_tab_two!H476","v":0},{"$f":"input_tab_two!I476","v":0},{"$f":"input_tab_two!J476","v":0},{"$f":"input_tab_two!K476","v":0},{"$f":"input_tab_two!E478","v":0},{"$f":"input_tab_two!F478","v":0},{"$f":"input_tab_two!G478","v":0},{"$f":"input_tab_two!H478","v":0},{"$f":"input_tab_two!I478","v":0},{"$f":"input_tab_two!J478","v":0},{"$f":"input_tab_two!K478","v":0},{"$f":"input_tab_two!E480","v":0},{"$f":"input_tab_two!F480","v":0},{"$f":"input_tab_two!G480","v":0},{"$f":"input_tab_two!H480","v":0},{"$f":"input_tab_two!I480","v":0},{"$f":"input_tab_two!J480","v":0},{"$f":"input_tab_two!K480","v":0},{"$f":"input_tab_two!B487","v":0},{"$f":"input_tab_two!B491","v":0},{"$f":"input_tab_two!D491","v":0},{"$f":"input_tab_two!E491","v":0},{"$f":"input_tab_two!G491","v":0},{"$f":"input_tab_two!I491","v":0},{"$f":"input_tab_two!K491","v":0},{"$f":"input_tab_two!M491","v":0},{"$f":"input_tab_two!O491","v":0},{"$f":"input_tab_two!B493","v":0},{"$f":"input_tab_two!D493","v":0},{"$f":"input_tab_two!E493","v":0},{"$f":"input_tab_two!G493","v":0},{"$f":"input_tab_two!I493","v":0},{"$f":"input_tab_two!K493","v":0},{"$f":"input_tab_two!M493","v":0},{"$f":"input_tab_two!O493","v":0},{"$f":"input_tab_two!B495","v":0},{"$f":"input_tab_two!D495","v":0},{"$f":"input_tab_two!E495","v":0},{"$f":"input_tab_two!G495","v":0},{"$f":"input_tab_two!I495","v":0},{"$f":"input_tab_two!K495","v":0},{"$f":"input_tab_two!M495","v":0},{"$f":"input_tab_two!O495","v":0},{"$f":"input_tab_two!B497","v":0},{"$f":"input_tab_two!D497","v":0},{"$f":"input_tab_two!E497","v":0},{"$f":"input_tab_two!G497","v":0},{"$f":"input_tab_two!I497","v":0},{"$f":"input_tab_two!K497","v":0},{"$f":"input_tab_two!M497","v":0},{"$f":"input_tab_two!O497","v":0},{"$f":"input_tab_two!B504","v":0},{"$f":"input_tab_two!C504","v":0},{"$f":"input_tab_two!E504","v":0},{"$f":"IFERROR(E12*(VLOOKUP(F12,kb_conversion[#All],2,FALSE)),\"\")","v":""},{"$f":"IFERROR(H12*(VLOOKUP(I12,kb_conversion[],2,FALSE)),\"\")","v":""},{"$f":"IFERROR(J12*(VLOOKUP(K12,kb_conversion[],2,FALSE)),\"\")","v":""},{"$f":"IFERROR(Q12*(VLOOKUP(R12,kb_conversion[],2,FALSE)),\"\")","v":""},{"$f":"IFERROR(X12*(VLOOKUP(Y12,kb_conversion[],2,FALSE)),\"\")","v":""},{"$f":"IFERROR(AE12*(VLOOKUP(AF12,kb_conversion[],2,FALSE)),\"\")","v":""},{"$f":"IFERROR(AL12*(VLOOKUP(AM12,kb_conversion[],2,FALSE)),\"\")","v":""},{"$f":"IFERROR(AS12*(VLOOKUP(AT12,kb_conversion[],2,FALSE)),\"\")","v":""},{"$f":"IF(U12=input_lists!$R$11,input_database!CK12,0)+IF(input_database!AB12=input_lists!$R$11,input_database!CL12,0)+IF(input_database!AI12=input_lists!$R$11,input_database!CM12,0)+IF(input_database!AP12=input_lists!$R$11,input_database!CN12,0)+IF(input_database!AW12=input_lists!$R$11,input_database!CO12,0)","v":0},0,"0","0","1900-06-01","1900-06-01",0,"","0",{"$f":"IFERROR(CR12-SUM(IF(U12=input_lists!$R$11,input_database!CK12,0)+IF(AB12=input_lists!$R$11,input_database!CL12,0)+IF(AI12=input_lists!$R$11,input_database!CM12,0)+IF(AP12=input_lists!$R$11,input_database!CN12,0)+IF(AW12=input_lists!$R$11,input_database!CO12,0)),\"\")","v":0},{"$f":"IFERROR(CS12-SUM(IF(U12=input_lists!$R$12,input_database!CK12,0)+IF(AB12=input_lists!$R$12,input_database!CL12,0)+IF(AI12=input_lists!$R$12,input_database!CM12,0)+IF(AP12=input_lists!$R$12,input_database!CN12,0)+IF(AW12=input_lists!$R$12,input_database!CO12,0)),\"\")","v":0},0,0,"0000",{"$f":"IFERROR(CK12*(VLOOKUP(DC12,convert_lowres_backup[[#All],[Column6]:[Column7]],2,FALSE)),\"0\")","v":"0"},"0000",{"$f":"IFERROR(CL12*(VLOOKUP(DE12,convert_lowres_backup[[#All],[Column6]:[Column7]],2,FALSE)),\"0\")","v":"0"},"0000",{"$f":"IFERROR(CM12*(VLOOKUP(DG12,convert_lowres_backup[[#All],[Column6]:[Column7]],2,FALSE)),\"0\")","v":"0"},"0000",{"$f":"IFERROR(CN12*(VLOOKUP(DI12,convert_lowres_backup[[#All],[Column6]:[Column7]],2,FALSE)),\"0\")","v":"0"},"0000",{"$f":"IFERROR(CO12*(VLOOKUP(DK12,convert_lowres_backup[[#All],[Column6]:[Column7]],2,FALSE)),\"0\")","v":"0"},{"$f":"IF(U12=input_lists!$R$11,input_database!DD12,0)+IF(input_database!AB12=input_lists!$R$11,input_database!DF12,0)+IF(AI12=input_lists!$R$11,input_database!DH12,0)+IF(input_database!AP12=input_lists!$R$11,DJ12,0)+IF(input_database!AW12=input_lists!$R$11,input_database!DL12,0)","v":0},0,0,0,{"$f":"IFERROR(input_database!AZ12*VLOOKUP(BA12,ratios_between_analogue_storage_types[],2,FALSE),\"0\")","v":"0"},"00",{"$f":"IFERROR(DQ12*VLOOKUP(DR12,convert_paper_digitised[[#All],[Reference]:[kb]],2,FALSE),\"0\")","v":"0"},"00",{"$f":"IFERROR(DQ12*VLOOKUP(DT12,convert_paper_digitised[[#All],[Reference]:[kb]],2,FALSE),\"0\")","v":"0"},{"$f":"IFERROR(DS12*VLOOKUP(BF12,colour_scale_conversion[],2,FALSE),0)","v":0},"00",{"$f":"IFERROR(DV12*VLOOKUP(DW12,compressed_files[],2,FALSE),0)","v":0},{"$f":"IFERROR(DU12*VLOOKUP(BF12,colour_scale_conversion[],2,FALSE),0)","v":0},"00",{"$f":"IFERROR(DY12*VLOOKUP(DZ12,compressed_files[#All],3,FALSE),0)","v":0},{"$f":"IFERROR(input_database!BH12*VLOOKUP(BI12,ratios_between_analogue_storage_types[],2,FALSE),\"0\")","v":"0"},"00",{"$f":"IFERROR(EB12*VLOOKUP(EC12,convert_paper_digitised[[#All],[Reference]:[kb]],2,FALSE),\"0\")","v":"0"},"00",{"$f":"IFERROR(EB12*VLOOKUP(EE12,convert_paper_digitised[[#All],[Reference]:[kb]],2,FALSE),\"0\")","v":"0"},{"$f":"IFERROR(ED12*VLOOKUP(BN12,colour_scale_conversion[],2,FALSE),0)","v":0},"00",{"$f":"IFERROR(EG12*VLOOKUP(EH12,compressed_files[#All],2,FALSE),0)","v":0},{"$f":"IFERROR(EF12*VLOOKUP(BN12,colour_scale_conversion[#All],2,FALSE),0)","v":0},"00",{"$f":"IFERROR(EJ12*VLOOKUP(EK12,compressed_files[],3,FALSE),0)","v":0},{"$f":"IFERROR(BP12*VLOOKUP(BQ12,ratios_between_analogue_storage_types[],2,FALSE),\"0\")","v":"0"},"00",{"$f":"IFERROR(EM12*VLOOKUP(EN12,convert_paper_digitised[[#All],[Reference]:[kb]],2,FALSE),\"0\")","v":"0"},"00",{"$f":"IFERROR(EM12*VLOOKUP(EP12,convert_paper_digitised[[#All],[Reference]:[kb]],2,FALSE),\"0\")","v":"0"},{"$f":"IFERROR(EO12*VLOOKUP(BV12,colour_scale_conversion[#All],2,FALSE),0)","v":0},"00",{"$f":"IFERROR(ER12*VLOOKUP(ES12,compressed_files[],2,FALSE),0)","v":0},{"$f":"IFERROR(EQ12*VLOOKUP(BV12,colour_scale_conversion[],2,FALSE),0)","v":0},"00",{"$f":"IFERROR(EU12*VLOOKUP(EV12,compressed_files[],3,FALSE),0)","v":0},{"$f":"IFERROR(BX12*VLOOKUP(BY12,ratios_between_analogue_storage_types[],2,FALSE),\"0\")","v":"0"},"00",{"$f":"IFERROR(EX12*VLOOKUP(EY12,convert_paper_digitised[[#All],[Reference]:[kb]],2,FALSE),\"0\")","v":"0"},"00",{"$f":"IFERROR(EX12*VLOOKUP(FA12,convert_paper_digitised[[#All],[Reference]:[kb]],2,FALSE),\"0\")","v":"0"},{"$f":"IFERROR(EZ12*VLOOKUP(CD12,colour_scale_conversion[],2,FALSE),0)","v":0},"00",{"$f":"IFERROR(FC12*VLOOKUP(FD12,compressed_files[],2,FALSE),0)","v":0},{"$f":"IFERROR(FB12*VLOOKUP(CD12,colour_scale_conversion[],2,FALSE),0)","v":0},"00",{"$f":"IFERROR(FF12*VLOOKUP(FG12,compressed_files[],3,FALSE),0)","v":0},0,0,0,{"$f":"IFERROR(IF(SUM(FV12:FZ12)=0,CE12*VLOOKUP(CF12,ratios_between_analogue_storage_types[],2,FALSE),0),\"0\")","v":"0"},3.2000000000000001E-2,0,46.8,0,3.4598948060486525,0,482.95251786295574,0,0,"","",0,0,0,{"$f":"FI12+FK12","v":0},0,0,0,0,0,0,0]
[{"$f":"input_tab_two!A507","v":0},{"$f":"input_tab_two!E511","v":0},{"$f":"input_tab_one!$C$5","v":0},{"$f":"input_tab_two!B522","v":0},{"$f":"input_tab_two!E522","v":0},{"$f":"input_tab_two!F522","v":0},{"$f":"input_tab_two!I522","v":0},{"$f":"input_tab_two!B527","v":0},{"$f":"input_tab_two!C527","v":0},{"$f":"input_tab_two!E527","v":0},{"$f":"input_tab_two!F527","v":0},{"$f":"input_tab_two!I527","v":0},{"$f":"input_tab_two!B532","v":0},{"$f":"input_tab_two!E532","v":0},{"$f":"input_tab_two!E535","v":0},{"$f":"input_tab_two!F535","v":0},{"$f":"input_tab_two!G535","v":0},{"$f":"input_tab_two!H535","v":0},{"$f":"input_tab_two!I535","v":0},{"$f":"input_tab_two!J535","v":0},{"$f":"input_tab_two!K535","v":0},{"$f":"input_tab_two!E537","v":0},{"$f":"input_tab_two!F537","v":0},{"$f":"input_tab_two!G537","v":0},{"$f":"input_tab_two!H537","v":0},{"$f":"input_tab_two!I537","v":0},{"$f":"input_tab_two!J537","v":0},{"$f":"input_tab_two!K537","v":0},{"$f":"input_tab_two!E539","v":0},{"$f":"input_tab_two!F539","v":0},{"$f":"input_tab_two!G539","v":0},{"$f":"input_tab_two!H539","v":0},{"$f":"input_tab_two!I539","v":0},{"$f":"input_tab_two!J539","v":0},{"$f":"input_tab_two!K539","v":0},{"$f":"input_tab_two!E541","v":0},{"$f":"input_tab_two!F541","v":0},{"$f":"input_tab_two!G541","v":0},{"$f":"input_tab_two!H541","v":0},{"$f":"input_tab_two!I541","v":0},{"$f":"input_tab_two!J541","v":0},{"$f":"input_tab_two!K541","v":0},{"$f":"input_tab_two!E543","v":0},{"$f":"input_tab_two!F543","v":0},{"$f":"input_tab_two!G543","v":0},{"$f":"input_tab_two!H543","v":0},{"$f":"input_tab_two!I543","v":0},{"$f":"input_tab_two!J543","v":0},{"$f":"input_tab_two!K543","v":0},{"$f":"input_tab_two!B550","v":0},{"$f":"input_tab_two!B554","v":0},{"$f":"input_tab_two!D554","v":0},{"$f":"input_tab_two!E554","v":0},{"$f":"input_tab_two!G554","v":0},{"$f":"input_tab_two!I554","v":0},{"$f":"input_tab_two!K554","v":0},{"$f":"input_tab_two!M554","v":0},{"$f":"input_tab_two!O554","v":0},{"$f":"input_tab_two!B556","v":0},{"$f":"input_tab_two!D556","v":0},{"$f":"input_tab_two!E556","v":0},{"$f":"input_tab_two!G556","v":0},{"$f":"input_tab_two!I556","v":0},{"$f":"input_tab_two!K556","v":0},{"$f":"input_tab_two!M556","v":0},{"$f":"input_tab_two!O556","v":0},{"$f":"input_tab_two!B558","v":0},{"$f":"input_tab_two!D558","v":0},{"$f":"input_tab_two!E558","v":0},{"$f":"input_tab_two!G558","v":0},{"$f":"input_tab_two!I558","v":0},{"$f":"input_tab_two!K558","v":0},{"$f":"input_tab_two!M558","v":0},{"$f":"input_tab_two!O558","v":0},{"$f":"input_tab_two!B560","v":0},{"$f":"input_tab_two!D560","v":0},{"$f":"input_tab_two!E560","v":0},{"$f":"input_tab_two!G560","v":0},{"$f":"input_tab_two!I560","v":0},{"$f":"input_tab_two!K560","v":0},{"$f":"input_tab_two!M560","v":0},{"$f":"input_tab_two!O560","v":0},{"$f":"input_tab_two!B567","v":0},{"$f":"input_tab_two!C567","v":0},{"$f":"input_tab_two!E567","v":0},{"$f":"IFERROR(E13*(VLOOKUP(F13,kb_conversion[#All],2,FALSE)),\"\")","v":""},{"$f":"IFERROR(H13*(VLOOKUP(I13,kb_conversion[],2,FALSE)),\"\")","v":""},{"$f":"IFERROR(J13*(VLOOKUP(K13,kb_conversion[],2,FALSE)),\"\")","v":""},{"$f":"IFERROR(Q13*(VLOOKUP(R13,kb_conversion[],2,FALSE)),\"\")","v":""},{"$f":"IFERROR(X13*(VLOOKUP(Y13,kb_conversion[],2,FALSE)),\"\")","v":""},{"$f":"IFERROR(AE13*(VLOOKUP(AF13,kb_conversion[],2,FALSE)),\"\")","v":""},{"$f":"IFERROR(AL13*(VLOOKUP(AM13,kb_conversion[],2,FALSE)),\"\")","v":""},{"$f":"IFERROR(AS13*(VLOOKUP(AT13,kb_conversion[],2,FALSE)),\"\")","v":""},{"$f":"IF(U13=input_lists!$R$11,input_database!CK13,0)+IF(input_database!AB13=input_lists!$R$11,input_database!CL13,0)+IF(input_database!AI13=input_lists!$R$11,input_database!CM13,0)+IF(input_database!AP13=input_lists!$R$11,input_database!CN13,0)+IF(input_database!AW13=input_lists!$R$11,input_database!CO13,0)","v":0},0,"0","0","1900-06-01","1900-06-01",0,"","0",{"$f":"IFERROR(CR13-SUM(IF(U13=input_lists!$R$11,input_database!CK13,0)+IF(AB13=input_lists!$R$11,input_database!CL13,0)+IF(AI13=input_lists!$R$11,input_database!CM13,0)+IF(AP13=input_lists!$R$11,input_database!CN13,0)+IF(AW13=input_lists!$R$11,input_database!CO13,0)),\"\")","v":0},{"$f":"IFERROR(CS13-SUM(IF(U13=input_lists!$R$12,input_database!CK13,0)+IF(AB13=input_lists!$R$12,input_database!CL13,0)+IF(AI13=input_lists!$R$12,input_database!CM13,0)+IF(AP13=input_lists!$R$12,input_database!CN13,0)+IF(AW13=input_lists!$R$12,input_database!CO13,0)),\"\")","v":0},0,0,"0000",{"$f":"IFERROR(CK13*(VLOOKUP(DC13,convert_lowres_backup[[#All],[Column6]:[Column7]],2,FALSE)),\"0\")","v":"0"},"0000",{"$f":"IFERROR(CL13*(VLOOKUP(DE13,convert_lowres_backup[[#All],[Column6]:[Column7]],2,FALSE)),\"0\")","v":"0"},"0000",{"$f":"IFERROR(CM13*(VLOOKUP(DG13,convert_lowres_backup[[#All],[Column6]:[Column7]],2,FALSE)),\"0\")","v":"0"},"0000",{"$f":"IFERROR(CN13*(VLOOKUP(DI13,convert_lowres_backup[[#All],[Column6]:[Column7]],2,FALSE)),\"0\")","v":"0"},"0000",{"$f":"IFERROR(CO13*(VLOOKUP(DK13,convert_lowres_backup[[#All],[Column6]:[Column7]],2,FALSE)),\"0\")","v":"0"},{"$f":"IF(U13=input_lists!$R$11,input_database!DD13,0)+IF(input_database!AB13=input_lists!$R$11,input_database!DF13,0)+IF(AI13=input_lists!$R$11,input_database!DH13,0)+IF(input_database!AP13=input_lists!$R$11,DJ13,0)+IF(input_database!AW13=input_lists!$R$11,input_database!DL13,0)","v":0},0,0,0,{"$f":"IFERROR(input_database!AZ13*VLOOKUP(BA13,ratios_between_analogue_storage_types[],2,FALSE),\"0\")","v":"0"},"00",{"$f":"IFERROR(DQ13*VLOOKUP(DR13,convert_paper_digitised[[#All],[Reference]:[kb]],2,FALSE),\"0\")","v":"0"},"00",{"$f":"IFERROR(DQ13*VLOOKUP(DT13,convert_paper_digitised[[#All],[Reference]:[kb]],2,FALSE),\"0\")","v":"0"},{"$f":"IFERROR(DS13*VLOOKUP(BF13,colour_scale_conversion[],2,FALSE),0)","v":0},"00",{"$f":"IFERROR(DV13*VLOOKUP(DW13,compressed_files[],2,FALSE),0)","v":0},{"$f":"IFERROR(DU13*VLOOKUP(BF13,colour_scale_conversion[],2,FALSE),0)","v":0},"00",{"$f":"IFERROR(DY13*VLOOKUP(DZ13,compressed_files[#All],3,FALSE),0)","v":0},{"$f":"IFERROR(input_database!BH13*VLOOKUP(BI13,ratios_between_analogue_storage_types[],2,FALSE),\"0\")","v":"0"},"00",{"$f":"IFERROR(EB13*VLOOKUP(EC13,convert_paper_digitised[[#All],[Reference]:[kb]],2,FALSE),\"0\")","v":"0"},"00",{"$f":"IFERROR(EB13*VLOOKUP(EE13,convert_paper_digitised[[#All],[Reference]:[kb]],2,FALSE),\"0\")","v":"0"},{"$f":"IFERROR(ED13*VLOOKUP(BN13,colour_scale_conversion[],2,FALSE),0)","v":0},"00",{"$f":"IFERROR(EG13*VLOOKUP(EH13,compressed_files[#All],2,FALSE),0)","v":0},{"$f":"IFERROR(EF13*VLOOKUP(BN13,colour_scale_conversion[#All],2,FALSE),0)","v":0},"00",{"$f":"IFERROR(EJ13*VLOOKUP(EK13,compressed_files[],3,FALSE),0)","v":0},{"$f":"IFERROR(BP13*VLOOKUP(BQ13,ratios_between_analogue_storage_types[],2,FALSE),\"0\")","v":"0"},"00",{"$f":"IFERROR(EM13*VLOOKUP(EN13,convert_paper_digitised[[#All],[Reference]:[kb]],2,FALSE),\"0\")","v":"0"},"00",{"$f":"IFERROR(EM13*VLOOKUP(EP13,convert_paper_digitised[[#All],[Reference]:[kb]],2,FALSE),\"0\")","v":"0"},{"$f":"IFERROR(EO13*VLOOKUP(BV13,colour_scale_conversion[#All],2,FALSE),0)","v":0},"00",{"$f":"IFERROR(ER13*VLOOKUP(ES13,compressed_files[],2,FALSE),0)","v":0},{"$f":"IFERROR(EQ13*VLOOKUP(BV13,colour_scale_conversion[],2,FALSE),0)","v":0},"00",{"$f":"IFERROR(EU13*VLOOKUP(EV13,compressed_files[],3,FALSE),0)","v":0},{"$f":"IFERROR(BX13*VLOOKUP(BY13,ratios_between_analogue_storage_types[],2,FALSE),\"0\")","v":"0"},"00",{"$f":"IFERROR(EX13*VLOOKUP(EY13,convert_paper_digitised[[#All],[Reference]:[kb]],2,FALSE),\"0\")","v":"0"},"00",{"$f":"IFERROR(EX13*VLOOKUP(FA13,convert_paper_digitised[[#All],[Reference]:[kb]],2,FALSE),\"0\")","v":"0"},{"$f":"IFERROR(EZ13*VLOOKUP(CD13,colour_scale_conversion[],2,FALSE),0)","v":0},"00",{"$f":"IFERROR(FC13*VLOOKUP(FD13,compressed_files[],2,FALSE),0)","v":0},{"$f":"IFERROR(FB13*VLOOKUP(CD13,colour_scale_conversion[],2,FALSE),0)","v":0},"00",{"$f":"IFERROR(FF13*VLOOKUP(FG13,compressed_files[],3,FALSE),0)","v":0},0,0,0,{"$f":"IFERROR(IF(SUM(FV13:FZ13)=0,CE13*VLOOKUP(CF13,ratios_between_analogue_storage_types[],2,FALSE),0),\"0\")","v":"0"},3.2000000000000001E-2,0,46.8,0,3.4598948060486525,0,482.95251786295574,0,0,"","",0,0,0,{"$f":"FI13+FK13","v":0},0,0,0,0,0,0,0]
[{"$f":"input_tab_two!A570","v":0},{"$f":"input_tab_two!E574","v":0},{"$f":"input_tab_one!$C$5","v":0},{"$f":"input_tab_two!B585","v":0},{"$f":"input_tab_two!E585","v":0},{"$f":"input_tab_two!F585","v":0},{"$f":"input_tab_two!I585","v":0},{"$f":"input_tab_two!B590","v":0},{"$f":"input_tab_two!C590","v":0},{"$f":"input_tab_two!E590","v":0},{"$f":"input_tab_two!F590","v":0},{"$f":"input_tab_two!I590","v":0},{"$f":"input_tab_two!B595","v":0},{"$f":"input_tab_two!E595","v":0},{"$f":"input_tab_two!E598","v":0},{"$f":"input_tab_two!F598","v":0},{"$f":"input_tab_two!G598","v":0},{"$f":"input_tab_two!H598","v":0},{"$f":"input_tab_two!I598","v":0},{"$f":"input_tab_two!J598","v":0},{"$f":"input_tab_two!K598","v":0},{"$f":"input_tab_two!E600","v":0},{"$f":"input_tab_two!F600","v":0},{"$f":"input_tab_two!G600","v":0},{"$f":"input_tab_two!H600","v":0},{"$f":"input_tab_two!I600","v":0},{"$f":"input_tab_two!J600","v":0},{"$f":"input_tab_two!K600","v":0},{"$f":"input_tab_two!E602","v":0},{"$f":"input_tab_two!F602","v":0},{"$f":"input_tab_two!G602","v":0},{"$f":"input_tab_two!H602","v":0},{"$f":"input_tab_two!I602","v":0},{"$f":"input_tab_two!J602","v":0},{"$f":"input_tab_two!K602","v":0},{"$f":"input_tab_two!E604","v":0},{"$f":"input_tab_two!F604","v":0},{"$f":"input_tab_two!G604","v":0},{"$f":"input_tab_two!H604","v":0},{"$f":"input_tab_two!I604","v":0},{"$f":"input_tab_two!J604","v":0},{"$f":"input_tab_two!K604","v":0},{"$f":"input_tab_two!E606","v":0},{"$f":"input_tab_two!F606","v":0},{"$f":"input_tab_two!G606","v":0},{"$f":"input_tab_two!H606","v":0},{"$f":"input_tab_two!I606","v":0},{"$f":"input_tab_two!J606","v":0},{"$f":"input_tab_two!K606","v":0},{"$f":"input_tab_two!B613","v":0},{"$f":"input_tab_two!B617","v":0},{"$f":"input_tab_two!D617","v":0},{"$f":"input_tab_two!E617","v":0},{"$f":"input_tab_two!G617","v":0},{"$f":"input_tab_two!I617","v":0},{"$f":"input_tab_two!K617","v":0},{"$f":"input_tab_two!M617","v":0},{"$f":"input_tab_two!O617","v":0},{"$f":"input_tab_two!B619","v":0},{"$f":"input_tab_two!D619","v":0},{"$f":"input_tab_two!E619","v":0},{"$f":"input_tab_two!G619","v":0},{"$f":"input_tab_two!I619","v":0},{"$f":"input_tab_two!K619","v":0},{"$f":"input_tab_two!M619","v":0},{"$f":"input_tab_two!O619","v":0},{"$f":"input_tab_two!B621","v":0},{"$f":"input_tab_two!D621","v":0},{"$f":"input_tab_two!E621","v":0},{"$f":"input_tab_two!G621","v":0},{"$f":"input_tab_two!I621","v":0},{"$f":"input_tab_two!K621","v":0},{"$f":"input_tab_two!M621","v":0},{"$f":"input_tab_two!O621","v":0},{"$f":"input_tab_two!B623","v":0},{"$f":"input_tab_two!D623","v":0},{"$f":"input_tab_two!E623","v":0},{"$f":"input_tab_two!G623","v":0},{"$f":"input_tab_two!I623","v":0},{"$f":"input_tab_two!K623","v":0},{"$f":"input_tab_two!M623","v":0},{"$f":"input_tab_two!O623","v":0},{"$f":"input_tab_two!B630","v":0},{"$f":"input_tab_two!C630","v":0},{"$f":"input_tab_two!E630","v":0},{"$f":"IFERROR(E14*(VLOOKUP(F14,kb_conversion[#All],2,FALSE)),\"\")","v":""},{"$f":"IFERROR(H14*(VLOOKUP(I14,kb_conversion[],2,FALSE)),\"\")","v":""},{"$f":"IFERROR(J14*(VLOOKUP(K14,kb_conversion[],2,FALSE)),\"\")","v":""},{"$f":"IFERROR(Q14*(VLOOKUP(R14,kb_conversion[],2,FALSE)),\"\")","v":""},{"$f":"IFERROR(X14*(VLOOKUP(Y14,kb_conversion[],2,FALSE)),\"\")","v":""},{"$f":"IFERROR(AE14*(VLOOKUP(AF14,kb_conversion[],2,FALSE)),\"\")","v":""},{"$f":"IFERROR(AL14*(VLOOKUP(AM14,kb_conversion[],2,FALSE)),\"\")","v":""},{"$f":"IFERROR(AS14*(VLOOKUP(AT14,kb_conversion[],2,FALSE)),\"\")","v":""},{"$f":"IF(U14=input_lists!$R$11,input_database!CK14,0)+IF(input_database!AB14=input_lists!$R$11,input_database!CL14,0)+IF(input_database!AI14=input_lists!$R$11,input_database!CM14,0)+IF(input_database!AP14=input_lists!$R$11,input_database!CN14,0)+IF(input_database!AW14=input_lists!$R$11,input_database!CO14,0)","v":0},0,"0","0","1900-06-01","1900-06-01",0,"","0",{"$f":"IFERROR(CR14-SUM(IF(U14=input_lists!$R$11,input_database!CK14,0)+IF(AB14=input_lists!$R$11,input_database!CL14,0)+IF(AI14=input_lists!$R$11,input_database!CM14,0)+IF(AP14=input_lists!$R$11,input_database!CN14,0)+IF(AW14=input_lists!$R$11,input_database!CO14,0)),\"\")","v":0},{"$f":"IFERROR(CS14-SUM(IF(U14=input_lists!$R$12,input_database!CK14,0)+IF(AB14=input_lists!$R$12,input_database!CL14,0)+IF(AI14=input_lists!$R$12,input_database!CM14,0)+IF(AP14=input_lists!$R$12,input_database!CN14,0)+IF(AW14=input_lists!$R$12,input_database!CO14,0)),\"\")","v":0},0,0,"0000",{"$f":"IFERROR(CK14*(VLOOKUP(DC14,convert_lowres_backup[[#All],[Column6]:[Column7]],2,FALSE)),\"0\")","v":"0"},"0000",{"$f":"IFERROR(CL14*(VLOOKUP(DE14,convert_lowres_backup[[#All],[Column6]:[Column7]],2,FALSE)),\"0\")","v":"0"},"0000",{"$f":"IFERROR(CM14*(VLOOKUP(DG14,convert_lowres_backup[[#All],[Column6]:[Column7]],2,FALSE)),\"0\")","v":"0"},"0000",{"$f":"IFERROR(CN14*(VLOOKUP(DI14,convert_lowres_backup[[#All],[Column6]:[Column7]],2,FALSE)),\"0\")","v":"0"},"0000",{"$f":"IFERROR(CO14*(VLOOKUP(DK14,convert_lowres_backup[[#All],[Column6]:[Column7]],2,FALSE)),\"0\")","v":"0"},{"$f":"IF(U14=input_lists!$R$11,input_database!DD14,0)+IF(input_database!AB14=input_lists!$R$11,input_database!DF14,0)+IF(AI14=input_lists!$R$11,input_database!DH14,0)+IF(input_database!AP14=input_lists!$R$11,DJ14,0)+IF(input_database!AW14=input_lists!$R$11,input_database!DL14,0)","v":0},0,0,0,{"$f":"IFERROR(input_database!AZ14*VLOOKUP(BA14,ratios_between_analogue_storage_types[],2,FALSE),\"0\")","v":"0"},"00",{"$f":"IFERROR(DQ14*VLOOKUP(DR14,convert_paper_digitised[[#All],[Reference]:[kb]],2,FALSE),\"0\")","v":"0"},"00",{"$f":"IFERROR(DQ14*VLOOKUP(DT14,convert_paper_digitised[[#All],[Reference]:[kb]],2,FALSE),\"0\")","v":"0"},{"$f":"IFERROR(DS14*VLOOKUP(BF14,colour_scale_conversion[],2,FALSE),0)","v":0},"00",{"$f":"IFERROR(DV14*VLOOKUP(DW14,compressed_files[],2,FALSE),0)","v":0},{"$f":"IFERROR(DU14*VLOOKUP(BF14,colour_scale_conversion[],2,FALSE),0)","v":0},"00",{"$f":"IFERROR(DY14*VLOOKUP(DZ14,compressed_files[#All],3,FALSE),0)","v":0},{"$f":"IFERROR(input_database!BH14*VLOOKUP(BI14,ratios_between_analogue_storage_types[],2,FALSE),\"0\")","v":"0"},"00",{"$f":"IFERROR(EB14*VLOOKUP(EC14,convert_paper_digitised[[#All],[Reference]:[kb]],2,FALSE),\"0\")","v":"0"},"00",{"$f":"IFERROR(EB14*VLOOKUP(EE14,convert_paper_digitised[[#All],[Reference]:[kb]],2,FALSE),\"0\")","v":"0"},{"$f":"IFERROR(ED14*VLOOKUP(BN14,colour_scale_conversion[],2,FALSE),0)","v":0},"00",{"$f":"IFERROR(EG14*VLOOKUP(EH14,compressed_files[#All],2,FALSE),0)","v":0},{"$f":"IFERROR(EF14*VLOOKUP(BN14,colour_scale_conversion[#All],2,FALSE),0)","v":0},"00",{"$f":"IFERROR(EJ14*VLOOKUP(EK14,compressed_files[],3,FALSE),0)","v":0},{"$f":"IFERROR(BP14*VLOOKUP(BQ14,ratios_between_analogue_storage_types[],2,FALSE),\"0\")","v":"0"},"00",{"$f":"IFERROR(EM14*VLOOKUP(EN14,convert_paper_digitised[[#All],[Reference]:[kb]],2,FALSE),\"0\")","v":"0"},"00",{"$f":"IFERROR(EM14*VLOOKUP(EP14,convert_paper_digitised[[#All],[Reference]:[kb]],2,FALSE),\"0\")","v":"0"},{"$f":"IFERROR(EO14*VLOOKUP(BV14,colour_scale_conversion[#All],2,FALSE),0)","v":0},"00",{"$f":"IFERROR(ER14*VLOOKUP(ES14,compressed_files[],2,FALSE),0)","v":0},{"$f":"IFERROR(EQ14*VLOOKUP(BV14,colour_scale_conversion[],2,FALSE),0)","v":0},"00",{"$f":"IFERROR(EU14*VLOOKUP(EV14,compressed_files[],3,FALSE),0)","v":0},{"$f":"IFERROR(BX14*VLOOKUP(BY14,ratios_between_analogue_storage_types[],2,FALSE),\"0\")","v":"0"},"00",{"$f":"IFERROR(EX14*VLOOKUP(EY14,convert_paper_digitised[[#All],[Reference]:[kb]],2,FALSE),\"0\")","v":"0"},"00",{"$f":"IFERROR(EX14*VLOOKUP(FA14,convert_paper_digitised[[#All],[Reference]:[kb]],2,FALSE),\"0\")","v":"0"},{"$f":"IFERROR(EZ14*VLOOKUP(CD14,colour_scale_conversion[],2,FALSE),0)","v":0},"00",{"$f":"IFERROR(FC14*VLOOKUP(FD14,compressed_files[],2,FALSE),0)","v":0},{"$f":"IFERROR(FB14*VLOOKUP(CD14,colour_scale_conversion[],2,FALSE),0)","v":0},"00",{"$f":"IFERROR(FF14*VLOOKUP(FG14,compressed_files[],3,FALSE),0)","v":0},0,0,0,{"$f":"IFERROR(IF(SUM(FV14:FZ14)=0,CE14*VLOOKUP(CF14,ratios_between_analogue_storage_types[],2,FALSE),0),\"0\")","v":"0"},3.2000000000000001E-2,0,46.8,0,3.4598948060486525,0,482.95251786295574,0,0,"","",0,0,0,{"$f":"FI14+FK14","v":0},0,0,0,0,0,0,0]
[{"$f":"input_tab_two!A633","v":0},{"$f":"input_tab_two!E637","v":0},{"$f":"input_tab_one!$C$5","v":0},{"$f":"input_tab_two!B648","v":0},{"$f":"input_tab_two!E648","v":0},{"$f":"input_tab_two!F648","v":0},{"$f":"input_tab_two!I648","v":0},{"$f":"input_tab_two!B653","v":0},{"$f":"input_tab_two!C653","v":0},{"$f":"input_tab_two!E653","v":0},{"$f":"input_tab_two!F653","v":0},{"$f":"input_tab_two!I653","v":0},{"$f":"input_tab_two!B658","v":0},{"$f":"input_tab_two!E658","v":0},{"$f":"input_tab_two!E661","v":0},{"$f":"input_tab_two!F661","v":0},{"$f":"input_tab_two!G661","v":0},{"$f":"input_tab_two!H661","v":0},{"$f":"input_tab_two!I661","v":0},{"$f":"input_tab_two!J661","v":0},{"$f":"input_tab_two!K661","v":0},{"$f":"input_tab_two!E663","v":0},{"$f":"input_tab_two!F663","v":0},{"$f":"input_tab_two!G663","v":0},{"$f":"input_tab_two!H663","v":0},{"$f":"input_tab_two!I663","v":0},{"$f":"input_tab_two!J663","v":0},{"$f":"input_tab_two!K663","v":0},{"$f":"input_tab_two!E665","v":0},{"$f":"input_tab_two!F665","v":0},{"$f":"input_tab_two!G665","v":0},{"$f":"input_tab_two!H665","v":0},{"$f":"input_tab_two!I665","v":0},{"$f":"input_tab_two!J665","v":0},{"$f":"input_tab_two!K665","v":0},{"$f":"input_tab_two!E667","v":0},{"$f":"input_tab_two!F667","v":0},{"$f":"input_tab_two!G667","v":0},{"$f":"input_tab_two!H667","v":0},{"$f":"input_tab_two!I667","v":0},{"$f":"input_tab_two!J667","v":0},{"$f":"input_tab_two!K667","v":0},{"$f":"input_tab_two!E669","v":0},{"$f":"input_tab_two!F669","v":0},{"$f":"input_tab_two!G669","v":0},{"$f":"input_tab_two!H669","v":0},{"$f":"input_tab_two!I669","v":0},{"$f":"input_tab_two!J669","v":0},{"$f":"input_tab_two!K669","v":0},{"$f":"input_tab_two!B676","v":0},{"$f":"input_tab_two!B680","v":0},{"$f":"input_tab_two!D680","v":0},{"$f":"input_tab_two!E680","v":0},{"$f":"input_tab_two!G680","v":0},{"$f":"input_tab_two!I680","v":0},{"$f":"input_tab_two!K680","v":0},{"$f":"input_tab_two!M680","v":0},{"$f":"input_tab_two!O680","v":0},{"$f":"input_tab_two!B682","v":0},{"$f":"input_tab_two!D682","v":0},{"$f":"input_tab_two!E682","v":0},{"$f":"input_tab_two!G682","v":0},{"$f":"input_tab_two!I682","v":0},{"$f":"input_tab_two!K682","v":0},{"$f":"input_tab_two!M682","v":0},{"$f":"input_tab_two!O682","v":0},{"$f":"input_tab_two!B684","v":0},{"$f":"input_tab_two!D684","v":0},{"$f":"input_tab_two!E684","v":0},{"$f":"input_tab_two!G684","v":0},{"$f":"input_tab_two!I684","v":0},{"$f":"input_tab_two!K684","v":0},{"$f":"input_tab_two!M684","v":0},{"$f":"input_tab_two!O684","v":0},{"$f":"input_tab_two!B686","v":0},{"$f":"input_tab_two!D686","v":0},{"$f":"input_tab_two!E686","v":0},{"$f":"input_tab_two!G686","v":0},{"$f":"input_tab_two!I686","v":0},{"$f":"input_tab_two!K686","v":0},{"$f":"input_tab_two!M686","v":0},{"$f":"input_tab_two!O686","v":0},{"$f":"input_tab_two!B693","v":0},{"$f":"input_tab_two!C693","v":0},{"$f":"input_tab_two!E693","v":0},{"$f":"IFERROR(E15*(VLOOKUP(F15,kb_conversion[#All],2,FALSE)),\"\")","v":""},{"$f":"IFERROR(H15*(VLOOKUP(I15,kb_conversion[],2,FALSE)),\"\")","v":""},{"$f":"IFERROR(J15*(VLOOKUP(K15,kb_conversion[],2,FALSE)),\"\")","v":""},{"$f":"IFERROR(Q15*(VLOOKUP(R15,kb_conversion[],2,FALSE)),\"\")","v":""},{"$f":"IFERROR(X15*(VLOOKUP(Y15,kb_conversion[],2,FALSE)),\"\")","v":""},{"$f":"IFERROR(AE15*(VLOOKUP(AF15,kb_conversion[],2,FALSE)),\"\")","v":""},{"$f":"IFERROR(AL15*(VLOOKUP(AM15,kb_conversion[],2,FALSE)),\"\")","v":""},{"$f":"IFERROR(AS15*(VLOOKUP(AT15,kb_conversion[],2,FALSE)),\"\")","v":""},{"$f":"IF(U15=input_lists!$R$11,input_database!CK15,0)+IF(input_database!AB15=input_lists!$R$11,input_database!CL15,0)+IF(input_database!AI15=input_lists!$R$11,input_database!CM15,0)+IF(input_database!AP15=input_lists!$R$11,input_database!CN15,0)+IF(input_database!AW15=input_lists!$R$11,input_database!CO15,0)","v":0},0,"0","0","1900-06-01","1900-06-01",0,"","0",{"$f":"IFERROR(CR15-SUM(IF(U15=input_lists!$R$11,input_database!CK15,0)+IF(AB15=input_lists!$R$11,input_database!CL15,0)+IF(AI15=input_lists!$R$11,input_database!CM15,0)+IF(AP15=input_lists!$R$11,input_database!CN15,0)+IF(AW15=input_lists!$R$11,input_database!CO15,0)),\"\")","v":0},{"$f":"IFERROR(CS15-SUM(IF(U15=input_lists!$R$12,input_database!CK15,0)+IF(AB15=input_lists!$R$12,input_database!CL15,0)+IF(AI15=input_lists!$R$12,input_database!CM15,0)+IF(AP15=input_lists!$R$12,input_database!CN15,0)+IF(AW15=input_lists!$R$12,input_database!CO15,0)),\"\")","v":0},0,0,"0000",{"$f":"IFERROR(CK15*(VLOOKUP(DC15,convert_lowres_backup[[#All],[Column6]:[Column7]],2,FALSE)),\"0\")","v":"0"},"0000",{"$f":"IFERROR(CL15*(VLOOKUP(DE15,convert_lowres_backup[[#All],[Column6]:[Column7]],2,FALSE)),\"0\")","v":"0"},"0000",{"$f":"IFERROR(CM15*(VLOOKUP(DG15,convert_lowres_backup[[#All],[Column6]:[Column7]],2,FALSE)),\"0\")","v":"0"},"0000",{"$f":"IFERROR(CN15*(VLOOKUP(DI15,convert_lowres_backup[[#All],[Column6]:[Column7]],2,FALSE)),\"0\")","v":"0"},"0000",{"$f":"IFERROR(CO15*(VLOOKUP(DK15,convert_lowres_backup[[#All],[Column6]:[Column7]],2,FALSE)),\"0\")","v":"0"},{"$f":"IF(U15=input_lists!$R$11,input_database!DD15,0)+IF(input_database!AB15=input_lists!$R$11,input_database!DF15,0)+IF(AI15=input_lists!$R$11,input_database!DH15,0)+IF(input_database!AP15=input_lists!$R$11,DJ15,0)+IF(input_database!AW15=input_lists!$R$11,input_database!DL15,0)","v":0},0,0,0,{"$f":"IFERROR(input_database!AZ15*VLOOKUP(BA15,ratios_between_analogue_storage_types[],2,FALSE),\"0\")","v":"0"},"00",{"$f":"IFERROR(DQ15*VLOOKUP(DR15,convert_paper_digitised[[#All],[Reference]:[kb]],2,FALSE),\"0\")","v":"0"},"00",{"$f":"IFERROR(DQ15*VLOOKUP(DT15,convert_paper_digitised[[#All],[Reference]:[kb]],2,FALSE),\"0\")","v":"0"},{"$f":"IFERROR(DS15*VLOOKUP(BF15,colour_scale_conversion[],2,FALSE),0)","v":0},"00",{"$f":"IFERROR(DV15*VLOOKUP(DW15,compressed_files[],2,FALSE),0)","v":0},{"$f":"IFERROR(DU15*VLOOKUP(BF15,colour_scale_conversion[],2,FALSE),0)","v":0},"00",{"$f":"IFERROR(DY15*VLOOKUP(DZ15,compressed_files[#All],3,FALSE),0)","v":0},{"$f":"IFERROR(input_database!BH15*VLOOKUP(BI15,ratios_between_analogue_storage_types[],2,FALSE),\"0\")","v":"0"},"00",{"$f":"IFERROR(EB15*VLOOKUP(EC15,convert_paper_digitised[[#All],[Reference]:[kb]],2,FALSE),\"0\")","v":"0"},"00",{"$f":"IFERROR(EB15*VLOOKUP(EE15,convert_paper_digitised[[#All],[Reference]:[kb]],2,FALSE),\"0\")","v":"0"},{"$f":"IFERROR(ED15*VLOOKUP(BN15,colour_scale_conversion[],2,FALSE),0)","v":0},"00",{"$f":"IFERROR(EG15*VLOOKUP(EH15,compressed_files[#All],2,FALSE),0)","v":0},{"$f":"IFERROR(EF15*VLOOKUP(BN15,colour_scale_conversion[#All],2,FALSE),0)","v":0},"00",{"$f":"IFERROR(EJ15*VLOOKUP(EK15,compressed_files[],3,FALSE),0)","v":0},{"$f":"IFERROR(BP15*VLOOKUP(BQ15,ratios_between_analogue_storage_types[],2,FALSE),\"0\")","v":"0"},"00",{"$f":"IFERROR(EM15*VLOOKUP(EN15,convert_paper_digitised[[#All],[Reference]:[kb]],2,FALSE),\"0\")","v":"0"},"00",{"$f":"IFERROR(EM15*VLOOKUP(EP15,convert_paper_digitised[[#All],[Reference]:[kb]],2,FALSE),\"0\")","v":"0"},{"$f":"IFERROR(EO15*VLOOKUP(BV15,colour_scale_conversion[#All],2,FALSE),0)","v":0},"00",{"$f":"IFERROR(ER15*VLOOKUP(ES15,compressed_files[],2,FALSE),0)","v":0},{"$f":"IFERROR(EQ15*VLOOKUP(BV15,colour_scale_conversion[],2,FALSE),0)","v":0},"00",{"$f":"IFERROR(EU15*VLOOKUP(EV15,compressed_files[],3,FALSE),0)","v":0},{"$f":"IFERROR(BX15*VLOOKUP(BY15,ratios_between_analogue_storage_types[],2,FALSE),\"0\")","v":"0"},"00",{"$f":"IFERROR(EX15*VLOOKUP(EY15,convert_paper_digitised[[#All],[Reference]:[kb]],2,FALSE),\"0\")","v":"0"},"00",{"$f":"IFERROR(EX15*VLOOKUP(FA15,convert_paper_digitised[[#All],[Reference]:[kb]],2,FALSE),\"0\")","v":"0"},{"$f":"IFERROR(EZ15*VLOOKUP(CD15,colour_scale_conversion[],2,FALSE),0)","v":0},"00",{"$f":"IFERROR(FC15*VLOOKUP(FD15,compressed_files[],2,FALSE),0)","v":0},{"$f":"IFERROR(FB15*VLOOKUP(CD15,colour_scale_conversion[],2,FALSE),0)","v":0},"00",{"$f":"IFERROR(FF15*VLOOKUP(FG15,compressed_files[],3,FALSE),0)","v":0},0,0,0,{"$f":"IFERROR(IF(SUM(FV15:FZ15)=0,CE15*VLOOKUP(CF15,ratios_between_analogue_storage_types[],2,FALSE),0),\"0\")","v":"0"},3.2000000000000001E-2,0,46.8,0,3.4598948060486525,0,482.95251786295574,0,0,"","",0,0,0,{"$f":"FI15+FK15","v":0},0,0,0,0,0,0,0]
[{"$f":"input_tab_two!A696","v":0},{"$f":"input_tab_two!E700","v":0},{"$f":"input_tab_one!$C$5","v":0},{"$f":"input_tab_two!B711","v":0},{"$f":"input_tab_two!E711","v":0},{"$f":"input_tab_two!F711","v":0},{"$f":"input_tab_two!I711","v":0},{"$f":"input_tab_two!B716","v":0},{"$f":"input_tab_two!C716","v":0},{"$f":"input_tab_two!E716","v":0},{"$f":"input_tab_two!F716","v":0},{"$f":"input_tab_two!I716","v":0},{"$f":"input_tab_two!B721","v":0},{"$f":"input_tab_two!E721","v":0},{"$f":"input_tab_two!E724","v":0},{"$f":"input_tab_two!F724","v":0},{"$f":"input_tab_two!G724","v":0},{"$f":"input_tab_two!H724","v":0},{"$f":"input_tab_two!I724","v":0},{"$f":"input_tab_two!J724","v":0},{"$f":"input_tab_two!K724","v":0},{"$f":"input_tab_two!E726","v":0},{"$f":"input_tab_two!F726","v":0},{"$f":"input_tab_two!G726","v":0},{"$f":"input_tab_two!H726","v":0},{"$f":"input_tab_two!I726","v":0},{"$f":"input_tab_two!J726","v":0},{"$f":"input_tab_two!K726","v":0},{"$f":"input_tab_two!E728","v":0},{"$f":"input_tab_two!F728","v":0},{"$f":"input_tab_two!G728","v":0},{"$f":"input_tab_two!H728","v":0},{"$f":"input_tab_two!I728","v":0},{"$f":"input_tab_two!J728","v":0},{"$f":"input_tab_two!K728","v":0},{"$f":"input_tab_two!E730","v":0},{"$f":"input_tab_two!F730","v":0},{"$f":"input_tab_two!G730","v":0},{"$f":"input_tab_two!H730","v":0},{"$f":"input_tab_two!I730","v":0},{"$f":"input_tab_two!J730","v":0},{"$f":"input_tab_two!K730","v":0},{"$f":"input_tab_two!E732","v":0},{"$f":"input_tab_two!F732","v":0},{"$f":"input_tab_two!G732","v":0},{"$f":"input_tab_two!H732","v":0},{"$f":"input_tab_two!I732","v":0},{"$f":"input_tab_two!J732","v":0},{"$f":"input_tab_two!K732","v":0},{"$f":"input_tab_two!B739","v":0},{"$f":"input_tab_two!B743","v":0},{"$f":"input_tab_two!D743","v":0},{"$f":"input_tab_two!E743","v":0},{"$f":"input_tab_two!G743","v":0},{"$f":"input_tab_two!I743","v":0},{"$f":"input_tab_two!K743","v":0},{"$f":"input_tab_two!M743","v":0},{"$f":"input_tab_two!O743","v":0},{"$f":"input_tab_two!B745","v":0},{"$f":"input_tab_two!D745","v":0},{"$f":"input_tab_two!E745","v":0},{"$f":"input_tab_two!G745","v":0},{"$f":"input_tab_two!I745","v":0},{"$f":"input_tab_two!K745","v":0},{"$f":"input_tab_two!M745","v":0},{"$f":"input_tab_two!O745","v":0},{"$f":"input_tab_two!B747","v":0},{"$f":"input_tab_two!D747","v":0},{"$f":"input_tab_two!E747","v":0},{"$f":"input_tab_two!G747","v":0},{"$f":"input_tab_two!I747","v":0},{"$f":"input_tab_two!K747","v":0},{"$f":"input_tab_two!M747","v":0},{"$f":"input_tab_two!O747","v":0},{"$f":"input_tab_two!B749","v":0},{"$f":"input_tab_two!D749","v":0},{"$f":"input_tab_two!E749","v":0},{"$f":"input_tab_two!G749","v":0},{"$f":"input_tab_two!I749","v":0},{"$f":"input_tab_two!K749","v":0},{"$f":"input_tab_two!M749","v":0},{"$f":"input_tab_two!O749","v":0},{"$f":"input_tab_two!B756","v":0},{"$f":"input_tab_two!C756","v":0},{"$f":"input_tab_two!E756","v":0},{"$f":"IFERROR(E16*(VLOOKUP(F16,kb_conversion[#All],2,FALSE)),\"\")","v":""},{"$f":"IFERROR(H16*(VLOOKUP(I16,kb_conversion[],2,FALSE)),\"\")","v":""},{"$f":"IFERROR(J16*(VLOOKUP(K16,kb_conversion[],2,FALSE)),\"\")","v":""},{"$f":"IFERROR(Q16*(VLOOKUP(R16,kb_conversion[],2,FALSE)),\"\")","v":""},{"$f":"IFERROR(X16*(VLOOKUP(Y16,kb_conversion[],2,FALSE)),\"\")","v":""},{"$f":"IFERROR(AE16*(VLOOKUP(AF16,kb_conversion[],2,FALSE)),\"\")","v":""},{"$f":"IFERROR(AL16*(VLOOKUP(AM16,kb_conversion[],2,FALSE)),\"\")","v":""},{"$f":"IFERROR(AS16*(VLOOKUP(AT16,kb_conversion[],2,FALSE)),\"\")","v":""},{"$f":"IF(U16=input_lists!$R$11,input_database!CK16,0)+IF(input_database!AB16=input_lists!$R$11,input_database!CL16,0)+IF(input_database!AI16=input_lists!$R$11,input_database!CM16,0)+IF(input_database!AP16=input_lists!$R$11,input_database!CN16,0)+IF(input_database!AW16=input_lists!$R$11,input_database!CO16,0)","v":0},0,"0","0","1900-06-01","1900-06-01",0,"","0",{"$f":"IFERROR(CR16-SUM(IF(U16=input_lists!$R$11,input_database!CK16,0)+IF(AB16=input_lists!$R$11,input_database!CL16,0)+IF(AI16=input_lists!$R$11,input_database!CM16,0)+IF(AP16=input_lists!$R$11,input_database!CN16,0)+IF(AW16=input_lists!$R$11,input_database!CO16,0)),\"\")","v":0},{"$f":"IFERROR(CS16-SUM(IF(U16=input_lists!$R$12,input_database!CK16,0)+IF(AB16=input_lists!$R$12,input_database!CL16,0)+IF(AI16=input_lists!$R$12,input_database!CM16,0)+IF(AP16=input_lists!$R$12,input_database!CN16,0)+IF(AW16=input_lists!$R$12,input_database!CO16,0)),\"\")","v":0},0,0,"0000",{"$f":"IFERROR(CK16*(VLOOKUP(DC16,convert_lowres_backup[[#All],[Column6]:[Column7]],2,FALSE)),\"0\")","v":"0"},"0000",{"$f":"IFERROR(CL16*(VLOOKUP(DE16,convert_lowres_backup[[#All],[Column6]:[Column7]],2,FALSE)),\"0\")","v":"0"},"0000",{"$f":"IFERROR(CM16*(VLOOKUP(DG16,convert_lowres_backup[[#All],[Column6]:[Column7]],2,FALSE)),\"0\")","v":"0"},"0000",{"$f":"IFERROR(CN16*(VLOOKUP(DI16,convert_lowres_backup[[#All],[Column6]:[Column7]],2,FALSE)),\"0\")","v":"0"},"0000",{"$f":"IFERROR(CO16*(VLOOKUP(DK16,convert_lowres_backup[[#All],[Column6]:[Column7]],2,FALSE)),\"0\")","v":"0"},{"$f":"IF(U16=input_lists!$R$11,input_database!DD16,0)+IF(input_database!AB16=input_lists!$R$11,input_database!DF16,0)+IF(AI16=input_lists!$R$11,input_database!DH16,0)+IF(input_database!AP16=input_lists!$R$11,DJ16,0)+IF(input_database!AW16=input_lists!$R$11,input_database!DL16,0)","v":0},0,0,0,{"$f":"IFERROR(input_database!AZ16*VLOOKUP(BA16,ratios_between_analogue_storage_types[],2,FALSE),\"0\")","v":"0"},"00",{"$f":"IFERROR(DQ16*VLOOKUP(DR16,convert_paper_digitised[[#All],[Reference]:[kb]],2,FALSE),\"0\")","v":"0"},"00",{"$f":"IFERROR(DQ16*VLOOKUP(DT16,convert_paper_digitised[[#All],[Reference]:[kb]],2,FALSE),\"0\")","v":"0"},{"$f":"IFERROR(DS16*VLOOKUP(BF16,colour_scale_conversion[],2,FALSE),0)","v":0},"00",{"$f":"IFERROR(DV16*VLOOKUP(DW16,compressed_files[],2,FALSE),0)","v":0},{"$f":"IFERROR(DU16*VLOOKUP(BF16,colour_scale_conversion[],2,FALSE),0)","v":0},"00",{"$f":"IFERROR(DY16*VLOOKUP(DZ16,compressed_files[#All],3,FALSE),0)","v":0},{"$f":"IFERROR(input_database!BH16*VLOOKUP(BI16,ratios_between_analogue_storage_types[],2,FALSE),\"0\")","v":"0"},"00",{"$f":"IFERROR(EB16*VLOOKUP(EC16,convert_paper_digitised[[#All],[Reference]:[kb]],2,FALSE),\"0\")","v":"0"},"00",{"$f":"IFERROR(EB16*VLOOKUP(EE16,convert_paper_digitised[[#All],[Reference]:[kb]],2,FALSE),\"0\")","v":"0"},{"$f":"IFERROR(ED16*VLOOKUP(BN16,colour_scale_conversion[],2,FALSE),0)","v":0},"00",{"$f":"IFERROR(EG16*VLOOKUP(EH16,compressed_files[#All],2,FALSE),0)","v":0},{"$f":"IFERROR(EF16*VLOOKUP(BN16,colour_scale_conversion[#All],2,FALSE),0)","v":0},"00",{"$f":"IFERROR(EJ16*VLOOKUP(EK16,compressed_files[],3,FALSE),0)","v":0},{"$f":"IFERROR(BP16*VLOOKUP(BQ16,ratios_between_analogue_storage_types[],2,FALSE),\"0\")","v":"0"},"00",{"$f":"IFERROR(EM16*VLOOKUP(EN16,convert_paper_digitised[[#All],[Reference]:[kb]],2,FALSE),\"0\")","v":"0"},"00",{"$f":"IFERROR(EM16*VLOOKUP(EP16,convert_paper_digitised[[#All],[Reference]:[kb]],2,FALSE),\"0\")","v":"0"},{"$f":"IFERROR(EO16*VLOOKUP(BV16,colour_scale_conversion[#All],2,FALSE),0)","v":0},"00",{"$f":"IFERROR(ER16*VLOOKUP(ES16,compressed_files[],2,FALSE),0)","v":0},{"$f":"IFERROR(EQ16*VLOOKUP(BV16,colour_scale_conversion[],2,FALSE),0)","v":0},"00",{"$f":"IFERROR(EU16*VLOOKUP(EV16,compressed_files[],3,FALSE),0)","v":0},{"$f":"IFERROR(BX16*VLOOKUP(BY16,ratios_between_analogue_storage_types[],2,FALSE),\"0\")","v":"0"},"00",{"$f":"IFERROR(EX16*VLOOKUP(EY16,convert_paper_digitised[[#All],[Reference]:[kb]],2,FALSE),\"0\")","v":"0"},"00",{"$f":"IFERROR(EX16*VLOOKUP(FA16,convert_paper_digitised[[#All],[Reference]:[kb]],2,FALSE),\"0\")","v":"0"},{"$f":"IFERROR(EZ16*VLOOKUP(CD16,colour_scale_conversion[],2,FALSE),0)","v":0},"00",{"$f":"IFERROR(FC16*VLOOKUP(FD16,compressed_files[],2,FALSE),0)","v":0},{"$f":"IFERROR(FB16*VLOOKUP(CD16,colour_scale_conversion[],2,FALSE),0)","v":0},"00",{"$f":"IFERROR(FF16*VLOOKUP(FG16,compressed_files[],3,FALSE),0)","v":0},0,0,0,{"$f":"IFERROR(IF(SUM(FV16:FZ16)=0,CE16*VLOOKUP(CF16,ratios_between_analogue_storage_types[],2,FALSE),0),\"0\")","v":"0"},3.2000000000000001E-2,0,46.8,0,3.4598948060486525,0,482.95251786295574,0,0,"","",0,0,0,{"$f":"FI16+FK16","v":0},0,0,0,0,0,0,0]
[{"$f":"input_tab_two!A759","v":0},{"$f":"input_tab_two!E763","v":0},{"$f":"input_tab_one!$C$5","v":0},{"$f":"input_tab_two!B774","v":0},{"$f":"input_tab_two!E774","v":0},{"$f":"input_tab_two!F774","v":0},{"$f":"input_tab_two!I774","v":0},{"$f":"input_tab_two!B779","v":0},{"$f":"input_tab_two!C779","v":0},{"$f":"input_tab_two!E779","v":0},{"$f":"input_tab_two!F779","v":0},{"$f":"input_tab_two!I779","v":0},{"$f":"input_tab_two!B784","v":0},{"$f":"input_tab_two!E784","v":0},{"$f":"input_tab_two!E787","v":0},{"$f":"input_tab_two!F787","v":0},{"$f":"input_tab_two!G787","v":0},{"$f":"input_tab_two!H787","v":0},{"$f":"input_tab_two!I787","v":0},{"$f":"input_tab_two!J787","v":0},{"$f":"input_tab_two!K787","v":0},{"$f":"input_tab_two!E789","v":0},{"$f":"input_tab_two!F789","v":0},{"$f":"input_tab_two!G789","v":0},{"$f":"input_tab_two!H789","v":0},{"$f":"input_tab_two!I789","v":0},{"$f":"input_tab_two!J789","v":0},{"$f":"input_tab_two!K789","v":0},{"$f":"input_tab_two!E791","v":0},{"$f":"input_tab_two!F791","v":0},{"$f":"input_tab_two!G791","v":0},{"$f":"input_tab_two!H791","v":0},{"$f":"input_tab_two!I791","v":0},{"$f":"input_tab_two!J791","v":0},{"$f":"input_tab_two!K791","v":0},{"$f":"input_tab_two!E793","v":0},{"$f":"input_tab_two!F793","v":0},{"$f":"input_tab_two!G793","v":0},{"$f":"input_tab_two!H793","v":0},{"$f":"input_tab_two!I793","v":0},{"$f":"input_tab_two!J793","v":0},{"$f":"input_tab_two!K793","v":0},{"$f":"input_tab_two!E795","v":0},{"$f":"input_tab_two!F795","v":0},{"$f":"input_tab_two!G795","v":0},{"$f":"input_tab_two!H795","v":0},{"$f":"input_tab_two!I795","v":0},{"$f":"input_tab_two!J795","v":0},{"$f":"input_tab_two!K795","v":0},{"$f":"input_tab_two!B802","v":0},{"$f":"input_tab_two!B806","v":0},{"$f":"input_tab_two!D806","v":0},{"$f":"input_tab_two!E806","v":0},{"$f":"input_tab_two!G806","v":0},{"$f":"input_tab_two!I806","v":0},{"$f":"input_tab_two!K806","v":0},{"$f":"input_tab_two!M806","v":0},{"$f":"input_tab_two!O806","v":0},{"$f":"input_tab_two!B808","v":0},{"$f":"input_tab_two!D808","v":0},{"$f":"input_tab_two!E808","v":0},{"$f":"input_tab_two!G808","v":0},{"$f":"input_tab_two!I808","v":0},{"$f":"input_tab_two!K808","v":0},{"$f":"input_tab_two!M808","v":0},{"$f":"input_tab_two!O808","v":0},{"$f":"input_tab_two!B810","v":0},{"$f":"input_tab_two!D810","v":0},{"$f":"input_tab_two!E810","v":0},{"$f":"input_tab_two!G810","v":0},{"$f":"input_tab_two!I810","v":0},{"$f":"input_tab_two!K810","v":0},{"$f":"input_tab_two!M810","v":0},{"$f":"input_tab_two!O810","v":0},{"$f":"input_tab_two!B812","v":0},{"$f":"input_tab_two!D812","v":0},{"$f":"input_tab_two!E812","v":0},{"$f":"input_tab_two!G812","v":0},{"$f":"input_tab_two!I812","v":0},{"$f":"input_tab_two!K812","v":0},{"$f":"input_tab_two!M812","v":0},{"$f":"input_tab_two!O812","v":0},{"$f":"input_tab_two!B819","v":0},{"$f":"input_tab_two!C819","v":0},{"$f":"input_tab_two!E819","v":0},{"$f":"IFERROR(E17*(VLOOKUP(F17,kb_conversion[#All],2,FALSE)),\"\")","v":""},{"$f":"IFERROR(H17*(VLOOKUP(I17,kb_conversion[],2,FALSE)),\"\")","v":""},{"$f":"IFERROR(J17*(VLOOKUP(K17,kb_conversion[],2,FALSE)),\"\")","v":""},{"$f":"IFERROR(Q17*(VLOOKUP(R17,kb_conversion[],2,FALSE)),\"\")","v":""},{"$f":"IFERROR(X17*(VLOOKUP(Y17,kb_conversion[],2,FALSE)),\"\")","v":""},{"$f":"IFERROR(AE17*(VLOOKUP(AF17,kb_conversion[],2,FALSE)),\"\")","v":""},{"$f":"IFERROR(AL17*(VLOOKUP(AM17,kb_conversion[],2,FALSE)),\"\")","v":""},{"$f":"IFERROR(AS17*(VLOOKUP(AT17,kb_conversion[],2,FALSE)),\"\")","v":""},{"$f":"IF(U17=input_lists!$R$11,input_database!CK17,0)+IF(input_database!AB17=input_lists!$R$11,input_database!CL17,0)+IF(input_database!AI17=input_lists!$R$11,input_database!CM17,0)+IF(input_database!AP17=input_lists!$R$11,input_database!CN17,0)+IF(input_database!AW17=input_lists!$R$11,input_database!CO17,0)","v":0},0,"0","0","1900-06-01","1900-06-01",0,"","0",{"$f":"IFERROR(CR17-SUM(IF(U17=input_lists!$R$11,input_database!CK17,0)+IF(AB17=input_lists!$R$11,input_database!CL17,0)+IF(AI17=input_lists!$R$11,input_database!CM17,0)+IF(AP17=input_lists!$R$11,input_database!CN17,0)+IF(AW17=input_lists!$R$11,input_database!CO17,0)),\"\")","v":0},{"$f":"IFERROR(CS17-SUM(IF(U17=input_lists!$R$12,input_database!CK17,0)+IF(AB17=input_lists!$R$12,input_database!CL17,0)+IF(AI17=input_lists!$R$12,input_database!CM17,0)+IF(AP17=input_lists!$R$12,input_database!CN17,0)+IF(AW17=input_lists!$R$12,input_database!CO17,0)),\"\")","v":0},0,0,"0000",{"$f":"IFERROR(CK17*(VLOOKUP(DC17,convert_lowres_backup[[#All],[Column6]:[Column7]],2,FALSE)),\"0\")","v":"0"},"0000",{"$f":"IFERROR(CL17*(VLOOKUP(DE17,convert_lowres_backup[[#All],[Column6]:[Column7]],2,FALSE)),\"0\")","v":"0"},"0000",{"$f":"IFERROR(CM17*(VLOOKUP(DG17,convert_lowres_backup[[#All],[Column6]:[Column7]],2,FALSE)),\"0\")","v":"0"},"0000",{"$f":"IFERROR(CN17*(VLOOKUP(DI17,convert_lowres_backup[[#All],[Column6]:[Column7]],2,FALSE)),\"0\")","v":"0"},"0000",{"$f":"IFERROR(CO17*(VLOOKUP(DK17,convert_lowres_backup[[#All],[Column6]:[Column7]],2,FALSE)),\"0\")","v":"0"},{"$f":"IF(U17=input_lists!$R$11,input_database!DD17,0)+IF(input_database!AB17=input_lists!$R$11,input_database!DF17,0)+IF(AI17=input_lists!$R$11,input_database!DH17,0)+IF(input_database!AP17=input_lists!$R$11,DJ17,0)+IF(input_database!AW17=input_lists!$R$11,input_database!DL17,0)","v":0},0,0,0,{"$f":"IFERROR(input_database!AZ17*VLOOKUP(BA17,ratios_between_analogue_storage_types[],2,FALSE),\"0\")","v":"0"},"00",{"$f":"IFERROR(DQ17*VLOOKUP(DR17,convert_paper_digitised[[#All],[Reference]:[kb]],2,FALSE),\"0\")","v":"0"},"00",{"$f":"IFERROR(DQ17*VLOOKUP(DT17,convert_paper_digitised[[#All],[Reference]:[kb]],2,FALSE),\"0\")","v":"0"},{"$f":"IFERROR(DS17*VLOOKUP(BF17,colour_scale_conversion[],2,FALSE),0)","v":0},"00",{"$f":"IFERROR(DV17*VLOOKUP(DW17,compressed_files[],2,FALSE),0)","v":0},{"$f":"IFERROR(DU17*VLOOKUP(BF17,colour_scale_conversion[],2,FALSE),0)","v":0},"00",{"$f":"IFERROR(DY17*VLOOKUP(DZ17,compressed_files[#All],3,FALSE),0)","v":0},{"$f":"IFERROR(input_database!BH17*VLOOKUP(BI17,ratios_between_analogue_storage_types[],2,FALSE),\"0\")","v":"0"},"00",{"$f":"IFERROR(EB17*VLOOKUP(EC17,convert_paper_digitised[[#All],[Reference]:[kb]],2,FALSE),\"0\")","v":"0"},"00",{"$f":"IFERROR(EB17*VLOOKUP(EE17,convert_paper_digitised[[#All],[Reference]:[kb]],2,FALSE),\"0\")","v":"0"},{"$f":"IFERROR(ED17*VLOOKUP(BN17,colour_scale_conversion[],2,FALSE),0)","v":0},"00",{"$f":"IFERROR(EG17*VLOOKUP(EH17,compressed_files[#All],2,FALSE),0)","v":0},{"$f":"IFERROR(EF17*VLOOKUP(BN17,colour_scale_conversion[#All],2,FALSE),0)","v":0},"00",{"$f":"IFERROR(EJ17*VLOOKUP(EK17,compressed_files[],3,FALSE),0)","v":0},{"$f":"IFERROR(BP17*VLOOKUP(BQ17,ratios_between_analogue_storage_types[],2,FALSE),\"0\")","v":"0"},"00",{"$f":"IFERROR(EM17*VLOOKUP(EN17,convert_paper_digitised[[#All],[Reference]:[kb]],2,FALSE),\"0\")","v":"0"},"00",{"$f":"IFERROR(EM17*VLOOKUP(EP17,convert_paper_digitised[[#All],[Reference]:[kb]],2,FALSE),\"0\")","v":"0"},{"$f":"IFERROR(EO17*VLOOKUP(BV17,colour_scale_conversion[#All],2,FALSE),0)","v":0},"00",{"$f":"IFERROR(ER17*VLOOKUP(ES17,compressed_files[],2,FALSE),0)","v":0},{"$f":"IFERROR(EQ17*VLOOKUP(BV17,colour_scale_conversion[],2,FALSE),0)","v":0},"00",{"$f":"IFERROR(EU17*VLOOKUP(EV17,compressed_files[],3,FALSE),0)","v":0},{"$f":"IFERROR(BX17*VLOOKUP(BY17,ratios_between_analogue_storage_types[],2,FALSE),\"0\")","v":"0"},"00",{"$f":"IFERROR(EX17*VLOOKUP(EY17,convert_paper_digitised[[#All],[Reference]:[kb]],2,FALSE),\"0\")","v":"0"},"00",{"$f":"IFERROR(EX17*VLOOKUP(FA17,convert_paper_digitised[[#All],[Reference]:[kb]],2,FALSE),\"0\")","v":"0"},{"$f":"IFERROR(EZ17*VLOOKUP(CD17,colour_scale_conversion[],2,FALSE),0)","v":0},"00",{"$f":"IFERROR(FC17*VLOOKUP(FD17,compressed_files[],2,FALSE),0)","v":0},{"$f":"IFERROR(FB17*VLOOKUP(CD17,colour_scale_conversion[],2,FALSE),0)","v":0},"00",{"$f":"IFERROR(FF17*VLOOKUP(FG17,compressed_files[],3,FALSE),0)","v":0},0,0,0,{"$f":"IFERROR(IF(SUM(FV17:FZ17)=0,CE17*VLOOKUP(CF17,ratios_between_analogue_storage_types[],2,FALSE),0),\"0\")","v":"0"},3.2000000000000001E-2,0,46.8,0,3.4598948060486525,0,482.95251786295574,0,0,"","",0,0,0,{"$f":"FI17+FK17","v":0},0,0,0,0,0,0,0]
[{"$f":"input_tab_two!A822","v":0},{"$f":"input_tab_two!E826","v":0},{"$f":"input_tab_one!$C$5","v":0},{"$f":"input_tab_two!B837","v":0},{"$f":"input_tab_two!E837","v":0},{"$f":"input_tab_two!F837","v":0},{"$f":"input_tab_two!I837","v":0},{"$f":"input_tab_two!B842","v":0},{"$f":"input_tab_two!C842","v":0},{"$f":"input_tab_two!E842","v":0},{"$f":"input_tab_two!F842","v":0},{"$f":"input_tab_two!I842","v":0},{"$f":"input_tab_two!B847","v":0},{"$f":"input_tab_two!E847","v":0},{"$f":"input_tab_two!E850","v":0},{"$f":"input_tab_two!F850","v":0},{"$f":"input_tab_two!G850","v":0},{"$f":"input_tab_two!H850","v":0},{"$f":"input_tab_two!I850","v":0},{"$f":"input_tab_two!J850","v":0},{"$f":"input_tab_two!K850","v":0},{"$f":"input_tab_two!E852","v":0},{"$f":"input_tab_two!F852","v":0},{"$f":"input_tab_two!G852","v":0},{"$f":"input_tab_two!H852","v":0},{"$f":"input_tab_two!I852","v":0},{"$f":"input_tab_two!J852","v":0},{"$f":"input_tab_two!K852","v":0},{"$f":"input_tab_two!E854","v":0},{"$f":"input_tab_two!F854","v":0},{"$f":"input_tab_two!G854","v":0},{"$f":"input_tab_two!H854","v":0},{"$f":"input_tab_two!I854","v":0},{"$f":"input_tab_two!J854","v":0},{"$f":"input_tab_two!K854","v":0},{"$f":"input_tab_two!E856","v":0},{"$f":"input_tab_two!F856","v":0},{"$f":"input_tab_two!G856","v":0},{"$f":"input_tab_two!H856","v":0},{"$f":"input_tab_two!I856","v":0},{"$f":"input_tab_two!J856","v":0},{"$f":"input_tab_two!K856","v":0},{"$f":"input_tab_two!E858","v":0},{"$f":"input_tab_two!F858","v":0},{"$f":"input_tab_two!G858","v":0},{"$f":"input_tab_two!H858","v":0},{"$f":"input_tab_two!I858","v":0},{"$f":"input_tab_two!J858","v":0},{"$f":"input_tab_two!K858","v":0},{"$f":"input_tab_two!B865","v":0},{"$f":"input_tab_two!B869","v":0},{"$f":"input_tab_two!D869","v":0},{"$f":"input_tab_two!E869","v":0},{"$f":"input_tab_two!G869","v":0},{"$f":"input_tab_two!I869","v":0},{"$f":"input_tab_two!K869","v":0},{"$f":"input_tab_two!M869","v":0},{"$f":"input_tab_two!O869","v":0},{"$f":"input_tab_two!B871","v":0},{"$f":"input_tab_two!D871","v":0},{"$f":"input_tab_two!E871","v":0},{"$f":"input_tab_two!G871","v":0},{"$f":"input_tab_two!I871","v":0},{"$f":"input_tab_two!K871","v":0},{"$f":"input_tab_two!M871","v":0},{"$f":"input_tab_two!O871","v":0},{"$f":"input_tab_two!B873","v":0},{"$f":"input_tab_two!D873","v":0},{"$f":"input_tab_two!E873","v":0},{"$f":"input_tab_two!G873","v":0},{"$f":"input_tab_two!I873","v":0},{"$f":"input_tab_two!K873","v":0},{"$f":"input_tab_two!M873","v":0},{"$f":"input_tab_two!O873","v":0},{"$f":"input_tab_two!B875","v":0},{"$f":"input_tab_two!D875","v":0},{"$f":"input_tab_two!E875","v":0},{"$f":"input_tab_two!G875","v":0},{"$f":"input_tab_two!I875","v":0},{"$f":"input_tab_two!K875","v":0},{"$f":"input_tab_two!M875","v":0},{"$f":"input_tab_two!O875","v":0},{"$f":"input_tab_two!B882","v":0},{"$f":"input_tab_two!C882","v":0},{"$f":"input_tab_two!E882","v":0},{"$f":"IFERROR(E18*(VLOOKUP(F18,kb_conversion[#All],2,FALSE)),\"\")","v":""},{"$f":"IFERROR(H18*(VLOOKUP(I18,kb_conversion[],2,FALSE)),\"\")","v":""},{"$f":"IFERROR(J18*(VLOOKUP(K18,kb_conversion[],2,FALSE)),\"\")","v":""},{"$f":"IFERROR(Q18*(VLOOKUP(R18,kb_conversion[],2,FALSE)),\"\")","v":""},{"$f":"IFERROR(X18*(VLOOKUP(Y18,kb_conversion[],2,FALSE)),\"\")","v":""},{"$f":"IFERROR(AE18*(VLOOKUP(AF18,kb_conversion[],2,FALSE)),\"\")","v":""},{"$f":"IFERROR(AL18*(VLOOKUP(AM18,kb_conversion[],2,FALSE)),\"\")","v":""},{"$f":"IFERROR(AS18*(VLOOKUP(AT18,kb_conversion[],2,FALSE)),\"\")","v":""},{"$f":"IF(U18=input_lists!$R$11,input_database!CK18,0)+IF(input_database!AB18=input_lists!$R$11,input_database!CL18,0)+IF(input_database!AI18=input_lists!$R$11,input_database!CM18,0)+IF(input_database!AP18=input_lists!$R$11,input_database!CN18,0)+IF(input_database!AW18=input_lists!$R$11,input_database!CO18,0)","v":0},0,"0","0","1900-06-01","1900-06-01",0,"","0",{"$f":"IFERROR(CR18-SUM(IF(U18=input_lists!$R$11,input_database!CK18,0)+IF(AB18=input_lists!$R$11,input_database!CL18,0)+IF(AI18=input_lists!$R$11,input_database!CM18,0)+IF(AP18=input_lists!$R$11,input_database!CN18,0)+IF(AW18=input_lists!$R$11,input_database!CO18,0)),\"\")","v":0},{"$f":"IFERROR(CS18-SUM(IF(U18=input_lists!$R$12,input_database!CK18,0)+IF(AB18=input_lists!$R$12,input_database!CL18,0)+IF(AI18=input_lists!$R$12,input_database!CM18,0)+IF(AP18=input_lists!$R$12,input_database!CN18,0)+IF(AW18=input_lists!$R$12,input_database!CO18,0)),\"\")","v":0},0,0,"0000",{"$f":"IFERROR(CK18*(VLOOKUP(DC18,convert_lowres_backup[[#All],[Column6]:[Column7]],2,FALSE)),\"0\")","v":"0"},"0000",{"$f":"IFERROR(CL18*(VLOOKUP(DE18,convert_lowres_backup[[#All],[Column6]:[Column7]],2,FALSE)),\"0\")","v":"0"},"0000",{"$f":"IFERROR(CM18*(VLOOKUP(DG18,convert_lowres_backup[[#All],[Column6]:[Column7]],2,FALSE)),\"0\")","v":"0"},"0000",{"$f":"IFERROR(CN18*(VLOOKUP(DI18,convert_lowres_backup[[#All],[Column6]:[Column7]],2,FALSE)),\"0\")","v":"0"},"0000",{"$f":"IFERROR(CO18*(VLOOKUP(DK18,convert_lowres_backup[[#All],[Column6]:[Column7]],2,FALSE)),\"0\")","v":"0"},{"$f":"IF(U18=input_lists!$R$11,input_database!DD18,0)+IF(input_database!AB18=input_lists!$R$11,input_database!DF18,0)+IF(AI18=input_lists!$R$11,input_database!DH18,0)+IF(input_database!AP18=input_lists!$R$11,DJ18,0)+IF(input_database!AW18=input_lists!$R$11,input_database!DL18,0)","v":0},0,0,0,{"$f":"IFERROR(input_database!AZ18*VLOOKUP(BA18,ratios_between_analogue_storage_types[],2,FALSE),\"0\")","v":"0"},"00",{"$f":"IFERROR(DQ18*VLOOKUP(DR18,convert_paper_digitised[[#All],[Reference]:[kb]],2,FALSE),\"0\")","v":"0"},"00",{"$f":"IFERROR(DQ18*VLOOKUP(DT18,convert_paper_digitised[[#All],[Reference]:[kb]],2,FALSE),\"0\")","v":"0"},{"$f":"IFERROR(DS18*VLOOKUP(BF18,colour_scale_conversion[],2,FALSE),0)","v":0},"00",{"$f":"IFERROR(DV18*VLOOKUP(DW18,compressed_files[],2,FALSE),0)","v":0},{"$f":"IFERROR(DU18*VLOOKUP(BF18,colour_scale_conversion[],2,FALSE),0)","v":0},"00",{"$f":"IFERROR(DY18*VLOOKUP(DZ18,compressed_files[#All],3,FALSE),0)","v":0},{"$f":"IFERROR(input_database!BH18*VLOOKUP(BI18,ratios_between_analogue_storage_types[],2,FALSE),\"0\")","v":"0"},"00",{"$f":"IFERROR(EB18*VLOOKUP(EC18,convert_paper_digitised[[#All],[Reference]:[kb]],2,FALSE),\"0\")","v":"0"},"00",{"$f":"IFERROR(EB18*VLOOKUP(EE18,convert_paper_digitised[[#All],[Reference]:[kb]],2,FALSE),\"0\")","v":"0"},{"$f":"IFERROR(ED18*VLOOKUP(BN18,colour_scale_conversion[],2,FALSE),0)","v":0},"00",{"$f":"IFERROR(EG18*VLOOKUP(EH18,compressed_files[#All],2,FALSE),0)","v":0},{"$f":"IFERROR(EF18*VLOOKUP(BN18,colour_scale_conversion[#All],2,FALSE),0)","v":0},"00",{"$f":"IFERROR(EJ18*VLOOKUP(EK18,compressed_files[],3,FALSE),0)","v":0},{"$f":"IFERROR(BP18*VLOOKUP(BQ18,ratios_between_analogue_storage_types[],2,FALSE),\"0\")","v":"0"},"00",{"$f":"IFERROR(EM18*VLOOKUP(EN18,convert_paper_digitised[[#All],[Reference]:[kb]],2,FALSE),\"0\")","v":"0"},"00",{"$f":"IFERROR(EM18*VLOOKUP(EP18,convert_paper_digitised[[#All],[Reference]:[kb]],2,FALSE),\"0\")","v":"0"},{"$f":"IFERROR(EO18*VLOOKUP(BV18,colour_scale_conversion[#All],2,FALSE),0)","v":0},"00",{"$f":"IFERROR(ER18*VLOOKUP(ES18,compressed_files[],2,FALSE),0)","v":0},{"$f":"IFERROR(EQ18*VLOOKUP(BV18,colour_scale_conversion[],2,FALSE),0)","v":0},"00",{"$f":"IFERROR(EU18*VLOOKUP(EV18,compressed_files[],3,FALSE),0)","v":0},{"$f":"IFERROR(BX18*VLOOKUP(BY18,ratios_between_analogue_storage_types[],2,FALSE),\"0\")","v":"0"},"00",{"$f":"IFERROR(EX18*VLOOKUP(EY18,convert_paper_digitised[[#All],[Reference]:[kb]],2,FALSE),\"0\")","v":"0"},"00",{"$f":"IFERROR(EX18*VLOOKUP(FA18,convert_paper_digitised[[#All],[Reference]:[kb]],2,FALSE),\"0\")","v":"0"},{"$f":"IFERROR(EZ18*VLOOKUP(CD18,colour_scale_conversion[],2,FALSE),0)","v":0},"00",{"$f":"IFERROR(FC18*VLOOKUP(FD18,compressed_files[],2,FALSE),0)","v":0},{"$f":"IFERROR(FB18*VLOOKUP(CD18,colour_scale_conversion[],2,FALSE),0)","v":0},"00",{"$f":"IFERROR(FF18*VLOOKUP(FG18,compressed_files[],3,FALSE),0)","v":0},0,0,0,{"$f":"IFERROR(IF(SUM(FV18:FZ18)=0,CE18*VLOOKUP(CF18,ratios_between_analogue_storage_types[],2,FALSE),0),\"0\")","v":"0"},3.2000000000000001E-2,0,46.8,0,3.4598948060486525,0,482.95251786295574,0,0,"","",0,0,0,{"$f":"FI18+FK18","v":0},0,0,0,0,0,0,0]
[{"$f":"input_tab_two!A885","v":0},{"$f":"input_tab_two!E889","v":0},{"$f":"input_tab_one!$C$5","v":0},{"$f":"input_tab_two!B900","v":0},{"$f":"input_tab_two!E900","v":0},{"$f":"input_tab_two!F900","v":0},{"$f":"input_tab_two!I900","v":0},{"$f":"input_tab_two!B905","v":0},{"$f":"input_tab_two!C905","v":0},{"$f":"input_tab_two!E905","v":0},{"$f":"input_tab_two!F905","v":0},{"$f":"input_tab_two!I905","v":0},{"$f":"input_tab_two!B910","v":0},{"$f":"input_tab_two!E910","v":0},{"$f":"input_tab_two!E913","v":0},{"$f":"input_tab_two!F913","v":0},{"$f":"input_tab_two!G913","v":0},{"$f":"input_tab_two!H913","v":0},{"$f":"input_tab_two!I913","v":0},{"$f":"input_tab_two!J913","v":0},{"$f":"input_tab_two!K913","v":0},{"$f":"input_tab_two!E915","v":0},{"$f":"input_tab_two!F915","v":0},{"$f":"input_tab_two!G915","v":0},{"$f":"input_tab_two!H915","v":0},{"$f":"input_tab_two!I915","v":0},{"$f":"input_tab_two!J915","v":0},{"$f":"input_tab_two!K915","v":0},{"$f":"input_tab_two!E917","v":0},{"$f":"input_tab_two!F917","v":0},{"$f":"input_tab_two!G917","v":0},{"$f":"input_tab_two!H917","v":0},{"$f":"input_tab_two!I917","v":0},{"$f":"input_tab_two!J917","v":0},{"$f":"input_tab_two!K917","v":0},{"$f":"input_tab_two!E919","v":0},{"$f":"input_tab_two!F919","v":0},{"$f":"input_tab_two!G919","v":0},{"$f":"input_tab_two!H919","v":0},{"$f":"input_tab_two!I919","v":0},{"$f":"input_tab_two!J919","v":0},{"$f":"input_tab_two!K919","v":0},{"$f":"input_tab_two!E921","v":0},{"$f":"input_tab_two!F921","v":0},{"$f":"input_tab_two!G921","v":0},{"$f":"input_tab_two!H921","v":0},{"$f":"input_tab_two!I921","v":0},{"$f":"input_tab_two!J921","v":0},{"$f":"input_tab_two!K921","v":0},{"$f":"input_tab_two!B928","v":0},{"$f":"input_tab_two!B932","v":0},{"$f":"input_tab_two!D932","v":0},{"$f":"input_tab_two!E932","v":0},{"$f":"input_tab_two!G932","v":0},{"$f":"input_tab_two!I932","v":0},{"$f":"input_tab_two!K932","v":0},{"$f":"input_tab_two!M932","v":0},{"$f":"input_tab_two!O932","v":0},{"$f":"input_tab_two!B934","v":0},{"$f":"input_tab_two!D934","v":0},{"$f":"input_tab_two!E934","v":0},{"$f":"input_tab_two!G934","v":0},{"$f":"input_tab_two!I934","v":0},{"$f":"input_tab_two!K934","v":0},{"$f":"input_tab_two!M934","v":0},{"$f":"input_tab_two!O934","v":0},{"$f":"input_tab_two!B936","v":0},{"$f":"input_tab_two!D936","v":0},{"$f":"input_tab_two!E936","v":0},{"$f":"input_tab_two!G936","v":0},{"$f":"input_tab_two!I936","v":0},{"$f":"input_tab_two!K936","v":0},{"$f":"input_tab_two!M936","v":0},{"$f":"input_tab_two!O936","v":0},{"$f":"input_tab_two!B938","v":0},{"$f":"input_tab_two!D938","v":0},{"$f":"input_tab_two!E938","v":0},{"$f":"input_tab_two!G938","v":0},{"$f":"input_tab_two!I938","v":0},{"$f":"input_tab_two!K938","v":0},{"$f":"input_tab_two!M938","v":0},{"$f":"input_tab_two!O938","v":0},{"$f":"input_tab_two!B945","v":0},{"$f":"input_tab_two!C945","v":0},{"$f":"input_tab_two!E945","v":0},{"$f":"IFERROR(E19*(VLOOKUP(F19,kb_conversion[#All],2,FALSE)),\"\")","v":""},{"$f":"IFERROR(H19*(VLOOKUP(I19,kb_conversion[],2,FALSE)),\"\")","v":""},{"$f":"IFERROR(J19*(VLOOKUP(K19,kb_conversion[],2,FALSE)),\"\")","v":""},{"$f":"IFERROR(Q19*(VLOOKUP(R19,kb_conversion[],2,FALSE)),\"\")","v":""},{"$f":"IFERROR(X19*(VLOOKUP(Y19,kb_conversion[],2,FALSE)),\"\")","v":""},{"$f":"IFERROR(AE19*(VLOOKUP(AF19,kb_conversion[],2,FALSE)),\"\")","v":""},{"$f":"IFERROR(AL19*(VLOOKUP(AM19,kb_conversion[],2,FALSE)),\"\")","v":""},{"$f":"IFERROR(AS19*(VLOOKUP(AT19,kb_conversion[],2,FALSE)),\"\")","v":""},{"$f":"IF(U19=input_lists!$R$11,input_database!CK19,0)+IF(input_database!AB19=input_lists!$R$11,input_database!CL19,0)+IF(input_database!AI19=input_lists!$R$11,input_database!CM19,0)+IF(input_database!AP19=input_lists!$R$11,input_database!CN19,0)+IF(input_database!AW19=input_lists!$R$11,input_database!CO19,0)","v":0},0,"0","0","1900-06-01","1900-06-01",0,"","0",{"$f":"IFERROR(CR19-SUM(IF(U19=input_lists!$R$11,input_database!CK19,0)+IF(AB19=input_lists!$R$11,input_database!CL19,0)+IF(AI19=input_lists!$R$11,input_database!CM19,0)+IF(AP19=input_lists!$R$11,input_database!CN19,0)+IF(AW19=input_lists!$R$11,input_database!CO19,0)),\"\")","v":0},{"$f":"IFERROR(CS19-SUM(IF(U19=input_lists!$R$12,input_database!CK19,0)+IF(AB19=input_lists!$R$12,input_database!CL19,0)+IF(AI19=input_lists!$R$12,input_database!CM19,0)+IF(AP19=input_lists!$R$12,input_database!CN19,0)+IF(AW19=input_lists!$R$12,input_database!CO19,0)),\"\")","v":0},0,0,"0000",{"$f":"IFERROR(CK19*(VLOOKUP(DC19,convert_lowres_backup[[#All],[Column6]:[Column7]],2,FALSE)),\"0\")","v":"0"},"0000",{"$f":"IFERROR(CL19*(VLOOKUP(DE19,convert_lowres_backup[[#All],[Column6]:[Column7]],2,FALSE)),\"0\")","v":"0"},"0000",{"$f":"IFERROR(CM19*(VLOOKUP(DG19,convert_lowres_backup[[#All],[Column6]:[Column7]],2,FALSE)),\"0\")","v":"0"},"0000",{"$f":"IFERROR(CN19*(VLOOKUP(DI19,convert_lowres_backup[[#All],[Column6]:[Column7]],2,FALSE)),\"0\")","v":"0"},"0000",{"$f":"IFERROR(CO19*(VLOOKUP(DK19,convert_lowres_backup[[#All],[Column6]:[Column7]],2,FALSE)),\"0\")","v":"0"},{"$f":"IF(U19=input_lists!$R$11,input_database!DD19,0)+IF(input_database!AB19=input_lists!$R$11,input_database!DF19,0)+IF(AI19=input_lists!$R$11,input_database!DH19,0)+IF(input_database!AP19=input_lists!$R$11,DJ19,0)+IF(input_database!AW19=input_lists!$R$11,input_database!DL19,0)","v":0},0,0,0,{"$f":"IFERROR(input_database!AZ19*VLOOKUP(BA19,ratios_between_analogue_storage_types[],2,FALSE),\"0\")","v":"0"},"00",{"$f":"IFERROR(DQ19*VLOOKUP(DR19,convert_paper_digitised[[#All],[Reference]:[kb]],2,FALSE),\"0\")","v":"0"},"00",{"$f":"IFERROR(DQ19*VLOOKUP(DT19,convert_paper_digitised[[#All],[Reference]:[kb]],2,FALSE),\"0\")","v":"0"},{"$f":"IFERROR(DS19*VLOOKUP(BF19,colour_scale_conversion[],2,FALSE),0)","v":0},"00",{"$f":"IFERROR(DV19*VLOOKUP(DW19,compressed_files[],2,FALSE),0)","v":0},{"$f":"IFERROR(DU19*VLOOKUP(BF19,colour_scale_conversion[],2,FALSE),0)","v":0},"00",{"$f":"IFERROR(DY19*VLOOKUP(DZ19,compressed_files[#All],3,FALSE),0)","v":0},{"$f":"IFERROR(input_database!BH19*VLOOKUP(BI19,ratios_between_analogue_storage_types[],2,FALSE),\"0\")","v":"0"},"00",{"$f":"IFERROR(EB19*VLOOKUP(EC19,convert_paper_digitised[[#All],[Reference]:[kb]],2,FALSE),\"0\")","v":"0"},"00",{"$f":"IFERROR(EB19*VLOOKUP(EE19,convert_paper_digitised[[#All],[Reference]:[kb]],2,FALSE),\"0\")","v":"0"},{"$f":"IFERROR(ED19*VLOOKUP(BN19,colour_scale_conversion[],2,FALSE),0)","v":0},"00",{"$f":"IFERROR(EG19*VLOOKUP(EH19,compressed_files[#All],2,FALSE),0)","v":0},{"$f":"IFERROR(EF19*VLOOKUP(BN19,colour_scale_conversion[#All],2,FALSE),0)","v":0},"00",{"$f":"IFERROR(EJ19*VLOOKUP(EK19,compressed_files[],3,FALSE),0)","v":0},{"$f":"IFERROR(BP19*VLOOKUP(BQ19,ratios_between_analogue_storage_types[],2,FALSE),\"0\")","v":"0"},"00",{"$f":"IFERROR(EM19*VLOOKUP(EN19,convert_paper_digitised[[#All],[Reference]:[kb]],2,FALSE),\"0\")","v":"0"},"00",{"$f":"IFERROR(EM19*VLOOKUP(EP19,convert_paper_digitised[[#All],[Reference]:[kb]],2,FALSE),\"0\")","v":"0"},{"$f":"IFERROR(EO19*VLOOKUP(BV19,colour_scale_conversion[#All],2,FALSE),0)","v":0},"00",{"$f":"IFERROR(ER19*VLOOKUP(ES19,compressed_files[],2,FALSE),0)","v":0},{"$f":"IFERROR(EQ19*VLOOKUP(BV19,colour_scale_conversion[],2,FALSE),0)","v":0},"00",{"$f":"IFERROR(EU19*VLOOKUP(EV19,compressed_files[],3,FALSE),0)","v":0},{"$f":"IFERROR(BX19*VLOOKUP(BY19,ratios_between_analogue_storage_types[],2,FALSE),\"0\")","v":"0"},"00",{"$f":"IFERROR(EX19*VLOOKUP(EY19,convert_paper_digitised[[#All],[Reference]:[kb]],2,FALSE),\"0\")","v":"0"},"00",{"$f":"IFERROR(EX19*VLOOKUP(FA19,convert_paper_digitised[[#All],[Reference]:[kb]],2,FALSE),\"0\")","v":"0"},{"$f":"IFERROR(EZ19*VLOOKUP(CD19,colour_scale_conversion[],2,FALSE),0)","v":0},"00",{"$f":"IFERROR(FC19*VLOOKUP(FD19,compressed_files[],2,FALSE),0)","v":0},{"$f":"IFERROR(FB19*VLOOKUP(CD19,colour_scale_conversion[],2,FALSE),0)","v":0},"00",{"$f":"IFERROR(FF19*VLOOKUP(FG19,compressed_files[],3,FALSE),0)","v":0},0,0,0,{"$f":"IFERROR(IF(SUM(FV19:FZ19)=0,CE19*VLOOKUP(CF19,ratios_between_analogue_storage_types[],2,FALSE),0),\"0\")","v":"0"},3.2000000000000001E-2,0,46.8,0,3.4598948060486525,0,482.95251786295574,0,0,"","",0,0,0,{"$f":"FI19+FK19","v":0},0,0,0,0,0,0,0]
[{"$f":"input_tab_two!A948","v":0},{"$f":"input_tab_two!E952","v":0},{"$f":"input_tab_one!$C$5","v":0},{"$f":"input_tab_two!B963","v":0},{"$f":"input_tab_two!E963","v":0},{"$f":"input_tab_two!F963","v":0},{"$f":"input_tab_two!I963","v":0},{"$f":"input_tab_two!B968","v":0},{"$f":"input_tab_two!C968","v":0},{"$f":"input_tab_two!E968","v":0},{"$f":"input_tab_two!F968","v":0},{"$f":"input_tab_two!I968","v":0},{"$f":"input_tab_two!B973","v":0},{"$f":"input_tab_two!E973","v":0},{"$f":"input_tab_two!E976","v":0},{"$f":"input_tab_two!F976","v":0},{"$f":"input_tab_two!G976","v":0},{"$f":"input_tab_two!H976","v":0},{"$f":"input_tab_two!I976","v":0},{"$f":"input_tab_two!J976","v":0},{"$f":"input_tab_two!K976","v":0},{"$f":"input_tab_two!E978","v":0},{"$f":"input_tab_two!F978","v":0},{"$f":"input_tab_two!G978","v":0},{"$f":"input_tab_two!H978","v":0},{"$f":"input_tab_two!I978","v":0},{"$f":"input_tab_two!J978","v":0},{"$f":"input_tab_two!K978","v":0},{"$f":"input_tab_two!E980","v":0},{"$f":"input_tab_two!F980","v":0},{"$f":"input_tab_two!G980","v":0},{"$f":"input_tab_two!H980","v":0},{"$f":"input_tab_two!I980","v":0},{"$f":"input_tab_two!J980","v":0},{"$f":"input_tab_two!K980","v":0},{"$f":"input_tab_two!E982","v":0},{"$f":"input_tab_two!F982","v":0},{"$f":"input_tab_two!G982","v":0},{"$f":"input_tab_two!H982","v":0},{"$f":"input_tab_two!I982","v":0},{"$f":"input_tab_two!J982","v":0},{"$f":"input_tab_two!K982","v":0},{"$f":"input_tab_two!E984","v":0},{"$f":"input_tab_two!F984","v":0},{"$f":"input_tab_two!G984","v":0},{"$f":"input_tab_two!H984","v":0},{"$f":"input_tab_two!I984","v":0},{"$f":"input_tab_two!J984","v":0},{"$f":"input_tab_two!K984","v":0},{"$f":"input_tab_two!B991","v":0},{"$f":"input_tab_two!B995","v":0},{"$f":"input_tab_two!D995","v":0},{"$f":"input_tab_two!E995","v":0},{"$f":"input_tab_two!G995","v":0},{"$f":"input_tab_two!I995","v":0},{"$f":"input_tab_two!K995","v":0},{"$f":"input_tab_two!M995","v":0},{"$f":"input_tab_two!O995","v":0},{"$f":"input_tab_two!B997","v":0},{"$f":"input_tab_two!D997","v":0},{"$f":"input_tab_two!E997","v":0},{"$f":"input_tab_two!G997","v":0},{"$f":"input_tab_two!I997","v":0},{"$f":"input_tab_two!K997","v":0},{"$f":"input_tab_two!M997","v":0},{"$f":"input_tab_two!O997","v":0},{"$f":"input_tab_two!B999","v":0},{"$f":"input_tab_two!D999","v":0},{"$f":"input_tab_two!E999","v":0},{"$f":"input_tab_two!G999","v":0},{"$f":"input_tab_two!I999","v":0},{"$f":"input_tab_two!K999","v":0},{"$f":"input_tab_two!M999","v":0},{"$f":"input_tab_two!O999","v":0},{"$f":"input_tab_two!B1001","v":0},{"$f":"input_tab_two!D1001","v":0},{"$f":"input_tab_two!E1001","v":0},{"$f":"input_tab_two!G1001","v":0},{"$f":"input_tab_two!I1001","v":0},{"$f":"input_tab_two!K1001","v":0},{"$f":"input_tab_two!M1001","v":0},{"$f":"input_tab_two!O1001","v":0},{"$f":"input_tab_two!B1008","v":0},{"$f":"input_tab_two!C1008","v":0},{"$f":"input_tab_two!E1008","v":0},{"$f":"IFERROR(E20*(VLOOKUP(F20,kb_conversion[#All],2,FALSE)),\"\")","v":""},{"$f":"IFERROR(H20*(VLOOKUP(I20,kb_conversion[],2,FALSE)),\"\")","v":""},{"$f":"IFERROR(J20*(VLOOKUP(K20,kb_conversion[],2,FALSE)),\"\")","v":""},{"$f":"IFERROR(Q20*(VLOOKUP(R20,kb_conversion[],2,FALSE)),\"\")","v":""},{"$f":"IFERROR(X20*(VLOOKUP(Y20,kb_conversion[],2,FALSE)),\"\")","v":""},{"$f":"IFERROR(AE20*(VLOOKUP(AF20,kb_conversion[],2,FALSE)),\"\")","v":""},{"$f":"IFERROR(AL20*(VLOOKUP(AM20,kb_conversion[],2,FALSE)),\"\")","v":""},{"$f":"IFERROR(AS20*(VLOOKUP(AT20,kb_conversion[],2,FALSE)),\"\")","v":""},{"$f":"IF(U20=input_lists!$R$11,input_database!CK20,0)+IF(input_database!AB20=input_lists!$R$11,input_database!CL20,0)+IF(input_database!AI20=input_lists!$R$11,input_database!CM20,0)+IF(input_database!AP20=input_lists!$R$11,input_database!CN20,0)+IF(input_database!AW20=input_lists!$R$11,input_database!CO20,0)","v":0},0,"0","0","1900-06-01","1900-06-01",0,"","0",{"$f":"IFERROR(CR20-SUM(IF(U20=input_lists!$R$11,input_database!CK20,0)+IF(AB20=input_lists!$R$11,input_database!CL20,0)+IF(AI20=input_lists!$R$11,input_database!CM20,0)+IF(AP20=input_lists!$R$11,input_database!CN20,0)+IF(AW20=input_lists!$R$11,input_database!CO20,0)),\"\")","v":0},{"$f":"IFERROR(CS20-SUM(IF(U20=input_lists!$R$12,input_database!CK20,0)+IF(AB20=input_lists!$R$12,input_database!CL20,0)+IF(AI20=input_lists!$R$12,input_database!CM20,0)+IF(AP20=input_lists!$R$12,input_database!CN20,0)+IF(AW20=input_lists!$R$12,input_database!CO20,0)),\"\")","v":0},0,0,"0000",{"$f":"IFERROR(CK20*(VLOOKUP(DC20,convert_lowres_backup[[#All],[Column6]:[Column7]],2,FALSE)),\"0\")","v":"0"},"0000",{"$f":"IFERROR(CL20*(VLOOKUP(DE20,convert_lowres_backup[[#All],[Column6]:[Column7]],2,FALSE)),\"0\")","v":"0"},"0000",{"$f":"IFERROR(CM20*(VLOOKUP(DG20,convert_lowres_backup[[#All],[Column6]:[Column7]],2,FALSE)),\"0\")","v":"0"},"0000",{"$f":"IFERROR(CN20*(VLOOKUP(DI20,convert_lowres_backup[[#All],[Column6]:[Column7]],2,FALSE)),\"0\")","v":"0"},"0000",{"$f":"IFERROR(CO20*(VLOOKUP(DK20,convert_lowres_backup[[#All],[Column6]:[Column7]],2,FALSE)),\"0\")","v":"0"},{"$f":"IF(U20=input_lists!$R$11,input_database!DD20,0)+IF(input_database!AB20=input_lists!$R$11,input_database!DF20,0)+IF(AI20=input_lists!$R$11,input_database!DH20,0)+IF(input_database!AP20=input_lists!$R$11,DJ20,0)+IF(input_database!AW20=input_lists!$R$11,input_database!DL20,0)","v":0},0,0,0,{"$f":"IFERROR(input_database!AZ20*VLOOKUP(BA20,ratios_between_analogue_storage_types[],2,FALSE),\"0\")","v":"0"},"00",{"$f":"IFERROR(DQ20*VLOOKUP(DR20,convert_paper_digitised[[#All],[Reference]:[kb]],2,FALSE),\"0\")","v":"0"},"00",{"$f":"IFERROR(DQ20*VLOOKUP(DT20,convert_paper_digitised[[#All],[Reference]:[kb]],2,FALSE),\"0\")","v":"0"},{"$f":"IFERROR(DS20*VLOOKUP(BF20,colour_scale_conversion[],2,FALSE),0)","v":0},"00",{"$f":"IFERROR(DV20*VLOOKUP(DW20,compressed_files[],2,FALSE),0)","v":0},{"$f":"IFERROR(DU20*VLOOKUP(BF20,colour_scale_conversion[],2,FALSE),0)","v":0},"00",{"$f":"IFERROR(DY20*VLOOKUP(DZ20,compressed_files[#All],3,FALSE),0)","v":0},{"$f":"IFERROR(input_database!BH20*VLOOKUP(BI20,ratios_between_analogue_storage_types[],2,FALSE),\"0\")","v":"0"},"00",{"$f":"IFERROR(EB20*VLOOKUP(EC20,convert_paper_digitised[[#All],[Reference]:[kb]],2,FALSE),\"0\")","v":"0"},"00",{"$f":"IFERROR(EB20*VLOOKUP(EE20,convert_paper_digitised[[#All],[Reference]:[kb]],2,FALSE),\"0\")","v":"0"},{"$f":"IFERROR(ED20*VLOOKUP(BN20,colour_scale_conversion[],2,FALSE),0)","v":0},"00",{"$f":"IFERROR(EG20*VLOOKUP(EH20,compressed_files[#All],2,FALSE),0)","v":0},{"$f":"IFERROR(EF20*VLOOKUP(BN20,colour_scale_conversion[#All],2,FALSE),0)","v":0},"00",{"$f":"IFERROR(EJ20*VLOOKUP(EK20,compressed_files[],3,FALSE),0)","v":0},{"$f":"IFERROR(BP20*VLOOKUP(BQ20,ratios_between_analogue_storage_types[],2,FALSE),\"0\")","v":"0"},"00",{"$f":"IFERROR(EM20*VLOOKUP(EN20,convert_paper_digitised[[#All],[Reference]:[kb]],2,FALSE),\"0\")","v":"0"},"00",{"$f":"IFERROR(EM20*VLOOKUP(EP20,convert_paper_digitised[[#All],[Reference]:[kb]],2,FALSE),\"0\")","v":"0"},{"$f":"IFERROR(EO20*VLOOKUP(BV20,colour_scale_conversion[#All],2,FALSE),0)","v":0},"00",{"$f":"IFERROR(ER20*VLOOKUP(ES20,compressed_files[],2,FALSE),0)","v":0},{"$f":"IFERROR(EQ20*VLOOKUP(BV20,colour_scale_conversion[],2,FALSE),0)","v":0},"00",{"$f":"IFERROR(EU20*VLOOKUP(EV20,compressed_files[],3,FALSE),0)","v":0},{"$f":"IFERROR(BX20*VLOOKUP(BY20,ratios_between_analogue_storage_types[],2,FALSE),\"0\")","v":"0"},"00",{"$f":"IFERROR(EX20*VLOOKUP(EY20,convert_paper_digitised[[#All],[Reference]:[kb]],2,FALSE),\"0\")","v":"0"},"00",{"$f":"IFERROR(EX20*VLOOKUP(FA20,convert_paper_digitised[[#All],[Reference]:[kb]],2,FALSE),\"0\")","v":"0"},{"$f":"IFERROR(EZ20*VLOOKUP(CD20,colour_scale_conversion[],2,FALSE),0)","v":0},"00",{"$f":"IFERROR(FC20*VLOOKUP(FD20,compressed_files[],2,FALSE),0)","v":0},{"$f":"IFERROR(FB20*VLOOKUP(CD20,colour_scale_conversion[],2,FALSE),0)","v":0},"00",{"$f":"IFERROR(FF20*VLOOKUP(FG20,compressed_files[],3,FALSE),0)","v":0},0,0,0,{"$f":"IFERROR(IF(SUM(FV20:FZ20)=0,CE20*VLOOKUP(CF20,ratios_between_analogue_storage_types[],2,FALSE),0),\"0\")","v":"0"},3.2000000000000001E-2,0,46.8,0,3.4598948060486525,0,482.95251786295574,0,0,"","",0,0,0,{"$f":"FI20+FK20","v":0},0,0,0,0,0,0,0]
[{"$f":"input_tab_two!A1011","v":0},{"$f":"input_tab_two!E1015","v":0},{"$f":"input_tab_one!$C$5","v":0},{"$f":"input_tab_two!B1026","v":0},{"$f":"input_tab_two!E1026","v":0},{"$f":"input_tab_two!F1026","v":0},{"$f":"input_tab_two!I1026","v":0},{"$f":"input_tab_two!B1031","v":0},{"$f":"input_tab_two!C1031","v":0},{"$f":"input_tab_two!E1031","v":0},{"$f":"input_tab_two!F1031","v":0},{"$f":"input_tab_two!I1031","v":0},{"$f":"input_tab_two!B1036","v":0},{"$f":"input_tab_two!E1036","v":0},{"$f":"input_tab_two!E1039","v":0},{"$f":"input_tab_two!F1039","v":0},{"$f":"input_tab_two!G1039","v":0},{"$f":"input_tab_two!H1039","v":0},{"$f":"input_tab_two!I1039","v":0},{"$f":"input_tab_two!J1039","v":0},{"$f":"input_tab_two!K1039","v":0},{"$f":"input_tab_two!E1041","v":0},{"$f":"input_tab_two!F1041","v":0},{"$f":"input_tab_two!G1041","v":0},{"$f":"input_tab_two!H1041","v":0},{"$f":"input_tab_two!I1041","v":0},{"$f":"input_tab_two!J1041","v":0},{"$f":"input_tab_two!K1041","v":0},{"$f":"input_tab_two!E1043","v":0},{"$f":"input_tab_two!F1043","v":0},{"$f":"input_tab_two!G1043","v":0},{"$f":"input_tab_two!H1043","v":0},{"$f":"input_tab_two!I1043","v":0},{"$f":"input_tab_two!J1043","v":0},{"$f":"input_tab_two!K1043","v":0},{"$f":"input_tab_two!E1045","v":0},{"$f":"input_tab_two!F1045","v":0},{"$f":"input_tab_two!G1045","v":0},{"$f":"input_tab_two!H1045","v":0},{"$f":"input_tab_two!I1045","v":0},{"$f":"input_tab_two!J1045","v":0},{"$f":"input_tab_two!K1045","v":0},{"$f":"input_tab_two!E1047","v":0},{"$f":"input_tab_two!F1047","v":0},{"$f":"input_tab_two!G1047","v":0},{"$f":"input_tab_two!H1047","v":0},{"$f":"input_tab_two!I1047","v":0},{"$f":"input_tab_two!J1047","v":0},{"$f":"input_tab_two!K1047","v":0},{"$f":"input_tab_two!B1054","v":0},{"$f":"input_tab_two!B1058","v":0},{"$f":"input_tab_two!D1058","v":0},{"$f":"input_tab_two!E1058","v":0},{"$f":"input_tab_two!G1058","v":0},{"$f":"input_tab_two!I1058","v":0},{"$f":"input_tab_two!K1058","v":0},{"$f":"input_tab_two!M1058","v":0},{"$f":"input_tab_two!O1058","v":0},{"$f":"input_tab_two!B1060","v":0},{"$f":"input_tab_two!D1060","v":0},{"$f":"input_tab_two!E1060","v":0},{"$f":"input_tab_two!G1060","v":0},{"$f":"input_tab_two!I1060","v":0},{"$f":"input_tab_two!K1060","v":0},{"$f":"input_tab_two!M1060","v":0},{"$f":"input_tab_two!O1060","v":0},{"$f":"input_tab_two!B1062","v":0},{"$f":"input_tab_two!D1062","v":0},{"$f":"input_tab_two!E1062","v":0},{"$f":"input_tab_two!G1062","v":0},{"$f":"input_tab_two!I1062","v":0},{"$f":"input_tab_two!K1062","v":0},{"$f":"input_tab_two!M1062","v":0},{"$f":"input_tab_two!O1062","v":0},{"$f":"input_tab_two!B1064","v":0},{"$f":"input_tab_two!D1064","v":0},{"$f":"input_tab_two!E1064","v":0},{"$f":"input_tab_two!G1064","v":0},{"$f":"input_tab_two!I1064","v":0},{"$f":"input_tab_two!K1064","v":0},{"$f":"input_tab_two!M1064","v":0},{"$f":"input_tab_two!O1064","v":0},{"$f":"input_tab_two!B1071","v":0},{"$f":"input_tab_two!C1071","v":0},{"$f":"input_tab_two!E1071","v":0},{"$f":"IFERROR(E21*(VLOOKUP(F21,kb_conversion[#All],2,FALSE)),\"\")","v":""},{"$f":"IFERROR(H21*(VLOOKUP(I21,kb_conversion[],2,FALSE)),\"\")","v":""},{"$f":"IFERROR(J21*(VLOOKUP(K21,kb_conversion[],2,FALSE)),\"\")","v":""},{"$f":"IFERROR(Q21*(VLOOKUP(R21,kb_conversion[],2,FALSE)),\"\")","v":""},{"$f":"IFERROR(X21*(VLOOKUP(Y21,kb_conversion[],2,FALSE)),\"\")","v":""},{"$f":"IFERROR(AE21*(VLOOKUP(AF21,kb_conversion[],2,FALSE)),\"\")","v":""},{"$f":"IFERROR(AL21*(VLOOKUP(AM21,kb_conversion[],2,FALSE)),\"\")","v":""},{"$f":"IFERROR(AS21*(VLOOKUP(AT21,kb_conversion[],2,FALSE)),\"\")","v":""},{"$f":"IF(U21=input_lists!$R$11,input_database!CK21,0)+IF(input_database!AB21=input_lists!$R$11,input_database!CL21,0)+IF(input_database!AI21=input_lists!$R$11,input_database!CM21,0)+IF(input_database!AP21=input_lists!$R$11,input_database!CN21,0)+IF(input_database!AW21=input_lists!$R$11,input_database!CO21,0)","v":0},0,"0","0","1900-06-01","1900-06-01",0,"","0",{"$f":"IFERROR(CR21-SUM(IF(U21=input_lists!$R$11,input_database!CK21,0)+IF(AB21=input_lists!$R$11,input_database!CL21,0)+IF(AI21=input_lists!$R$11,input_database!CM21,0)+IF(AP21=input_lists!$R$11,input_database!CN21,0)+IF(AW21=input_lists!$R$11,input_database!CO21,0)),\"\")","v":0},{"$f":"IFERROR(CS21-SUM(IF(U21=input_lists!$R$12,input_database!CK21,0)+IF(AB21=input_lists!$R$12,input_database!CL21,0)+IF(AI21=input_lists!$R$12,input_database!CM21,0)+IF(AP21=input_lists!$R$12,input_database!CN21,0)+IF(AW21=input_lists!$R$12,input_database!CO21,0)),\"\")","v":0},0,0,"0000",{"$f":"IFERROR(CK21*(VLOOKUP(DC21,convert_lowres_backup[[#All],[Column6]:[Column7]],2,FALSE)),\"0\")","v":"0"},"0000",{"$f":"IFERROR(CL21*(VLOOKUP(DE21,convert_lowres_backup[[#All],[Column6]:[Column7]],2,FALSE)),\"0\")","v":"0"},"0000",{"$f":"IFERROR(CM21*(VLOOKUP(DG21,convert_lowres_backup[[#All],[Column6]:[Column7]],2,FALSE)),\"0\")","v":"0"},"0000",{"$f":"IFERROR(CN21*(VLOOKUP(DI21,convert_lowres_backup[[#All],[Column6]:[Column7]],2,FALSE)),\"0\")","v":"0"},"0000",{"$f":"IFERROR(CO21*(VLOOKUP(DK21,convert_lowres_backup[[#All],[Column6]:[Column7]],2,FALSE)),\"0\")","v":"0"},{"$f":"IF(U21=input_lists!$R$11,input_database!DD21,0)+IF(input_database!AB21=input_lists!$R$11,input_database!DF21,0)+IF(AI21=input_lists!$R$11,input_database!DH21,0)+IF(input_database!AP21=input_lists!$R$11,DJ21,0)+IF(input_database!AW21=input_lists!$R$11,input_database!DL21,0)","v":0},0,0,0,{"$f":"IFERROR(input_database!AZ21*VLOOKUP(BA21,ratios_between_analogue_storage_types[],2,FALSE),\"0\")","v":"0"},"00",{"$f":"IFERROR(DQ21*VLOOKUP(DR21,convert_paper_digitised[[#All],[Reference]:[kb]],2,FALSE),\"0\")","v":"0"},"00",{"$f":"IFERROR(DQ21*VLOOKUP(DT21,convert_paper_digitised[[#All],[Reference]:[kb]],2,FALSE),\"0\")","v":"0"},{"$f":"IFERROR(DS21*VLOOKUP(BF21,colour_scale_conversion[],2,FALSE),0)","v":0},"00",{"$f":"IFERROR(DV21*VLOOKUP(DW21,compressed_files[],2,FALSE),0)","v":0},{"$f":"IFERROR(DU21*VLOOKUP(BF21,colour_scale_conversion[],2,FALSE),0)","v":0},"00",{"$f":"IFERROR(DY21*VLOOKUP(DZ21,compressed_files[#All],3,FALSE),0)","v":0},{"$f":"IFERROR(input_database!BH21*VLOOKUP(BI21,ratios_between_analogue_storage_types[],2,FALSE),\"0\")","v":"0"},"00",{"$f":"IFERROR(EB21*VLOOKUP(EC21,convert_paper_digitised[[#All],[Reference]:[kb]],2,FALSE),\"0\")","v":"0"},"00",{"$f":"IFERROR(EB21*VLOOKUP(EE21,convert_paper_digitised[[#All],[Reference]:[kb]],2,FALSE),\"0\")","v":"0"},{"$f":"IFERROR(ED21*VLOOKUP(BN21,colour_scale_conversion[],2,FALSE),0)","v":0},"00",{"$f":"IFERROR(EG21*VLOOKUP(EH21,compressed_files[#All],2,FALSE),0)","v":0},{"$f":"IFERROR(EF21*VLOOKUP(BN21,colour_scale_conversion[#All],2,FALSE),0)","v":0},"00",{"$f":"IFERROR(EJ21*VLOOKUP(EK21,compressed_files[],3,FALSE),0)","v":0},{"$f":"IFERROR(BP21*VLOOKUP(BQ21,ratios_between_analogue_storage_types[],2,FALSE),\"0\")","v":"0"},"00",{"$f":"IFERROR(EM21*VLOOKUP(EN21,convert_paper_digitised[[#All],[Reference]:[kb]],2,FALSE),\"0\")","v":"0"},"00",{"$f":"IFERROR(EM21*VLOOKUP(EP21,convert_paper_digitised[[#All],[Reference]:[kb]],2,FALSE),\"0\")","v":"0"},{"$f":"IFERROR(EO21*VLOOKUP(BV21,colour_scale_conversion[#All],2,FALSE),0)","v":0},"00",{"$f":"IFERROR(ER21*VLOOKUP(ES21,compressed_files[],2,FALSE),0)","v":0},{"$f":"IFERROR(EQ21*VLOOKUP(BV21,colour_scale_conversion[],2,FALSE),0)","v":0},"00",{"$f":"IFERROR(EU21*VLOOKUP(EV21,compressed_files[],3,FALSE),0)","v":0},{"$f":"IFERROR(BX21*VLOOKUP(BY21,ratios_between_analogue_storage_types[],2,FALSE),\"0\")","v":"0"},"00",{"$f":"IFERROR(EX21*VLOOKUP(EY21,convert_paper_digitised[[#All],[Reference]:[kb]],2,FALSE),\"0\")","v":"0"},"00",{"$f":"IFERROR(EX21*VLOOKUP(FA21,convert_paper_digitised[[#All],[Reference]:[kb]],2,FALSE),\"0\")","v":"0"},{"$f":"IFERROR(EZ21*VLOOKUP(CD21,colour_scale_conversion[],2,FALSE),0)","v":0},"00",{"$f":"IFERROR(FC21*VLOOKUP(FD21,compressed_files[],2,FALSE),0)","v":0},{"$f":"IFERROR(FB21*VLOOKUP(CD21,colour_scale_conversion[],2,FALSE),0)","v":0},"00",{"$f":"IFERROR(FF21*VLOOKUP(FG21,compressed_files[],3,FALSE),0)","v":0},0,0,0,{"$f":"IFERROR(IF(SUM(FV21:FZ21)=0,CE21*VLOOKUP(CF21,ratios_between_analogue_storage_types[],2,FALSE),0),\"0\")","v":"0"},3.2000000000000001E-2,0,46.8,0,3.4598948060486525,0,482.95251786295574,0,0,"","",0,0,0,{"$f":"FI21+FK21","v":0},0,0,0,0,0,0,0]
[{"$f":"input_tab_two!A1074","v":0},{"$f":"input_tab_two!E1078","v":0},{"$f":"input_tab_one!$C$5","v":0},{"$f":"input_tab_two!B1089","v":0},{"$f":"input_tab_two!E1089","v":0},{"$f":"input_tab_two!F1089","v":0},{"$f":"input_tab_two!I1089","v":0},{"$f":"input_tab_two!B1094","v":0},{"$f":"input_tab_two!C1094","v":0},{"$f":"input_tab_two!E1094","v":0},{"$f":"input_tab_two!F1094","v":0},{"$f":"input_tab_two!I1094","v":0},{"$f":"input_tab_two!B1099","v":0},{"$f":"input_tab_two!E1099","v":0},{"$f":"input_tab_two!E1102","v":0},{"$f":"input_tab_two!F1102","v":0},{"$f":"input_tab_two!G1102","v":0},{"$f":"input_tab_two!H1102","v":0},{"$f":"input_tab_two!I1102","v":0},{"$f":"input_tab_two!J1102","v":0},{"$f":"input_tab_two!K1102","v":0},{"$f":"input_tab_two!E1104","v":0},{"$f":"input_tab_two!F1104","v":0},{"$f":"input_tab_two!G1104","v":0},{"$f":"input_tab_two!H1104","v":0},{"$f":"input_tab_two!I1104","v":0},{"$f":"input_tab_two!J1104","v":0},{"$f":"input_tab_two!K1104","v":0},{"$f":"input_tab_two!E1106","v":0},{"$f":"input_tab_two!F1106","v":0},{"$f":"input_tab_two!G1106","v":0},{"$f":"input_tab_two!H1106","v":0},{"$f":"input_tab_two!I1106","v":0},{"$f":"input_tab_two!J1106","v":0},{"$f":"input_tab_two!K1106","v":0},{"$f":"input_tab_two!E1108","v":0},{"$f":"input_tab_two!F1108","v":0},{"$f":"input_tab_two!G1108","v":0},{"$f":"input_tab_two!H1108","v":0},{"$f":"input_tab_two!I1108","v":0},{"$f":"input_tab_two!J1108","v":0},{"$f":"input_tab_two!K1108","v":0},{"$f":"input_tab_two!E1110","v":0},{"$f":"input_tab_two!F1110","v":0},{"$f":"input_tab_two!G1110","v":0},{"$f":"input_tab_two!H1110","v":0},{"$f":"input_tab_two!I1110","v":0},{"$f":"input_tab_two!J1110","v":0},{"$f":"input_tab_two!K1110","v":0},{"$f":"input_tab_two!B1117","v":0},{"$f":"input_tab_two!B1121","v":0},{"$f":"input_tab_two!D1121","v":0},{"$f":"input_tab_two!E1121","v":0},{"$f":"input_tab_two!G1121","v":0},{"$f":"input_tab_two!I1121","v":0},{"$f":"input_tab_two!K1121","v":0},{"$f":"input_tab_two!M1121","v":0},{"$f":"input_tab_two!O1121","v":0},{"$f":"input_tab_two!B1123","v":0},{"$f":"input_tab_two!D1123","v":0},{"$f":"input_tab_two!E1123","v":0},{"$f":"input_tab_two!G1123","v":0},{"$f":"input_tab_two!I1123","v":0},{"$f":"input_tab_two!K1123","v":0},{"$f":"input_tab_two!M1123","v":0},{"$f":"input_tab_two!O1123","v":0},{"$f":"input_tab_two!B1125","v":0},{"$f":"input_tab_two!D1125","v":0},{"$f":"input_tab_two!E1125","v":0},{"$f":"input_tab_two!G1125","v":0},{"$f":"input_tab_two!I1125","v":0},{"$f":"input_tab_two!K1125","v":0},{"$f":"input_tab_two!M1125","v":0},{"$f":"input_tab_two!O1125","v":0},{"$f":"input_tab_two!B1127","v":0},{"$f":"input_tab_two!D1127","v":0},{"$f":"input_tab_two!E1127","v":0},{"$f":"input_tab_two!G1127","v":0},{"$f":"input_tab_two!I1127","v":0},{"$f":"input_tab_two!K1127","v":0},{"$f":"input_tab_two!M1127","v":0},{"$f":"input_tab_two!O1127","v":0},{"$f":"input_tab_two!B1134","v":0},{"$f":"input_tab_two!C1134","v":0},{"$f":"input_tab_two!E1134","v":0},{"$f":"IFERROR(E22*(VLOOKUP(F22,kb_conversion[#All],2,FALSE)),\"\")","v":""},{"$f":"IFERROR(H22*(VLOOKUP(I22,kb_conversion[],2,FALSE)),\"\")","v":""},{"$f":"IFERROR(J22*(VLOOKUP(K22,kb_conversion[],2,FALSE)),\"\")","v":""},{"$f":"IFERROR(Q22*(VLOOKUP(R22,kb_conversion[],2,FALSE)),\"\")","v":""},{"$f":"IFERROR(X22*(VLOOKUP(Y22,kb_conversion[],2,FALSE)),\"\")","v":""},{"$f":"IFERROR(AE22*(VLOOKUP(AF22,kb_conversion[],2,FALSE)),\"\")","v":""},{"$f":"IFERROR(AL22*(VLOOKUP(AM22,kb_conversion[],2,FALSE)),\"\")","v":""},{"$f":"IFERROR(AS22*(VLOOKUP(AT22,kb_conversion[],2,FALSE)),\"\")","v":""},{"$f":"IF(U22=input_lists!$R$11,input_database!CK22,0)+IF(input_database!AB22=input_lists!$R$11,input_database!CL22,0)+IF(input_database!AI22=input_lists!$R$11,input_database!CM22,0)+IF(input_database!AP22=input_lists!$R$11,input_database!CN22,0)+IF(input_database!AW22=input_lists!$R$11,input_database!CO22,0)","v":0},0,"0","0","1900-06-01","1900-06-01",0,"","0",{"$f":"IFERROR(CR22-SUM(IF(U22=input_lists!$R$11,input_database!CK22,0)+IF(AB22=input_lists!$R$11,input_database!CL22,0)+IF(AI22=input_lists!$R$11,input_database!CM22,0)+IF(AP22=input_lists!$R$11,input_database!CN22,0)+IF(AW22=input_lists!$R$11,input_database!CO22,0)),\"\")","v":0},{"$f":"IFERROR(CS22-SUM(IF(U22=input_lists!$R$12,input_database!CK22,0)+IF(AB22=input_lists!$R$12,input_database!CL22,0)+IF(AI22=input_lists!$R$12,input_database!CM22,0)+IF(AP22=input_lists!$R$12,input_database!CN22,0)+IF(AW22=input_lists!$R$12,input_database!CO22,0)),\"\")","v":0},0,0,"0000",{"$f":"IFERROR(CK22*(VLOOKUP(DC22,convert_lowres_backup[[#All],[Column6]:[Column7]],2,FALSE)),\"0\")","v":"0"},"0000",{"$f":"IFERROR(CL22*(VLOOKUP(DE22,convert_lowres_backup[[#All],[Column6]:[Column7]],2,FALSE)),\"0\")","v":"0"},"0000",{"$f":"IFERROR(CM22*(VLOOKUP(DG22,convert_lowres_backup[[#All],[Column6]:[Column7]],2,FALSE)),\"0\")","v":"0"},"0000",{"$f":"IFERROR(CN22*(VLOOKUP(DI22,convert_lowres_backup[[#All],[Column6]:[Column7]],2,FALSE)),\"0\")","v":"0"},"0000",{"$f":"IFERROR(CO22*(VLOOKUP(DK22,convert_lowres_backup[[#All],[Column6]:[Column7]],2,FALSE)),\"0\")","v":"0"},{"$f":"IF(U22=input_lists!$R$11,input_database!DD22,0)+IF(input_database!AB22=input_lists!$R$11,input_database!DF22,0)+IF(AI22=input_lists!$R$11,input_database!DH22,0)+IF(input_database!AP22=input_lists!$R$11,DJ22,0)+IF(input_database!AW22=input_lists!$R$11,input_database!DL22,0)","v":0},0,0,0,{"$f":"IFERROR(input_database!AZ22*VLOOKUP(BA22,ratios_between_analogue_storage_types[],2,FALSE),\"0\")","v":"0"},"00",{"$f":"IFERROR(DQ22*VLOOKUP(DR22,convert_paper_digitised[[#All],[Reference]:[kb]],2,FALSE),\"0\")","v":"0"},"00",{"$f":"IFERROR(DQ22*VLOOKUP(DT22,convert_paper_digitised[[#All],[Reference]:[kb]],2,FALSE),\"0\")","v":"0"},{"$f":"IFERROR(DS22*VLOOKUP(BF22,colour_scale_conversion[],2,FALSE),0)","v":0},"00",{"$f":"IFERROR(DV22*VLOOKUP(DW22,compressed_files[],2,FALSE),0)","v":0},{"$f":"IFERROR(DU22*VLOOKUP(BF22,colour_scale_conversion[],2,FALSE),0)","v":0},"00",{"$f":"IFERROR(DY22*VLOOKUP(DZ22,compressed_files[#All],3,FALSE),0)","v":0},{"$f":"IFERROR(input_database!BH22*VLOOKUP(BI22,ratios_between_analogue_storage_types[],2,FALSE),\"0\")","v":"0"},"00",{"$f":"IFERROR(EB22*VLOOKUP(EC22,convert_paper_digitised[[#All],[Reference]:[kb]],2,FALSE),\"0\")","v":"0"},"00",{"$f":"IFERROR(EB22*VLOOKUP(EE22,convert_paper_digitised[[#All],[Reference]:[kb]],2,FALSE),\"0\")","v":"0"},{"$f":"IFERROR(ED22*VLOOKUP(BN22,colour_scale_conversion[],2,FALSE),0)","v":0},"00",{"$f":"IFERROR(EG22*VLOOKUP(EH22,compressed_files[#All],2,FALSE),0)","v":0},{"$f":"IFERROR(EF22*VLOOKUP(BN22,colour_scale_conversion[#All],2,FALSE),0)","v":0},"00",{"$f":"IFERROR(EJ22*VLOOKUP(EK22,compressed_files[],3,FALSE),0)","v":0},{"$f":"IFERROR(BP22*VLOOKUP(BQ22,ratios_between_analogue_storage_types[],2,FALSE),\"0\")","v":"0"},"00",{"$f":"IFERROR(EM22*VLOOKUP(EN22,convert_paper_digitised[[#All],[Reference]:[kb]],2,FALSE),\"0\")","v":"0"},"00",{"$f":"IFERROR(EM22*VLOOKUP(EP22,convert_paper_digitised[[#All],[Reference]:[kb]],2,FALSE),\"0\")","v":"0"},{"$f":"IFERROR(EO22*VLOOKUP(BV22,colour_scale_conversion[#All],2,FALSE),0)","v":0},"00",{"$f":"IFERROR(ER22*VLOOKUP(ES22,compressed_files[],2,FALSE),0)","v":0},{"$f":"IFERROR(EQ22*VLOOKUP(BV22,colour_scale_conversion[],2,FALSE),0)","v":0},"00",{"$f":"IFERROR(EU22*VLOOKUP(EV22,compressed_files[],3,FALSE),0)","v":0},{"$f":"IFERROR(BX22*VLOOKUP(BY22,ratios_between_analogue_storage_types[],2,FALSE),\"0\")","v":"0"},"00",{"$f":"IFERROR(EX22*VLOOKUP(EY22,convert_paper_digitised[[#All],[Reference]:[kb]],2,FALSE),\"0\")","v":"0"},"00",{"$f":"IFERROR(EX22*VLOOKUP(FA22,convert_paper_digitised[[#All],[Reference]:[kb]],2,FALSE),\"0\")","v":"0"},{"$f":"IFERROR(EZ22*VLOOKUP(CD22,colour_scale_conversion[],2,FALSE),0)","v":0},"00",{"$f":"IFERROR(FC22*VLOOKUP(FD22,compressed_files[],2,FALSE),0)","v":0},{"$f":"IFERROR(FB22*VLOOKUP(CD22,colour_scale_conversion[],2,FALSE),0)","v":0},"00",{"$f":"IFERROR(FF22*VLOOKUP(FG22,compressed_files[],3,FALSE),0)","v":0},0,0,0,{"$f":"IFERROR(IF(SUM(FV22:FZ22)=0,CE22*VLOOKUP(CF22,ratios_between_analogue_storage_types[],2,FALSE),0),\"0\")","v":"0"},3.2000000000000001E-2,0,46.8,0,3.4598948060486525,0,482.95251786295574,0,0,"","",0,0,0,{"$f":"FI22+FK22","v":0},0,0,0,0,0,0,0]
[{"$f":"input_tab_two!A1137","v":0},{"$f":"input_tab_two!E1141","v":0},{"$f":"input_tab_one!$C$5","v":0},{"$f":"input_tab_two!B1152","v":0},{"$f":"input_tab_two!E1152","v":0},{"$f":"input_tab_two!F1152","v":0},{"$f":"input_tab_two!I1152","v":0},{"$f":"input_tab_two!B1157","v":0},{"$f":"input_tab_two!C1157","v":0},{"$f":"input_tab_two!E1157","v":0},{"$f":"input_tab_two!F1157","v":0},{"$f":"input_tab_two!I1157","v":0},{"$f":"input_tab_two!B1162","v":0},{"$f":"input_tab_two!E1162","v":0},{"$f":"input_tab_two!E1165","v":0},{"$f":"input_tab_two!F1165","v":0},{"$f":"input_tab_two!G1165","v":0},{"$f":"input_tab_two!H1165","v":0},{"$f":"input_tab_two!I1165","v":0},{"$f":"input_tab_two!J1165","v":0},{"$f":"input_tab_two!K1165","v":0},{"$f":"input_tab_two!E1167","v":0},{"$f":"input_tab_two!F1167","v":0},{"$f":"input_tab_two!G1167","v":0},{"$f":"input_tab_two!H1167","v":0},{"$f":"input_tab_two!I1167","v":0},{"$f":"input_tab_two!J1167","v":0},{"$f":"input_tab_two!K1167","v":0},{"$f":"input_tab_two!E1169","v":0},{"$f":"input_tab_two!F1169","v":0},{"$f":"input_tab_two!G1169","v":0},{"$f":"input_tab_two!H1169","v":0},{"$f":"input_tab_two!I1169","v":0},{"$f":"input_tab_two!J1169","v":0},{"$f":"input_tab_two!K1169","v":0},{"$f":"input_tab_two!E1171","v":0},{"$f":"input_tab_two!F1171","v":0},{"$f":"input_tab_two!G1171","v":0},{"$f":"input_tab_two!H1171","v":0},{"$f":"input_tab_two!I1171","v":0},{"$f":"input_tab_two!J1171","v":0},{"$f":"input_tab_two!K1171","v":0},{"$f":"input_tab_two!E1173","v":0},{"$f":"input_tab_two!F1173","v":0},{"$f":"input_tab_two!G1173","v":0},{"$f":"input_tab_two!H1173","v":0},{"$f":"input_tab_two!I1173","v":0},{"$f":"input_tab_two!J1173","v":0},{"$f":"input_tab_two!K1173","v":0},{"$f":"input_tab_two!B1180","v":0},{"$f":"input_tab_two!B1184","v":0},{"$f":"input_tab_two!D1184","v":0},{"$f":"input_tab_two!E1184","v":0},{"$f":"input_tab_two!G1184","v":0},{"$f":"input_tab_two!I1184","v":0},{"$f":"input_tab_two!K1184","v":0},{"$f":"input_tab_two!M1184","v":0},{"$f":"input_tab_two!O1184","v":0},{"$f":"input_tab_two!B1186","v":0},{"$f":"input_tab_two!D1186","v":0},{"$f":"input_tab_two!E1186","v":0},{"$f":"input_tab_two!G1186","v":0},{"$f":"input_tab_two!I1186","v":0},{"$f":"input_tab_two!K1186","v":0},{"$f":"input_tab_two!M1186","v":0},{"$f":"input_tab_two!O1186","v":0},{"$f":"input_tab_two!B1188","v":0},{"$f":"input_tab_two!D1188","v":0},{"$f":"input_tab_two!E1188","v":0},{"$f":"input_tab_two!G1188","v":0},{"$f":"input_tab_two!I1188","v":0},{"$f":"input_tab_two!K1188","v":0},{"$f":"input_tab_two!M1188","v":0},{"$f":"input_tab_two!O1188","v":0},{"$f":"input_tab_two!B1190","v":0},{"$f":"input_tab_two!D1190","v":0},{"$f":"input_tab_two!E1190","v":0},{"$f":"input_tab_two!G1190","v":0},{"$f":"input_tab_two!I1190","v":0},{"$f":"input_tab_two!K1190","v":0},{"$f":"input_tab_two!M1190","v":0},{"$f":"input_tab_two!O1190","v":0},{"$f":"input_tab_two!B1197","v":0},{"$f":"input_tab_two!C1197","v":0},{"$f":"input_tab_two!E1197","v":0},{"$f":"IFERROR(E23*(VLOOKUP(F23,kb_conversion[#All],2,FALSE)),\"\")","v":""},{"$f":"IFERROR(H23*(VLOOKUP(I23,kb_conversion[],2,FALSE)),\"\")","v":""},{"$f":"IFERROR(J23*(VLOOKUP(K23,kb_conversion[],2,FALSE)),\"\")","v":""},{"$f":"IFERROR(Q23*(VLOOKUP(R23,kb_conversion[],2,FALSE)),\"\")","v":""},{"$f":"IFERROR(X23*(VLOOKUP(Y23,kb_conversion[],2,FALSE)),\"\")","v":""},{"$f":"IFERROR(AE23*(VLOOKUP(AF23,kb_conversion[],2,FALSE)),\"\")","v":""},{"$f":"IFERROR(AL23*(VLOOKUP(AM23,kb_conversion[],2,FALSE)),\"\")","v":""},{"$f":"IFERROR(AS23*(VLOOKUP(AT23,kb_conversion[],2,FALSE)),\"\")","v":""},{"$f":"IF(U23=input_lists!$R$11,input_database!CK23,0)+IF(input_database!AB23=input_lists!$R$11,input_database!CL23,0)+IF(input_database!AI23=input_lists!$R$11,input_database!CM23,0)+IF(input_database!AP23=input_lists!$R$11,input_database!CN23,0)+IF(input_database!AW23=input_lists!$R$11,input_database!CO23,0)","v":0},0,"0","0","1900-06-01","1900-06-01",0,"","0",{"$f":"IFERROR(CR23-SUM(IF(U23=input_lists!$R$11,input_database!CK23,0)+IF(AB23=input_lists!$R$11,input_database!CL23,0)+IF(AI23=input_lists!$R$11,input_database!CM23,0)+IF(AP23=input_lists!$R$11,input_database!CN23,0)+IF(AW23=input_lists!$R$11,input_database!CO23,0)),\"\")","v":0},{"$f":"IFERROR(CS23-SUM(IF(U23=input_lists!$R$12,input_database!CK23,0)+IF(AB23=input_lists!$R$12,input_database!CL23,0)+IF(AI23=input_lists!$R$12,input_database!CM23,0)+IF(AP23=input_lists!$R$12,input_database!CN23,0)+IF(AW23=input_lists!$R$12,input_database!CO23,0)),\"\")","v":0},0,0,"0000",{"$f":"IFERROR(CK23*(VLOOKUP(DC23,convert_lowres_backup[[#All],[Column6]:[Column7]],2,FALSE)),\"0\")","v":"0"},"0000",{"$f":"IFERROR(CL23*(VLOOKUP(DE23,convert_lowres_backup[[#All],[Column6]:[Column7]],2,FALSE)),\"0\")","v":"0"},"0000",{"$f":"IFERROR(CM23*(VLOOKUP(DG23,convert_lowres_backup[[#All],[Column6]:[Column7]],2,FALSE)),\"0\")","v":"0"},"0000",{"$f":"IFERROR(CN23*(VLOOKUP(DI23,convert_lowres_backup[[#All],[Column6]:[Column7]],2,FALSE)),\"0\")","v":"0"},"0000",{"$f":"IFERROR(CO23*(VLOOKUP(DK23,convert_lowres_backup[[#All],[Column6]:[Column7]],2,FALSE)),\"0\")","v":"0"},{"$f":"IF(U23=input_lists!$R$11,input_database!DD23,0)+IF(input_database!AB23=input_lists!$R$11,input_database!DF23,0)+IF(AI23=input_lists!$R$11,input_database!DH23,0)+IF(input_database!AP23=input_lists!$R$11,DJ23,0)+IF(input_database!AW23=input_lists!$R$11,input_database!DL23,0)","v":0},0,0,0,{"$f":"IFERROR(input_database!AZ23*VLOOKUP(BA23,ratios_between_analogue_storage_types[],2,FALSE),\"0\")","v":"0"},"00",{"$f":"IFERROR(DQ23*VLOOKUP(DR23,convert_paper_digitised[[#All],[Reference]:[kb]],2,FALSE),\"0\")","v":"0"},"00",{"$f":"IFERROR(DQ23*VLOOKUP(DT23,convert_paper_digitised[[#All],[Reference]:[kb]],2,FALSE),\"0\")","v":"0"},{"$f":"IFERROR(DS23*VLOOKUP(BF23,colour_scale_conversion[],2,FALSE),0)","v":0},"00",{"$f":"IFERROR(DV23*VLOOKUP(DW23,compressed_files[],2,FALSE),0)","v":0},{"$f":"IFERROR(DU23*VLOOKUP(BF23,colour_scale_conversion[],2,FALSE),0)","v":0},"00",{"$f":"IFERROR(DY23*VLOOKUP(DZ23,compressed_files[#All],3,FALSE),0)","v":0},{"$f":"IFERROR(input_database!BH23*VLOOKUP(BI23,ratios_between_analogue_storage_types[],2,FALSE),\"0\")","v":"0"},"00",{"$f":"IFERROR(EB23*VLOOKUP(EC23,convert_paper_digitised[[#All],[Reference]:[kb]],2,FALSE),\"0\")","v":"0"},"00",{"$f":"IFERROR(EB23*VLOOKUP(EE23,convert_paper_digitised[[#All],[Reference]:[kb]],2,FALSE),\"0\")","v":"0"},{"$f":"IFERROR(ED23*VLOOKUP(BN23,colour_scale_conversion[],2,FALSE),0)","v":0},"00",{"$f":"IFERROR(EG23*VLOOKUP(EH23,compressed_files[#All],2,FALSE),0)","v":0},{"$f":"IFERROR(EF23*VLOOKUP(BN23,colour_scale_conversion[#All],2,FALSE),0)","v":0},"00",{"$f":"IFERROR(EJ23*VLOOKUP(EK23,compressed_files[],3,FALSE),0)","v":0},{"$f":"IFERROR(BP23*VLOOKUP(BQ23,ratios_between_analogue_storage_types[],2,FALSE),\"0\")","v":"0"},"00",{"$f":"IFERROR(EM23*VLOOKUP(EN23,convert_paper_digitised[[#All],[Reference]:[kb]],2,FALSE),\"0\")","v":"0"},"00",{"$f":"IFERROR(EM23*VLOOKUP(EP23,convert_paper_digitised[[#All],[Reference]:[kb]],2,FALSE),\"0\")","v":"0"},{"$f":"IFERROR(EO23*VLOOKUP(BV23,colour_scale_conversion[#All],2,FALSE),0)","v":0},"00",{"$f":"IFERROR(ER23*VLOOKUP(ES23,compressed_files[],2,FALSE),0)","v":0},{"$f":"IFERROR(EQ23*VLOOKUP(BV23,colour_scale_conversion[],2,FALSE),0)","v":0},"00",{"$f":"IFERROR(EU23*VLOOKUP(EV23,compressed_files[],3,FALSE),0)","v":0},{"$f":"IFERROR(BX23*VLOOKUP(BY23,ratios_between_analogue_storage_types[],2,FALSE),\"0\")","v":"0"},"00",{"$f":"IFERROR(EX23*VLOOKUP(EY23,convert_paper_digitised[[#All],[Reference]:[kb]],2,FALSE),\"0\")","v":"0"},"00",{"$f":"IFERROR(EX23*VLOOKUP(FA23,convert_paper_digitised[[#All],[Reference]:[kb]],2,FALSE),\"0\")","v":"0"},{"$f":"IFERROR(EZ23*VLOOKUP(CD23,colour_scale_conversion[],2,FALSE),0)","v":0},"00",{"$f":"IFERROR(FC23*VLOOKUP(FD23,compressed_files[],2,FALSE),0)","v":0},{"$f":"IFERROR(FB23*VLOOKUP(CD23,colour_scale_conversion[],2,FALSE),0)","v":0},"00",{"$f":"IFERROR(FF23*VLOOKUP(FG23,compressed_files[],3,FALSE),0)","v":0},0,0,0,{"$f":"IFERROR(IF(SUM(FV23:FZ23)=0,CE23*VLOOKUP(CF23,ratios_between_analogue_storage_types[],2,FALSE),0),\"0\")","v":"0"},3.2000000000000001E-2,0,46.8,0,3.4598948060486525,0,482.95251786295574,0,0,"","",0,0,0,{"$f":"FI23+FK23","v":0},0,0,0,0,0,0,0]
[{"$f":"input_tab_two!A1200","v":0},{"$f":"input_tab_two!E1204","v":0},{"$f":"input_tab_one!$C$5","v":0},{"$f":"input_tab_two!B1215","v":0},{"$f":"input_tab_two!E1215","v":0},{"$f":"input_tab_two!F1215","v":0},{"$f":"input_tab_two!I1215","v":0},{"$f":"input_tab_two!B1220","v":0},{"$f":"input_tab_two!C1220","v":0},{"$f":"input_tab_two!E1220","v":0},{"$f":"input_tab_two!F1220","v":0},{"$f":"input_tab_two!I1220","v":0},{"$f":"input_tab_two!B1225","v":0},{"$f":"input_tab_two!E1225","v":0},{"$f":"input_tab_two!E1228","v":0},{"$f":"input_tab_two!F1228","v":0},{"$f":"input_tab_two!G1228","v":0},{"$f":"input_tab_two!H1228","v":0},{"$f":"input_tab_two!I1228","v":0},{"$f":"input_tab_two!J1228","v":0},{"$f":"input_tab_two!K1228","v":0},{"$f":"input_tab_two!E1230","v":0},{"$f":"input_tab_two!F1230","v":0},{"$f":"input_tab_two!G1230","v":0},{"$f":"input_tab_two!H1230","v":0},{"$f":"input_tab_two!I1230","v":0},{"$f":"input_tab_two!J1230","v":0},{"$f":"input_tab_two!K1230","v":0},{"$f":"input_tab_two!E1232","v":0},{"$f":"input_tab_two!F1232","v":0},{"$f":"input_tab_two!G1232","v":0},{"$f":"input_tab_two!H1232","v":0},{"$f":"input_tab_two!I1232","v":0},{"$f":"input_tab_two!J1232","v":0},{"$f":"input_tab_two!K1232","v":0},{"$f":"input_tab_two!E1234","v":0},{"$f":"input_tab_two!F1234","v":0},{"$f":"input_tab_two!G1234","v":0},{"$f":"input_tab_two!H1234","v":0},{"$f":"input_tab_two!I1234","v":0},{"$f":"input_tab_two!J1234","v":0},{"$f":"input_tab_two!K1234","v":0},{"$f":"input_tab_two!E1236","v":0},{"$f":"input_tab_two!F1236","v":0},{"$f":"input_tab_two!G1236","v":0},{"$f":"input_tab_two!H1236","v":0},{"$f":"input_tab_two!I1236","v":0},{"$f":"input_tab_two!J1236","v":0},{"$f":"input_tab_two!K1236","v":0},{"$f":"input_tab_two!B1243","v":0},{"$f":"input_tab_two!B1247","v":0},{"$f":"input_tab_two!D1247","v":0},{"$f":"input_tab_two!E1247","v":0},{"$f":"input_tab_two!G1247","v":0},{"$f":"input_tab_two!I1247","v":0},{"$f":"input_tab_two!K1247","v":0},{"$f":"input_tab_two!M1247","v":0},{"$f":"input_tab_two!O1247","v":0},{"$f":"input_tab_two!B1249","v":0},{"$f":"input_tab_two!D1249","v":0},{"$f":"input_tab_two!E1249","v":0},{"$f":"input_tab_two!G1249","v":0},{"$f":"input_tab_two!I1249","v":0},{"$f":"input_tab_two!K1249","v":0},{"$f":"input_tab_two!M1249","v":0},{"$f":"input_tab_two!O1249","v":0},{"$f":"input_tab_two!B1251","v":0},{"$f":"input_tab_two!D1251","v":0},{"$f":"input_tab_two!E1251","v":0},{"$f":"input_tab_two!G1251","v":0},{"$f":"input_tab_two!I1251","v":0},{"$f":"input_tab_two!K1251","v":0},{"$f":"input_tab_two!M1251","v":0},{"$f":"input_tab_two!O1251","v":0},{"$f":"input_tab_two!B1253","v":0},{"$f":"input_tab_two!D1253","v":0},{"$f":"input_tab_two!E1253","v":0},{"$f":"input_tab_two!G1253","v":0},{"$f":"input_tab_two!I1253","v":0},{"$f":"input_tab_two!K1253","v":0},{"$f":"input_tab_two!M1253","v":0},{"$f":"input_tab_two!O1253","v":0},{"$f":"input_tab_two!B1260","v":0},{"$f":"input_tab_two!C1260","v":0},{"$f":"input_tab_two!E1260","v":0},{"$f":"IFERROR(E24*(VLOOKUP(F24,kb_conversion[#All],2,FALSE)),\"\")","v":""},{"$f":"IFERROR(H24*(VLOOKUP(I24,kb_conversion[],2,FALSE)),\"\")","v":""},{"$f":"IFERROR(J24*(VLOOKUP(K24,kb_conversion[],2,FALSE)),\"\")","v":""},{"$f":"IFERROR(Q24*(VLOOKUP(R24,kb_conversion[],2,FALSE)),\"\")","v":""},{"$f":"IFERROR(X24*(VLOOKUP(Y24,kb_conversion[],2,FALSE)),\"\")","v":""},{"$f":"IFERROR(AE24*(VLOOKUP(AF24,kb_conversion[],2,FALSE)),\"\")","v":""},{"$f":"IFERROR(AL24*(VLOOKUP(AM24,kb_conversion[],2,FALSE)),\"\")","v":""},{"$f":"IFERROR(AS24*(VLOOKUP(AT24,kb_conversion[],2,FALSE)),\"\")","v":""},{"$f":"IF(U24=input_lists!$R$11,input_database!CK24,0)+IF(input_database!AB24=input_lists!$R$11,input_database!CL24,0)+IF(input_database!AI24=input_lists!$R$11,input_database!CM24,0)+IF(input_database!AP24=input_lists!$R$11,input_database!CN24,0)+IF(input_database!AW24=input_lists!$R$11,input_database!CO24,0)","v":0},0,"0","0","1900-06-01","1900-06-01",0,"","0",{"$f":"IFERROR(CR24-SUM(IF(U24=input_lists!$R$11,input_database!CK24,0)+IF(AB24=input_lists!$R$11,input_database!CL24,0)+IF(AI24=input_lists!$R$11,input_database!CM24,0)+IF(AP24=input_lists!$R$11,input_database!CN24,0)+IF(AW24=input_lists!$R$11,input_database!CO24,0)),\"\")","v":0},{"$f":"IFERROR(CS24-SUM(IF(U24=input_lists!$R$12,input_database!CK24,0)+IF(AB24=input_lists!$R$12,input_database!CL24,0)+IF(AI24=input_lists!$R$12,input_database!CM24,0)+IF(AP24=input_lists!$R$12,input_database!CN24,0)+IF(AW24=input_lists!$R$12,input_database!CO24,0)),\"\")","v":0},0,0,"0000",{"$f":"IFERROR(CK24*(VLOOKUP(DC24,convert_lowres_backup[[#All],[Column6]:[Column7]],2,FALSE)),\"0\")","v":"0"},"0000",{"$f":"IFERROR(CL24*(VLOOKUP(DE24,convert_lowres_backup[[#All],[Column6]:[Column7]],2,FALSE)),\"0\")","v":"0"},"0000",{"$f":"IFERROR(CM24*(VLOOKUP(DG24,convert_lowres_backup[[#All],[Column6]:[Column7]],2,FALSE)),\"0\")","v":"0"},"0000",{"$f":"IFERROR(CN24*(VLOOKUP(DI24,convert_lowres_backup[[#All],[Column6]:[Column7]],2,FALSE)),\"0\")","v":"0"},"0000",{"$f":"IFERROR(CO24*(VLOOKUP(DK24,convert_lowres_backup[[#All],[Column6]:[Column7]],2,FALSE)),\"0\")","v":"0"},{"$f":"IF(U24=input_lists!$R$11,input_database!DD24,0)+IF(input_database!AB24=input_lists!$R$11,input_database!DF24,0)+IF(AI24=input_lists!$R$11,input_database!DH24,0)+IF(input_database!AP24=input_lists!$R$11,DJ24,0)+IF(input_database!AW24=input_lists!$R$11,input_database!DL24,0)","v":0},0,0,0,{"$f":"IFERROR(input_database!AZ24*VLOOKUP(BA24,ratios_between_analogue_storage_types[],2,FALSE),\"0\")","v":"0"},"00",{"$f":"IFERROR(DQ24*VLOOKUP(DR24,convert_paper_digitised[[#All],[Reference]:[kb]],2,FALSE),\"0\")","v":"0"},"00",{"$f":"IFERROR(DQ24*VLOOKUP(DT24,convert_paper_digitised[[#All],[Reference]:[kb]],2,FALSE),\"0\")","v":"0"},{"$f":"IFERROR(DS24*VLOOKUP(BF24,colour_scale_conversion[],2,FALSE),0)","v":0},"00",{"$f":"IFERROR(DV24*VLOOKUP(DW24,compressed_files[],2,FALSE),0)","v":0},{"$f":"IFERROR(DU24*VLOOKUP(BF24,colour_scale_conversion[],2,FALSE),0)","v":0},"00",{"$f":"IFERROR(DY24*VLOOKUP(DZ24,compressed_files[#All],3,FALSE),0)","v":0},{"$f":"IFERROR(input_database!BH24*VLOOKUP(BI24,ratios_between_analogue_storage_types[],2,FALSE),\"0\")","v":"0"},"00",{"$f":"IFERROR(EB24*VLOOKUP(EC24,convert_paper_digitised[[#All],[Reference]:[kb]],2,FALSE),\"0\")","v":"0"},"00",{"$f":"IFERROR(EB24*VLOOKUP(EE24,convert_paper_digitised[[#All],[Reference]:[kb]],2,FALSE),\"0\")","v":"0"},{"$f":"IFERROR(ED24*VLOOKUP(BN24,colour_scale_conversion[],2,FALSE),0)","v":0},"00",{"$f":"IFERROR(EG24*VLOOKUP(EH24,compressed_files[#All],2,FALSE),0)","v":0},{"$f":"IFERROR(EF24*VLOOKUP(BN24,colour_scale_conversion[#All],2,FALSE),0)","v":0},"00",{"$f":"IFERROR(EJ24*VLOOKUP(EK24,compressed_files[],3,FALSE),0)","v":0},{"$f":"IFERROR(BP24*VLOOKUP(BQ24,ratios_between_analogue_storage_types[],2,FALSE),\"0\")","v":"0"},"00",{"$f":"IFERROR(EM24*VLOOKUP(EN24,convert_paper_digitised[[#All],[Reference]:[kb]],2,FALSE),\"0\")","v":"0"},"00",{"$f":"IFERROR(EM24*VLOOKUP(EP24,convert_paper_digitised[[#All],[Reference]:[kb]],2,FALSE),\"0\")","v":"0"},{"$f":"IFERROR(EO24*VLOOKUP(BV24,colour_scale_conversion[#All],2,FALSE),0)","v":0},"00",{"$f":"IFERROR(ER24*VLOOKUP(ES24,compressed_files[],2,FALSE),0)","v":0},{"$f":"IFERROR(EQ24*VLOOKUP(BV24,colour_scale_conversion[],2,FALSE),0)","v":0},"00",{"$f":"IFERROR(EU24*VLOOKUP(EV24,compressed_files[],3,FALSE),0)","v":0},{"$f":"IFERROR(BX24*VLOOKUP(BY24,ratios_between_analogue_storage_types[],2,FALSE),\"0\")","v":"0"},"00",{"$f":"IFERROR(EX24*VLOOKUP(EY24,convert_paper_digitised[[#All],[Reference]:[kb]],2,FALSE),\"0\")","v":"0"},"00",{"$f":"IFERROR(EX24*VLOOKUP(FA24,convert_paper_digitised[[#All],[Reference]:[kb]],2,FALSE),\"0\")","v":"0"},{"$f":"IFERROR(EZ24*VLOOKUP(CD24,colour_scale_conversion[],2,FALSE),0)","v":0},"00",{"$f":"IFERROR(FC24*VLOOKUP(FD24,compressed_files[],2,FALSE),0)","v":0},{"$f":"IFERROR(FB24*VLOOKUP(CD24,colour_scale_conversion[],2,FALSE),0)","v":0},"00",{"$f":"IFERROR(FF24*VLOOKUP(FG24,compressed_files[],3,FALSE),0)","v":0},0,0,0,{"$f":"IFERROR(IF(SUM(FV24:FZ24)=0,CE24*VLOOKUP(CF24,ratios_between_analogue_storage_types[],2,FALSE),0),\"0\")","v":"0"},3.2000000000000001E-2,0,46.8,0,3.4598948060486525,0,482.95251786295574,0,0,"","",0,0,0,{"$f":"FI24+FK24","v":0},0,0,0,0,0,0,0]
[{"$f":"input_tab_two!A1263","v":0},{"$f":"input_tab_two!E1267","v":0},{"$f":"input_tab_one!$C$5","v":0},{"$f":"input_tab_two!B1278","v":0},{"$f":"input_tab_two!E1278","v":0},{"$f":"input_tab_two!F1278","v":0},{"$f":"input_tab_two!I1278","v":0},{"$f":"input_tab_two!B1283","v":0},{"$f":"input_tab_two!C1283","v":0},{"$f":"input_tab_two!E1283","v":0},{"$f":"input_tab_two!F1283","v":0},{"$f":"input_tab_two!I1283","v":0},{"$f":"input_tab_two!B1288","v":0},{"$f":"input_tab_two!E1288","v":0},{"$f":"input_tab_two!E1291","v":0},{"$f":"input_tab_two!F1291","v":0},{"$f":"input_tab_two!G1291","v":0},{"$f":"input_tab_two!H1291","v":0},{"$f":"input_tab_two!I1291","v":0},{"$f":"input_tab_two!J1291","v":0},{"$f":"input_tab_two!K1291","v":0},{"$f":"input_tab_two!E1293","v":0},{"$f":"input_tab_two!F1293","v":0},{"$f":"input_tab_two!G1293","v":0},{"$f":"input_tab_two!H1293","v":0},{"$f":"input_tab_two!I1293","v":0},{"$f":"input_tab_two!J1293","v":0},{"$f":"input_tab_two!K1293","v":0},{"$f":"input_tab_two!E1295","v":0},{"$f":"input_tab_two!F1295","v":0},{"$f":"input_tab_two!G1295","v":0},{"$f":"input_tab_two!H1295","v":0},{"$f":"input_tab_two!I1295","v":0},{"$f":"input_tab_two!J1295","v":0},{"$f":"input_tab_two!K1295","v":0},{"$f":"input_tab_two!E1297","v":0},{"$f":"input_tab_two!F1297","v":0},{"$f":"input_tab_two!G1297","v":0},{"$f":"input_tab_two!H1297","v":0},{"$f":"input_tab_two!I1297","v":0},{"$f":"input_tab_two!J1297","v":0},{"$f":"input_tab_two!K1297","v":0},{"$f":"input_tab_two!E1299","v":0},{"$f":"input_tab_two!F1299","v":0},{"$f":"input_tab_two!G1299","v":0},{"$f":"input_tab_two!H1299","v":0},{"$f":"input_tab_two!I1299","v":0},{"$f":"input_tab_two!J1299","v":0},{"$f":"input_tab_two!K1299","v":0},{"$f":"input_tab_two!B1306","v":0},{"$f":"input_tab_two!B1310","v":0},{"$f":"input_tab_two!D1310","v":0},{"$f":"input_tab_two!E1310","v":0},{"$f":"input_tab_two!G1310","v":0},{"$f":"input_tab_two!I1310","v":0},{"$f":"input_tab_two!K1310","v":0},{"$f":"input_tab_two!M1310","v":0},{"$f":"input_tab_two!O1310","v":0},{"$f":"input_tab_two!B1312","v":0},{"$f":"input_tab_two!D1312","v":0},{"$f":"input_tab_two!E1312","v":0},{"$f":"input_tab_two!G1312","v":0},{"$f":"input_tab_two!I1312","v":0},{"$f":"input_tab_two!K1312","v":0},{"$f":"input_tab_two!M1312","v":0},{"$f":"input_tab_two!O1312","v":0},{"$f":"input_tab_two!B1314","v":0},{"$f":"input_tab_two!D1314","v":0},{"$f":"input_tab_two!E1314","v":0},{"$f":"input_tab_two!G1314","v":0},{"$f":"input_tab_two!I1314","v":0},{"$f":"input_tab_two!K1314","v":0},{"$f":"input_tab_two!M1314","v":0},{"$f":"input_tab_two!O1314","v":0},{"$f":"input_tab_two!B1316","v":0},{"$f":"input_tab_two!D1316","v":0},{"$f":"input_tab_two!E1316","v":0},{"$f":"input_tab_two!G1316","v":0},{"$f":"input_tab_two!I1316","v":0},{"$f":"input_tab_two!K1316","v":0},{"$f":"input_tab_two!M1316","v":0},{"$f":"input_tab_two!O1316","v":0},{"$f":"input_tab_two!B1323","v":0},{"$f":"input_tab_two!C1323","v":0},{"$f":"input_tab_two!E1323","v":0},{"$f":"IFERROR(E25*(VLOOKUP(F25,kb_conversion[#All],2,FALSE)),\"\")","v":""},{"$f":"IFERROR(H25*(VLOOKUP(I25,kb_conversion[],2,FALSE)),\"\")","v":""},{"$f":"IFERROR(J25*(VLOOKUP(K25,kb_conversion[],2,FALSE)),\"\")","v":""},{"$f":"IFERROR(Q25*(VLOOKUP(R25,kb_conversion[],2,FALSE)),\"\")","v":""},{"$f":"IFERROR(X25*(VLOOKUP(Y25,kb_conversion[],2,FALSE)),\"\")","v":""},{"$f":"IFERROR(AE25*(VLOOKUP(AF25,kb_conversion[],2,FALSE)),\"\")","v":""},{"$f":"IFERROR(AL25*(VLOOKUP(AM25,kb_conversion[],2,FALSE)),\"\")","v":""},{"$f":"IFERROR(AS25*(VLOOKUP(AT25,kb_conversion[],2,FALSE)),\"\")","v":""},{"$f":"IF(U25=input_lists!$R$11,input_database!CK25,0)+IF(input_database!AB25=input_lists!$R$11,input_database!CL25,0)+IF(input_database!AI25=input_lists!$R$11,input_database!CM25,0)+IF(input_database!AP25=input_lists!$R$11,input_database!CN25,0)+IF(input_database!AW25=input_lists!$R$11,input_database!CO25,0)","v":0},0,"0","0","1900-06-01","1900-06-01",0,"","0",{"$f":"IFERROR(CR25-SUM(IF(U25=input_lists!$R$11,input_database!CK25,0)+IF(AB25=input_lists!$R$11,input_database!CL25,0)+IF(AI25=input_lists!$R$11,input_database!CM25,0)+IF(AP25=input_lists!$R$11,input_database!CN25,0)+IF(AW25=input_lists!$R$11,input_database!CO25,0)),\"\")","v":0},{"$f":"IFERROR(CS25-SUM(IF(U25=input_lists!$R$12,input_database!CK25,0)+IF(AB25=input_lists!$R$12,input_database!CL25,0)+IF(AI25=input_lists!$R$12,input_database!CM25,0)+IF(AP25=input_lists!$R$12,input_database!CN25,0)+IF(AW25=input_lists!$R$12,input_database!CO25,0)),\"\")","v":0},0,0,"0000",{"$f":"IFERROR(CK25*(VLOOKUP(DC25,convert_lowres_backup[[#All],[Column6]:[Column7]],2,FALSE)),\"0\")","v":"0"},"0000",{"$f":"IFERROR(CL25*(VLOOKUP(DE25,convert_lowres_backup[[#All],[Column6]:[Column7]],2,FALSE)),\"0\")","v":"0"},"0000",{"$f":"IFERROR(CM25*(VLOOKUP(DG25,convert_lowres_backup[[#All],[Column6]:[Column7]],2,FALSE)),\"0\")","v":"0"},"0000",{"$f":"IFERROR(CN25*(VLOOKUP(DI25,convert_lowres_backup[[#All],[Column6]:[Column7]],2,FALSE)),\"0\")","v":"0"},"0000",{"$f":"IFERROR(CO25*(VLOOKUP(DK25,convert_lowres_backup[[#All],[Column6]:[Column7]],2,FALSE)),\"0\")","v":"0"},{"$f":"IF(U25=input_lists!$R$11,input_database!DD25,0)+IF(input_database!AB25=input_lists!$R$11,input_database!DF25,0)+IF(AI25=input_lists!$R$11,input_database!DH25,0)+IF(input_database!AP25=input_lists!$R$11,DJ25,0)+IF(input_database!AW25=input_lists!$R$11,input_database!DL25,0)","v":0},0,0,0,{"$f":"IFERROR(input_database!AZ25*VLOOKUP(BA25,ratios_between_analogue_storage_types[],2,FALSE),\"0\")","v":"0"},"00",{"$f":"IFERROR(DQ25*VLOOKUP(DR25,convert_paper_digitised[[#All],[Reference]:[kb]],2,FALSE),\"0\")","v":"0"},"00",{"$f":"IFERROR(DQ25*VLOOKUP(DT25,convert_paper_digitised[[#All],[Reference]:[kb]],2,FALSE),\"0\")","v":"0"},{"$f":"IFERROR(DS25*VLOOKUP(BF25,colour_scale_conversion[],2,FALSE),0)","v":0},"00",{"$f":"IFERROR(DV25*VLOOKUP(DW25,compressed_files[],2,FALSE),0)","v":0},{"$f":"IFERROR(DU25*VLOOKUP(BF25,colour_scale_conversion[],2,FALSE),0)","v":0},"00",{"$f":"IFERROR(DY25*VLOOKUP(DZ25,compressed_files[#All],3,FALSE),0)","v":0},{"$f":"IFERROR(input_database!BH25*VLOOKUP(BI25,ratios_between_analogue_storage_types[],2,FALSE),\"0\")","v":"0"},"00",{"$f":"IFERROR(EB25*VLOOKUP(EC25,convert_paper_digitised[[#All],[Reference]:[kb]],2,FALSE),\"0\")","v":"0"},"00",{"$f":"IFERROR(EB25*VLOOKUP(EE25,convert_paper_digitised[[#All],[Reference]:[kb]],2,FALSE),\"0\")","v":"0"},{"$f":"IFERROR(ED25*VLOOKUP(BN25,colour_scale_conversion[],2,FALSE),0)","v":0},"00",{"$f":"IFERROR(EG25*VLOOKUP(EH25,compressed_files[#All],2,FALSE),0)","v":0},{"$f":"IFERROR(EF25*VLOOKUP(BN25,colour_scale_conversion[#All],2,FALSE),0)","v":0},"00",{"$f":"IFERROR(EJ25*VLOOKUP(EK25,compressed_files[],3,FALSE),0)","v":0},{"$f":"IFERROR(BP25*VLOOKUP(BQ25,ratios_between_analogue_storage_types[],2,FALSE),\"0\")","v":"0"},"00",{"$f":"IFERROR(EM25*VLOOKUP(EN25,convert_paper_digitised[[#All],[Reference]:[kb]],2,FALSE),\"0\")","v":"0"},"00",{"$f":"IFERROR(EM25*VLOOKUP(EP25,convert_paper_digitised[[#All],[Reference]:[kb]],2,FALSE),\"0\")","v":"0"},{"$f":"IFERROR(EO25*VLOOKUP(BV25,colour_scale_conversion[#All],2,FALSE),0)","v":0},"00",{"$f":"IFERROR(ER25*VLOOKUP(ES25,compressed_files[],2,FALSE),0)","v":0},{"$f":"IFERROR(EQ25*VLOOKUP(BV25,colour_scale_conversion[],2,FALSE),0)","v":0},"00",{"$f":"IFERROR(EU25*VLOOKUP(EV25,compressed_files[],3,FALSE),0)","v":0},{"$f":"IFERROR(BX25*VLOOKUP(BY25,ratios_between_analogue_storage_types[],2,FALSE),\"0\")","v":"0"},"00",{"$f":"IFERROR(EX25*VLOOKUP(EY25,convert_paper_digitised[[#All],[Reference]:[kb]],2,FALSE),\"0\")","v":"0"},"00",{"$f":"IFERROR(EX25*VLOOKUP(FA25,convert_paper_digitised[[#All],[Reference]:[kb]],2,FALSE),\"0\")","v":"0"},{"$f":"IFERROR(EZ25*VLOOKUP(CD25,colour_scale_conversion[],2,FALSE),0)","v":0},"00",{"$f":"IFERROR(FC25*VLOOKUP(FD25,compressed_files[],2,FALSE),0)","v":0},{"$f":"IFERROR(FB25*VLOOKUP(CD25,colour_scale_conversion[],2,FALSE),0)","v":0},"00",{"$f":"IFERROR(FF25*VLOOKUP(FG25,compressed_files[],3,FALSE),0)","v":0},0,0,0,{"$f":"IFERROR(IF(SUM(FV25:FZ25)=0,CE25*VLOOKUP(CF25,ratios_between_analogue_storage_types[],2,FALSE),0),\"0\")","v":"0"},3.2000000000000001E-2,0,46.8,0,3.4598948060486525,0,482.95251786295574,0,0,"","",0,0,0,{"$f":"FI25+FK25","v":0},0,0,0,0,0,0,0]
[{"$f":"input_tab_two!A1326","v":0},{"$f":"input_tab_two!E1330","v":0},{"$f":"input_tab_one!$C$5","v":0},{"$f":"input_tab_two!B1341","v":0},{"$f":"input_tab_two!E1341","v":0},{"$f":"input_tab_two!F1341","v":0},{"$f":"input_tab_two!I1341","v":0},{"$f":"input_tab_two!B1346","v":0},{"$f":"input_tab_two!C1346","v":0},{"$f":"input_tab_two!E1346","v":0},{"$f":"input_tab_two!F1346","v":0},{"$f":"input_tab_two!I1346","v":0},{"$f":"input_tab_two!B1351","v":0},{"$f":"input_tab_two!E1351","v":0},{"$f":"input_tab_two!E1354","v":0},{"$f":"input_tab_two!F1354","v":0},{"$f":"input_tab_two!G1354","v":0},{"$f":"input_tab_two!H1354","v":0},{"$f":"input_tab_two!I1354","v":0},{"$f":"input_tab_two!J1354","v":0},{"$f":"input_tab_two!K1354","v":0},{"$f":"input_tab_two!E1356","v":0},{"$f":"input_tab_two!F1356","v":0},{"$f":"input_tab_two!G1356","v":0},{"$f":"input_tab_two!H1356","v":0},{"$f":"input_tab_two!I1356","v":0},{"$f":"input_tab_two!J1356","v":0},{"$f":"input_tab_two!K1356","v":0},{"$f":"input_tab_two!E1358","v":0},{"$f":"input_tab_two!F1358","v":0},{"$f":"input_tab_two!G1358","v":0},{"$f":"input_tab_two!H1358","v":0},{"$f":"input_tab_two!I1358","v":0},{"$f":"input_tab_two!J1358","v":0},{"$f":"input_tab_two!K1358","v":0},{"$f":"input_tab_two!E1360","v":0},{"$f":"input_tab_two!F1360","v":0},{"$f":"input_tab_two!G1360","v":0},{"$f":"input_tab_two!H1360","v":0},{"$f":"input_tab_two!I1360","v":0},{"$f":"input_tab_two!J1360","v":0},{"$f":"input_tab_two!K1360","v":0},{"$f":"input_tab_two!E1362","v":0},{"$f":"input_tab_two!F1362","v":0},{"$f":"input_tab_two!G1362","v":0},{"$f":"input_tab_two!H1362","v":0},{"$f":"input_tab_two!I1362","v":0},{"$f":"input_tab_two!J1362","v":0},{"$f":"input_tab_two!K1362","v":0},{"$f":"input_tab_two!B1369","v":0},{"$f":"input_tab_two!B1373","v":0},{"$f":"input_tab_two!D1373","v":0},{"$f":"input_tab_two!E1373","v":0},{"$f":"input_tab_two!G1373","v":0},{"$f":"input_tab_two!I1373","v":0},{"$f":"input_tab_two!K1373","v":0},{"$f":"input_tab_two!M1373","v":0},{"$f":"input_tab_two!O1373","v":0},{"$f":"input_tab_two!B1375","v":0},{"$f":"input_tab_two!D1375","v":0},{"$f":"input_tab_two!E1375","v":0},{"$f":"input_tab_two!G1375","v":0},{"$f":"input_tab_two!I1375","v":0},{"$f":"input_tab_two!K1375","v":0},{"$f":"input_tab_two!M1375","v":0},{"$f":"input_tab_two!O1375","v":0},{"$f":"input_tab_two!B1377","v":0},{"$f":"input_tab_two!D1377","v":0},{"$f":"input_tab_two!E1377","v":0},{"$f":"input_tab_two!G1377","v":0},{"$f":"input_tab_two!I1377","v":0},{"$f":"input_tab_two!K1377","v":0},{"$f":"input_tab_two!M1377","v":0},{"$f":"input_tab_two!O1377","v":0},{"$f":"input_tab_two!B1379","v":0},{"$f":"input_tab_two!D1379","v":0},{"$f":"input_tab_two!E1379","v":0},{"$f":"input_tab_two!G1379","v":0},{"$f":"input_tab_two!I1379","v":0},{"$f":"input_tab_two!K1379","v":0},{"$f":"input_tab_two!M1379","v":0},{"$f":"input_tab_two!O1379","v":0},{"$f":"input_tab_two!B1386","v":0},{"$f":"input_tab_two!C1386","v":0},{"$f":"input_tab_two!E1386","v":0},{"$f":"IFERROR(E26*(VLOOKUP(F26,kb_conversion[#All],2,FALSE)),\"\")","v":""},{"$f":"IFERROR(H26*(VLOOKUP(I26,kb_conversion[],2,FALSE)),\"\")","v":""},{"$f":"IFERROR(J26*(VLOOKUP(K26,kb_conversion[],2,FALSE)),\"\")","v":""},{"$f":"IFERROR(Q26*(VLOOKUP(R26,kb_conversion[],2,FALSE)),\"\")","v":""},{"$f":"IFERROR(X26*(VLOOKUP(Y26,kb_conversion[],2,FALSE)),\"\")","v":""},{"$f":"IFERROR(AE26*(VLOOKUP(AF26,kb_conversion[],2,FALSE)),\"\")","v":""},{"$f":"IFERROR(AL26*(VLOOKUP(AM26,kb_conversion[],2,FALSE)),\"\")","v":""},{"$f":"IFERROR(AS26*(VLOOKUP(AT26,kb_conversion[],2,FALSE)),\"\")","v":""},{"$f":"IF(U26=input_lists!$R$11,input_database!CK26,0)+IF(input_database!AB26=input_lists!$R$11,input_database!CL26,0)+IF(input_database!AI26=input_lists!$R$11,input_database!CM26,0)+IF(input_database!AP26=input_lists!$R$11,input_database!CN26,0)+IF(input_database!AW26=input_lists!$R$11,input_database!CO26,0)","v":0},0,"0","0","1900-06-01","1900-06-01",0,"","0",{"$f":"IFERROR(CR26-SUM(IF(U26=input_lists!$R$11,input_database!CK26,0)+IF(AB26=input_lists!$R$11,input_database!CL26,0)+IF(AI26=input_lists!$R$11,input_database!CM26,0)+IF(AP26=input_lists!$R$11,input_database!CN26,0)+IF(AW26=input_lists!$R$11,input_database!CO26,0)),\"\")","v":0},{"$f":"IFERROR(CS26-SUM(IF(U26=input_lists!$R$12,input_database!CK26,0)+IF(AB26=input_lists!$R$12,input_database!CL26,0)+IF(AI26=input_lists!$R$12,input_database!CM26,0)+IF(AP26=input_lists!$R$12,input_database!CN26,0)+IF(AW26=input_lists!$R$12,input_database!CO26,0)),\"\")","v":0},0,0,"0000",{"$f":"IFERROR(CK26*(VLOOKUP(DC26,convert_lowres_backup[[#All],[Column6]:[Column7]],2,FALSE)),\"0\")","v":"0"},"0000",{"$f":"IFERROR(CL26*(VLOOKUP(DE26,convert_lowres_backup[[#All],[Column6]:[Column7]],2,FALSE)),\"0\")","v":"0"},"0000",{"$f":"IFERROR(CM26*(VLOOKUP(DG26,convert_lowres_backup[[#All],[Column6]:[Column7]],2,FALSE)),\"0\")","v":"0"},"0000",{"$f":"IFERROR(CN26*(VLOOKUP(DI26,convert_lowres_backup[[#All],[Column6]:[Column7]],2,FALSE)),\"0\")","v":"0"},"0000",{"$f":"IFERROR(CO26*(VLOOKUP(DK26,convert_lowres_backup[[#All],[Column6]:[Column7]],2,FALSE)),\"0\")","v":"0"},{"$f":"IF(U26=input_lists!$R$11,input_database!DD26,0)+IF(input_database!AB26=input_lists!$R$11,input_database!DF26,0)+IF(AI26=input_lists!$R$11,input_database!DH26,0)+IF(input_database!AP26=input_lists!$R$11,DJ26,0)+IF(input_database!AW26=input_lists!$R$11,input_database!DL26,0)","v":0},0,0,0,{"$f":"IFERROR(input_database!AZ26*VLOOKUP(BA26,ratios_between_analogue_storage_types[],2,FALSE),\"0\")","v":"0"},"00",{"$f":"IFERROR(DQ26*VLOOKUP(DR26,convert_paper_digitised[[#All],[Reference]:[kb]],2,FALSE),\"0\")","v":"0"},"00",{"$f":"IFERROR(DQ26*VLOOKUP(DT26,convert_paper_digitised[[#All],[Reference]:[kb]],2,FALSE),\"0\")","v":"0"},{"$f":"IFERROR(DS26*VLOOKUP(BF26,colour_scale_conversion[],2,FALSE),0)","v":0},"00",{"$f":"IFERROR(DV26*VLOOKUP(DW26,compressed_files[],2,FALSE),0)","v":0},{"$f":"IFERROR(DU26*VLOOKUP(BF26,colour_scale_conversion[],2,FALSE),0)","v":0},"00",{"$f":"IFERROR(DY26*VLOOKUP(DZ26,compressed_files[#All],3,FALSE),0)","v":0},{"$f":"IFERROR(input_database!BH26*VLOOKUP(BI26,ratios_between_analogue_storage_types[],2,FALSE),\"0\")","v":"0"},"00",{"$f":"IFERROR(EB26*VLOOKUP(EC26,convert_paper_digitised[[#All],[Reference]:[kb]],2,FALSE),\"0\")","v":"0"},"00",{"$f":"IFERROR(EB26*VLOOKUP(EE26,convert_paper_digitised[[#All],[Reference]:[kb]],2,FALSE),\"0\")","v":"0"},{"$f":"IFERROR(ED26*VLOOKUP(BN26,colour_scale_conversion[],2,FALSE),0)","v":0},"00",{"$f":"IFERROR(EG26*VLOOKUP(EH26,compressed_files[#All],2,FALSE),0)","v":0},{"$f":"IFERROR(EF26*VLOOKUP(BN26,colour_scale_conversion[#All],2,FALSE),0)","v":0},"00",{"$f":"IFERROR(EJ26*VLOOKUP(EK26,compressed_files[],3,FALSE),0)","v":0},{"$f":"IFERROR(BP26*VLOOKUP(BQ26,ratios_between_analogue_storage_types[],2,FALSE),\"0\")","v":"0"},"00",{"$f":"IFERROR(EM26*VLOOKUP(EN26,convert_paper_digitised[[#All],[Reference]:[kb]],2,FALSE),\"0\")","v":"0"},"00",{"$f":"IFERROR(EM26*VLOOKUP(EP26,convert_paper_digitised[[#All],[Reference]:[kb]],2,FALSE),\"0\")","v":"0"},{"$f":"IFERROR(EO26*VLOOKUP(BV26,colour_scale_conversion[#All],2,FALSE),0)","v":0},"00",{"$f":"IFERROR(ER26*VLOOKUP(ES26,compressed_files[],2,FALSE),0)","v":0},{"$f":"IFERROR(EQ26*VLOOKUP(BV26,colour_scale_conversion[],2,FALSE),0)","v":0},"00",{"$f":"IFERROR(EU26*VLOOKUP(EV26,compressed_files[],3,FALSE),0)","v":0},{"$f":"IFERROR(BX26*VLOOKUP(BY26,ratios_between_analogue_storage_types[],2,FALSE),\"0\")","v":"0"},"00",{"$f":"IFERROR(EX26*VLOOKUP(EY26,convert_paper_digitised[[#All],[Reference]:[kb]],2,FALSE),\"0\")","v":"0"},"00",{"$f":"IFERROR(EX26*VLOOKUP(FA26,convert_paper_digitised[[#All],[Reference]:[kb]],2,FALSE),\"0\")","v":"0"},{"$f":"IFERROR(EZ26*VLOOKUP(CD26,colour_scale_conversion[],2,FALSE),0)","v":0},"00",{"$f":"IFERROR(FC26*VLOOKUP(FD26,compressed_files[],2,FALSE),0)","v":0},{"$f":"IFERROR(FB26*VLOOKUP(CD26,colour_scale_conversion[],2,FALSE),0)","v":0},"00",{"$f":"IFERROR(FF26*VLOOKUP(FG26,compressed_files[],3,FALSE),0)","v":0},0,0,0,{"$f":"IFERROR(IF(SUM(FV26:FZ26)=0,CE26*VLOOKUP(CF26,ratios_between_analogue_storage_types[],2,FALSE),0),\"0\")","v":"0"},3.2000000000000001E-2,0,46.8,0,3.4598948060486525,0,482.95251786295574,0,0,"","",0,0,0,{"$f":"FI26+FK26","v":0},0,0,0,0,0,0,0]
[{"$f":"input_tab_two!A1389","v":0},{"$f":"input_tab_two!E1393","v":0},{"$f":"input_tab_one!$C$5","v":0},{"$f":"input_tab_two!B1404","v":0},{"$f":"input_tab_two!E1404","v":0},{"$f":"input_tab_two!F1404","v":0},{"$f":"input_tab_two!I1404","v":0},{"$f":"input_tab_two!B1409","v":0},{"$f":"input_tab_two!C1409","v":0},{"$f":"input_tab_two!E1409","v":0},{"$f":"input_tab_two!F1409","v":0},{"$f":"input_tab_two!I1409","v":0},{"$f":"input_tab_two!B1414","v":0},{"$f":"input_tab_two!E1414","v":0},{"$f":"input_tab_two!E1417","v":0},{"$f":"input_tab_two!F1417","v":0},{"$f":"input_tab_two!G1417","v":0},{"$f":"input_tab_two!H1417","v":0},{"$f":"input_tab_two!I1417","v":0},{"$f":"input_tab_two!J1417","v":0},{"$f":"input_tab_two!K1417","v":0},{"$f":"input_tab_two!E1419","v":0},{"$f":"input_tab_two!F1419","v":0},{"$f":"input_tab_two!G1419","v":0},{"$f":"input_tab_two!H1419","v":0},{"$f":"input_tab_two!I1419","v":0},{"$f":"input_tab_two!J1419","v":0},{"$f":"input_tab_two!K1419","v":0},{"$f":"input_tab_two!E1421","v":0},{"$f":"input_tab_two!F1421","v":0},{"$f":"input_tab_two!G1421","v":0},{"$f":"input_tab_two!H1421","v":0},{"$f":"input_tab_two!I1421","v":0},{"$f":"input_tab_two!J1421","v":0},{"$f":"input_tab_two!K1421","v":0},{"$f":"input_tab_two!E1423","v":0},{"$f":"input_tab_two!F1423","v":0},{"$f":"input_tab_two!G1423","v":0},{"$f":"input_tab_two!H1423","v":0},{"$f":"input_tab_two!I1423","v":0},{"$f":"input_tab_two!J1423","v":0},{"$f":"input_tab_two!K1423","v":0},{"$f":"input_tab_two!E1425","v":0},{"$f":"input_tab_two!F1425","v":0},{"$f":"input_tab_two!G1425","v":0},{"$f":"input_tab_two!H1425","v":0},{"$f":"input_tab_two!I1425","v":0},{"$f":"input_tab_two!J1425","v":0},{"$f":"input_tab_two!K1425","v":0},{"$f":"input_tab_two!B1432","v":0},{"$f":"input_tab_two!B1436","v":0},{"$f":"input_tab_two!D1436","v":0},{"$f":"input_tab_two!E1436","v":0},{"$f":"input_tab_two!G1436","v":0},{"$f":"input_tab_two!I1436","v":0},{"$f":"input_tab_two!K1436","v":0},{"$f":"input_tab_two!M1436","v":0},{"$f":"input_tab_two!O1436","v":0},{"$f":"input_tab_two!B1438","v":0},{"$f":"input_tab_two!D1438","v":0},{"$f":"input_tab_two!E1438","v":0},{"$f":"input_tab_two!G1438","v":0},{"$f":"input_tab_two!I1438","v":0},{"$f":"input_tab_two!K1438","v":0},{"$f":"input_tab_two!M1438","v":0},{"$f":"input_tab_two!O1438","v":0},{"$f":"input_tab_two!B1440","v":0},{"$f":"input_tab_two!D1440","v":0},{"$f":"input_tab_two!E1440","v":0},{"$f":"input_tab_two!G1440","v":0},{"$f":"input_tab_two!I1440","v":0},{"$f":"input_tab_two!K1440","v":0},{"$f":"input_tab_two!M1440","v":0},{"$f":"input_tab_two!O1440","v":0},{"$f":"input_tab_two!B1442","v":0},{"$f":"input_tab_two!D1442","v":0},{"$f":"input_tab_two!E1442","v":0},{"$f":"input_tab_two!G1442","v":0},{"$f":"input_tab_two!I1442","v":0},{"$f":"input_tab_two!K1442","v":0},{"$f":"input_tab_two!M1442","v":0},{"$f":"input_tab_two!O1442","v":0},{"$f":"input_tab_two!B1449","v":0},{"$f":"input_tab_two!C1449","v":0},{"$f":"input_tab_two!E1449","v":0},{"$f":"IFERROR(E27*(VLOOKUP(F27,kb_conversion[#All],2,FALSE)),\"\")","v":""},{"$f":"IFERROR(H27*(VLOOKUP(I27,kb_conversion[],2,FALSE)),\"\")","v":""},{"$f":"IFERROR(J27*(VLOOKUP(K27,kb_conversion[],2,FALSE)),\"\")","v":""},{"$f":"IFERROR(Q27*(VLOOKUP(R27,kb_conversion[],2,FALSE)),\"\")","v":""},{"$f":"IFERROR(X27*(VLOOKUP(Y27,kb_conversion[],2,FALSE)),\"\")","v":""},{"$f":"IFERROR(AE27*(VLOOKUP(AF27,kb_conversion[],2,FALSE)),\"\")","v":""},{"$f":"IFERROR(AL27*(VLOOKUP(AM27,kb_conversion[],2,FALSE)),\"\")","v":""},{"$f":"IFERROR(AS27*(VLOOKUP(AT27,kb_conversion[],2,FALSE)),\"\")","v":""},{"$f":"IF(U27=input_lists!$R$11,input_database!CK27,0)+IF(input_database!AB27=input_lists!$R$11,input_database!CL27,0)+IF(input_database!AI27=input_lists!$R$11,input_database!CM27,0)+IF(input_database!AP27=input_lists!$R$11,input_database!CN27,0)+IF(input_database!AW27=input_lists!$R$11,input_database!CO27,0)","v":0},0,"0","0","1900-06-01","1900-06-01",0,"","0",{"$f":"IFERROR(CR27-SUM(IF(U27=input_lists!$R$11,input_database!CK27,0)+IF(AB27=input_lists!$R$11,input_database!CL27,0)+IF(AI27=input_lists!$R$11,input_database!CM27,0)+IF(AP27=input_lists!$R$11,input_database!CN27,0)+IF(AW27=input_lists!$R$11,input_database!CO27,0)),\"\")","v":0},{"$f":"IFERROR(CS27-SUM(IF(U27=input_lists!$R$12,input_database!CK27,0)+IF(AB27=input_lists!$R$12,input_database!CL27,0)+IF(AI27=input_lists!$R$12,input_database!CM27,0)+IF(AP27=input_lists!$R$12,input_database!CN27,0)+IF(AW27=input_lists!$R$12,input_database!CO27,0)),\"\")","v":0},0,0,"0000",{"$f":"IFERROR(CK27*(VLOOKUP(DC27,convert_lowres_backup[[#All],[Column6]:[Column7]],2,FALSE)),\"0\")","v":"0"},"0000",{"$f":"IFERROR(CL27*(VLOOKUP(DE27,convert_lowres_backup[[#All],[Column6]:[Column7]],2,FALSE)),\"0\")","v":"0"},"0000",{"$f":"IFERROR(CM27*(VLOOKUP(DG27,convert_lowres_backup[[#All],[Column6]:[Column7]],2,FALSE)),\"0\")","v":"0"},"0000",{"$f":"IFERROR(CN27*(VLOOKUP(DI27,convert_lowres_backup[[#All],[Column6]:[Column7]],2,FALSE)),\"0\")","v":"0"},"0000",{"$f":"IFERROR(CO27*(VLOOKUP(DK27,convert_lowres_backup[[#All],[Column6]:[Column7]],2,FALSE)),\"0\")","v":"0"},{"$f":"IF(U27=input_lists!$R$11,input_database!DD27,0)+IF(input_database!AB27=input_lists!$R$11,input_database!DF27,0)+IF(AI27=input_lists!$R$11,input_database!DH27,0)+IF(input_database!AP27=input_lists!$R$11,DJ27,0)+IF(input_database!AW27=input_lists!$R$11,input_database!DL27,0)","v":0},0,0,0,{"$f":"IFERROR(input_database!AZ27*VLOOKUP(BA27,ratios_between_analogue_storage_types[],2,FALSE),\"0\")","v":"0"},"00",{"$f":"IFERROR(DQ27*VLOOKUP(DR27,convert_paper_digitised[[#All],[Reference]:[kb]],2,FALSE),\"0\")","v":"0"},"00",{"$f":"IFERROR(DQ27*VLOOKUP(DT27,convert_paper_digitised[[#All],[Reference]:[kb]],2,FALSE),\"0\")","v":"0"},{"$f":"IFERROR(DS27*VLOOKUP(BF27,colour_scale_conversion[],2,FALSE),0)","v":0},"00",{"$f":"IFERROR(DV27*VLOOKUP(DW27,compressed_files[],2,FALSE),0)","v":0},{"$f":"IFERROR(DU27*VLOOKUP(BF27,colour_scale_conversion[],2,FALSE),0)","v":0},"00",{"$f":"IFERROR(DY27*VLOOKUP(DZ27,compressed_files[#All],3,FALSE),0)","v":0},{"$f":"IFERROR(input_database!BH27*VLOOKUP(BI27,ratios_between_analogue_storage_types[],2,FALSE),\"0\")","v":"0"},"00",{"$f":"IFERROR(EB27*VLOOKUP(EC27,convert_paper_digitised[[#All],[Reference]:[kb]],2,FALSE),\"0\")","v":"0"},"00",{"$f":"IFERROR(EB27*VLOOKUP(EE27,convert_paper_digitised[[#All],[Reference]:[kb]],2,FALSE),\"0\")","v":"0"},{"$f":"IFERROR(ED27*VLOOKUP(BN27,colour_scale_conversion[],2,FALSE),0)","v":0},"00",{"$f":"IFERROR(EG27*VLOOKUP(EH27,compressed_files[#All],2,FALSE),0)","v":0},{"$f":"IFERROR(EF27*VLOOKUP(BN27,colour_scale_conversion[#All],2,FALSE),0)","v":0},"00",{"$f":"IFERROR(EJ27*VLOOKUP(EK27,compressed_files[],3,FALSE),0)","v":0},{"$f":"IFERROR(BP27*VLOOKUP(BQ27,ratios_between_analogue_storage_types[],2,FALSE),\"0\")","v":"0"},"00",{"$f":"IFERROR(EM27*VLOOKUP(EN27,convert_paper_digitised[[#All],[Reference]:[kb]],2,FALSE),\"0\")","v":"0"},"00",{"$f":"IFERROR(EM27*VLOOKUP(EP27,convert_paper_digitised[[#All],[Reference]:[kb]],2,FALSE),\"0\")","v":"0"},{"$f":"IFERROR(EO27*VLOOKUP(BV27,colour_scale_conversion[#All],2,FALSE),0)","v":0},"00",{"$f":"IFERROR(ER27*VLOOKUP(ES27,compressed_files[],2,FALSE),0)","v":0},{"$f":"IFERROR(EQ27*VLOOKUP(BV27,colour_scale_conversion[],2,FALSE),0)","v":0},"00",{"$f":"IFERROR(EU27*VLOOKUP(EV27,compressed_files[],3,FALSE),0)","v":0},{"$f":"IFERROR(BX27*VLOOKUP(BY27,ratios_between_analogue_storage_types[],2,FALSE),\"0\")","v":"0"},"00",{"$f":"IFERROR(EX27*VLOOKUP(EY27,convert_paper_digitised[[#All],[Reference]:[kb]],2,FALSE),\"0\")","v":"0"},"00",{"$f":"IFERROR(EX27*VLOOKUP(FA27,convert_paper_digitised[[#All],[Reference]:[kb]],2,FALSE),\"0\")","v":"0"},{"$f":"IFERROR(EZ27*VLOOKUP(CD27,colour_scale_conversion[],2,FALSE),0)","v":0},"00",{"$f":"IFERROR(FC27*VLOOKUP(FD27,compressed_files[],2,FALSE),0)","v":0},{"$f":"IFERROR(FB27*VLOOKUP(CD27,colour_scale_conversion[],2,FALSE),0)","v":0},"00",{"$f":"IFERROR(FF27*VLOOKUP(FG27,compressed_files[],3,FALSE),0)","v":0},0,0,0,{"$f":"IFERROR(IF(SUM(FV27:FZ27)=0,CE27*VLOOKUP(CF27,ratios_between_analogue_storage_types[],2,FALSE),0),\"0\")","v":"0"},3.2000000000000001E-2,0,46.8,0,3.4598948060486525,0,482.95251786295574,0,0,"","",0,0,0,{"$f":"FI27+FK27","v":0},0,0,0,0,0,0,0]
[{"$f":"input_tab_two!A1452","v":0},{"$f":"input_tab_two!E1456","v":0},{"$f":"input_tab_one!$C$5","v":0},{"$f":"input_tab_two!B1467","v":0},{"$f":"input_tab_two!E1467","v":0},{"$f":"input_tab_two!F1467","v":0},{"$f":"input_tab_two!I1467","v":0},{"$f":"input_tab_two!B1472","v":0},{"$f":"input_tab_two!C1472","v":0},{"$f":"input_tab_two!E1472","v":0},{"$f":"input_tab_two!F1472","v":0},{"$f":"input_tab_two!I1472","v":0},{"$f":"input_tab_two!B1477","v":0},{"$f":"input_tab_two!E1477","v":0},{"$f":"input_tab_two!E1480","v":0},{"$f":"input_tab_two!F1480","v":0},{"$f":"input_tab_two!G1480","v":0},{"$f":"input_tab_two!H1480","v":0},{"$f":"input_tab_two!I1480","v":0},{"$f":"input_tab_two!J1480","v":0},{"$f":"input_tab_two!K1480","v":0},{"$f":"input_tab_two!E1482","v":0},{"$f":"input_tab_two!F1482","v":0},{"$f":"input_tab_two!G1482","v":0},{"$f":"input_tab_two!H1482","v":0},{"$f":"input_tab_two!I1482","v":0},{"$f":"input_tab_two!J1482","v":0},{"$f":"input_tab_two!K1482","v":0},{"$f":"input_tab_two!E1484","v":0},{"$f":"input_tab_two!F1484","v":0},{"$f":"input_tab_two!G1484","v":0},{"$f":"input_tab_two!H1484","v":0},{"$f":"input_tab_two!I1484","v":0},{"$f":"input_tab_two!J1484","v":0},{"$f":"input_tab_two!K1484","v":0},{"$f":"input_tab_two!E1486","v":0},{"$f":"input_tab_two!F1486","v":0},{"$f":"input_tab_two!G1486","v":0},{"$f":"input_tab_two!H1486","v":0},{"$f":"input_tab_two!I1486","v":0},{"$f":"input_tab_two!J1486","v":0},{"$f":"input_tab_two!K1486","v":0},{"$f":"input_tab_two!E1488","v":0},{"$f":"input_tab_two!F1488","v":0},{"$f":"input_tab_two!G1488","v":0},{"$f":"input_tab_two!H1488","v":0},{"$f":"input_tab_two!I1488","v":0},{"$f":"input_tab_two!J1488","v":0},{"$f":"input_tab_two!K1488","v":0},{"$f":"input_tab_two!B1495","v":0},{"$f":"input_tab_two!B1499","v":0},{"$f":"input_tab_two!D1499","v":0},{"$f":"input_tab_two!E1499","v":0},{"$f":"input_tab_two!G1499","v":0},{"$f":"input_tab_two!I1499","v":0},{"$f":"input_tab_two!K1499","v":0},{"$f":"input_tab_two!M1499","v":0},{"$f":"input_tab_two!O1499","v":0},{"$f":"input_tab_two!B1501","v":0},{"$f":"input_tab_two!D1501","v":0},{"$f":"input_tab_two!E1501","v":0},{"$f":"input_tab_two!G1501","v":0},{"$f":"input_tab_two!I1501","v":0},{"$f":"input_tab_two!K1501","v":0},{"$f":"input_tab_two!M1501","v":0},{"$f":"input_tab_two!O1501","v":0},{"$f":"input_tab_two!B1503","v":0},{"$f":"input_tab_two!D1503","v":0},{"$f":"input_tab_two!E1503","v":0},{"$f":"input_tab_two!G1503","v":0},{"$f":"input_tab_two!I1503","v":0},{"$f":"input_tab_two!K1503","v":0},{"$f":"input_tab_two!M1503","v":0},{"$f":"input_tab_two!O1503","v":0},{"$f":"input_tab_two!B1505","v":0},{"$f":"input_tab_two!D1505","v":0},{"$f":"input_tab_two!E1505","v":0},{"$f":"input_tab_two!G1505","v":0},{"$f":"input_tab_two!I1505","v":0},{"$f":"input_tab_two!K1505","v":0},{"$f":"input_tab_two!M1505","v":0},{"$f":"input_tab_two!O1505","v":0},{"$f":"input_tab_two!B1512","v":0},{"$f":"input_tab_two!C1512","v":0},{"$f":"input_tab_two!E1512","v":0},{"$f":"IFERROR(E28*(VLOOKUP(F28,kb_conversion[#All],2,FALSE)),\"\")","v":""},{"$f":"IFERROR(H28*(VLOOKUP(I28,kb_conversion[],2,FALSE)),\"\")","v":""},{"$f":"IFERROR(J28*(VLOOKUP(K28,kb_conversion[],2,FALSE)),\"\")","v":""},{"$f":"IFERROR(Q28*(VLOOKUP(R28,kb_conversion[],2,FALSE)),\"\")","v":""},{"$f":"IFERROR(X28*(VLOOKUP(Y28,kb_conversion[],2,FALSE)),\"\")","v":""},{"$f":"IFERROR(AE28*(VLOOKUP(AF28,kb_conversion[],2,FALSE)),\"\")","v":""},{"$f":"IFERROR(AL28*(VLOOKUP(AM28,kb_conversion[],2,FALSE)),\"\")","v":""},{"$f":"IFERROR(AS28*(VLOOKUP(AT28,kb_conversion[],2,FALSE)),\"\")","v":""},{"$f":"IF(U28=input_lists!$R$11,input_database!CK28,0)+IF(input_database!AB28=input_lists!$R$11,input_database!CL28,0)+IF(input_database!AI28=input_lists!$R$11,input_database!CM28,0)+IF(input_database!AP28=input_lists!$R$11,input_database!CN28,0)+IF(input_database!AW28=input_lists!$R$11,input_database!CO28,0)","v":0},0,"0","0","1900-06-01","1900-06-01",0,"","0",{"$f":"IFERROR(CR28-SUM(IF(U28=input_lists!$R$11,input_database!CK28,0)+IF(AB28=input_lists!$R$11,input_database!CL28,0)+IF(AI28=input_lists!$R$11,input_database!CM28,0)+IF(AP28=input_lists!$R$11,input_database!CN28,0)+IF(AW28=input_lists!$R$11,input_database!CO28,0)),\"\")","v":0},{"$f":"IFERROR(CS28-SUM(IF(U28=input_lists!$R$12,input_database!CK28,0)+IF(AB28=input_lists!$R$12,input_database!CL28,0)+IF(AI28=input_lists!$R$12,input_database!CM28,0)+IF(AP28=input_lists!$R$12,input_database!CN28,0)+IF(AW28=input_lists!$R$12,input_database!CO28,0)),\"\")","v":0},0,0,"0000",{"$f":"IFERROR(CK28*(VLOOKUP(DC28,convert_lowres_backup[[#All],[Column6]:[Column7]],2,FALSE)),\"0\")","v":"0"},"0000",{"$f":"IFERROR(CL28*(VLOOKUP(DE28,convert_lowres_backup[[#All],[Column6]:[Column7]],2,FALSE)),\"0\")","v":"0"},"0000",{"$f":"IFERROR(CM28*(VLOOKUP(DG28,convert_lowres_backup[[#All],[Column6]:[Column7]],2,FALSE)),\"0\")","v":"0"},"0000",{"$f":"IFERROR(CN28*(VLOOKUP(DI28,convert_lowres_backup[[#All],[Column6]:[Column7]],2,FALSE)),\"0\")","v":"0"},"0000",{"$f":"IFERROR(CO28*(VLOOKUP(DK28,convert_lowres_backup[[#All],[Column6]:[Column7]],2,FALSE)),\"0\")","v":"0"},{"$f":"IF(U28=input_lists!$R$11,input_database!DD28,0)+IF(input_database!AB28=input_lists!$R$11,input_database!DF28,0)+IF(AI28=input_lists!$R$11,input_database!DH28,0)+IF(input_database!AP28=input_lists!$R$11,DJ28,0)+IF(input_database!AW28=input_lists!$R$11,input_database!DL28,0)","v":0},0,0,0,{"$f":"IFERROR(input_database!AZ28*VLOOKUP(BA28,ratios_between_analogue_storage_types[],2,FALSE),\"0\")","v":"0"},"00",{"$f":"IFERROR(DQ28*VLOOKUP(DR28,convert_paper_digitised[[#All],[Reference]:[kb]],2,FALSE),\"0\")","v":"0"},"00",{"$f":"IFERROR(DQ28*VLOOKUP(DT28,convert_paper_digitised[[#All],[Reference]:[kb]],2,FALSE),\"0\")","v":"0"},{"$f":"IFERROR(DS28*VLOOKUP(BF28,colour_scale_conversion[],2,FALSE),0)","v":0},"00",{"$f":"IFERROR(DV28*VLOOKUP(DW28,compressed_files[],2,FALSE),0)","v":0},{"$f":"IFERROR(DU28*VLOOKUP(BF28,colour_scale_conversion[],2,FALSE),0)","v":0},"00",{"$f":"IFERROR(DY28*VLOOKUP(DZ28,compressed_files[#All],3,FALSE),0)","v":0},{"$f":"IFERROR(input_database!BH28*VLOOKUP(BI28,ratios_between_analogue_storage_types[],2,FALSE),\"0\")","v":"0"},"00",{"$f":"IFERROR(EB28*VLOOKUP(EC28,convert_paper_digitised[[#All],[Reference]:[kb]],2,FALSE),\"0\")","v":"0"},"00",{"$f":"IFERROR(EB28*VLOOKUP(EE28,convert_paper_digitised[[#All],[Reference]:[kb]],2,FALSE),\"0\")","v":"0"},{"$f":"IFERROR(ED28*VLOOKUP(BN28,colour_scale_conversion[],2,FALSE),0)","v":0},"00",{"$f":"IFERROR(EG28*VLOOKUP(EH28,compressed_files[#All],2,FALSE),0)","v":0},{"$f":"IFERROR(EF28*VLOOKUP(BN28,colour_scale_conversion[#All],2,FALSE),0)","v":0},"00",{"$f":"IFERROR(EJ28*VLOOKUP(EK28,compressed_files[],3,FALSE),0)","v":0},{"$f":"IFERROR(BP28*VLOOKUP(BQ28,ratios_between_analogue_storage_types[],2,FALSE),\"0\")","v":"0"},"00",{"$f":"IFERROR(EM28*VLOOKUP(EN28,convert_paper_digitised[[#All],[Reference]:[kb]],2,FALSE),\"0\")","v":"0"},"00",{"$f":"IFERROR(EM28*VLOOKUP(EP28,convert_paper_digitised[[#All],[Reference]:[kb]],2,FALSE),\"0\")","v":"0"},{"$f":"IFERROR(EO28*VLOOKUP(BV28,colour_scale_conversion[#All],2,FALSE),0)","v":0},"00",{"$f":"IFERROR(ER28*VLOOKUP(ES28,compressed_files[],2,FALSE),0)","v":0},{"$f":"IFERROR(EQ28*VLOOKUP(BV28,colour_scale_conversion[],2,FALSE),0)","v":0},"00",{"$f":"IFERROR(EU28*VLOOKUP(EV28,compressed_files[],3,FALSE),0)","v":0},{"$f":"IFERROR(BX28*VLOOKUP(BY28,ratios_between_analogue_storage_types[],2,FALSE),\"0\")","v":"0"},"00",{"$f":"IFERROR(EX28*VLOOKUP(EY28,convert_paper_digitised[[#All],[Reference]:[kb]],2,FALSE),\"0\")","v":"0"},"00",{"$f":"IFERROR(EX28*VLOOKUP(FA28,convert_paper_digitised[[#All],[Reference]:[kb]],2,FALSE),\"0\")","v":"0"},{"$f":"IFERROR(EZ28*VLOOKUP(CD28,colour_scale_conversion[],2,FALSE),0)","v":0},"00",{"$f":"IFERROR(FC28*VLOOKUP(FD28,compressed_files[],2,FALSE),0)","v":0},{"$f":"IFERROR(FB28*VLOOKUP(CD28,colour_scale_conversion[],2,FALSE),0)","v":0},"00",{"$f":"IFERROR(FF28*VLOOKUP(FG28,compressed_files[],3,FALSE),0)","v":0},0,0,0,{"$f":"IFERROR(IF(SUM(FV28:FZ28)=0,CE28*VLOOKUP(CF28,ratios_between_analogue_storage_types[],2,FALSE),0),\"0\")","v":"0"},3.2000000000000001E-2,0,46.8,0,3.4598948060486525,0,482.95251786295574,0,0,"","",0,0,0,{"$f":"FI28+FK28","v":0},0,0,0,0,0,0,0]
[{"$f":"input_tab_two!A1515","v":0},{"$f":"input_tab_two!E1519","v":0},{"$f":"input_tab_one!$C$5","v":0},{"$f":"input_tab_two!B1530","v":0},{"$f":"input_tab_two!E1530","v":0},{"$f":"input_tab_two!F1530","v":0},{"$f":"input_tab_two!I1530","v":0},{"$f":"input_tab_two!B1535","v":0},{"$f":"input_tab_two!C1535","v":0},{"$f":"input_tab_two!E1535","v":0},{"$f":"input_tab_two!F1535","v":0},{"$f":"input_tab_two!I1535","v":0},{"$f":"input_tab_two!B1540","v":0},{"$f":"input_tab_two!E1540","v":0},{"$f":"input_tab_two!E1543","v":0},{"$f":"input_tab_two!F1543","v":0},{"$f":"input_tab_two!G1543","v":0},{"$f":"input_tab_two!H1543","v":0},{"$f":"input_tab_two!I1543","v":0},{"$f":"input_tab_two!J1543","v":0},{"$f":"input_tab_two!K1543","v":0},{"$f":"input_tab_two!E1545","v":0},{"$f":"input_tab_two!F1545","v":0},{"$f":"input_tab_two!G1545","v":0},{"$f":"input_tab_two!H1545","v":0},{"$f":"input_tab_two!I1545","v":0},{"$f":"input_tab_two!J1545","v":0},{"$f":"input_tab_two!K1545","v":0},{"$f":"input_tab_two!E1547","v":0},{"$f":"input_tab_two!F1547","v":0},{"$f":"input_tab_two!G1547","v":0},{"$f":"input_tab_two!H1547","v":0},{"$f":"input_tab_two!I1547","v":0},{"$f":"input_tab_two!J1547","v":0},{"$f":"input_tab_two!K1547","v":0},{"$f":"input_tab_two!E1549","v":0},{"$f":"input_tab_two!F1549","v":0},{"$f":"input_tab_two!G1549","v":0},{"$f":"input_tab_two!H1549","v":0},{"$f":"input_tab_two!I1549","v":0},{"$f":"input_tab_two!J1549","v":0},{"$f":"input_tab_two!K1549","v":0},{"$f":"input_tab_two!E1551","v":0},{"$f":"input_tab_two!F1551","v":0},{"$f":"input_tab_two!G1551","v":0},{"$f":"input_tab_two!H1551","v":0},{"$f":"input_tab_two!I1551","v":0},{"$f":"input_tab_two!J1551","v":0},{"$f":"input_tab_two!K1551","v":0},{"$f":"input_tab_two!B1558","v":0},{"$f":"input_tab_two!B1562","v":0},{"$f":"input_tab_two!D1562","v":0},{"$f":"input_tab_two!E1562","v":0},{"$f":"input_tab_two!G1562","v":0},{"$f":"input_tab_two!I1562","v":0},{"$f":"input_tab_two!K1562","v":0},{"$f":"input_tab_two!M1562","v":0},{"$f":"input_tab_two!O1562","v":0},{"$f":"input_tab_two!B1564","v":0},{"$f":"input_tab_two!D1564","v":0},{"$f":"input_tab_two!E1564","v":0},{"$f":"input_tab_two!G1564","v":0},{"$f":"input_tab_two!I1564","v":0},{"$f":"input_tab_two!K1564","v":0},{"$f":"input_tab_two!M1564","v":0},{"$f":"input_tab_two!O1564","v":0},{"$f":"input_tab_two!B1566","v":0},{"$f":"input_tab_two!D1566","v":0},{"$f":"input_tab_two!E1566","v":0},{"$f":"input_tab_two!G1566","v":0},{"$f":"input_tab_two!I1566","v":0},{"$f":"input_tab_two!K1566","v":0},{"$f":"input_tab_two!M1566","v":0},{"$f":"input_tab_two!O1566","v":0},{"$f":"input_tab_two!B1568","v":0},{"$f":"input_tab_two!D1568","v":0},{"$f":"input_tab_two!E1568","v":0},{"$f":"input_tab_two!G1568","v":0},{"$f":"input_tab_two!I1568","v":0},{"$f":"input_tab_two!K1568","v":0},{"$f":"input_tab_two!M1568","v":0},{"$f":"input_tab_two!O1568","v":0},{"$f":"input_tab_two!B1575","v":0},{"$f":"input_tab_two!C1575","v":0},{"$f":"input_tab_two!E1575","v":0},{"$f":"IFERROR(E29*(VLOOKUP(F29,kb_conversion[#All],2,FALSE)),\"\")","v":""},{"$f":"IFERROR(H29*(VLOOKUP(I29,kb_conversion[],2,FALSE)),\"\")","v":""},{"$f":"IFERROR(J29*(VLOOKUP(K29,kb_conversion[],2,FALSE)),\"\")","v":""},{"$f":"IFERROR(Q29*(VLOOKUP(R29,kb_conversion[],2,FALSE)),\"\")","v":""},{"$f":"IFERROR(X29*(VLOOKUP(Y29,kb_conversion[],2,FALSE)),\"\")","v":""},{"$f":"IFERROR(AE29*(VLOOKUP(AF29,kb_conversion[],2,FALSE)),\"\")","v":""},{"$f":"IFERROR(AL29*(VLOOKUP(AM29,kb_conversion[],2,FALSE)),\"\")","v":""},{"$f":"IFERROR(AS29*(VLOOKUP(AT29,kb_conversion[],2,FALSE)),\"\")","v":""},{"$f":"IF(U29=input_lists!$R$11,input_database!CK29,0)+IF(input_database!AB29=input_lists!$R$11,input_database!CL29,0)+IF(input_database!AI29=input_lists!$R$11,input_database!CM29,0)+IF(input_database!AP29=input_lists!$R$11,input_database!CN29,0)+IF(input_database!AW29=input_lists!$R$11,input_database!CO29,0)","v":0},0,"0","0","1900-06-01","1900-06-01",0,"","0",{"$f":"IFERROR(CR29-SUM(IF(U29=input_lists!$R$11,input_database!CK29,0)+IF(AB29=input_lists!$R$11,input_database!CL29,0)+IF(AI29=input_lists!$R$11,input_database!CM29,0)+IF(AP29=input_lists!$R$11,input_database!CN29,0)+IF(AW29=input_lists!$R$11,input_database!CO29,0)),\"\")","v":0},{"$f":"IFERROR(CS29-SUM(IF(U29=input_lists!$R$12,input_database!CK29,0)+IF(AB29=input_lists!$R$12,input_database!CL29,0)+IF(AI29=input_lists!$R$12,input_database!CM29,0)+IF(AP29=input_lists!$R$12,input_database!CN29,0)+IF(AW29=input_lists!$R$12,input_database!CO29,0)),\"\")","v":0},0,0,"0000",{"$f":"IFERROR(CK29*(VLOOKUP(DC29,convert_lowres_backup[[#All],[Column6]:[Column7]],2,FALSE)),\"0\")","v":"0"},"0000",{"$f":"IFERROR(CL29*(VLOOKUP(DE29,convert_lowres_backup[[#All],[Column6]:[Column7]],2,FALSE)),\"0\")","v":"0"},"0000",{"$f":"IFERROR(CM29*(VLOOKUP(DG29,convert_lowres_backup[[#All],[Column6]:[Column7]],2,FALSE)),\"0\")","v":"0"},"0000",{"$f":"IFERROR(CN29*(VLOOKUP(DI29,convert_lowres_backup[[#All],[Column6]:[Column7]],2,FALSE)),\"0\")","v":"0"},"0000",{"$f":"IFERROR(CO29*(VLOOKUP(DK29,convert_lowres_backup[[#All],[Column6]:[Column7]],2,FALSE)),\"0\")","v":"0"},{"$f":"IF(U29=input_lists!$R$11,input_database!DD29,0)+IF(input_database!AB29=input_lists!$R$11,input_database!DF29,0)+IF(AI29=input_lists!$R$11,input_database!DH29,0)+IF(input_database!AP29=input_lists!$R$11,DJ29,0)+IF(input_database!AW29=input_lists!$R$11,input_database!DL29,0)","v":0},0,0,0,{"$f":"IFERROR(input_database!AZ29*VLOOKUP(BA29,ratios_between_analogue_storage_types[],2,FALSE),\"0\")","v":"0"},"00",{"$f":"IFERROR(DQ29*VLOOKUP(DR29,convert_paper_digitised[[#All],[Reference]:[kb]],2,FALSE),\"0\")","v":"0"},"00",{"$f":"IFERROR(DQ29*VLOOKUP(DT29,convert_paper_digitised[[#All],[Reference]:[kb]],2,FALSE),\"0\")","v":"0"},{"$f":"IFERROR(DS29*VLOOKUP(BF29,colour_scale_conversion[],2,FALSE),0)","v":0},"00",{"$f":"IFERROR(DV29*VLOOKUP(DW29,compressed_files[],2,FALSE),0)","v":0},{"$f":"IFERROR(DU29*VLOOKUP(BF29,colour_scale_conversion[],2,FALSE),0)","v":0},"00",{"$f":"IFERROR(DY29*VLOOKUP(DZ29,compressed_files[#All],3,FALSE),0)","v":0},{"$f":"IFERROR(input_database!BH29*VLOOKUP(BI29,ratios_between_analogue_storage_types[],2,FALSE),\"0\")","v":"0"},"00",{"$f":"IFERROR(EB29*VLOOKUP(EC29,convert_paper_digitised[[#All],[Reference]:[kb]],2,FALSE),\"0\")","v":"0"},"00",{"$f":"IFERROR(EB29*VLOOKUP(EE29,convert_paper_digitised[[#All],[Reference]:[kb]],2,FALSE),\"0\")","v":"0"},{"$f":"IFERROR(ED29*VLOOKUP(BN29,colour_scale_conversion[],2,FALSE),0)","v":0},"00",{"$f":"IFERROR(EG29*VLOOKUP(EH29,compressed_files[#All],2,FALSE),0)","v":0},{"$f":"IFERROR(EF29*VLOOKUP(BN29,colour_scale_conversion[#All],2,FALSE),0)","v":0},"00",{"$f":"IFERROR(EJ29*VLOOKUP(EK29,compressed_files[],3,FALSE),0)","v":0},{"$f":"IFERROR(BP29*VLOOKUP(BQ29,ratios_between_analogue_storage_types[],2,FALSE),\"0\")","v":"0"},"00",{"$f":"IFERROR(EM29*VLOOKUP(EN29,convert_paper_digitised[[#All],[Reference]:[kb]],2,FALSE),\"0\")","v":"0"},"00",{"$f":"IFERROR(EM29*VLOOKUP(EP29,convert_paper_digitised[[#All],[Reference]:[kb]],2,FALSE),\"0\")","v":"0"},{"$f":"IFERROR(EO29*VLOOKUP(BV29,colour_scale_conversion[#All],2,FALSE),0)","v":0},"00",{"$f":"IFERROR(ER29*VLOOKUP(ES29,compressed_files[],2,FALSE),0)","v":0},{"$f":"IFERROR(EQ29*VLOOKUP(BV29,colour_scale_conversion[],2,FALSE),0)","v":0},"00",{"$f":"IFERROR(EU29*VLOOKUP(EV29,compressed_files[],3,FALSE),0)","v":0},{"$f":"IFERROR(BX29*VLOOKUP(BY29,ratios_between_analogue_storage_types[],2,FALSE),\"0\")","v":"0"},"00",{"$f":"IFERROR(EX29*VLOOKUP(EY29,convert_paper_digitised[[#All],[Reference]:[kb]],2,FALSE),\"0\")","v":"0"},"00",{"$f":"IFERROR(EX29*VLOOKUP(FA29,convert_paper_digitised[[#All],[Reference]:[kb]],2,FALSE),\"0\")","v":"0"},{"$f":"IFERROR(EZ29*VLOOKUP(CD29,colour_scale_conversion[],2,FALSE),0)","v":0},"00",{"$f":"IFERROR(FC29*VLOOKUP(FD29,compressed_files[],2,FALSE),0)","v":0},{"$f":"IFERROR(FB29*VLOOKUP(CD29,colour_scale_conversion[],2,FALSE),0)","v":0},"00",{"$f":"IFERROR(FF29*VLOOKUP(FG29,compressed_files[],3,FALSE),0)","v":0},0,0,0,{"$f":"IFERROR(IF(SUM(FV29:FZ29)=0,CE29*VLOOKUP(CF29,ratios_between_analogue_storage_types[],2,FALSE),0),\"0\")","v":"0"},3.2000000000000001E-2,0,46.8,0,3.4598948060486525,0,482.95251786295574,0,0,"","",0,0,0,{"$f":"FI29+FK29","v":0},0,0,0,0,0,0,0]
[{"$f":"input_tab_two!A1578","v":0},{"$f":"input_tab_two!E1582","v":0},{"$f":"input_tab_one!$C$5","v":0},{"$f":"input_tab_two!B1593","v":0},{"$f":"input_tab_two!E1593","v":0},{"$f":"input_tab_two!F1593","v":0},{"$f":"input_tab_two!I1593","v":0},{"$f":"input_tab_two!B1598","v":0},{"$f":"input_tab_two!C1598","v":0},{"$f":"input_tab_two!E1598","v":0},{"$f":"input_tab_two!F1598","v":0},{"$f":"input_tab_two!I1598","v":0},{"$f":"input_tab_two!B1603","v":0},{"$f":"input_tab_two!E1603","v":0},{"$f":"input_tab_two!E1606","v":0},{"$f":"input_tab_two!F1606","v":0},{"$f":"input_tab_two!G1606","v":0},{"$f":"input_tab_two!H1606","v":0},{"$f":"input_tab_two!I1606","v":0},{"$f":"input_tab_two!J1606","v":0},{"$f":"input_tab_two!K1606","v":0},{"$f":"input_tab_two!E1608","v":0},{"$f":"input_tab_two!F1608","v":0},{"$f":"input_tab_two!G1608","v":0},{"$f":"input_tab_two!H1608","v":0},{"$f":"input_tab_two!I1608","v":0},{"$f":"input_tab_two!J1608","v":0},{"$f":"input_tab_two!K1608","v":0},{"$f":"input_tab_two!E1610","v":0},{"$f":"input_tab_two!F1610","v":0},{"$f":"input_tab_two!G1610","v":0},{"$f":"input_tab_two!H1610","v":0},{"$f":"input_tab_two!I1610","v":0},{"$f":"input_tab_two!J1610","v":0},{"$f":"input_tab_two!K1610","v":0},{"$f":"input_tab_two!E1612","v":0},{"$f":"input_tab_two!F1612","v":0},{"$f":"input_tab_two!G1612","v":0},{"$f":"input_tab_two!H1612","v":0},{"$f":"input_tab_two!I1612","v":0},{"$f":"input_tab_two!J1612","v":0},{"$f":"input_tab_two!K1612","v":0},{"$f":"input_tab_two!E1614","v":0},{"$f":"input_tab_two!F1614","v":0},{"$f":"input_tab_two!G1614","v":0},{"$f":"input_tab_two!H1614","v":0},{"$f":"input_tab_two!I1614","v":0},{"$f":"input_tab_two!J1614","v":0},{"$f":"input_tab_two!K1614","v":0},{"$f":"input_tab_two!B1621","v":0},{"$f":"input_tab_two!B1625","v":0},{"$f":"input_tab_two!D1625","v":0},{"$f":"input_tab_two!E1625","v":0},{"$f":"input_tab_two!G1625","v":0},{"$f":"input_tab_two!I1625","v":0},{"$f":"input_tab_two!K1625","v":0},{"$f":"input_tab_two!M1625","v":0},{"$f":"input_tab_two!O1625","v":0},{"$f":"input_tab_two!B1627","v":0},{"$f":"input_tab_two!D1627","v":0},{"$f":"input_tab_two!E1627","v":0},{"$f":"input_tab_two!G1627","v":0},{"$f":"input_tab_two!I1627","v":0},{"$f":"input_tab_two!K1627","v":0},{"$f":"input_tab_two!M1627","v":0},{"$f":"input_tab_two!O1627","v":0},{"$f":"input_tab_two!B1629","v":0},{"$f":"input_tab_two!D1629","v":0},{"$f":"input_tab_two!E1629","v":0},{"$f":"input_tab_two!G1629","v":0},{"$f":"input_tab_two!I1629","v":0},{"$f":"input_tab_two!K1629","v":0},{"$f":"input_tab_two!M1629","v":0},{"$f":"input_tab_two!O1629","v":0},{"$f":"input_tab_two!B1631","v":0},{"$f":"input_tab_two!D1631","v":0},{"$f":"input_tab_two!E1631","v":0},{"$f":"input_tab_two!G1631","v":0},{"$f":"input_tab_two!I1631","v":0},{"$f":"input_tab_two!K1631","v":0},{"$f":"input_tab_two!M1631","v":0},{"$f":"input_tab_two!O1631","v":0},{"$f":"input_tab_two!B1638","v":0},{"$f":"input_tab_two!C1638","v":0},{"$f":"input_tab_two!E1638","v":0},{"$f":"IFERROR(E30*(VLOOKUP(F30,kb_conversion[#All],2,FALSE)),\"\")","v":""},{"$f":"IFERROR(H30*(VLOOKUP(I30,kb_conversion[],2,FALSE)),\"\")","v":""},{"$f":"IFERROR(J30*(VLOOKUP(K30,kb_conversion[],2,FALSE)),\"\")","v":""},{"$f":"IFERROR(Q30*(VLOOKUP(R30,kb_conversion[],2,FALSE)),\"\")","v":""},{"$f":"IFERROR(X30*(VLOOKUP(Y30,kb_conversion[],2,FALSE)),\"\")","v":""},{"$f":"IFERROR(AE30*(VLOOKUP(AF30,kb_conversion[],2,FALSE)),\"\")","v":""},{"$f":"IFERROR(AL30*(VLOOKUP(AM30,kb_conversion[],2,FALSE)),\"\")","v":""},{"$f":"IFERROR(AS30*(VLOOKUP(AT30,kb_conversion[],2,FALSE)),\"\")","v":""},{"$f":"IF(U30=input_lists!$R$11,input_database!CK30,0)+IF(input_database!AB30=input_lists!$R$11,input_database!CL30,0)+IF(input_database!AI30=input_lists!$R$11,input_database!CM30,0)+IF(input_database!AP30=input_lists!$R$11,input_database!CN30,0)+IF(input_database!AW30=input_lists!$R$11,input_database!CO30,0)","v":0},0,"0","0","1900-06-01","1900-06-01",0,"","0",{"$f":"IFERROR(CR30-SUM(IF(U30=input_lists!$R$11,input_database!CK30,0)+IF(AB30=input_lists!$R$11,input_database!CL30,0)+IF(AI30=input_lists!$R$11,input_database!CM30,0)+IF(AP30=input_lists!$R$11,input_database!CN30,0)+IF(AW30=input_lists!$R$11,input_database!CO30,0)),\"\")","v":0},{"$f":"IFERROR(CS30-SUM(IF(U30=input_lists!$R$12,input_database!CK30,0)+IF(AB30=input_lists!$R$12,input_database!CL30,0)+IF(AI30=input_lists!$R$12,input_database!CM30,0)+IF(AP30=input_lists!$R$12,input_database!CN30,0)+IF(AW30=input_lists!$R$12,input_database!CO30,0)),\"\")","v":0},0,0,"0000",{"$f":"IFERROR(CK30*(VLOOKUP(DC30,convert_lowres_backup[[#All],[Column6]:[Column7]],2,FALSE)),\"0\")","v":"0"},"0000",{"$f":"IFERROR(CL30*(VLOOKUP(DE30,convert_lowres_backup[[#All],[Column6]:[Column7]],2,FALSE)),\"0\")","v":"0"},"0000",{"$f":"IFERROR(CM30*(VLOOKUP(DG30,convert_lowres_backup[[#All],[Column6]:[Column7]],2,FALSE)),\"0\")","v":"0"},"0000",{"$f":"IFERROR(CN30*(VLOOKUP(DI30,convert_lowres_backup[[#All],[Column6]:[Column7]],2,FALSE)),\"0\")","v":"0"},"0000",{"$f":"IFERROR(CO30*(VLOOKUP(DK30,convert_lowres_backup[[#All],[Column6]:[Column7]],2,FALSE)),\"0\")","v":"0"},{"$f":"IF(U30=input_lists!$R$11,input_database!DD30,0)+IF(input_database!AB30=input_lists!$R$11,input_database!DF30,0)+IF(AI30=input_lists!$R$11,input_database!DH30,0)+IF(input_database!AP30=input_lists!$R$11,DJ30,0)+IF(input_database!AW30=input_lists!$R$11,input_database!DL30,0)","v":0},0,0,0,{"$f":"IFERROR(input_database!AZ30*VLOOKUP(BA30,ratios_between_analogue_storage_types[],2,FALSE),\"0\")","v":"0"},"00",{"$f":"IFERROR(DQ30*VLOOKUP(DR30,convert_paper_digitised[[#All],[Reference]:[kb]],2,FALSE),\"0\")","v":"0"},"00",{"$f":"IFERROR(DQ30*VLOOKUP(DT30,convert_paper_digitised[[#All],[Reference]:[kb]],2,FALSE),\"0\")","v":"0"},{"$f":"IFERROR(DS30*VLOOKUP(BF30,colour_scale_conversion[],2,FALSE),0)","v":0},"00",{"$f":"IFERROR(DV30*VLOOKUP(DW30,compressed_files[],2,FALSE),0)","v":0},{"$f":"IFERROR(DU30*VLOOKUP(BF30,colour_scale_conversion[],2,FALSE),0)","v":0},"00",{"$f":"IFERROR(DY30*VLOOKUP(DZ30,compressed_files[#All],3,FALSE),0)","v":0},{"$f":"IFERROR(input_database!BH30*VLOOKUP(BI30,ratios_between_analogue_storage_types[],2,FALSE),\"0\")","v":"0"},"00",{"$f":"IFERROR(EB30*VLOOKUP(EC30,convert_paper_digitised[[#All],[Reference]:[kb]],2,FALSE),\"0\")","v":"0"},"00",{"$f":"IFERROR(EB30*VLOOKUP(EE30,convert_paper_digitised[[#All],[Reference]:[kb]],2,FALSE),\"0\")","v":"0"},{"$f":"IFERROR(ED30*VLOOKUP(BN30,colour_scale_conversion[],2,FALSE),0)","v":0},"00",{"$f":"IFERROR(EG30*VLOOKUP(EH30,compressed_files[#All],2,FALSE),0)","v":0},{"$f":"IFERROR(EF30*VLOOKUP(BN30,colour_scale_conversion[#All],2,FALSE),0)","v":0},"00",{"$f":"IFERROR(EJ30*VLOOKUP(EK30,compressed_files[],3,FALSE),0)","v":0},{"$f":"IFERROR(BP30*VLOOKUP(BQ30,ratios_between_analogue_storage_types[],2,FALSE),\"0\")","v":"0"},"00",{"$f":"IFERROR(EM30*VLOOKUP(EN30,convert_paper_digitised[[#All],[Reference]:[kb]],2,FALSE),\"0\")","v":"0"},"00",{"$f":"IFERROR(EM30*VLOOKUP(EP30,convert_paper_digitised[[#All],[Reference]:[kb]],2,FALSE),\"0\")","v":"0"},{"$f":"IFERROR(EO30*VLOOKUP(BV30,colour_scale_conversion[#All],2,FALSE),0)","v":0},"00",{"$f":"IFERROR(ER30*VLOOKUP(ES30,compressed_files[],2,FALSE),0)","v":0},{"$f":"IFERROR(EQ30*VLOOKUP(BV30,colour_scale_conversion[],2,FALSE),0)","v":0},"00",{"$f":"IFERROR(EU30*VLOOKUP(EV30,compressed_files[],3,FALSE),0)","v":0},{"$f":"IFERROR(BX30*VLOOKUP(BY30,ratios_between_analogue_storage_types[],2,FALSE),\"0\")","v":"0"},"00",{"$f":"IFERROR(EX30*VLOOKUP(EY30,convert_paper_digitised[[#All],[Reference]:[kb]],2,FALSE),\"0\")","v":"0"},"00",{"$f":"IFERROR(EX30*VLOOKUP(FA30,convert_paper_digitised[[#All],[Reference]:[kb]],2,FALSE),\"0\")","v":"0"},{"$f":"IFERROR(EZ30*VLOOKUP(CD30,colour_scale_conversion[],2,FALSE),0)","v":0},"00",{"$f":"IFERROR(FC30*VLOOKUP(FD30,compressed_files[],2,FALSE),0)","v":0},{"$f":"IFERROR(FB30*VLOOKUP(CD30,colour_scale_conversion[],2,FALSE),0)","v":0},"00",{"$f":"IFERROR(FF30*VLOOKUP(FG30,compressed_files[],3,FALSE),0)","v":0},0,0,0,{"$f":"IFERROR(IF(SUM(FV30:FZ30)=0,CE30*VLOOKUP(CF30,ratios_between_analogue_storage_types[],2,FALSE),0),\"0\")","v":"0"},3.2000000000000001E-2,0,46.8,0,3.4598948060486525,0,482.95251786295574,0,0,"","",0,0,0,{"$f":"FI30+FK30","v":0},0,0,0,0,0,0,0]
[{"$f":"input_tab_two!A1641","v":0},{"$f":"input_tab_two!E1645","v":0},{"$f":"input_tab_one!$C$5","v":0},{"$f":"input_tab_two!B1656","v":0},{"$f":"input_tab_two!E1656","v":0},{"$f":"input_tab_two!F1656","v":0},{"$f":"input_tab_two!I1656","v":0},{"$f":"input_tab_two!B1661","v":0},{"$f":"input_tab_two!C1661","v":0},{"$f":"input_tab_two!E1661","v":0},{"$f":"input_tab_two!F1661","v":0},{"$f":"input_tab_two!I1661","v":0},{"$f":"input_tab_two!B1666","v":0},{"$f":"input_tab_two!E1666","v":0},{"$f":"input_tab_two!E1669","v":0},{"$f":"input_tab_two!F1669","v":0},{"$f":"input_tab_two!G1669","v":0},{"$f":"input_tab_two!H1669","v":0},{"$f":"input_tab_two!I1669","v":0},{"$f":"input_tab_two!J1669","v":0},{"$f":"input_tab_two!K1669","v":0},{"$f":"input_tab_two!E1671","v":0},{"$f":"input_tab_two!F1671","v":0},{"$f":"input_tab_two!G1671","v":0},{"$f":"input_tab_two!H1671","v":0},{"$f":"input_tab_two!I1671","v":0},{"$f":"input_tab_two!J1671","v":0},{"$f":"input_tab_two!K1671","v":0},{"$f":"input_tab_two!E1673","v":0},{"$f":"input_tab_two!F1673","v":0},{"$f":"input_tab_two!G1673","v":0},{"$f":"input_tab_two!H1673","v":0},{"$f":"input_tab_two!I1673","v":0},{"$f":"input_tab_two!J1673","v":0},{"$f":"input_tab_two!K1673","v":0},{"$f":"input_tab_two!E1675","v":0},{"$f":"input_tab_two!F1675","v":0},{"$f":"input_tab_two!G1675","v":0},{"$f":"input_tab_two!H1675","v":0},{"$f":"input_tab_two!I1675","v":0},{"$f":"input_tab_two!J1675","v":0},{"$f":"input_tab_two!K1675","v":0},{"$f":"input_tab_two!E1677","v":0},{"$f":"input_tab_two!F1677","v":0},{"$f":"input_tab_two!G1677","v":0},{"$f":"input_tab_two!H1677","v":0},{"$f":"input_tab_two!I1677","v":0},{"$f":"input_tab_two!J1677","v":0},{"$f":"input_tab_two!K1677","v":0},{"$f":"input_tab_two!B1684","v":0},{"$f":"input_tab_two!B1688","v":0},{"$f":"input_tab_two!D1688","v":0},{"$f":"input_tab_two!E1688","v":0},{"$f":"input_tab_two!G1688","v":0},{"$f":"input_tab_two!I1688","v":0},{"$f":"input_tab_two!K1688","v":0},{"$f":"input_tab_two!M1688","v":0},{"$f":"input_tab_two!O1688","v":0},{"$f":"input_tab_two!B1690","v":0},{"$f":"input_tab_two!D1690","v":0},{"$f":"input_tab_two!E1690","v":0},{"$f":"input_tab_two!G1690","v":0},{"$f":"input_tab_two!I1690","v":0},{"$f":"input_tab_two!K1690","v":0},{"$f":"input_tab_two!M1690","v":0},{"$f":"input_tab_two!O1690","v":0},{"$f":"input_tab_two!B1692","v":0},{"$f":"input_tab_two!D1692","v":0},{"$f":"input_tab_two!E1692","v":0},{"$f":"input_tab_two!G1692","v":0},{"$f":"input_tab_two!I1692","v":0},{"$f":"input_tab_two!K1692","v":0},{"$f":"input_tab_two!M1692","v":0},{"$f":"input_tab_two!O1692","v":0},{"$f":"input_tab_two!B1694","v":0},{"$f":"input_tab_two!D1694","v":0},{"$f":"input_tab_two!E1694","v":0},{"$f":"input_tab_two!G1694","v":0},{"$f":"input_tab_two!I1694","v":0},{"$f":"input_tab_two!K1694","v":0},{"$f":"input_tab_two!M1694","v":0},{"$f":"input_tab_two!O1694","v":0},{"$f":"input_tab_two!B1701","v":0},{"$f":"input_tab_two!C1701","v":0},{"$f":"input_tab_two!E1701","v":0},{"$f":"IFERROR(E31*(VLOOKUP(F31,kb_conversion[#All],2,FALSE)),\"\")","v":""},{"$f":"IFERROR(H31*(VLOOKUP(I31,kb_conversion[],2,FALSE)),\"\")","v":""},{"$f":"IFERROR(J31*(VLOOKUP(K31,kb_conversion[],2,FALSE)),\"\")","v":""},{"$f":"IFERROR(Q31*(VLOOKUP(R31,kb_conversion[],2,FALSE)),\"\")","v":""},{"$f":"IFERROR(X31*(VLOOKUP(Y31,kb_conversion[],2,FALSE)),\"\")","v":""},{"$f":"IFERROR(AE31*(VLOOKUP(AF31,kb_conversion[],2,FALSE)),\"\")","v":""},{"$f":"IFERROR(AL31*(VLOOKUP(AM31,kb_conversion[],2,FALSE)),\"\")","v":""},{"$f":"IFERROR(AS31*(VLOOKUP(AT31,kb_conversion[],2,FALSE)),\"\")","v":""},{"$f":"IF(U31=input_lists!$R$11,input_database!CK31,0)+IF(input_database!AB31=input_lists!$R$11,input_database!CL31,0)+IF(input_database!AI31=input_lists!$R$11,input_database!CM31,0)+IF(input_database!AP31=input_lists!$R$11,input_database!CN31,0)+IF(input_database!AW31=input_lists!$R$11,input_database!CO31,0)","v":0},0,"0","0","1900-06-01","1900-06-01",0,"","0",{"$f":"IFERROR(CR31-SUM(IF(U31=input_lists!$R$11,input_database!CK31,0)+IF(AB31=input_lists!$R$11,input_database!CL31,0)+IF(AI31=input_lists!$R$11,input_database!CM31,0)+IF(AP31=input_lists!$R$11,input_database!CN31,0)+IF(AW31=input_lists!$R$11,input_database!CO31,0)),\"\")","v":0},{"$f":"IFERROR(CS31-SUM(IF(U31=input_lists!$R$12,input_database!CK31,0)+IF(AB31=input_lists!$R$12,input_database!CL31,0)+IF(AI31=input_lists!$R$12,input_database!CM31,0)+IF(AP31=input_lists!$R$12,input_database!CN31,0)+IF(AW31=input_lists!$R$12,input_database!CO31,0)),\"\")","v":0},0,0,"0000",{"$f":"IFERROR(CK31*(VLOOKUP(DC31,convert_lowres_backup[[#All],[Column6]:[Column7]],2,FALSE)),\"0\")","v":"0"},"0000",{"$f":"IFERROR(CL31*(VLOOKUP(DE31,convert_lowres_backup[[#All],[Column6]:[Column7]],2,FALSE)),\"0\")","v":"0"},"0000",{"$f":"IFERROR(CM31*(VLOOKUP(DG31,convert_lowres_backup[[#All],[Column6]:[Column7]],2,FALSE)),\"0\")","v":"0"},"0000",{"$f":"IFERROR(CN31*(VLOOKUP(DI31,convert_lowres_backup[[#All],[Column6]:[Column7]],2,FALSE)),\"0\")","v":"0"},"0000",{"$f":"IFERROR(CO31*(VLOOKUP(DK31,convert_lowres_backup[[#All],[Column6]:[Column7]],2,FALSE)),\"0\")","v":"0"},{"$f":"IF(U31=input_lists!$R$11,input_database!DD31,0)+IF(input_database!AB31=input_lists!$R$11,input_database!DF31,0)+IF(AI31=input_lists!$R$11,input_database!DH31,0)+IF(input_database!AP31=input_lists!$R$11,DJ31,0)+IF(input_database!AW31=input_lists!$R$11,input_database!DL31,0)","v":0},0,0,0,{"$f":"IFERROR(input_database!AZ31*VLOOKUP(BA31,ratios_between_analogue_storage_types[],2,FALSE),\"0\")","v":"0"},"00",{"$f":"IFERROR(DQ31*VLOOKUP(DR31,convert_paper_digitised[[#All],[Reference]:[kb]],2,FALSE),\"0\")","v":"0"},"00",{"$f":"IFERROR(DQ31*VLOOKUP(DT31,convert_paper_digitised[[#All],[Reference]:[kb]],2,FALSE),\"0\")","v":"0"},{"$f":"IFERROR(DS31*VLOOKUP(BF31,colour_scale_conversion[],2,FALSE),0)","v":0},"00",{"$f":"IFERROR(DV31*VLOOKUP(DW31,compressed_files[],2,FALSE),0)","v":0},{"$f":"IFERROR(DU31*VLOOKUP(BF31,colour_scale_conversion[],2,FALSE),0)","v":0},"00",{"$f":"IFERROR(DY31*VLOOKUP(DZ31,compressed_files[#All],3,FALSE),0)","v":0},{"$f":"IFERROR(input_database!BH31*VLOOKUP(BI31,ratios_between_analogue_storage_types[],2,FALSE),\"0\")","v":"0"},"00",{"$f":"IFERROR(EB31*VLOOKUP(EC31,convert_paper_digitised[[#All],[Reference]:[kb]],2,FALSE),\"0\")","v":"0"},"00",{"$f":"IFERROR(EB31*VLOOKUP(EE31,convert_paper_digitised[[#All],[Reference]:[kb]],2,FALSE),\"0\")","v":"0"},{"$f":"IFERROR(ED31*VLOOKUP(BN31,colour_scale_conversion[],2,FALSE),0)","v":0},"00",{"$f":"IFERROR(EG31*VLOOKUP(EH31,compressed_files[#All],2,FALSE),0)","v":0},{"$f":"IFERROR(EF31*VLOOKUP(BN31,colour_scale_conversion[#All],2,FALSE),0)","v":0},"00",{"$f":"IFERROR(EJ31*VLOOKUP(EK31,compressed_files[],3,FALSE),0)","v":0},{"$f":"IFERROR(BP31*VLOOKUP(BQ31,ratios_between_analogue_storage_types[],2,FALSE),\"0\")","v":"0"},"00",{"$f":"IFERROR(EM31*VLOOKUP(EN31,convert_paper_digitised[[#All],[Reference]:[kb]],2,FALSE),\"0\")","v":"0"},"00",{"$f":"IFERROR(EM31*VLOOKUP(EP31,convert_paper_digitised[[#All],[Reference]:[kb]],2,FALSE),\"0\")","v":"0"},{"$f":"IFERROR(EO31*VLOOKUP(BV31,colour_scale_conversion[#All],2,FALSE),0)","v":0},"00",{"$f":"IFERROR(ER31*VLOOKUP(ES31,compressed_files[],2,FALSE),0)","v":0},{"$f":"IFERROR(EQ31*VLOOKUP(BV31,colour_scale_conversion[],2,FALSE),0)","v":0},"00",{"$f":"IFERROR(EU31*VLOOKUP(EV31,compressed_files[],3,FALSE),0)","v":0},{"$f":"IFERROR(BX31*VLOOKUP(BY31,ratios_between_analogue_storage_types[],2,FALSE),\"0\")","v":"0"},"00",{"$f":"IFERROR(EX31*VLOOKUP(EY31,convert_paper_digitised[[#All],[Reference]:[kb]],2,FALSE),\"0\")","v":"0"},"00",{"$f":"IFERROR(EX31*VLOOKUP(FA31,convert_paper_digitised[[#All],[Reference]:[kb]],2,FALSE),\"0\")","v":"0"},{"$f":"IFERROR(EZ31*VLOOKUP(CD31,colour_scale_conversion[],2,FALSE),0)","v":0},"00",{"$f":"IFERROR(FC31*VLOOKUP(FD31,compressed_files[],2,FALSE),0)","v":0},{"$f":"IFERROR(FB31*VLOOKUP(CD31,colour_scale_conversion[],2,FALSE),0)","v":0},"00",{"$f":"IFERROR(FF31*VLOOKUP(FG31,compressed_files[],3,FALSE),0)","v":0},0,0,0,{"$f":"IFERROR(IF(SUM(FV31:FZ31)=0,CE31*VLOOKUP(CF31,ratios_between_analogue_storage_types[],2,FALSE),0),\"0\")","v":"0"},3.2000000000000001E-2,0,46.8,0,3.4598948060486525,0,482.95251786295574,0,0,"","",0,0,0,{"$f":"FI31+FK31","v":0},0,0,0,0,0,0,0]

{"sheet":"results_charts","index":10,"n_rows":2846,"n_cols":46,"rows_kept":2846,"cut":false,"hidden":true,"merged":[]}
[]
[]
[]
[]
[]
[]
[]
[]
[]
[]
[null,"Reference","Volume",null,"Year","Known - on EDRM / Content Management systems","Known - Outwith EDRM / Content Management systems","Calculations based on paper records","Planned Digitisation","Estimated - future annual storage requirements","Cumulative (Known + Estimated)",null,"Reference",null,"Volume",null,"Year",{"$f":"selected_functions!A5","v":0},{"$f":"selected_functions!A6","v":0},{"$f":"selected_functions!A7","v":0},{"$f":"selected_functions!A8","v":0},{"$f":"selected_functions!A9","v":0},{"$f":"selected_functions!A10","v":0},{"$f":"selected_functions!A11","v":0},{"$f":"selected_functions!A12","v":0},{"$f":"selected_functions!A13","v":0},{"$f":"selected_functions!A14","v":0},{"$f":"selected_functions!A15","v":0},{"$f":"selected_functions!A16","v":0},{"$f":"selected_functions!A17","v":0},{"$f":"selected_functions!A18","v":0},{"$f":"selected_functions!A19","v":0},{"$f":"selected_functions!A20","v":0},{"$f":"selected_functions!A21","v":0},{"$f":"selected_functions!A22","v":0},{"$f":"selected_functions!A23","v":0},{"$f":"selected_functions!A24","v":0},{"$f":"selected_functions!A25","v":0},{"$f":"selected_functions!A26","v":0},{"$f":"selected_functions!A27","v":0},{"$f":"selected_functions!A28","v":0},{"$f":"selected_functions!A29","v":0},{"$f":"selected_functions!A30","v":0},{"$f":"selected_functions!A31","v":0},null,"Total Results"]
[null,{"$f":"CONCATENATE(selected_functions!$A$5,E12,C12)","v":"-17Kilobytes"},{"$f":"input_lists!$G$11","v":"Kilobytes"},null,{"$f":"input_lists!D11","v":-17},{"$f":"IF(AND(E12>=input_database!$D$5,E12<input_database!$C$5),input_database!$GC$5,\"0\")","v":"0"},{"$f":"IF(E12<input_database!$C$5,input_database!$GE$5,\"0\")","v":0},{"$f":"IFERROR(input_database!$GH$5,\"0\")","v":0},{"$f":"IF(E12=input_database!$C$5,input_database!$GG$5,\"0\")","v":"0"},{"$f":"IF(E12>=input_database!$C$5,(input_database!$GF$5+input_database!$GD$5),0)","v":0},{"$f":"SUM(F12:J12)","v":0},null,{"$f":"CONCATENATE(\"Overall\",Q12,O12)","v":"Overall-17Kilobytes"},null,{"$f":"input_lists!$G$11","v":"Kilobytes"},null,{"$f":"input_lists!D11","v":-17},{"$f":"K12","v":0},{"$f":"K117","v":0},{"$f":"K222","v":0},{"$f":"K327","v":0},{"$f":"K432","v":0},{"$f":"K537","v":0},{"$f":"K642","v":0},{"$f":"K747","v":0},{"$f":"K852","v":0},{"$f":"K957","v":0},{"$f":"K1062","v":0},{"$f":"K1167","v":0},{"$f":"K1272","v":0},{"$f":"K1377","v":0},{"$f":"K1482","v":0},{"$f":"K1587","v":0},{"$f":"K1692","v":0},{"$f":"K1797","v":0},{"$f":"K1902","v":0},{"$f":"K2007","v":0},{"$f":"K2112","v":0},{"$f":"K2217","v":0},{"$f":"K2322","v":0},{"$f":"K2427","v":0},{"$f":"K2532","v":0},{"$f":"K2637","v":0},{"$f":"K2742","v":0},null,{"$f":"SUM(R12:AR12)","v":0}]
[null,{"$f":"CONCATENATE(selected_functions!$A$5,E13,C13)","v":"-16Kilobytes"},{"$f":"input_lists!$G$11","v":"Kilobytes"},null,{"$f":"input_lists!D12","v":-16},{"$f":"IF(AND(E13>=input_database!$D$5,E13<input_database!$C$5),input_database!$GC$5,\"0\")","v":"0"},{"$f":"IF(E13<input_database!$C$5,input_database!$GE$5,\"0\")","v":0},{"$f":"IFERROR(input_database!$GH$5,\"0\")","v":0},{"$f":"IF(E13=input_database!$C$5,input_database!$GG$5,\"0\")","v":"0"},{"$f":"IF(E13>=input_database!$C$5,(input_database!$GF$5+input_database!$GD$5),0)","v":0},{"$f":"K12+SUM(F13:J13)","v":0},null,{"$f":"CONCATENATE(\"Overall\",Q13,O13)","v":"Overall-16Kilobytes"},null,{"$f":"input_lists!$G$11","v":"Kilobytes"},null,{"$f":"input_lists!D12","v":-16},{"$f":"K13","v":0},{"$f":"K118","v":0},{"$f":"K223","v":0},{"$f":"K328","v":0},{"$f":"K433","v":0},{"$f":"K538","v":0},{"$f":"K643","v":0},{"$f":"K748","v":0},{"$f":"K853","v":0},{"$f":"K958","v":0},{"$f":"K1063","v":0},{"$f":"K1168","v":0},{"$f":"K1273","v":0},{"$f":"K1378","v":0},{"$f":"K1483","v":0},{"$f":"K1588","v":0},{"$f":"K1693","v":0},{"$f":"K1798","v":0},{"$f":"K1903","v":0},{"$f":"K2008","v":0},{"$f":"K2113","v":0},{"$f":"K2218","v":0},{"$f":"K2323","v":0},{"$f":"K2428","v":0},{"$f":"K2533","v":0},{"$f":"K2638","v":0},{"$f":"K2743","v":0},null,{"$f":"SUM(R13:AR13)","v":0}]
[null,{"$f":"CONCATENATE(selected_functions!$A$5,E14,C14)","v":"-15Kilobytes"},{"$f":"input_lists!$G$11","v":"Kilobytes"},null,{"$f":"input_lists!D13","v":-15},{"$f":"IF(AND(E14>=input_database!$D$5,E14<input_database!$C$5),input_database!$GC$5,\"0\")","v":"0"},{"$f":"IF(E14<input_database!$C$5,input_database!$GE$5,\"0\")","v":0},{"$f":"IFERROR(input_database!$GH$5,\"0\")","v":0},{"$f":"IF(E14=input_database!$C$5,input_database!$GG$5,\"0\")","v":"0"},{"$f":"IF(E14>=input_database!$C$5,(input_database!$GF$5+input_database!$GD$5),0)","v":0},0,null,"Overall-15Kilobytes",null,{"$f":"input_lists!$G$11","v":"Kilobytes"},null,{"$f":"input_lists!D13","v":-15},0,0,0,0,0,0,0,0,0,0,0,0,0,0,0,0,0,0,0,0,0,0,0,0,0,0,0,null,0]
[null,{"$f":"CONCATENATE(selected_functions!$A$5,E15,C15)","v":"-14Kilobytes"},{"$f":"input_lists!$G$11","v":"Kilobytes"},null,{"$f":"input_lists!D14","v":-14},{"$f":"IF(AND(E15>=input_database!$D$5,E15<input_database!$C$5),input_database!$GC$5,\"0\")","v":"0"},{"$f":"IF(E15<input_database!$C$5,input_database!$GE$5,\"0\")","v":0},{"$f":"IFERROR(input_database!$GH$5,\"0\")","v":0},{"$f":"IF(E15=input_database!$C$5,input_database!$GG$5,\"0\")","v":"0"},{"$f":"IF(E15>=input_database!$C$5,(input_database!$GF$5+input_database!$GD$5),0)","v":0},0,null,"Overall-14Kilobytes",null,{"$f":"input_lists!$G$11","v":"Kilobytes"},null,{"$f":"input_lists!D14","v":-14},0,0,0,0,0,0,0,0,0,0,0,0,0,0,0,0,0,0,0,0,0,0,0,0,0,0,0,null,0]
[null,{"$f":"CONCATENATE(selected_functions!$A$5,E16,C16)","v":"-13Kilobytes"},{"$f":"input_lists!$G$11","v":"Kilobytes"},null,{"$f":"input_lists!D15","v":-13},{"$f":"IF(AND(E16>=input_database!$D$5,E16<input_database!$C$5),input_database!$GC$5,\"0\")","v":"0"},{"$f":"IF(E16<input_database!$C$5,input_database!$GE$5,\"0\")","v":0},{"$f":"IFERROR(input_database!$GH$5,\"0\")","v":0},{"$f":"IF(E16=input_database!$C$5,input_database!$GG$5,\"0\")","v":"0"},{"$f":"IF(E16>=input_database!$C$5,(input_database!$GF$5+input_database!$GD$5),0)","v":0},0,null,"Overall-13Kilobytes",null,{"$f":"input_lists!$G$11","v":"Kilobytes"},null,{"$f":"input_lists!D15","v":-13},0,0,0,0,0,0,0,0,0,0,0,0,0,0,0,0,0,0,0,0,0,0,0,0,0,0,0,null,0]
[null,{"$f":"CONCATENATE(selected_functions!$A$5,E17,C17)","v":"-12Kilobytes"},{"$f":"input_lists!$G$11","v":"Kilobytes"},null,{"$f":"input_lists!D16","v":-12},{"$f":"IF(AND(E17>=input_database!$D$5,E17<input_database!$C$5),input_database!$GC$5,\"0\")","v":"0"},{"$f":"IF(E17<input_database!$C$5,input_database!$GE$5,\"0\")","v":0},{"$f":"IFERROR(input_database!$GH$5,\"0\")","v":0},{"$f":"IF(E17=input_database!$C$5,input_database!$GG$5,\"0\")","v":"0"},{"$f":"IF(E17>=input_database!$C$5,(input_database!$GF$5+input_database!$GD$5),0)","v":0},0,null,"Overall-12Kilobytes",null,{"$f":"input_lists!$G$11","v":"Kilobytes"},null,{"$f":"input_lists!D16","v":-12},0,0,0,0,0,0,0,0,0,0,0,0,0,0,0,0,0,0,0,0,0,0,0,0,0,0,0,null,0]
[null,{"$f":"CONCATENATE(selected_functions!$A$5,E18,C18)","v":"-11Kilobytes"},{"$f":"input_lists!$G$11","v":"Kilobytes"},null,{"$f":"input_lists!D17","v":-11},{"$f":"IF(AND(E18>=input_database!$D$5,E18<input_database!$C$5),input_database!$GC$5,\"0\")","v":"0"},{"$f":"IF(E18<input_database!$C$5,input_database!$GE$5,\"0\")","v":0},{"$f":"IFERROR(input_database!$GH$5,\"0\")","v":0},{"$f":"IF(E18=input_database!$C$5,input_database!$GG$5,\"0\")","v":"0"},{"$f":"IF(E18>=input_database!$C$5,(input_database!$GF$5+input_database!$GD$5),0)","v":0},0,null,"Overall-11Kilobytes",null,{"$f":"input_lists!$G$11","v":"Kilobytes"},null,{"$f":"input_lists!D17","v":-11},0,0,0,0,0,0,0,0,0,0,0,0,0,0,0,0,0,0,0,0,0,0,0,0,0,0,0,null,0]
[null,{"$f":"CONCATENATE(selected_functions!$A$5,E19,C19)","v":"-10Kilobytes"},{"$f":"input_lists!$G$11","v":"Kilobytes"},null,{"$f":"input_lists!D18","v":-10},{"$f":"IF(AND(E19>=input_database!$D$5,E19<input_database!$C$5),input_database!$GC$5,\"0\")","v":"0"},{"$f":"IF(E19<input_database!$C$5,input_database!$GE$5,\"0\")","v":0},{"$f":"IFERROR(input_database!$GH$5,\"0\")","v":0},{"$f":"IF(E19=input_database!$C$5,input_database!$GG$5,\"0\")","v":"0"},{"$f":"IF(E19>=input_database!$C$5,(input_database!$GF$5+input_database!$GD$5),0)","v":0},0,null,"Overall-10Kilobytes",null,{"$f":"input_lists!$G$11","v":"Kilobytes"},null,{"$f":"input_lists!D18","v":-10},0,0,0,0,0,0,0,0,0,0,0,0,0,0,0,0,0,0,0,0,0,0,0,0,0,0,0,null,0]
[null,{"$f":"CONCATENATE(selected_functions!$A$5,E20,C20)","v":"-9Kilobytes"},{"$f":"input_lists!$G$11","v":"Kilobytes"},null,{"$f":"input_lists!D19","v":-9},{"$f":"IF(AND(E20>=input_database!$D$5,E20<input_database!$C$5),input_database!$GC$5,\"0\")","v":"0"},{"$f":"IF(E20<input_database!$C$5,input_database!$GE$5,\"0\")","v":0},{"$f":"IFERROR(input_database!$GH$5,\"0\")","v":0},{"$f":"IF(E20=input_database!$C$5,input_database!$GG$5,\"0\")","v":"0"},{"$f":"IF(E20>=input_database!$C$5,(input_database!$GF$5+input_database!$GD$5),0)","v":0},0,null,"Overall-9Kilobytes",null,{"$f":"input_lists!$G$11","v":"Kilobytes"},null,{"$f":"input_lists!D19","v":-9},0,0,0,0,0,0,0,0,0,0,0,0,0,0,0,0,0,0,0,0,0,0,0,0,0,0,0,null,0]
[null,{"$f":"CONCATENATE(selected_functions!$A$5,E21,C21)","v":"-8Kilobytes"},{"$f":"input_lists!$G$11","v":"Kilobytes"},null,{"$f":"input_lists!D20","v":-8},{"$f":"IF(AND(E21>=input_database!$D$5,E21<input_database!$C$5),input_database!$GC$5,\"0\")","v":"0"},{"$f":"IF(E21<input_database!$C$5,input_database!$GE$5,\"0\")","v":0},{"$f":"IFERROR(input_database!$GH$5,\"0\")","v":0},{"$f":"IF(E21=input_database!$C$5,input_database!$GG$5,\"0\")","v":"0"},{"$f":"IF(E21>=input_database!$C$5,(input_database!$GF$5+input_database!$GD$5),0)","v":0},0,null,"Overall-8Kilobytes",null,{"$f":"input_lists!$G$11","v":"Kilobytes"},null,{"$f":"input_lists!D20","v":-8},0,0,0,0,0,0,0,0,0,0,0,0,0,0,0,0,0,0,0,0,0,0,0,0,0,0,0,null,0]
[null,{"$f":"CONCATENATE(selected_functions!$A$5,E22,C22)","v":"-7Kilobytes"},{"$f":"input_lists!$G$11","v":"Kilobytes"},null,{"$f":"input_lists!D21","v":-7},{"$f":"IF(AND(E22>=input_database!$D$5,E22<input_database!$C$5),input_database!$GC$5,\"0\")","v":"0"},{"$f":"IF(E22<input_database!$C$5,input_database!$GE$5,\"0\")","v":0},{"$f":"IFERROR(input_database!$GH$5,\"0\")","v":0},{"$f":"IF(E22=input_database!$C$5,input_database!$GG$5,\"0\")","v":"0"},{"$f":"IF(E22>=input_database!$C$5,(input_database!$GF$5+input_database!$GD$5),0)","v":0},0,null,"Overall-7Kilobytes",null,{"$f":"input_lists!$G$11","v":"Kilobytes"},null,{"$f":"input_lists!D21","v":-7},0,0,0,0,0,0,0,0,0,0,0,0,0,0,0,0,0,0,0,0,0,0,0,0,0,0,0,null,0]
[null,{"$f":"CONCATENATE(selected_functions!$A$5,E23,C23)","v":"-6Kilobytes"},{"$f":"input_lists!$G$11","v":"Kilobytes"},null,{"$f":"input_lists!D22","v":-6},{"$f":"IF(AND(E23>=input_database!$D$5,E23<input_database!$C$5),input_database!$GC$5,\"0\")","v":"0"},{"$f":"IF(E23<input_database!$C$5,input_database!$GE$5,\"0\")","v":0},{"$f":"IFERROR(input_database!$GH$5,\"0\")","v":0},{"$f":"IF(E23=input_database!$C$5,input_database!$GG$5,\"0\")","v":"0"},{"$f":"IF(E23>=input_database!$C$5,(input_database!$GF$5+input_database!$GD$5),0)","v":0},0,null,"Overall-6Kilobytes",null,{"$f":"input_lists!$G$11","v":"Kilobytes"},null,{"$f":"input_lists!D22","v":-6},0,0,0,0,0,0,0,0,0,0,0,0,0,0,0,0,0,0,0,0,0,0,0,0,0,0,0,null,0]
[null,{"$f":"CONCATENATE(selected_functions!$A$5,E24,C24)","v":"-5Kilobytes"},{"$f":"input_lists!$G$11","v":"Kilobytes"},null,{"$f":"input_lists!D23","v":-5},{"$f":"IF(AND(E24>=input_database!$D$5,E24<input_database!$C$5),input_database!$GC$5,\"0\")","v":"0"},{"$f":"IF(E24<input_database!$C$5,input_database!$GE$5,\"0\")","v":0},{"$f":"IFERROR(input_database!$GH$5,\"0\")","v":0},{"$f":"IF(E24=input_database!$C$5,input_database!$GG$5,\"0\")","v":"0"},{"$f":"IF(E24>=input_database!$C$5,(input_database!$GF$5+input_database!$GD$5),0)","v":0},0,null,"Overall-5Kilobytes",null,{"$f":"input_lists!$G$11","v":"Kilobytes"},null,{"$f":"input_lists!D23","v":-5},0,0,0,0,0,0,0,0,0,0,0,0,0,0,0,0,0,0,0,0,0,0,0,0,0,0,0,null,0]
[null,{"$f":"CONCATENATE(selected_functions!$A$5,E25,C25)","v":"-4Kilobytes"},{"$f":"input_lists!$G$11","v":"Kilobytes"},null,{"$f":"input_lists!D24","v":-4},{"$f":"IF(AND(E25>=input_database!$D$5,E25<input_database!$C$5),input_database!$GC$5,\"0\")","v":"0"},{"$f":"IF(E25<input_database!$C$5,input_database!$GE$5,\"0\")","v":0},{"$f":"IFERROR(input_database!$GH$5,\"0\")","v":0},{"$f":"IF(E25=input_database!$C$5,input_database!$GG$5,\"0\")","v":"0"},{"$f":"IF(E25>=input_database!$C$5,(input_database!$GF$5+input_database!$GD$5),0)","v":0},0,null,"Overall-4Kilobytes",null,{"$f":"input_lists!$G$11","v":"Kilobytes"},null,{"$f":"input_lists!D24","v":-4},0,0,0,0,0,0,0,0,0,0,0,0,0,0,0,0,0,0,0,0,0,0,0,0,0,0,0,null,0]
[null,{"$f":"CONCATENATE(selected_functions!$A$5,E26,C26)","v":"-3Kilobytes"},{"$f":"input_lists!$G$11","v":"Kilobytes"},null,{"$f":"input_lists!D25","v":-3},{"$f":"IF(AND(E26>=input_database!$D$5,E26<input_database!$C$5),input_database!$GC$5,\"0\")","v":"0"},{"$f":"IF(E26<input_database!$C$5,input_database!$GE$5,\"0\")","v":0},{"$f":"IFERROR(input_database!$GH$5,\"0\")","v":0},{"$f":"IF(E26=input_database!$C$5,input_database!$GG$5,\"0\")","v":"0"},{"$f":"IF(E26>=input_database!$C$5,(input_database!$GF$5+input_database!$GD$5),0)","v":0},0,null,"Overall-3Kilobytes",null,{"$f":"input_lists!$G$11","v":"Kilobytes"},null,{"$f":"input_lists!D25","v":-3},0,0,0,0,0,0,0,0,0,0,0,0,0,0,0,0,0,0,0,0,0,0,0,0,0,0,0,null,0]
[null,{"$f":"CONCATENATE(selected_functions!$A$5,E27,C27)","v":"-2Kilobytes"},{"$f":"input_lists!$G$11","v":"Kilobytes"},null,{"$f":"input_lists!D26","v":-2},{"$f":"IF(AND(E27>=input_database!$D$5,E27<input_database!$C$5),input_database!$GC$5,\"0\")","v":"0"},{"$f":"IF(E27<input_database!$C$5,input_database!$GE$5,\"0\")","v":0},{"$f":"IFERROR(input_database!$GH$5,\"0\")","v":0},{"$f":"IF(E27=input_database!$C$5,input_database!$GG$5,\"0\")","v":"0"},{"$f":"IF(E27>=input_database!$C$5,(input_database!$GF$5+input_database!$GD$5),0)","v":0},0,null,"Overall-2Kilobytes",null,{"$f":"input_lists!$G$11","v":"Kilobytes"},null,{"$f":"input_lists!D26","v":-2},0,0,0,0,0,0,0,0,0,0,0,0,0,0,0,0,0,0,0,0,0,0,0,0,0,0,0,null,0]
[null,{"$f":"CONCATENATE(selected_functions!$A$5,E28,C28)","v":"-1Kilobytes"},{"$f":"input_lists!$G$11","v":"Kilobytes"},null,{"$f":"input_lists!D27","v":-1},{"$f":"IF(AND(E28>=input_database!$D$5,E28<input_database!$C$5),input_database!$GC$5,\"0\")","v":"0"},{"$f":"IF(E28<input_database!$C$5,input_database!$GE$5,\"0\")","v":0},{"$f":"IFERROR(input_database!$GH$5,\"0\")","v":0},{"$f":"IF(E28=input_database!$C$5,input_database!$GG$5,\"0\")","v":"0"},{"$f":"IF(E28>=input_database!$C$5,(input_database!$GF$5+input_database!$GD$5),0)","v":0},0,null,"Overall-1Kilobytes",null,{"$f":"input_lists!$G$11","v":"Kilobytes"},null,{"$f":"input_lists!D27","v":-1},0,0,0,0,0,0,0,0,0,0,0,0,0,0,0,0,0,0,0,0,0,0,0,0,0,0,0,null,0]
[null,{"$f":"CONCATENATE(selected_functions!$A$5,E29,C29)","v":"0Kilobytes"},{"$f":"input_lists!$G$11","v":"Kilobytes"},null,{"$f":"input_lists!D28","v":0},{"$f":"IF(AND(E29>=input_database!$D$5,E29<input_database!$C$5),input_database!$GC$5,\"0\")","v":"0"},{"$f":"IF(E29<input_database!$C$5,input_database!$GE$5,\"0\")","v":"0"},{"$f":"IFERROR(input_database!$GH$5,\"0\")","v":0},{"$f":"IF(E29=input_database!$C$5,input_database!$GG$5,\"0\")","v":0},{"$f":"IF(E29>=input_database!$C$5,(input_database!$GF$5+input_database!$GD$5),0)","v":0},0,null,"Overall0Kilobytes",null,{"$f":"input_lists!$G$11","v":"Kilobytes"},null,{"$f":"input_lists!D28","v":0},0,0,0,0,0,0,0,0,0,0,0,0,0,0,0,0,0,0,0,0,0,0,0,0,0,0,0,null,0]
[null,{"$f":"CONCATENATE(selected_functions!$A$5,E30,C30)","v":"1Kilobytes"},{"$f":"input_lists!$G$11","v":"Kilobytes"},null,{"$f":"input_lists!D29","v":1},{"$f":"IF(AND(E30>=input_database!$D$5,E30<input_database!$C$5),input_database!$GC$5,\"0\")","v":"0"},{"$f":"IF(E30<input_database!$C$5,input_database!$GE$5,\"0\")","v":"0"},{"$f":"IFERROR(input_database!$GH$5,\"0\")","v":0},{"$f":"IF(E30=input_database!$C$5,input_database!$GG$5,\"0\")","v":"0"},{"$f":"IF(E30>=input_database!$C$5,(input_database!$GF$5+input_database!$GD$5),0)","v":0},0,null,"Overall1Kilobytes",null,{"$f":"input_lists!$G$11","v":"Kilobytes"},null,{"$f":"input_lists!D29","v":1},0,0,0,0,0,0,0,0,0,0,0,0,0,0,0,0,0,0,0,0,0,0,0,0,0,0,0,null,0]
[null,{"$f":"CONCATENATE(selected_functions!$A$5,E31,C31)","v":"2Kilobytes"},{"$f":"input_lists!$G$11","v":"Kilobytes"},null,{"$f":"input_lists!D30","v":2},{"$f":"IF(AND(E31>=input_database!$D$5,E31<input_database!$C$5),input_database!$GC$5,\"0\")","v":"0"},{"$f":"IF(E31<input_database!$C$5,input_database!$GE$5,\"0\")","v":"0"},{"$f":"IFERROR(input_database!$GH$5,\"0\")","v":0},{"$f":"IF(E31=input_database!$C$5,input_database!$GG$5,\"0\")","v":"0"},{"$f":"IF(E31>=input_database!$C$5,(input_database!$GF$5+input_database!$GD$5),0)","v":0},0,null,"Overall2Kilobytes",null,{"$f":"input_lists!$G$11","v":"Kilobytes"},null,{"$f":"input_lists!D30","v":2},0,0,0,0,0,0,0,0,0,0,0,0,0,0,0,0,0,0,0,0,0,0,0,0,0,0,0,null,0]
[null,{"$f":"CONCATENATE(selected_functions!$A$5,E32,C32)","v":"3Kilobytes"},{"$f":"input_lists!$G$11","v":"Kilobytes"},null,{"$f":"input_lists!D31","v":3},{"$f":"IF(AND(E32>=input_database!$D$5,E32<input_database!$C$5),input_database!$GC$5,\"0\")","v":"0"},{"$f":"IF(E32<input_database!$C$5,input_database!$GE$5,\"0\")","v":"0"},{"$f":"IFERROR(input_database!$GH$5,\"0\")","v":0},{"$f":"IF(E32=input_database!$C$5,input_database!$GG$5,\"0\")","v":"0"},{"$f":"IF(E32>=input_database!$C$5,(input_database!$GF$5+input_database!$GD$5),0)","v":0},0,null,"Overall3Kilobytes",null,{"$f":"input_lists!$G$11","v":"Kilobytes"},null,{"$f":"input_lists!D31","v":3},0,0,0,0,0,0,0,0,0,0,0,0,0,0,0,0,0,0,0,0,0,0,0,0,0,0,0,null,0]
[null,{"$f":"CONCATENATE(selected_functions!$A$5,E33,C33)","v":"-17Megabytes"},{"$f":"input_lists!$G$12","v":"Megabytes"},null,{"$f":"$E$12","v":-17},{"$f":"F12/1024","v":0},0,0,0,0,0,null,"Overall-17Megabytes",null,{"$f":"input_lists!$G$12","v":"Megabytes"},null,{"$f":"Q12","v":-17},0,0,0,0,0,0,0,0,0,0,0,0,0,0,0,0,0,0,0,0,0,0,0,0,0,0,0,null,{"$f":"SUM(R33:AR33)","v":0}]
[null,{"$f":"CONCATENATE(selected_functions!$A$5,E34,C34)","v":"-16Megabytes"},{"$f":"C33","v":"Megabytes"},null,{"$f":"$E$13","v":-16},0,0,0,0,0,0,null,"Overall-16Megabytes",null,{"$f":"O33","v":"Megabytes"},null,{"$f":"Q13","v":-16},0,0,0,0,0,0,0,0,0,0,0,0,0,0,0,0,0,0,0,0,0,0,0,0,0,0,0,null,{"$f":"SUM(R34:AR34)","v":0}]
[null,{"$f":"CONCATENATE(selected_functions!$A$5,E35,C35)","v":"-15Megabytes"},{"$f":"C34","v":"Megabytes"},null,{"$f":"$E$14","v":-15},0,0,0,0,0,0,null,"Overall-15Megabytes",null,{"$f":"O34","v":"Megabytes"},null,-15,0,0,0,0,0,0,0,0,0,0,0,0,0,0,0,0,0,0,0,0,0,0,0,0,0,0,0,null,0]
[null,{"$f":"CONCATENATE(selected_functions!$A$5,E36,C36)","v":"-14Megabytes"},"Megabytes",null,{"$f":"$E$15","v":-14},0,0,0,0,0,0,null,"Overall-14Megabytes",null,"Megabytes",null,-14,0,0,0,0,0,0,0,0,0,0,0,0,0,0,0,0,0,0,0,0,0,0,0,0,0,0,0,null,0]
[null,{"$f":"CONCATENATE(selected_functions!$A$5,E37,C37)","v":"-13Megabytes"},"Megabytes",null,{"$f":"$E$16","v":-13},0,0,0,0,0,0,null,"Overall-13Megabytes",null,"Megabytes",null,-13,0,0,0,0,0,0,0,0,0,0,0,0,0,0,0,0,0,0,0,0,0,0,0,0,0,0,0,null,0]
[null,{"$f":"CONCATENATE(selected_functions!$A$5,E38,C38)","v":"-12Megabytes"},"Megabytes",null,{"$f":"$E$17","v":-12},0,0,0,0,0,0,null,"Overall-12Megabytes",null,"Megabytes",null,-12,0,0,0,0,0,0,0,0,0,0,0,0,0,0,0,0,0,0,0,0,0,0,0,0,0,0,0,null,0]
[null,{"$f":"CONCATENATE(selected_functions!$A$5,E39,C39)","v":"-11Megabytes"},"Megabytes",null,{"$f":"$E$18","v":-11},0,0,0,0,0,0,null,"Overall-11Megabytes",null,"Megabytes",null,-11,0,0,0,0,0,0,0,0,0,0,0,0,0,0,0,0,0,0,0,0,0,0,0,0,0,0,0,null,0]
[null,{"$f":"CONCATENATE(selected_functions!$A$5,E40,C40)","v":"-10Megabytes"},"Megabytes",null,{"$f":"$E$19","v":-10},0,0,0,0,0,0,null,"Overall-10Megabytes",null,"Megabytes",null,-10,0,0,0,0,0,0,0,0,0,0,0,0,0,0,0,0,0,0,0,0,0,0,0,0,0,0,0,null,0]
[null,{"$f":"CONCATENATE(selected_functions!$A$5,E41,C41)","v":"-9Megabytes"},"Megabytes",null,{"$f":"$E$20","v":-9},0,0,0,0,0,0,null,"Overall-9Megabytes",null,"Megabytes",null,-9,0,0,0,0,0,0,0,0,0,0,0,0,0,0,0,0,0,0,0,0,0,0,0,0,0,0,0,null,0]
[null,{"$f":"CONCATENATE(selected_functions!$A$5,E42,C42)","v":"-8Megabytes"},"Megabytes",null,{"$f":"$E$21","v":-8},0,0,0,0,0,0,null,"Overall-8Megabytes",null,"Megabytes",null,-8,0,0,0,0,0,0,0,0,0,0,0,0,0,0,0,0,0,0,0,0,0,0,0,0,0,0,0,null,0]
[null,{"$f":"CONCATENATE(selected_functions!$A$5,E43,C43)","v":"-7Megabytes"},"Megabytes",null,{"$f":"$E$22","v":-7},{"$f":"F22/1024","v":0},0,0,0,0,0,null,"Overall-7Megabytes",null,"Megabytes",null,-7,0,0,0,0,0,0,0,0,0,0,0,0,0,0,0,0,0,0,0,0,0,0,0,0,0,0,0,null,0]
[null,{"$f":"CONCATENATE(selected_functions!$A$5,E44,C44)","v":"-6Megabytes"},"Megabytes",null,{"$f":"$E$23","v":-6},0,0,0,0,0,0,null,"Overall-6Megabytes",null,"Megabytes",null,-6,0,0,0,0,0,0,0,0,0,0,0,0,0,0,0,0,0,0,0,0,0,0,0,0,0,0,0,null,0]
[null,{"$f":"CONCATENATE(selected_functions!$A$5,E45,C45)","v":"-5Megabytes"},"Megabytes",null,{"$f":"$E$24","v":-5},0,0,0,0,0,0,null,"Overall-5Megabytes",null,"Megabytes",null,-5,0,0,0,0,0,0,0,0,0,0,0,0,0,0,0,0,0,0,0,0,0,0,0,0,0,0,0,null,0]
[null,{"$f":"CONCATENATE(selected_functions!$A$5,E46,C46)","v":"-4Megabytes"},"Megabytes",null,{"$f":"$E$25","v":-4},0,0,0,0,0,0,null,"Overall-4Megabytes",null,"Megabytes",null,-4,0,0,0,0,0,0,0,0,0,0,0,0,0,0,0,0,0,0,0,0,0,0,0,0,0,0,0,null,0]
[null,{"$f":"CONCATENATE(selected_functions!$A$5,E47,C47)","v":"-3Megabytes"},"Megabytes",null,{"$f":"$E$26","v":-3},0,0,0,0,0,0,null,"Overall-3Megabytes",null,"Megabytes",null,-3,0,0,0,0,0,0,0,0,0,0,0,0,0,0,0,0,0,0,0,0,0,0,0,0,0,0,0,null,0]
[null,{"$f":"CONCATENATE(selected_functions!$A$5,E48,C48)","v":"-2Megabytes"},"Megabytes",null,{"$f":"$E$27","v":-2},0,0,0,0,0,0,null,"Overall-2Megabytes",null,"Megabytes",null,-2,0,0,0,0,0,0,0,0,0,0,0,0,0,0,0,0,0,0,0,0,0,0,0,0,0,0,0,null,0]
[null,{"$f":"CONCATENATE(selected_functions!$A$5,E49,C49)","v":"-1Megabytes"},"Megabytes",null,{"$f":"$E$28","v":-1},0,0,0,0,0,0,null,"Overall-1Megabytes",null,"Megabytes",null,-1,0,0,0,0,0,0,0,0,0,0,0,0,0,0,0,0,0,0,0,0,0,0,0,0,0,0,0,null,0]
[null,{"$f":"CONCATENATE(selected_functions!$A$5,E50,C50)","v":"0Megabytes"},"Megabytes",null,{"$f":"$E$29","v":0},0,0,0,0,0,0,null,"Overall0Megabytes",null,"Megabytes",null,0,0,0,0,0,0,0,0,0,0,0,0,0,0,0,0,0,0,0,0,0,0,0,0,0,0,0,0,null,0]
[null,{"$f":"CONCATENATE(selected_functions!$A$5,E51,C51)","v":"1Megabytes"},"Megabytes",null,{"$f":"$E$30","v":1},0,0,0,0,0,0,null,"Overall1Megabytes",null,"Megabytes",null,1,0,0,0,0,0,0,0,0,0,0,0,0,0,0,0,0,0,0,0,0,0,0,0,0,0,0,0,null,0]
[null,{"$f":"CONCATENATE(selected_functions!$A$5,E52,C52)","v":"2Megabytes"},"Megabytes",null,{"$f":"$E$31","v":2},0,0,0,0,0,0,null,"Overall2Megabytes",null,"Megabytes",null,2,0,0,0,0,0,0,0,0,0,0,0,0,0,0,0,0,0,0,0,0,0,0,0,0,0,0,0,null,0]
[null,{"$f":"CONCATENATE(selected_functions!$A$5,E53,C53)","v":"3Megabytes"},{"$f":"C52","v":"Megabytes"},null,{"$f":"$E$32","v":3},{"$f":"F32/1024","v":0},0,0,0,0,0,null,"Overall3Megabytes",null,{"$f":"O52","v":"Megabytes"},null,3,0,0,0,0,0,0,0,0,0,0,0,0,0,0,0,0,0,0,0,0,0,0,0,0,0,0,0,null,0]
[null,{"$f":"CONCATENATE(selected_functions!$A$5,E54,C54)","v":"-17Gigabytes"},{"$f":"input_lists!$G$13","v":"Gigabytes"},null,{"$f":"$E$12","v":-17},0,0,0,0,0,0,null,"Overall-17Gigabytes",null,{"$f":"input_lists!$G$13","v":"Gigabytes"},null,{"$f":"Q33","v":-17},0,0,0,0,0,0,0,0,0,0,0,0,0,0,0,0,0,0,0,0,0,0,0,0,0,0,0,null,{"$f":"SUM(R54:AR54)","v":0}]
[null,{"$f":"CONCATENATE(selected_functions!$A$5,E55,C55)","v":"-16Gigabytes"},{"$f":"C54","v":"Gigabytes"},null,{"$f":"$E$13","v":-16},0,0,0,0,0,0,null,"Overall-16Gigabytes",null,{"$f":"O54","v":"Gigabytes"},null,{"$f":"Q34","v":-16},0,0,0,0,0,0,0,0,0,0,0,0,0,0,0,0,0,0,0,0,0,0,0,0,0,0,0,null,{"$f":"SUM(R55:AR55)","v":0}]
[null,{"$f":"CONCATENATE(selected_functions!$A$5,E56,C56)","v":"-15Gigabytes"},{"$f":"C55","v":"Gigabytes"},null,{"$f":"$E$14","v":-15},0,0,0,0,0,0,null,"Overall-15Gigabytes",null,{"$f":"O55","v":"Gigabytes"},null,-15,0,0,0,0,0,0,0,0,0,0,0,0,0,0,0,0,0,0,0,0,0,0,0,0,0,0,0,null,0]
[null,{"$f":"CONCATENATE(selected_functions!$A$5,E57,C57)","v":"-14Gigabytes"},"Gigabytes",null,{"$f":"$E$15","v":-14},0,0,0,0,0,0,null,"Overall-14Gigabytes",null,"Gigabytes",null,-14,0,0,0,0,0,0,0,0,0,0,0,0,0,0,0,0,0,0,0,0,0,0,0,0,0,0,0,null,0]
[null,{"$f":"CONCATENATE(selected_functions!$A$5,E58,C58)","v":"-13Gigabytes"},"Gigabytes",null,{"$f":"$E$16","v":-13},0,0,0,0,0,0,null,"Overall-13Gigabytes",null,"Gigabytes",null,-13,0,0,0,0,0,0,0,0,0,0,0,0,0,0,0,0,0,0,0,0,0,0,0,0,0,0,0,null,0]
[null,{"$f":"CONCATENATE(selected_functions!$A$5,E59,C59)","v":"-12Gigabytes"},"Gigabytes",null,{"$f":"$E$17","v":-12},0,0,0,0,0,0,null,"Overall-12Gigabytes",null,"Gigabytes",null,-12,0,0,0,0,0,0,0,0,0,0,0,0,0,0,0,0,0,0,0,0,0,0,0,0,0,0,0,null,0]
[null,{"$f":"CONCATENATE(selected_functions!$A$5,E60,C60)","v":"-11Gigabytes"},"Gigabytes",null,{"$f":"$E$18","v":-11},0,0,0,0,0,0,null,"Overall-11Gigabytes",null,"Gigabytes",null,-11,0,0,0,0,0,0,0,0,0,0,0,0,0,0,0,0,0,0,0,0,0,0,0,0,0,0,0,null,0]
[null,{"$f":"CONCATENATE(selected_functions!$A$5,E61,C61)","v":"-10Gigabytes"},"Gigabytes",null,{"$f":"$E$19","v":-10},0,0,0,0,0,0,null,"Overall-10Gigabytes",null,"Gigabytes",null,-10,0,0,0,0,0,0,0,0,0,0,0,0,0,0,0,0,0,0,0,0,0,0,0,0,0,0,0,null,0]
[null,{"$f":"CONCATENATE(selected_functions!$A$5,E62,C62)","v":"-9Gigabytes"},"Gigabytes",null,{"$f":"$E$20","v":-9},0,0,0,0,0,0,null,"Overall-9Gigabytes",null,"Gigabytes",null,-9,0,0,0,0,0,0,0,0,0,0,0,0,0,0,0,0,0,0,0,0,0,0,0,0,0,0,0,null,0]
[null,{"$f":"CONCATENATE(selected_functions!$A$5,E63,C63)","v":"-8Gigabytes"},"Gigabytes",null,{"$f":"$E$21","v":-8},{"$f":"F42/1024","v":0},0,0,0,0,0,null,"Overall-8Gigabytes",null,"Gigabytes",null,-8,0,0,0,0,0,0,0,0,0,0,0,0,0,0,0,0,0,0,0,0,0,0,0,0,0,0,0,null,0]
[null,{"$f":"CONCATENATE(selected_functions!$A$5,E64,C64)","v":"-7Gigabytes"},"Gigabytes",null,{"$f":"$E$22","v":-7},0,0,0,0,0,0,null,"Overall-7Gigabytes",null,"Gigabytes",null,-7,0,0,0,0,0,0,0,0,0,0,0,0,0,0,0,0,0,0,0,0,0,0,0,0,0,0,0,null,0]
[null,{"$f":"CONCATENATE(selected_functions!$A$5,E65,C65)","v":"-6Gigabytes"},"Gigabytes",null,{"$f":"$E$23","v":-6},0,0,0,0,0,0,null,"Overall-6Gigabytes",null,"Gigabytes",null,-6,0,0,0,0,0,0,0,0,0,0,0,0,0,0,0,0,0,0,0,0,0,0,0,0,0,0,0,null,0]
[null,{"$f":"CONCATENATE(selected_functions!$A$5,E66,C66)","v":"-5Gigabytes"},"Gigabytes",null,{"$f":"$E$24","v":-5},0,0,0,0,0,0,null,"Overall-5Gigabytes",null,"Gigabytes",null,-5,0,0,0,0,0,0,0,0,0,0,0,0,0,0,0,0,0,0,0,0,0,0,0,0,0,0,0,null,0]
[null,{"$f":"CONCATENATE(selected_functions!$A$5,E67,C67)","v":"-4Gigabytes"},"Gigabytes",null,{"$f":"$E$25","v":-4},0,0,0,0,0,0,null,"Overall-4Gigabytes",null,"Gigabytes",null,-4,0,0,0,0,0,0,0,0,0,0,0,0,0,0,0,0,0,0,0,0,0,0,0,0,0,0,0,null,0]
[null,{"$f":"CONCATENATE(selected_functions!$A$5,E68,C68)","v":"-3Gigabytes"},"Gigabytes",null,{"$f":"$E$26","v":-3},0,0,0,0,0,0,null,"Overall-3Gigabytes",null,"Gigabytes",null,-3,0,0,0,0,0,0,0,0,0,0,0,0,0,0,0,0,0,0,0,0,0,0,0,0,0,0,0,null,0]
[null,{"$f":"CONCATENATE(selected_functions!$A$5,E69,C69)","v":"-2Gigabytes"},"Gigabytes",null,{"$f":"$E$27","v":-2},0,0,0,0,0,0,null,"Overall-2Gigabytes",null,"Gigabytes",null,-2,0,0,0,0,0,0,0,0,0,0,0,0,0,0,0,0,0,0,0,0,0,0,0,0,0,0,0,null,0]
[null,{"$f":"CONCATENATE(selected_functions!$A$5,E70,C70)","v":"-1Gigabytes"},"Gigabytes",null,{"$f":"$E$28","v":-1},0,0,0,0,0,0,null,"Overall-1Gigabytes",null,"Gigabytes",null,-1,0,0,0,0,0,0,0,0,0,0,0,0,0,0,0,0,0,0,0,0,0,0,0,0,0,0,0,null,0]
[null,{"$f":"CONCATENATE(selected_functions!$A$5,E71,C71)","v":"0Gigabytes"},"Gigabytes",null,{"$f":"$E$29","v":0},0,0,0,0,0,0,null,"Overall0Gigabytes",null,"Gigabytes",null,0,0,0,0,0,0,0,0,0,0,0,0,0,0,0,0,0,0,0,0,0,0,0,0,0,0,0,0,null,0]
[null,{"$f":"CONCATENATE(selected_functions!$A$5,E72,C72)","v":"1Gigabytes"},"Gigabytes",null,{"$f":"$E$30","v":1},0,0,0,0,0,0,null,"Overall1Gigabytes",null,"Gigabytes",null,1,0,0,0,0,0,0,0,0,0,0,0,0,0,0,0,0,0,0,0,0,0,0,0,0,0,0,0,null,0]
[null,{"$f":"CONCATENATE(selected_functions!$A$5,E73,C73)","v":"2Gigabytes"},"Gigabytes",null,{"$f":"$E$31","v":2},{"$f":"F52/1024","v":0},0,0,0,0,0,null,"Overall2Gigabytes",null,"Gigabytes",null,2,0,0,0,0,0,0,0,0,0,0,0,0,0,0,0,0,0,0,0,0,0,0,0,0,0,0,0,null,0]
[null,{"$f":"CONCATENATE(selected_functions!$A$5,E74,C74)","v":"3Gigabytes"},"Gigabytes",null,{"$f":"$E$32","v":3},0,0,0,0,0,0,null,"Overall3Gigabytes",null,"Gigabytes",null,3,0,0,0,0,0,0,0,0,0,0,0,0,0,0,0,0,0,0,0,0,0,0,0,0,0,0,0,null,0]
[null,{"$f":"CONCATENATE(selected_functions!$A$5,E75,C75)","v":"-17Terabytes"},{"$f":"input_lists!$G$14","v":"Terabytes"},null,{"$f":"$E$12","v":-17},{"$f":"F54/1024","v":0},0,0,0,0,0,null,"Overall-17Terabytes",null,{"$f":"input_lists!$G$14","v":"Terabytes"},null,{"$f":"Q54","v":-17},0,0,0,0,0,0,0,0,0,0,0,0,0,0,0,0,0,0,0,0,0,0,0,0,0,0,0,null,{"$f":"SUM(R75:AR75)","v":0}]
[null,{"$f":"CONCATENATE(selected_functions!$A$5,E76,C76)","v":"-16Terabytes"},{"$f":"C75","v":"Terabytes"},null,{"$f":"$E$13","v":-16},0,0,0,0,0,0,null,"Overall-16Terabytes",null,{"$f":"O75","v":"Terabytes"},null,{"$f":"Q55","v":-16},0,0,0,0,0,0,0,0,0,0,0,0,0,0,0,0,0,0,0,0,0,0,0,0,0,0,0,null,{"$f":"SUM(R76:AR76)","v":0}]
[null,{"$f":"CONCATENATE(selected_functions!$A$5,E77,C77)","v":"-15Terabytes"},{"$f":"C76","v":"Terabytes"},null,{"$f":"$E$14","v":-15},0,0,0,0,0,0,null,{"$f":"CONCATENATE(\"Overall\",Q77,O77)","v":"Overall-15Terabytes"},null,{"$f":"O76","v":"Terabytes"},null,-15,{"$f":"K77","v":0},{"$f":"K182","v":0},{"$f":"K287","v":0},{"$f":"K392","v":0},{"$f":"K497","v":0},{"$f":"K602","v":0},{"$f":"K707","v":0},{"$f":"K812","v":0},{"$f":"K917","v":0},{"$f":"K1022","v":0},{"$f":"K1127","v":0},{"$f":"K1232","v":0},{"$f":"K1337","v":0},{"$f":"K1442","v":0},{"$f":"K1547","v":0},{"$f":"K1652","v":0},{"$f":"K1757","v":0},{"$f":"K1862","v":0},{"$f":"K1967","v":0},{"$f":"K2072","v":0},{"$f":"K2177","v":0},{"$f":"K2282","v":0},{"$f":"K2387","v":0},{"$f":"K2492","v":0},{"$f":"K2597","v":0},{"$f":"K2702","v":0},{"$f":"K2807","v":0},null,0]
[null,{"$f":"CONCATENATE(selected_functions!$A$5,E78,C78)","v":"-14Terabytes"},"Terabytes",null,{"$f":"$E$15","v":-14},0,0,0,0,0,0,null,"Overall-14Terabytes",null,"Terabytes",null,-14,0,0,0,0,0,0,0,0,0,0,0,0,0,0,0,0,0,0,0,0,0,0,0,0,0,0,0,null,0]
[null,{"$f":"CONCATENATE(selected_functions!$A$5,E79,C79)","v":"-13Terabytes"},"Terabytes",null,{"$f":"$E$16","v":-13},0,0,0,0,0,0,null,"Overall-13Terabytes",null,"Terabytes",null,-13,0,0,0,0,0,0,0,0,0,0,0,0,0,0,0,0,0,0,0,0,0,0,0,0,0,0,0,null,0]
[null,{"$f":"CONCATENATE(selected_functions!$A$5,E80,C80)","v":"-12Terabytes"},"Terabytes",null,{"$f":"$E$17","v":-12},0,0,0,0,0,0,null,"Overall-12Terabytes",null,"Terabytes",null,-12,0,0,0,0,0,0,0,0,0,0,0,0,0,0,0,0,0,0,0,0,0,0,0,0,0,0,0,null,0]
[null,{"$f":"CONCATENATE(selected_functions!$A$5,E81,C81)","v":"-11Terabytes"},"Terabytes",null,{"$f":"$E$18","v":-11},0,0,0,0,0,0,null,"Overall-11Terabytes",null,"Terabytes",null,-11,0,0,0,0,0,0,0,0,0,0,0,0,0,0,0,0,0,0,0,0,0,0,0,0,0,0,0,null,0]
[null,{"$f":"CONCATENATE(selected_functions!$A$5,E82,C82)","v":"-10Terabytes"},"Terabytes",null,{"$f":"$E$19","v":-10},0,0,0,0,0,0,null,"Overall-10Terabytes",null,"Terabytes",null,-10,0,0,0,0,0,0,0,0,0,0,0,0,0,0,0,0,0,0,0,0,0,0,0,0,0,0,0,null,0]
[null,{"$f":"CONCATENATE(selected_functions!$A$5,E83,C83)","v":"-9Terabytes"},"Terabytes",null,{"$f":"$E$20","v":-9},{"$f":"F62/1024","v":0},0,0,0,0,0,null,"Overall-9Terabytes",null,"Terabytes",null,-9,0,0,0,0,0,0,0,0,0,0,0,0,0,0,0,0,0,0,0,0,0,0,0,0,0,0,0,null,0]
[null,{"$f":"CONCATENATE(selected_functions!$A$5,E84,C84)","v":"-8Terabytes"},"Terabytes",null,{"$f":"$E$21","v":-8},0,0,0,0,0,0,null,"Overall-8Terabytes",null,"Terabytes",null,-8,0,0,0,0,0,0,0,0,0,0,0,0,0,0,0,0,0,0,0,0,0,0,0,0,0,0,0,null,0]
[null,{"$f":"CONCATENATE(selected_functions!$A$5,E85,C85)","v":"-7Terabytes"},"Terabytes",null,{"$f":"$E$22","v":-7},0,0,0,0,0,0,null,"Overall-7Terabytes",null,"Terabytes",null,-7,0,0,0,0,0,0,0,0,0,0,0,0,0,0,0,0,0,0,0,0,0,0,0,0,0,0,0,null,0]
[null,{"$f":"CONCATENATE(selected_functions!$A$5,E86,C86)","v":"-6Terabytes"},"Terabytes",null,{"$f":"$E$23","v":-6},0,0,0,0,0,0,null,"Overall-6Terabytes",null,"Terabytes",null,-6,0,0,0,0,0,0,0,0,0,0,0,0,0,0,0,0,0,0,0,0,0,0,0,0,0,0,0,null,0]
[null,{"$f":"CONCATENATE(selected_functions!$A$5,E87,C87)","v":"-5Terabytes"},"Terabytes",null,{"$f":"$E$24","v":-5},0,0,0,0,0,0,null,"Overall-5Terabytes",null,"Terabytes",null,-5,0,0,0,0,0,0,0,0,0,0,0,0,0,0,0,0,0,0,0,0,0,0,0,0,0,0,0,null,0]
[null,{"$f":"CONCATENATE(selected_functions!$A$5,E88,C88)","v":"-4Terabytes"},"Terabytes",null,{"$f":"$E$25","v":-4},0,0,0,0,0,0,null,"Overall-4Terabytes",null,"Terabytes",null,-4,0,0,0,0,0,0,0,0,0,0,0,0,0,0,0,0,0,0,0,0,0,0,0,0,0,0,0,null,0]
[null,{"$f":"CONCATENATE(selected_functions!$A$5,E89,C89)","v":"-3Terabytes"},"Terabytes",null,{"$f":"$E$26","v":-3},0,0,0,0,0,0,null,"Overall-3Terabytes",null,"Terabytes",null,-3,0,0,0,0,0,0,0,0,0,0,0,0,0,0,0,0,0,0,0,0,0,0,0,0,0,0,0,null,0]
[null,{"$f":"CONCATENATE(selected_functions!$A$5,E90,C90)","v":"-2Terabytes"},"Terabytes",null,{"$f":"$E$27","v":-2},0,0,0,0,0,0,null,"Overall-2Terabytes",null,"Terabytes",null,-2,0,0,0,0,0,0,0,0,0,0,0,0,0,0,0,0,0,0,0,0,0,0,0,0,0,0,0,null,0]
[null,{"$f":"CONCATENATE(selected_functions!$A$5,E91,C91)","v":"-1Terabytes"},"Terabytes",null,{"$f":"$E$28","v":-1},0,0,0,0,0,0,null,"Overall-1Terabytes",null,"Terabytes",null,-1,0,0,0,0,0,0,0,0,0,0,0,0,0,0,0,0,0,0,0,0,0,0,0,0,0,0,0,null,0]
[null,{"$f":"CONCATENATE(selected_functions!$A$5,E92,C92)","v":"0Terabytes"},"Terabytes",null,{"$f":"$E$29","v":0},0,0,0,0,0,0,null,"Overall0Terabytes",null,"Terabytes",null,0,0,0,0,0,0,0,0,0,0,0,0,0,0,0,0,0,0,0,0,0,0,0,0,0,0,0,0,null,0]
[null,{"$f":"CONCATENATE(selected_functions!$A$5,E93,C93)","v":"1Terabytes"},"Terabytes",null,{"$f":"$E$30","v":1},{"$f":"F72/1024","v":0},0,0,0,0,0,null,"Overall1Terabytes",null,"Terabytes",null,1,0,0,0,0,0,0,0,0,0,0,0,0,0,0,0,0,0,0,0,0,0,0,0,0,0,0,0,null,0]
[null,{"$f":"CONCATENATE(selected_functions!$A$5,E94,C94)","v":"2Terabytes"},"Terabytes",null,{"$f":"$E$31","v":2},0,0,0,0,0,0,null,"Overall2Terabytes",null,"Terabytes",null,2,0,0,0,0,0,0,0,0,0,0,0,0,0,0,0,0,0,0,0,0,0,0,0,0,0,0,0,null,0]
[null,{"$f":"CONCATENATE(selected_functions!$A$5,E95,C95)","v":"3Terabytes"},"Terabytes",null,{"$f":"$E$32","v":3},0,0,0,0,0,0,null,"Overall3Terabytes",null,"Terabytes",null,3,0,0,0,0,0,0,0,0,0,0,0,0,0,0,0,0,0,0,0,0,0,0,0,0,0,0,0,null,0]
[null,{"$f":"CONCATENATE(selected_functions!$A$5,E96,C96)","v":"-17Petabytes"},{"$f":"input_lists!$G$15","v":"Petabytes"},null,{"$f":"$E$12","v":-17},0,0,0,0,0,0,null,"Overall-17Petabytes",null,{"$f":"input_lists!$G$15","v":"Petabytes"},null,{"$f":"Q75","v":-17},0,0,0,0,0,0,0,0,0,0,0,0,0,0,0,0,0,0,0,0,0,0,0,0,0,0,0,null,{"$f":"SUM(R96:AR96)","v":0}]
[null,{"$f":"CONCATENATE(selected_functions!$A$5,E97,C97)","v":"-16Petabytes"},{"$f":"C96","v":"Petabytes"},null,{"$f":"$E$13","v":-16},0,0,0,0,0,0,null,"Overall-16Petabytes",null,{"$f":"O96","v":"Petabytes"},null,{"$f":"Q76","v":-16},0,0,0,0,0,0,0,0,0,0,0,0,0,0,0,0,0,0,0,0,0,0,0,0,0,0,0,null,{"$f":"SUM(R97:AR97)","v":0}]
[null,{"$f":"CONCATENATE(selected_functions!$A$5,E98,C98)","v":"-15Petabytes"},{"$f":"C97","v":"Petabytes"},null,{"$f":"$E$14","v":-15},0,0,0,0,0,0,null,"Overall-15Petabytes",null,{"$f":"O97","v":"Petabytes"},null,-15,0,0,0,0,0,0,0,0,0,0,0,0,0,0,0,0,0,0,0,0,0,0,0,0,0,0,0,null,0]
[null,{"$f":"CONCATENATE(selected_functions!$A$5,E99,C99)","v":"-14Petabytes"},"Petabytes",null,{"$f":"$E$15","v":-14},0,0,0,0,0,0,null,"Overall-14Petabytes",null,"Petabytes",null,-14,0,0,0,0,0,0,0,0,0,0,0,0,0,0,0,0,0,0,0,0,0,0,0,0,0,0,0,null,0]
[null,{"$f":"CONCATENATE(selected_functions!$A$5,E100,C100)","v":"-13Petabytes"},"Petabytes",null,{"$f":"$E$16","v":-13},0,0,0,0,0,0,null,"Overall-13Petabytes",null,"Petabytes",null,-13,0,0,0,0,0,0,0,0,0,0,0,0,0,0,0,0,0,0,0,0,0,0,0,0,0,0,0,null,0]
[null,{"$f":"CONCATENATE(selected_functions!$A$5,E101,C101)","v":"-12Petabytes"},"Petabytes",null,{"$f":"$E$17","v":-12},0,0,0,0,0,0,null,"Overall-12Petabytes",null,"Petabytes",null,-12,0,0,0,0,0,0,0,0,0,0,0,0,0,0,0,0,0,0,0,0,0,0,0,0,0,0,0,null,0]
[null,{"$f":"CONCATENATE(selected_functions!$A$5,E102,C102)","v":"-11Petabytes"},"Petabytes",null,{"$f":"$E$18","v":-11},0,0,0,0,0,0,null,"Overall-11Petabytes",null,"Petabytes",null,-11,0,0,0,0,0,0,0,0,0,0,0,0,0,0,0,0,0,0,0,0,0,0,0,0,0,0,0,null,0]
[null,{"$f":"CONCATENATE(selected_functions!$A$5,E103,C103)","v":"-10Petabytes"},"Petabytes",null,{"$f":"$E$19","v":-10},{"$f":"F82/1024","v":0},0,0,0,0,0,null,"Overall-10Petabytes",null,"Petabytes",null,-10,0,0,0,0,0,0,0,0,0,0,0,0,0,0,0,0,0,0,0,0,0,0,0,0,0,0,0,null,0]
[null,{"$f":"CONCATENATE(selected_functions!$A$5,E104,C104)","v":"-9Petabytes"},"Petabytes",null,{"$f":"$E$20","v":-9},0,0,0,0,0,0,null,"Overall-9Petabytes",null,"Petabytes",null,-9,0,0,0,0,0,0,0,0,0,0,0,0,0,0,0,0,0,0,0,0,0,0,0,0,0,0,0,null,0]
[null,{"$f":"CONCATENATE(selected_functions!$A$5,E105,C105)","v":"-8Petabytes"},"Petabytes",null,{"$f":"$E$21","v":-8},0,0,0,0,0,0,null,"Overall-8Petabytes",null,"Petabytes",null,-8,0,0,0,0,0,0,0,0,0,0,0,0,0,0,0,0,0,0,0,0,0,0,0,0,0,0,0,null,0]
[null,{"$f":"CONCATENATE(selected_functions!$A$5,E106,C106)","v":"-7Petabytes"},"Petabytes",null,{"$f":"$E$22","v":-7},0,0,0,0,0,0,null,"Overall-7Petabytes",null,"Petabytes",null,-7,0,0,0,0,0,0,0,0,0,0,0,0,0,0,0,0,0,0,0,0,0,0,0,0,0,0,0,null,0]
[null,{"$f":"CONCATENATE(selected_functions!$A$5,E107,C107)","v":"-6Petabytes"},"Petabytes",null,{"$f":"$E$23","v":-6},0,0,0,0,0,0,null,"Overall-6Petabytes",null,"Petabytes",null,-6,0,0,0,0,0,0,0,0,0,0,0,0,0,0,0,0,0,0,0,0,0,0,0,0,0,0,0,null,0]
[null,{"$f":"CONCATENATE(selected_functions!$A$5,E108,C108)","v":"-5Petabytes"},"Petabytes",null,{"$f":"$E$24","v":-5},0,0,0,0,0,0,null,"Overall-5Petabytes",null,"Petabytes",null,-5,0,0,0,0,0,0,0,0,0,0,0,0,0,0,0,0,0,0,0,0,0,0,0,0,0,0,0,null,0]
[null,{"$f":"CONCATENATE(selected_functions!$A$5,E109,C109)","v":"-4Petabytes"},"Petabytes",null,{"$f":"$E$25","v":-4},0,0,0,0,0,0,null,"Overall-4Petabytes",null,"Petabytes",null,-4,0,0,0,0,0,0,0,0,0,0,0,0,0,0,0,0,0,0,0,0,0,0,0,0,0,0,0,null,0]
[null,{"$f":"CONCATENATE(selected_functions!$A$5,E110,C110)","v":"-3Petabytes"},"Petabytes",null,{"$f":"$E$26","v":-3},0,0,0,0,0,0,null,"Overall-3Petabytes",null,"Petabytes",null,-3,0,0,0,0,0,0,0,0,0,0,0,0,0,0,0,0,0,0,0,0,0,0,0,0,0,0,0,null,0]
[null,{"$f":"CONCATENATE(selected_functions!$A$5,E111,C111)","v":"-2Petabytes"},"Petabytes",null,{"$f":"$E$27","v":-2},0,0,0,0,0,0,null,"Overall-2Petabytes",null,"Petabytes",null,-2,0,0,0,0,0,0,0,0,0,0,0,0,0,0,0,0,0,0,0,0,0,0,0,0,0,0,0,null,0]
[null,{"$f":"CONCATENATE(selected_functions!$A$5,E112,C112)","v":"-1Petabytes"},"Petabytes",null,{"$f":"$E$28","v":-1},0,0,0,0,0,0,null,"Overall-1Petabytes",null,"Petabytes",null,-1,0,0,0,0,0,0,0,0,0,0,0,0,0,0,0,0,0,0,0,0,0,0,0,0,0,0,0,null,0]
[null,{"$f":"CONCATENATE(selected_functions!$A$5,E113,C113)","v":"0Petabytes"},"Petabytes",null,{"$f":"$E$29","v":0},{"$f":"F92/1024","v":0},0,0,0,0,0,null,"Overall0Petabytes",null,"Petabytes",null,0,0,0,0,0,{"$f":"K533","v":0},0,0,0,0,0,0,0,0,0,0,0,0,0,0,0,0,0,0,0,0,0,0,null,0]
[null,{"$f":"CONCATENATE(selected_functions!$A$5,E114,C114)","v":"1Petabytes"},"Petabytes",null,{"$f":"$E$30","v":1},0,0,0,0,0,0,null,"Overall1Petabytes",null,"Petabytes",null,1,0,0,0,0,0,0,0,0,0,0,0,0,0,0,0,0,0,0,0,0,0,0,0,0,0,0,0,null,0]
[null,{"$f":"CONCATENATE(selected_functions!$A$5,E115,C115)","v":"2Petabytes"},"Petabytes",null,{"$f":"$E$31","v":2},0,0,0,0,0,0,null,"Overall2Petabytes",null,"Petabytes",null,2,0,0,0,0,0,0,0,0,0,0,0,0,0,0,0,0,0,0,0,0,0,0,0,0,0,0,0,null,0]
[null,{"$f":"CONCATENATE(selected_functions!$A$5,E116,C116)","v":"3Petabytes"},"Petabytes",null,{"$f":"$E$32","v":3},0,0,0,0,0,0,null,"Overall3Petabytes",null,"Petabytes",null,3,0,0,0,0,0,0,0,0,0,0,0,0,0,0,0,0,0,0,0,0,0,0,0,0,0,0,0,null,0]
[null,{"$f":"CONCATENATE(selected_functions!$A$6,E117,C117)","v":"-17Kilobytes"},{"$f":"input_lists!$G$11","v":"Kilobytes"},null,{"$f":"$E$12","v":-17},{"$f":"IF(AND(E117>=input_database!$D$6,E117<input_database!$C$6),input_database!$GC$6,\"0\")","v":"0"},{"$f":"IF(E117<input_database!$C$6,input_database!$GE$6,\"0\")","v":0},{"$f":"IFERROR(input_database!$GH$6,\"0\")","v":0},{"$f":"IF(E117=input_database!$C$6,input_database!$GG$6,\"0\")","v":"0"},{"$f":"IF(E117>=input_database!$C$6,(input_database!$GF$6+input_database!$GD$6),0)","v":0},{"$f":"SUM(F117:J117)","v":0}]
[null,{"$f":"CONCATENATE(selected_functions!$A$6,E118,C118)","v":"-16Kilobytes"},{"$f":"input_lists!$G$11","v":"Kilobytes"},null,{"$f":"$E$13","v":-16},{"$f":"IF(AND(E118>=input_database!$D$6,E118<input_database!$C$6),input_database!$GC$6,\"0\")","v":"0"},{"$f":"IF(E118<input_database!$C$6,input_database!$GE$6,\"0\")","v":0},{"$f":"IFERROR(input_database!$GH$6,\"0\")","v":0},{"$f":"IF(E118=input_database!$C$6,input_database!$GG$6,\"0\")","v":"0"},{"$f":"IF(E118>=input_database!$C$6,(input_database!$GF$6+input_database!$GD$6),0)","v":0},{"$f":"K117+SUM(F118:J118)","v":0}]
[null,{"$f":"CONCATENATE(selected_functions!$A$6,E119,C119)","v":"-15Kilobytes"},{"$f":"input_lists!$G$11","v":"Kilobytes"},null,{"$f":"$E$14","v":-15},{"$f":"IF(AND(E119>=input_database!$D$6,E119<input_database!$C$6),input_database!$GC$6,\"0\")","v":"0"},{"$f":"IF(E119<input_database!$C$6,input_database!$GE$6,\"0\")","v":0},{"$f":"IFERROR(input_database!$GH$6,\"0\")","v":0},{"$f":"IF(E119=input_database!$C$6,input_database!$GG$6,\"0\")","v":"0"},{"$f":"IF(E119>=input_database!$C$6,(input_database!$GF$6+input_database!$GD$6),0)","v":0},{"$f":"K118+SUM(F119:J119)","v":0}]
[null,{"$f":"CONCATENATE(selected_functions!$A$6,E120,C120)","v":"-14Kilobytes"},{"$f":"input_lists!$G$11","v":"Kilobytes"},null,{"$f":"$E$15","v":-14},{"$f":"IF(AND(E120>=input_database!$D$6,E120<input_database!$C$6),input_database!$GC$6,\"0\")","v":"0"},{"$f":"IF(E120<input_database!$C$6,input_database!$GE$6,\"0\")","v":0},{"$f":"IFERROR(input_database!$GH$6,\"0\")","v":0},{"$f":"IF(E120=input_database!$C$6,input_database!$GG$6,\"0\")","v":"0"},{"$f":"IF(E120>=input_database!$C$6,(input_database!$GF$6+input_database!$GD$6),0)","v":0},0]
[null,{"$f":"CONCATENATE(selected_functions!$A$6,E121,C121)","v":"-13Kilobytes"},{"$f":"input_lists!$G$11","v":"Kilobytes"},null,{"$f":"$E$16","v":-13},{"$f":"IF(AND(E121>=input_database!$D$6,E121<input_database!$C$6),input_database!$GC$6,\"0\")","v":"0"},{"$f":"IF(E121<input_database!$C$6,input_database!$GE$6,\"0\")","v":0},{"$f":"IFERROR(input_database!$GH$6,\"0\")","v":0},{"$f":"IF(E121=input_database!$C$6,input_database!$GG$6,\"0\")","v":"0"},{"$f":"IF(E121>=input_database!$C$6,(input_database!$GF$6+input_database!$GD$6),0)","v":0},0]
[null,{"$f":"CONCATENATE(selected_functions!$A$6,E122,C122)","v":"-12Kilobytes"},{"$f":"input_lists!$G$11","v":"Kilobytes"},null,{"$f":"$E$17","v":-12},{"$f":"IF(AND(E122>=input_database!$D$6,E122<input_database!$C$6),input_database!$GC$6,\"0\")","v":"0"},{"$f":"IF(E122<input_database!$C$6,input_database!$GE$6,\"0\")","v":0},{"$f":"IFERROR(input_database!$GH$6,\"0\")","v":0},{"$f":"IF(E122=input_database!$C$6,input_database!$GG$6,\"0\")","v":"0"},{"$f":"IF(E122>=input_database!$C$6,(input_database!$GF$6+input_database!$GD$6),0)","v":0},0]
[null,{"$f":"CONCATENATE(selected_functions!$A$6,E123,C123)","v":"-11Kilobytes"},{"$f":"input_lists!$G$11","v":"Kilobytes"},null,{"$f":"$E$18","v":-11},{"$f":"IF(AND(E123>=input_database!$D$6,E123<input_database!$C$6),input_database!$GC$6,\"0\")","v":"0"},{"$f":"IF(E123<input_database!$C$6,input_database!$GE$6,\"0\")","v":0},{"$f":"IFERROR(input_database!$GH$6,\"0\")","v":0},{"$f":"IF(E123=input_database!$C$6,input_database!$GG$6,\"0\")","v":"0"},{"$f":"IF(E123>=input_database!$C$6,(input_database!$GF$6+input_database!$GD$6),0)","v":0},0]
[null,{"$f":"CONCATENATE(selected_functions!$A$6,E124,C124)","v":"-10Kilobytes"},{"$f":"input_lists!$G$11","v":"Kilobytes"},null,{"$f":"$E$19","v":-10},{"$f":"IF(AND(E124>=input_database!$D$6,E124<input_database!$C$6),input_database!$GC$6,\"0\")","v":"0"},{"$f":"IF(E124<input_database!$C$6,input_database!$GE$6,\"0\")","v":0},{"$f":"IFERROR(input_database!$GH$6,\"0\")","v":0},{"$f":"IF(E124=input_database!$C$6,input_database!$GG$6,\"0\")","v":"0"},{"$f":"IF(E124>=input_database!$C$6,(input_database!$GF$6+input_database!$GD$6),0)","v":0},0]
[null,{"$f":"CONCATENATE(selected_functions!$A$6,E125,C125)","v":"-9Kilobytes"},{"$f":"input_lists!$G$11","v":"Kilobytes"},null,{"$f":"$E$20","v":-9},{"$f":"IF(AND(E125>=input_database!$D$6,E125<input_database!$C$6),input_database!$GC$6,\"0\")","v":"0"},{"$f":"IF(E125<input_database!$C$6,input_database!$GE$6,\"0\")","v":0},{"$f":"IFERROR(input_database!$GH$6,\"0\")","v":0},{"$f":"IF(E125=input_database!$C$6,input_database!$GG$6,\"0\")","v":"0"},{"$f":"IF(E125>=input_database!$C$6,(input_database!$GF$6+input_database!$GD$6),0)","v":0},0]
[null,{"$f":"CONCATENATE(selected_functions!$A$6,E126,C126)","v":"-8Kilobytes"},{"$f":"input_lists!$G$11","v":"Kilobytes"},null,{"$f":"$E$21","v":-8},{"$f":"IF(AND(E126>=input_database!$D$6,E126<input_database!$C$6),input_database!$GC$6,\"0\")","v":"0"},{"$f":"IF(E126<input_database!$C$6,input_database!$GE$6,\"0\")","v":0},{"$f":"IFERROR(input_database!$GH$6,\"0\")","v":0},{"$f":"IF(E126=input_database!$C$6,input_database!$GG$6,\"0\")","v":"0"},{"$f":"IF(E126>=input_database!$C$6,(input_database!$GF$6+input_database!$GD$6),0)","v":0},0]
[null,{"$f":"CONCATENATE(selected_functions!$A$6,E127,C127)","v":"-7Kilobytes"},{"$f":"input_lists!$G$11","v":"Kilobytes"},null,{"$f":"$E$22","v":-7},{"$f":"IF(AND(E127>=input_database!$D$6,E127<input_database!$C$6),input_database!$GC$6,\"0\")","v":"0"},{"$f":"IF(E127<input_database!$C$6,input_database!$GE$6,\"0\")","v":0},{"$f":"IFERROR(input_database!$GH$6,\"0\")","v":0},{"$f":"IF(E127=input_database!$C$6,input_database!$GG$6,\"0\")","v":"0"},{"$f":"IF(E127>=input_database!$C$6,(input_database!$GF$6+input_database!$GD$6),0)","v":0},0]
[null,{"$f":"CONCATENATE(selected_functions!$A$6,E128,C128)","v":"-6Kilobytes"},{"$f":"input_lists!$G$11","v":"Kilobytes"},null,{"$f":"$E$23","v":-6},{"$f":"IF(AND(E128>=input_database!$D$6,E128<input_database!$C$6),input_database!$GC$6,\"0\")","v":"0"},{"$f":"IF(E128<input_database!$C$6,input_database!$GE$6,\"0\")","v":0},{"$f":"IFERROR(input_database!$GH$6,\"0\")","v":0},{"$f":"IF(E128=input_database!$C$6,input_database!$GG$6,\"0\")","v":"0"},{"$f":"IF(E128>=input_database!$C$6,(input_database!$GF$6+input_database!$GD$6),0)","v":0},0]
[null,{"$f":"CONCATENATE(selected_functions!$A$6,E129,C129)","v":"-5Kilobytes"},{"$f":"input_lists!$G$11","v":"Kilobytes"},null,{"$f":"$E$24","v":-5},{"$f":"IF(AND(E129>=input_database!$D$6,E129<input_database!$C$6),input_database!$GC$6,\"0\")","v":"0"},{"$f":"IF(E129<input_database!$C$6,input_database!$GE$6,\"0\")","v":0},{"$f":"IFERROR(input_database!$GH$6,\"0\")","v":0},{"$f":"IF(E129=input_database!$C$6,input_database!$GG$6,\"0\")","v":"0"},{"$f":"IF(E129>=input_database!$C$6,(input_database!$GF$6+input_database!$GD$6),0)","v":0},0]
[null,{"$f":"CONCATENATE(selected_functions!$A$6,E130,C130)","v":"-4Kilobytes"},{"$f":"input_lists!$G$11","v":"Kilobytes"},null,{"$f":"$E$25","v":-4},{"$f":"IF(AND(E130>=input_database!$D$6,E130<input_database!$C$6),input_database!$GC$6,\"0\")","v":"0"},{"$f":"IF(E130<input_database!$C$6,input_database!$GE$6,\"0\")","v":0},{"$f":"IFERROR(input_database!$GH$6,\"0\")","v":0},{"$f":"IF(E130=input_database!$C$6,input_database!$GG$6,\"0\")","v":"0"},{"$f":"IF(E130>=input_database!$C$6,(input_database!$GF$6+input_database!$GD$6),0)","v":0},0]
[null,{"$f":"CONCATENATE(selected_functions!$A$6,E131,C131)","v":"-3Kilobytes"},{"$f":"input_lists!$G$11","v":"Kilobytes"},null,{"$f":"$E$26","v":-3},{"$f":"IF(AND(E131>=input_database!$D$6,E131<input_database!$C$6),input_database!$GC$6,\"0\")","v":"0"},{"$f":"IF(E131<input_database!$C$6,input_database!$GE$6,\"0\")","v":0},{"$f":"IFERROR(input_database!$GH$6,\"0\")","v":0},{"$f":"IF(E131=input_database!$C$6,input_database!$GG$6,\"0\")","v":"0"},{"$f":"IF(E131>=input_database!$C$6,(input_database!$GF$6+input_database!$GD$6),0)","v":0},0]
[null,{"$f":"CONCATENATE(selected_functions!$A$6,E132,C132)","v":"-2Kilobytes"},{"$f":"input_lists!$G$11","v":"Kilobytes"},null,{"$f":"$E$27","v":-2},{"$f":"IF(AND(E132>=input_database!$D$6,E132<input_database!$C$6),input_database!$GC$6,\"0\")","v":"0"},{"$f":"IF(E132<input_database!$C$6,input_database!$GE$6,\"0\")","v":0},{"$f":"IFERROR(input_database!$GH$6,\"0\")","v":0},{"$f":"IF(E132=input_database!$C$6,input_database!$GG$6,\"0\")","v":"0"},{"$f":"IF(E132>=input_database!$C$6,(input_database!$GF$6+input_database!$GD$6),0)","v":0},0]
[null,{"$f":"CONCATENATE(selected_functions!$A$6,E133,C133)","v":"-1Kilobytes"},{"$f":"input_lists!$G$11","v":"Kilobytes"},null,{"$f":"$E$28","v":-1},{"$f":"IF(AND(E133>=input_database!$D$6,E133<input_database!$C$6),input_database!$GC$6,\"0\")","v":"0"},{"$f":"IF(E133<input_database!$C$6,input_database!$GE$6,\"0\")","v":0},{"$f":"IFERROR(input_database!$GH$6,\"0\")","v":0},{"$f":"IF(E133=input_database!$C$6,input_database!$GG$6,\"0\")","v":"0"},{"$f":"IF(E133>=input_database!$C$6,(input_database!$GF$6+input_database!$GD$6),0)","v":0},0]
[null,{"$f":"CONCATENATE(selected_functions!$A$6,E134,C134)","v":"0Kilobytes"},{"$f":"input_lists!$G$11","v":"Kilobytes"},null,{"$f":"$E$29","v":0},{"$f":"IF(AND(E134>=input_database!$D$6,E134<input_database!$C$6),input_database!$GC$6,\"0\")","v":"0"},{"$f":"IF(E134<input_database!$C$6,input_database!$GE$6,\"0\")","v":"0"},{"$f":"IFERROR(input_database!$GH$6,\"0\")","v":0},{"$f":"IF(E134=input_database!$C$6,input_database!$GG$6,\"0\")","v":0},{"$f":"IF(E134>=input_database!$C$6,(input_database!$GF$6+input_database!$GD$6),0)","v":0},0]
[null,{"$f":"CONCATENATE(selected_functions!$A$6,E135,C135)","v":"1Kilobytes"},{"$f":"input_lists!$G$11","v":"Kilobytes"},null,{"$f":"$E$30","v":1},{"$f":"IF(AND(E135>=input_database!$D$6,E135<input_database!$C$6),input_database!$GC$6,\"0\")","v":"0"},{"$f":"IF(E135<input_database!$C$6,input_database!$GE$6,\"0\")","v":"0"},{"$f":"IFERROR(input_database!$GH$6,\"0\")","v":0},{"$f":"IF(E135=input_database!$C$6,input_database!$GG$6,\"0\")","v":"0"},{"$f":"IF(E135>=input_database!$C$6,(input_database!$GF$6+input_database!$GD$6),0)","v":0},0]
[null,{"$f":"CONCATENATE(selected_functions!$A$6,E136,C136)","v":"2Kilobytes"},{"$f":"input_lists!$G$11","v":"Kilobytes"},null,{"$f":"$E$31","v":2},{"$f":"IF(AND(E136>=input_database!$D$6,E136<input_database!$C$6),input_database!$GC$6,\"0\")","v":"0"},{"$f":"IF(E136<input_database!$C$6,input_database!$GE$6,\"0\")","v":"0"},{"$f":"IFERROR(input_database!$GH$6,\"0\")","v":0},{"$f":"IF(E136=input_database!$C$6,input_database!$GG$6,\"0\")","v":"0"},{"$f":"IF(E136>=input_database!$C$6,(input_database!$GF$6+input_database!$GD$6),0)","v":0},0]
[null,{"$f":"CONCATENATE(selected_functions!$A$6,E137,C137)","v":"3Kilobytes"},{"$f":"input_lists!$G$11","v":"Kilobytes"},null,{"$f":"$E$32","v":3},{"$f":"IF(AND(E137>=input_database!$D$6,E137<input_database!$C$6),input_database!$GC$6,\"0\")","v":"0"},{"$f":"IF(E137<input_database!$C$6,input_database!$GE$6,\"0\")","v":"0"},{"$f":"IFERROR(input_database!$GH$6,\"0\")","v":0},{"$f":"IF(E137=input_database!$C$6,input_database!$GG$6,\"0\")","v":"0"},{"$f":"IF(E137>=input_database!$C$6,(input_database!$GF$6+input_database!$GD$6),0)","v":0},0]
[null,{"$f":"CONCATENATE(selected_functions!$A$6,E138,C138)","v":"-17Megabytes"},{"$f":"input_lists!$G$12","v":"Megabytes"},null,{"$f":"$E$12","v":-17},{"$f":"F117/1024","v":0},0,0,0,0,0]
[null,{"$f":"CONCATENATE(selected_functions!$A$6,E139,C139)","v":"-16Megabytes"},{"$f":"C138","v":"Megabytes"},null,{"$f":"$E$13","v":-16},0,0,0,0,0,0]
[null,{"$f":"CONCATENATE(selected_functions!$A$6,E140,C140)","v":"-15Megabytes"},{"$f":"C139","v":"Megabytes"},null,{"$f":"$E$14","v":-15},0,0,0,0,0,0]
[null,{"$f":"CONCATENATE(selected_functions!$A$6,E141,C141)","v":"-14Megabytes"},"Megabytes",null,{"$f":"$E$15","v":-14},0,0,0,0,0,0]
[null,{"$f":"CONCATENATE(selected_functions!$A$6,E142,C142)","v":"-13Megabytes"},"Megabytes",null,{"$f":"$E$16","v":-13},0,0,0,0,0,0]
[null,{"$f":"CONCATENATE(selected_functions!$A$6,E143,C143)","v":"-12Megabytes"},"Megabytes",null,{"$f":"$E$17","v":-12},0,0,0,0,0,0]
[null,{"$f":"CONCATENATE(selected_functions!$A$6,E144,C144)","v":"-11Megabytes"},"Megabytes",null,{"$f":"$E$18","v":-11},0,0,0,0,0,0]
[null,{"$f":"CONCATENATE(selected_functions!$A$6,E145,C145)","v":"-10Megabytes"},"Megabytes",null,{"$f":"$E$19","v":-10},0,0,0,0,0,0]
[null,{"$f":"CONCATENATE(selected_functions!$A$6,E146,C146)","v":"-9Megabytes"},"Megabytes",null,{"$f":"$E$20","v":-9},0,0,0,0,0,0]
[null,{"$f":"CONCATENATE(selected_functions!$A$6,E147,C147)","v":"-8Megabytes"},"Megabytes",null,{"$f":"$E$21","v":-8},0,0,0,0,0,0]
[null,{"$f":"CONCATENATE(selected_functions!$A$6,E148,C148)","v":"-7Megabytes"},"Megabytes",null,{"$f":"$E$22","v":-7},{"$f":"F127/1024","v":0},0,0,0,0,0]
[null,{"$f":"CONCATENATE(selected_functions!$A$6,E149,C149)","v":"-6Megabytes"},"Megabytes",null,{"$f":"$E$23","v":-6},0,0,0,0,0,0]
[null,{"$f":"CONCATENATE(selected_functions!$A$6,E150,C150)","v":"-5Megabytes"},"Megabytes",null,{"$f":"$E$24","v":-5},0,0,0,0,0,0]
[null,{"$f":"CONCATENATE(selected_functions!$A$6,E151,C151)","v":"-4Megabytes"},"Megabytes",null,{"$f":"$E$25","v":-4},0,0,0,0,0,0]
[null,{"$f":"CONCATENATE(selected_functions!$A$6,E152,C152)","v":"-3Megabytes"},"Megabytes",null,{"$f":"$E$26","v":-3},0,0,0,0,0,0]
[null,{"$f":"CONCATENATE(selected_functions!$A$6,E153,C153)","v":"-2Megabytes"},"Megabytes",null,{"$f":"$E$27","v":-2},0,0,0,0,0,0]
[null,{"$f":"CONCATENATE(selected_functions!$A$6,E154,C154)","v":"-1Megabytes"},"Megabytes",null,{"$f":"$E$28","v":-1},0,0,0,0,0,0]
[null,{"$f":"CONCATENATE(selected_functions!$A$6,E155,C155)","v":"0Megabytes"},"Megabytes",null,{"$f":"$E$29","v":0},0,0,0,0,0,0]
[null,{"$f":"CONCATENATE(selected_functions!$A$6,E156,C156)","v":"1Megabytes"},"Megabytes",null,{"$f":"$E$30","v":1},0,0,0,0,0,0]
[null,{"$f":"CONCATENATE(selected_functions!$A$6,E157,C157)","v":"2Megabytes"},"Megabytes",null,{"$f":"$E$31","v":2},0,0,0,0,0,0]
[null,{"$f":"CONCATENATE(selected_functions!$A$6,E158,C158)","v":"3Megabytes"},{"$f":"C157","v":"Megabytes"},null,{"$f":"$E$32","v":3},{"$f":"F137/1024","v":0},0,0,0,0,0]
[null,{"$f":"CONCATENATE(selected_functions!$A$6,E159,C159)","v":"-17Gigabytes"},{"$f":"input_lists!$G$13","v":"Gigabytes"},null,{"$f":"$E$12","v":-17},0,0,0,0,0,0]
[null,{"$f":"CONCATENATE(selected_functions!$A$6,E160,C160)","v":"-16Gigabytes"},{"$f":"C159","v":"Gigabytes"},null,{"$f":"$E$13","v":-16},0,0,0,0,0,0]
[null,{"$f":"CONCATENATE(selected_functions!$A$6,E161,C161)","v":"-15Gigabytes"},{"$f":"C160","v":"Gigabytes"},null,{"$f":"$E$14","v":-15},0,0,0,0,0,0]
[null,{"$f":"CONCATENATE(selected_functions!$A$6,E162,C162)","v":"-14Gigabytes"},"Gigabytes",null,{"$f":"$E$15","v":-14},0,0,0,0,0,0]
[null,{"$f":"CONCATENATE(selected_functions!$A$6,E163,C163)","v":"-13Gigabytes"},"Gigabytes",null,{"$f":"$E$16","v":-13},0,0,0,0,0,0]
[null,{"$f":"CONCATENATE(selected_functions!$A$6,E164,C164)","v":"-12Gigabytes"},"Gigabytes",null,{"$f":"$E$17","v":-12},0,0,0,0,0,0]
[null,{"$f":"CONCATENATE(selected_functions!$A$6,E165,C165)","v":"-11Gigabytes"},"Gigabytes",null,{"$f":"$E$18","v":-11},0,0,0,0,0,0]
[null,{"$f":"CONCATENATE(selected_functions!$A$6,E166,C166)","v":"-10Gigabytes"},"Gigabytes",null,{"$f":"$E$19","v":-10},0,0,0,0,0,0]
[null,{"$f":"CONCATENATE(selected_functions!$A$6,E167,C167)","v":"-9Gigabytes"},"Gigabytes",null,{"$f":"$E$20","v":-9},0,0,0,0,0,0]
[null,{"$f":"CONCATENATE(selected_functions!$A$6,E168,C168)","v":"-8Gigabytes"},"Gigabytes",null,{"$f":"$E$21","v":-8},{"$f":"F147/1024","v":0},0,0,0,0,0]
[null,{"$f":"CONCATENATE(selected_functions!$A$6,E169,C169)","v":"-7Gigabytes"},"Gigabytes",null,{"$f":"$E$22","v":-7},0,0,0,0,0,0]
[null,{"$f":"CONCATENATE(selected_functions!$A$6,E170,C170)","v":"-6Gigabytes"},"Gigabytes",null,{"$f":"$E$23","v":-6},0,0,0,0,0,0]
[null,{"$f":"CONCATENATE(selected_functions!$A$6,E171,C171)","v":"-5Gigabytes"},"Gigabytes",null,{"$f":"$E$24","v":-5},0,0,0,0,0,0]
[null,{"$f":"CONCATENATE(selected_functions!$A$6,E172,C172)","v":"-4Gigabytes"},"Gigabytes",null,{"$f":"$E$25","v":-4},0,0,0,0,0,0]
[null,{"$f":"CONCATENATE(selected_functions!$A$6,E173,C173)","v":"-3Gigabytes"},"Gigabytes",null,{"$f":"$E$26","v":-3},0,0,0,0,0,0]
[null,{"$f":"CONCATENATE(selected_functions!$A$6,E174,C174)","v":"-2Gigabytes"},"Gigabytes",null,{"$f":"$E$27","v":-2},0,0,0,0,0,0]
[null,{"$f":"CONCATENATE(selected_functions!$A$6,E175,C175)","v":"-1Gigabytes"},"Gigabytes",null,{"$f":"$E$28","v":-1},0,0,0,0,0,0]
[null,{"$f":"CONCATENATE(selected_functions!$A$6,E176,C176)","v":"0Gigabytes"},"Gigabytes",null,{"$f":"$E$29","v":0},0,0,0,0,0,0]
[null,{"$f":"CONCATENATE(selected_functions!$A$6,E177,C177)","v":"1Gigabytes"},"Gigabytes",null,{"$f":"$E$30","v":1},0,0,0,0,0,0]
[null,{"$f":"CONCATENATE(selected_functions!$A$6,E178,C178)","v":"2Gigabytes"},"Gigabytes",null,{"$f":"$E$31","v":2},{"$f":"F157/1024","v":0},0,0,0,0,0]
[null,{"$f":"CONCATENATE(selected_functions!$A$6,E179,C179)","v":"3Gigabytes"},"Gigabytes",null,{"$f":"$E$32","v":3},0,0,0,0,0,0]
[null,{"$f":"CONCATENATE(selected_functions!$A$6,E180,C180)","v":"-17Terabytes"},{"$f":"input_lists!$G$14","v":"Terabytes"},null,{"$f":"$E$12","v":-17},0,0,0,0,0,0]
[null,{"$f":"CONCATENATE(selected_functions!$A$6,E181,C181)","v":"-16Terabytes"},{"$f":"C180","v":"Terabytes"},null,{"$f":"$E$13","v":-16},0,0,0,0,0,0]
[null,{"$f":"CONCATENATE(selected_functions!$A$6,E182,C182)","v":"-15Terabytes"},{"$f":"C181","v":"Terabytes"},null,{"$f":"$E$14","v":-15},0,0,0,0,0,0]
[null,{"$f":"CONCATENATE(selected_functions!$A$6,E183,C183)","v":"-14Terabytes"},"Terabytes",null,{"$f":"$E$15","v":-14},0,0,0,0,0,0]
[null,{"$f":"CONCATENATE(selected_functions!$A$6,E184,C184)","v":"-13Terabytes"},"Terabytes",null,{"$f":"$E$16","v":-13},0,0,0,0,0,0]
[null,{"$f":"CONCATENATE(selected_functions!$A$6,E185,C185)","v":"-12Terabytes"},"Terabytes",null,{"$f":"$E$17","v":-12},0,0,0,0,0,0]
[null,{"$f":"CONCATENATE(selected_functions!$A$6,E186,C186)","v":"-11Terabytes"},"Terabytes",null,{"$f":"$E$18","v":-11},0,0,0,0,0,0]
[null,{"$f":"CONCATENATE(selected_functions!$A$6,E187,C187)","v":"-10Terabytes"},"Terabytes",null,{"$f":"$E$19","v":-10},0,0,0,0,0,0]
[null,{"$f":"CONCATENATE(selected_functions!$A$6,E188,C188)","v":"-9Terabytes"},"Terabytes",null,{"$f":"$E$20","v":-9},{"$f":"F167/1024","v":0},0,0,0,0,0]
[null,{"$f":"CONCATENATE(selected_functions!$A$6,E189,C189)","v":"-8Terabytes"},"Terabytes",null,{"$f":"$E$21","v":-8},0,0,0,0,0,0]
[null,{"$f":"CONCATENATE(selected_functions!$A$6,E190,C190)","v":"-7Terabytes"},"Terabytes",null,{"$f":"$E$22","v":-7},0,0,0,0,0,0]
[null,{"$f":"CONCATENATE(selected_functions!$A$6,E191,C191)","v":"-6Terabytes"},"Terabytes",null,{"$f":"$E$23","v":-6},0,0,0,0,0,0]
[null,{"$f":"CONCATENATE(selected_functions!$A$6,E192,C192)","v":"-5Terabytes"},"Terabytes",null,{"$f":"$E$24","v":-5},0,0,0,0,0,0]
[null,{"$f":"CONCATENATE(selected_functions!$A$6,E193,C193)","v":"-4Terabytes"},"Terabytes",null,{"$f":"$E$25","v":-4},0,0,0,0,0,0]
[null,{"$f":"CONCATENATE(selected_functions!$A$6,E194,C194)","v":"-3Terabytes"},"Terabytes",null,{"$f":"$E$26","v":-3},0,0,0,0,0,0]
[null,{"$f":"CONCATENATE(selected_functions!$A$6,E195,C195)","v":"-2Terabytes"},"Terabytes",null,{"$f":"$E$27","v":-2},0,0,0,0,0,0]
[null,{"$f":"CONCATENATE(selected_functions!$A$6,E196,C196)","v":"-1Terabytes"},"Terabytes",null,{"$f":"$E$28","v":-1},0,0,0,0,0,0]
[null,{"$f":"CONCATENATE(selected_functions!$A$6,E197,C197)","v":"0Terabytes"},"Terabytes",null,{"$f":"$E$29","v":0},0,0,0,0,0,0]
[null,{"$f":"CONCATENATE(selected_functions!$A$6,E198,C198)","v":"1Terabytes"},"Terabytes",null,{"$f":"$E$30","v":1},{"$f":"F177/1024","v":0},0,0,0,0,0]
[null,{"$f":"CONCATENATE(selected_functions!$A$6,E199,C199)","v":"2Terabytes"},"Terabytes",null,{"$f":"$E$31","v":2},0,0,0,0,0,0]
[null,{"$f":"CONCATENATE(selected_functions!$A$6,E200,C200)","v":"3Terabytes"},"Terabytes",null,{"$f":"$E$32","v":3},0,0,0,0,0,0]
[null,{"$f":"CONCATENATE(selected_functions!$A$6,E201,C201)","v":"-17Petabytes"},{"$f":"input_lists!$G$15","v":"Petabytes"},null,{"$f":"$E$12","v":-17},0,0,0,0,0,0]
[null,{"$f":"CONCATENATE(selected_functions!$A$6,E202,C202)","v":"-16Petabytes"},{"$f":"C201","v":"Petabytes"},null,{"$f":"$E$13","v":-16},0,0,0,0,0,0]
[null,{"$f":"CONCATENATE(selected_functions!$A$6,E203,C203)","v":"-15Petabytes"},{"$f":"C202","v":"Petabytes"},null,{"$f":"$E$14","v":-15},0,0,0,0,0,0]
[null,{"$f":"CONCATENATE(selected_functions!$A$6,E204,C204)","v":"-14Petabytes"},"Petabytes",null,{"$f":"$E$15","v":-14},0,0,0,0,0,0]
[null,{"$f":"CONCATENATE(selected_functions!$A$6,E205,C205)","v":"-13Petabytes"},"Petabytes",null,{"$f":"$E$16","v":-13},0,0,0,0,0,0]
[null,{"$f":"CONCATENATE(selected_functions!$A$6,E206,C206)","v":"-12Petabytes"},"Petabytes",null,{"$f":"$E$17","v":-12},0,0,0,0,0,0]
[null,{"$f":"CONCATENATE(selected_functions!$A$6,E207,C207)","v":"-11Petabytes"},"Petabytes",null,{"$f":"$E$18","v":-11},0,0,0,0,0,0]
[null,{"$f":"CONCATENATE(selected_functions!$A$6,E208,C208)","v":"-10Petabytes"},"Petabytes",null,{"$f":"$E$19","v":-10},{"$f":"F187/1024","v":0},0,0,0,0,0]
[null,{"$f":"CONCATENATE(selected_functions!$A$6,E209,C209)","v":"-9Petabytes"},"Petabytes",null,{"$f":"$E$20","v":-9},0,0,0,0,0,0]
[null,{"$f":"CONCATENATE(selected_functions!$A$6,E210,C210)","v":"-8Petabytes"},"Petabytes",null,{"$f":"$E$21","v":-8},0,0,0,0,0,0]
[null,{"$f":"CONCATENATE(selected_functions!$A$6,E211,C211)","v":"-7Petabytes"},"Petabytes",null,{"$f":"$E$22","v":-7},0,0,0,0,0,0]
[null,{"$f":"CONCATENATE(selected_functions!$A$6,E212,C212)","v":"-6Petabytes"},"Petabytes",null,{"$f":"$E$23","v":-6},0,0,0,0,0,0]
[null,{"$f":"CONCATENATE(selected_functions!$A$6,E213,C213)","v":"-5Petabytes"},"Petabytes",null,{"$f":"$E$24","v":-5},0,0,0,0,0,0]
[null,{"$f":"CONCATENATE(selected_functions!$A$6,E214,C214)","v":"-4Petabytes"},"Petabytes",null,{"$f":"$E$25","v":-4},0,0,0,0,0,0]
[null,{"$f":"CONCATENATE(selected_functions!$A$6,E215,C215)","v":"-3Petabytes"},"Petabytes",null,{"$f":"$E$26","v":-3},0,0,0,0,0,0]
[null,{"$f":"CONCATENATE(selected_functions!$A$6,E216,C216)","v":"-2Petabytes"},"Petabytes",null,{"$f":"$E$27","v":-2},0,0,0,0,0,0]
[null,{"$f":"CONCATENATE(selected_functions!$A$6,E217,C217)","v":"-1Petabytes"},"Petabytes",null,{"$f":"$E$28","v":-1},0,0,0,0,0,0]
[null,{"$f":"CONCATENATE(selected_functions!$A$6,E218,C218)","v":"0Petabytes"},"Petabytes",null,{"$f":"$E$29","v":0},{"$f":"F197/1024","v":0},0,0,0,0,0]
[null,{"$f":"CONCATENATE(selected_functions!$A$6,E219,C219)","v":"1Petabytes"},"Petabytes",null,{"$f":"$E$30","v":1},0,0,0,0,0,0]
[null,{"$f":"CONCATENATE(selected_functions!$A$6,E220,C220)","v":"2Petabytes"},"Petabytes",null,{"$f":"$E$31","v":2},0,0,0,0,0,0]
[null,{"$f":"CONCATENATE(selected_functions!$A$6,E221,C221)","v":"3Petabytes"},"Petabytes",null,{"$f":"$E$32","v":3},0,0,0,0,0,0]
[null,{"$f":"CONCATENATE(selected_functions!$A$7,E222,C222)","v":"-17Kilobytes"},{"$f":"input_lists!$G$11","v":"Kilobytes"},null,{"$f":"$E$12","v":-17},{"$f":"IF(AND(E222>=input_database!$D$7,E222<input_database!$C$7),input_database!$GC$7,\"0\")","v":"0"},{"$f":"IF(E222<input_database!$C$7,input_database!$GE$7,\"0\")","v":0},{"$f":"IFERROR(input_database!$GH$7,\"0\")","v":0},{"$f":"IF(E222=input_database!$C$7,input_database!$GG$7,\"0\")","v":"0"},{"$f":"IF(E222>=input_database!$C$7,(input_database!$GF$7+input_database!$GD$7),0)","v":0},{"$f":"SUM(F222:J222)","v":0}]
[null,{"$f":"CONCATENATE(selected_functions!$A$7,E223,C223)","v":"-16Kilobytes"},{"$f":"input_lists!$G$11","v":"Kilobytes"},null,{"$f":"$E$13","v":-16},{"$f":"IF(AND(E223>=input_database!$D$7,E223<input_database!$C$7),input_database!$GC$7,\"0\")","v":"0"},{"$f":"IF(E223<input_database!$C$7,input_database!$GE$7,\"0\")","v":0},{"$f":"IFERROR(input_database!$GH$7,\"0\")","v":0},{"$f":"IF(E223=input_database!$C$7,input_database!$GG$7,\"0\")","v":"0"},{"$f":"IF(E223>=input_database!$C$7,(input_database!$GF$7+input_database!$GD$7),0)","v":0},{"$f":"K222+SUM(F223:J223)","v":0}]
[null,{"$f":"CONCATENATE(selected_functions!$A$7,E224,C224)","v":"-15Kilobytes"},{"$f":"input_lists!$G$11","v":"Kilobytes"},null,{"$f":"$E$14","v":-15},{"$f":"IF(AND(E224>=input_database!$D$7,E224<input_database!$C$7),input_database!$GC$7,\"0\")","v":"0"},{"$f":"IF(E224<input_database!$C$7,input_database!$GE$7,\"0\")","v":0},{"$f":"IFERROR(input_database!$GH$7,\"0\")","v":0},{"$f":"IF(E224=input_database!$C$7,input_database!$GG$7,\"0\")","v":"0"},{"$f":"IF(E224>=input_database!$C$7,(input_database!$GF$7+input_database!$GD$7),0)","v":0},{"$f":"K223+SUM(F224:J224)","v":0}]
[null,{"$f":"CONCATENATE(selected_functions!$A$7,E225,C225)","v":"-14Kilobytes"},{"$f":"input_lists!$G$11","v":"Kilobytes"},null,{"$f":"$E$15","v":-14},{"$f":"IF(AND(E225>=input_database!$D$7,E225<input_database!$C$7),input_database!$GC$7,\"0\")","v":"0"},{"$f":"IF(E225<input_database!$C$7,input_database!$GE$7,\"0\")","v":0},{"$f":"IFERROR(input_database!$GH$7,\"0\")","v":0},{"$f":"IF(E225=input_database!$C$7,input_database!$GG$7,\"0\")","v":"0"},{"$f":"IF(E225>=input_database!$C$7,(input_database!$GF$7+input_database!$GD$7),0)","v":0},0]
[null,{"$f":"CONCATENATE(selected_functions!$A$7,E226,C226)","v":"-13Kilobytes"},{"$f":"input_lists!$G$11","v":"Kilobytes"},null,{"$f":"$E$16","v":-13},{"$f":"IF(AND(E226>=input_database!$D$7,E226<input_database!$C$7),input_database!$GC$7,\"0\")","v":"0"},{"$f":"IF(E226<input_database!$C$7,input_database!$GE$7,\"0\")","v":0},{"$f":"IFERROR(input_database!$GH$7,\"0\")","v":0},{"$f":"IF(E226=input_database!$C$7,input_database!$GG$7,\"0\")","v":"0"},{"$f":"IF(E226>=input_database!$C$7,(input_database!$GF$7+input_database!$GD$7),0)","v":0},0]
[null,{"$f":"CONCATENATE(selected_functions!$A$7,E227,C227)","v":"-12Kilobytes"},{"$f":"input_lists!$G$11","v":"Kilobytes"},null,{"$f":"$E$17","v":-12},{"$f":"IF(AND(E227>=input_database!$D$7,E227<input_database!$C$7),input_database!$GC$7,\"0\")","v":"0"},{"$f":"IF(E227<input_database!$C$7,input_database!$GE$7,\"0\")","v":0},{"$f":"IFERROR(input_database!$GH$7,\"0\")","v":0},{"$f":"IF(E227=input_database!$C$7,input_database!$GG$7,\"0\")","v":"0"},{"$f":"IF(E227>=input_database!$C$7,(input_database!$GF$7+input_database!$GD$7),0)","v":0},0]
[null,{"$f":"CONCATENATE(selected_functions!$A$7,E228,C228)","v":"-11Kilobytes"},{"$f":"input_lists!$G$11","v":"Kilobytes"},null,{"$f":"$E$18","v":-11},{"$f":"IF(AND(E228>=input_database!$D$7,E228<input_database!$C$7),input_database!$GC$7,\"0\")","v":"0"},{"$f":"IF(E228<input_database!$C$7,input_database!$GE$7,\"0\")","v":0},{"$f":"IFERROR(input_database!$GH$7,\"0\")","v":0},{"$f":"IF(E228=input_database!$C$7,input_database!$GG$7,\"0\")","v":"0"},{"$f":"IF(E228>=input_database!$C$7,(input_database!$GF$7+input_database!$GD$7),0)","v":0},0]
[null,{"$f":"CONCATENATE(selected_functions!$A$7,E229,C229)","v":"-10Kilobytes"},{"$f":"input_lists!$G$11","v":"Kilobytes"},null,{"$f":"$E$19","v":-10},{"$f":"IF(AND(E229>=input_database!$D$7,E229<input_database!$C$7),input_database!$GC$7,\"0\")","v":"0"},{"$f":"IF(E229<input_database!$C$7,input_database!$GE$7,\"0\")","v":0},{"$f":"IFERROR(input_database!$GH$7,\"0\")","v":0},{"$f":"IF(E229=input_database!$C$7,input_database!$GG$7,\"0\")","v":"0"},{"$f":"IF(E229>=input_database!$C$7,(input_database!$GF$7+input_database!$GD$7),0)","v":0},0]
[null,{"$f":"CONCATENATE(selected_functions!$A$7,E230,C230)","v":"-9Kilobytes"},{"$f":"input_lists!$G$11","v":"Kilobytes"},null,{"$f":"$E$20","v":-9},{"$f":"IF(AND(E230>=input_database!$D$7,E230<input_database!$C$7),input_database!$GC$7,\"0\")","v":"0"},{"$f":"IF(E230<input_database!$C$7,input_database!$GE$7,\"0\")","v":0},{"$f":"IFERROR(input_database!$GH$7,\"0\")","v":0},{"$f":"IF(E230=input_database!$C$7,input_database!$GG$7,\"0\")","v":"0"},{"$f":"IF(E230>=input_database!$C$7,(input_database!$GF$7+input_database!$GD$7),0)","v":0},0]
[null,{"$f":"CONCATENATE(selected_functions!$A$7,E231,C231)","v":"-8Kilobytes"},{"$f":"input_lists!$G$11","v":"Kilobytes"},null,{"$f":"$E$21","v":-8},{"$f":"IF(AND(E231>=input_database!$D$7,E231<input_database!$C$7),input_database!$GC$7,\"0\")","v":"0"},{"$f":"IF(E231<input_database!$C$7,input_database!$GE$7,\"0\")","v":0},{"$f":"IFERROR(input_database!$GH$7,\"0\")","v":0},{"$f":"IF(E231=input_database!$C$7,input_database!$GG$7,\"0\")","v":"0"},{"$f":"IF(E231>=input_database!$C$7,(input_database!$GF$7+input_database!$GD$7),0)","v":0},0]
[null,{"$f":"CONCATENATE(selected_functions!$A$7,E232,C232)","v":"-7Kilobytes"},{"$f":"input_lists!$G$11","v":"Kilobytes"},null,{"$f":"$E$22","v":-7},{"$f":"IF(AND(E232>=input_database!$D$7,E232<input_database!$C$7),input_database!$GC$7,\"0\")","v":"0"},{"$f":"IF(E232<input_database!$C$7,input_database!$GE$7,\"0\")","v":0},{"$f":"IFERROR(input_database!$GH$7,\"0\")","v":0},{"$f":"IF(E232=input_database!$C$7,input_database!$GG$7,\"0\")","v":"0"},{"$f":"IF(E232>=input_database!$C$7,(input_database!$GF$7+input_database!$GD$7),0)","v":0},0]
[null,{"$f":"CONCATENATE(selected_functions!$A$7,E233,C233)","v":"-6Kilobytes"},{"$f":"input_lists!$G$11","v":"Kilobytes"},null,{"$f":"$E$23","v":-6},{"$f":"IF(AND(E233>=input_database!$D$7,E233<input_database!$C$7),input_database!$GC$7,\"0\")","v":"0"},{"$f":"IF(E233<input_database!$C$7,input_database!$GE$7,\"0\")","v":0},{"$f":"IFERROR(input_database!$GH$7,\"0\")","v":0},{"$f":"IF(E233=input_database!$C$7,input_database!$GG$7,\"0\")","v":"0"},{"$f":"IF(E233>=input_database!$C$7,(input_database!$GF$7+input_database!$GD$7),0)","v":0},0]
[null,{"$f":"CONCATENATE(selected_functions!$A$7,E234,C234)","v":"-5Kilobytes"},{"$f":"input_lists!$G$11","v":"Kilobytes"},null,{"$f":"$E$24","v":-5},{"$f":"IF(AND(E234>=input_database!$D$7,E234<input_database!$C$7),input_database!$GC$7,\"0\")","v":"0"},{"$f":"IF(E234<input_database!$C$7,input_database!$GE$7,\"0\")","v":0},{"$f":"IFERROR(input_database!$GH$7,\"0\")","v":0},{"$f":"IF(E234=input_database!$C$7,input_database!$GG$7,\"0\")","v":"0"},{"$f":"IF(E234>=input_database!$C$7,(input_database!$GF$7+input_database!$GD$7),0)","v":0},0]
[null,{"$f":"CONCATENATE(selected_functions!$A$7,E235,C235)","v":"-4Kilobytes"},{"$f":"input_lists!$G$11","v":"Kilobytes"},null,{"$f":"$E$25","v":-4},{"$f":"IF(AND(E235>=input_database!$D$7,E235<input_database!$C$7),input_database!$GC$7,\"0\")","v":"0"},{"$f":"IF(E235<input_database!$C$7,input_database!$GE$7,\"0\")","v":0},{"$f":"IFERROR(input_database!$GH$7,\"0\")","v":0},{"$f":"IF(E235=input_database!$C$7,input_database!$GG$7,\"0\")","v":"0"},{"$f":"IF(E235>=input_database!$C$7,(input_database!$GF$7+input_database!$GD$7),0)","v":0},0]
[null,{"$f":"CONCATENATE(selected_functions!$A$7,E236,C236)","v":"-3Kilobytes"},{"$f":"input_lists!$G$11","v":"Kilobytes"},null,{"$f":"$E$26","v":-3},{"$f":"IF(AND(E236>=input_database!$D$7,E236<input_database!$C$7),input_database!$GC$7,\"0\")","v":"0"},{"$f":"IF(E236<input_database!$C$7,input_database!$GE$7,\"0\")","v":0},{"$f":"IFERROR(input_database!$GH$7,\"0\")","v":0},{"$f":"IF(E236=input_database!$C$7,input_database!$GG$7,\"0\")","v":"0"},{"$f":"IF(E236>=input_database!$C$7,(input_database!$GF$7+input_database!$GD$7),0)","v":0},0]
[null,{"$f":"CONCATENATE(selected_functions!$A$7,E237,C237)","v":"-2Kilobytes"},{"$f":"input_lists!$G$11","v":"Kilobytes"},null,{"$f":"$E$27","v":-2},{"$f":"IF(AND(E237>=input_database!$D$7,E237<input_database!$C$7),input_database!$GC$7,\"0\")","v":"0"},{"$f":"IF(E237<input_database!$C$7,input_database!$GE$7,\"0\")","v":0},{"$f":"IFERROR(input_database!$GH$7,\"0\")","v":0},{"$f":"IF(E237=input_database!$C$7,input_database!$GG$7,\"0\")","v":"0"},{"$f":"IF(E237>=input_database!$C$7,(input_database!$GF$7+input_database!$GD$7),0)","v":0},0]
[null,{"$f":"CONCATENATE(selected_functions!$A$7,E238,C238)","v":"-1Kilobytes"},{"$f":"input_lists!$G$11","v":"Kilobytes"},null,{"$f":"$E$28","v":-1},{"$f":"IF(AND(E238>=input_database!$D$7,E238<input_database!$C$7),input_database!$GC$7,\"0\")","v":"0"},{"$f":"IF(E238<input_database!$C$7,input_database!$GE$7,\"0\")","v":0},{"$f":"IFERROR(input_database!$GH$7,\"0\")","v":0},{"$f":"IF(E238=input_database!$C$7,input_database!$GG$7,\"0\")","v":"0"},{"$f":"IF(E238>=input_database!$C$7,(input_database!$GF$7+input_database!$GD$7),0)","v":0},0]
[null,{"$f":"CONCATENATE(selected_functions!$A$7,E239,C239)","v":"0Kilobytes"},{"$f":"input_lists!$G$11","v":"Kilobytes"},null,{"$f":"$E$29","v":0},{"$f":"IF(AND(E239>=input_database!$D$7,E239<input_database!$C$7),input_database!$GC$7,\"0\")","v":"0"},{"$f":"IF(E239<input_database!$C$7,input_database!$GE$7,\"0\")","v":"0"},{"$f":"IFERROR(input_database!$GH$7,\"0\")","v":0},{"$f":"IF(E239=input_database!$C$7,input_database!$GG$7,\"0\")","v":0},{"$f":"IF(E239>=input_database!$C$7,(input_database!$GF$7+input_database!$GD$7),0)","v":0},0]
[null,{"$f":"CONCATENATE(selected_functions!$A$7,E240,C240)","v":"1Kilobytes"},{"$f":"input_lists!$G$11","v":"Kilobytes"},null,{"$f":"$E$30","v":1},{"$f":"IF(AND(E240>=input_database!$D$7,E240<input_database!$C$7),input_database!$GC$7,\"0\")","v":"0"},{"$f":"IF(E240<input_database!$C$7,input_database!$GE$7,\"0\")","v":"0"},{"$f":"IFERROR(input_database!$GH$7,\"0\")","v":0},{"$f":"IF(E240=input_database!$C$7,input_database!$GG$7,\"0\")","v":"0"},{"$f":"IF(E240>=input_database!$C$7,(input_database!$GF$7+input_database!$GD$7),0)","v":0},0]
[null,{"$f":"CONCATENATE(selected_functions!$A$7,E241,C241)","v":"2Kilobytes"},{"$f":"input_lists!$G$11","v":"Kilobytes"},null,{"$f":"$E$31","v":2},{"$f":"IF(AND(E241>=input_database!$D$7,E241<input_database!$C$7),input_database!$GC$7,\"0\")","v":"0"},{"$f":"IF(E241<input_database!$C$7,input_database!$GE$7,\"0\")","v":"0"},{"$f":"IFERROR(input_database!$GH$7,\"0\")","v":0},{"$f":"IF(E241=input_database!$C$7,input_database!$GG$7,\"0\")","v":"0"},{"$f":"IF(E241>=input_database!$C$7,(input_database!$GF$7+input_database!$GD$7),0)","v":0},0]
[null,{"$f":"CONCATENATE(selected_functions!$A$7,E242,C242)","v":"3Kilobytes"},{"$f":"input_lists!$G$11","v":"Kilobytes"},null,{"$f":"$E$32","v":3},{"$f":"IF(AND(E242>=input_database!$D$7,E242<input_database!$C$7),input_database!$GC$7,\"0\")","v":"0"},{"$f":"IF(E242<input_database!$C$7,input_database!$GE$7,\"0\")","v":"0"},{"$f":"IFERROR(input_database!$GH$7,\"0\")","v":0},{"$f":"IF(E242=input_database!$C$7,input_database!$GG$7,\"0\")","v":"0"},{"$f":"IF(E242>=input_database!$C$7,(input_database!$GF$7+input_database!$GD$7),0)","v":0},0]
[null,{"$f":"CONCATENATE(selected_functions!$A$7,E243,C243)","v":"-17Megabytes"},{"$f":"input_lists!$G$12","v":"Megabytes"},null,{"$f":"$E$12","v":-17},{"$f":"F222/1024","v":0},0,0,0,0,0]
[null,{"$f":"CONCATENATE(selected_functions!$A$7,E244,C244)","v":"-16Megabytes"},{"$f":"C243","v":"Megabytes"},null,{"$f":"$E$13","v":-16},0,0,0,0,0,0]
[null,{"$f":"CONCATENATE(selected_functions!$A$7,E245,C245)","v":"-15Megabytes"},{"$f":"C244","v":"Megabytes"},null,{"$f":"$E$14","v":-15},0,0,0,0,0,0]
[null,{"$f":"CONCATENATE(selected_functions!$A$7,E246,C246)","v":"-14Megabytes"},"Megabytes",null,{"$f":"$E$15","v":-14},0,0,0,0,0,0]
[null,{"$f":"CONCATENATE(selected_functions!$A$7,E247,C247)","v":"-13Megabytes"},"Megabytes",null,{"$f":"$E$16","v":-13},0,0,0,0,0,0]
[null,{"$f":"CONCATENATE(selected_functions!$A$7,E248,C248)","v":"-12Megabytes"},"Megabytes",null,{"$f":"$E$17","v":-12},0,0,0,0,0,0]
[null,{"$f":"CONCATENATE(selected_functions!$A$7,E249,C249)","v":"-11Megabytes"},"Megabytes",null,{"$f":"$E$18","v":-11},0,0,0,0,0,0]
[null,{"$f":"CONCATENATE(selected_functions!$A$7,E250,C250)","v":"-10Megabytes"},"Megabytes",null,{"$f":"$E$19","v":-10},0,0,0,0,0,0]
[null,{"$f":"CONCATENATE(selected_functions!$A$7,E251,C251)","v":"-9Megabytes"},"Megabytes",null,{"$f":"$E$20","v":-9},0,0,0,0,0,0]
[null,{"$f":"CONCATENATE(selected_functions!$A$7,E252,C252)","v":"-8Megabytes"},"Megabytes",null,{"$f":"$E$21","v":-8},0,0,0,0,0,0]
[null,{"$f":"CONCATENATE(selected_functions!$A$7,E253,C253)","v":"-7Megabytes"},"Megabytes",null,{"$f":"$E$22","v":-7},{"$f":"F232/1024","v":0},0,0,0,0,0]
[null,{"$f":"CONCATENATE(selected_functions!$A$7,E254,C254)","v":"-6Megabytes"},"Megabytes",null,{"$f":"$E$23","v":-6},0,0,0,0,0,0]
[null,{"$f":"CONCATENATE(selected_functions!$A$7,E255,C255)","v":"-5Megabytes"},"Megabytes",null,{"$f":"$E$24","v":-5},0,0,0,0,0,0]
[null,{"$f":"CONCATENATE(selected_functions!$A$7,E256,C256)","v":"-4Megabytes"},"Megabytes",null,{"$f":"$E$25","v":-4},0,0,0,0,0,0]
[null,{"$f":"CONCATENATE(selected_functions!$A$7,E257,C257)","v":"-3Megabytes"},"Megabytes",null,{"$f":"$E$26","v":-3},0,0,0,0,0,0]
[null,{"$f":"CONCATENATE(selected_functions!$A$7,E258,C258)","v":"-2Megabytes"},"Megabytes",null,{"$f":"$E$27","v":-2},0,0,0,0,0,0]
[null,{"$f":"CONCATENATE(selected_functions!$A$7,E259,C259)","v":"-1Megabytes"},"Megabytes",null,{"$f":"$E$28","v":-1},0,0,0,0,0,0]
[null,{"$f":"CONCATENATE(selected_functions!$A$7,E260,C260)","v":"0Megabytes"},"Megabytes",null,{"$f":"$E$29","v":0},0,0,0,0,0,0]
[null,{"$f":"CONCATENATE(selected_functions!$A$7,E261,C261)","v":"1Megabytes"},"Megabytes",null,{"$f":"$E$30","v":1},0,0,0,0,0,0]
[null,{"$f":"CONCATENATE(selected_functions!$A$7,E262,C262)","v":"2Megabytes"},"Megabytes",null,{"$f":"$E$31","v":2},0,0,0,0,0,0]
[null,{"$f":"CONCATENATE(selected_functions!$A$7,E263,C263)","v":"3Megabytes"},{"$f":"C262","v":"Megabytes"},null,{"$f":"$E$32","v":3},{"$f":"F242/1024","v":0},0,0,0,0,0]
[null,{"$f":"CONCATENATE(selected_functions!$A$7,E264,C264)","v":"-17Gigabytes"},{"$f":"input_lists!$G$13","v":"Gigabytes"},null,{"$f":"$E$12","v":-17},0,0,0,0,0,0]
[null,{"$f":"CONCATENATE(selected_functions!$A$7,E265,C265)","v":"-16Gigabytes"},{"$f":"C264","v":"Gigabytes"},null,{"$f":"$E$13","v":-16},0,0,0,0,0,0]
[null,{"$f":"CONCATENATE(selected_functions!$A$7,E266,C266)","v":"-15Gigabytes"},{"$f":"C265","v":"Gigabytes"},null,{"$f":"$E$14","v":-15},0,0,0,0,0,0]
[null,{"$f":"CONCATENATE(selected_functions!$A$7,E267,C267)","v":"-14Gigabytes"},"Gigabytes",null,{"$f":"$E$15","v":-14},0,0,0,0,0,0]
[null,{"$f":"CONCATENATE(selected_functions!$A$7,E268,C268)","v":"-13Gigabytes"},"Gigabytes",null,{"$f":"$E$16","v":-13},0,0,0,0,0,0]
[null,{"$f":"CONCATENATE(selected_functions!$A$7,E269,C269)","v":"-12Gigabytes"},"Gigabytes",null,{"$f":"$E$17","v":-12},0,0,0,0,0,0]
[null,{"$f":"CONCATENATE(selected_functions!$A$7,E270,C270)","v":"-11Gigabytes"},"Gigabytes",null,{"$f":"$E$18","v":-11},0,0,0,0,0,0]
[null,{"$f":"CONCATENATE(selected_functions!$A$7,E271,C271)","v":"-10Gigabytes"},"Gigabytes",null,{"$f":"$E$19","v":-10},0,0,0,0,0,0]
[null,{"$f":"CONCATENATE(selected_functions!$A$7,E272,C272)","v":"-9Gigabytes"},"Gigabytes",null,{"$f":"$E$20","v":-9},0,0,0,0,0,0]
[null,{"$f":"CONCATENATE(selected_functions!$A$7,E273,C273)","v":"-8Gigabytes"},"Gigabytes",null,{"$f":"$E$21","v":-8},{"$f":"F252/1024","v":0},0,0,0,0,0]
[null,{"$f":"CONCATENATE(selected_functions!$A$7,E274,C274)","v":"-7Gigabytes"},"Gigabytes",null,{"$f":"$E$22","v":-7},0,0,0,0,0,0]
[null,{"$f":"CONCATENATE(selected_functions!$A$7,E275,C275)","v":"-6Gigabytes"},"Gigabytes",null,{"$f":"$E$23","v":-6},0,0,0,0,0,0]
[null,{"$f":"CONCATENATE(selected_functions!$A$7,E276,C276)","v":"-5Gigabytes"},"Gigabytes",null,{"$f":"$E$24","v":-5},0,0,0,0,0,0]
[null,{"$f":"CONCATENATE(selected_functions!$A$7,E277,C277)","v":"-4Gigabytes"},"Gigabytes",null,{"$f":"$E$25","v":-4},0,0,0,0,0,0]
[null,{"$f":"CONCATENATE(selected_functions!$A$7,E278,C278)","v":"-3Gigabytes"},"Gigabytes",null,{"$f":"$E$26","v":-3},0,0,0,0,0,0]
[null,{"$f":"CONCATENATE(selected_functions!$A$7,E279,C279)","v":"-2Gigabytes"},"Gigabytes",null,{"$f":"$E$27","v":-2},0,0,0,0,0,0]
[null,{"$f":"CONCATENATE(selected_functions!$A$7,E280,C280)","v":"-1Gigabytes"},"Gigabytes",null,{"$f":"$E$28","v":-1},0,0,0,0,0,0]
[null,{"$f":"CONCATENATE(selected_functions!$A$7,E281,C281)","v":"0Gigabytes"},"Gigabytes",null,{"$f":"$E$29","v":0},0,0,0,0,0,0]
[null,{"$f":"CONCATENATE(selected_functions!$A$7,E282,C282)","v":"1Gigabytes"},"Gigabytes",null,{"$f":"$E$30","v":1},0,0,0,0,0,0]
[null,{"$f":"CONCATENATE(selected_functions!$A$7,E283,C283)","v":"2Gigabytes"},"Gigabytes",null,{"$f":"$E$31","v":2},{"$f":"F262/1024","v":0},0,0,0,0,0]
[null,{"$f":"CONCATENATE(selected_functions!$A$7,E284,C284)","v":"3Gigabytes"},"Gigabytes",null,{"$f":"$E$32","v":3},0,0,0,0,0,0]
[null,{"$f":"CONCATENATE(selected_functions!$A$7,E285,C285)","v":"-17Terabytes"},{"$f":"input_lists!$G$14","v":"Terabytes"},null,{"$f":"$E$12","v":-17},0,0,0,0,0,0]
[null,{"$f":"CONCATENATE(selected_functions!$A$7,E286,C286)","v":"-16Terabytes"},{"$f":"C285","v":"Terabytes"},null,{"$f":"$E$13","v":-16},0,0,0,0,0,0]
[null,{"$f":"CONCATENATE(selected_functions!$A$7,E287,C287)","v":"-15Terabytes"},{"$f":"C286","v":"Terabytes"},null,{"$f":"$E$14","v":-15},0,0,0,0,0,0]
[null,{"$f":"CONCATENATE(selected_functions!$A$7,E288,C288)","v":"-14Terabytes"},"Terabytes",null,{"$f":"$E$15","v":-14},0,0,0,0,0,0]
[null,{"$f":"CONCATENATE(selected_functions!$A$7,E289,C289)","v":"-13Terabytes"},"Terabytes",null,{"$f":"$E$16","v":-13},0,0,0,0,0,0]
[null,{"$f":"CONCATENATE(selected_functions!$A$7,E290,C290)","v":"-12Terabytes"},"Terabytes",null,{"$f":"$E$17","v":-12},0,0,0,0,0,0]
[null,{"$f":"CONCATENATE(selected_functions!$A$7,E291,C291)","v":"-11Terabytes"},"Terabytes",null,{"$f":"$E$18","v":-11},0,0,0,0,0,0]
[null,{"$f":"CONCATENATE(selected_functions!$A$7,E292,C292)","v":"-10Terabytes"},"Terabytes",null,{"$f":"$E$19","v":-10},0,0,0,0,0,0]
[null,{"$f":"CONCATENATE(selected_functions!$A$7,E293,C293)","v":"-9Terabytes"},"Terabytes",null,{"$f":"$E$20","v":-9},{"$f":"F272/1024","v":0},0,0,0,0,0]
[null,{"$f":"CONCATENATE(selected_functions!$A$7,E294,C294)","v":"-8Terabytes"},"Terabytes",null,{"$f":"$E$21","v":-8},0,0,0,0,0,0]
[null,{"$f":"CONCATENATE(selected_functions!$A$7,E295,C295)","v":"-7Terabytes"},"Terabytes",null,{"$f":"$E$22","v":-7},0,0,0,0,0,0]
[null,{"$f":"CONCATENATE(selected_functions!$A$7,E296,C296)","v":"-6Terabytes"},"Terabytes",null,{"$f":"$E$23","v":-6},0,0,0,0,0,0]
[null,{"$f":"CONCATENATE(selected_functions!$A$7,E297,C297)","v":"-5Terabytes"},"Terabytes",null,{"$f":"$E$24","v":-5},0,0,0,0,0,0]
[null,{"$f":"CONCATENATE(selected_functions!$A$7,E298,C298)","v":"-4Terabytes"},"Terabytes",null,{"$f":"$E$25","v":-4},0,0,0,0,0,0]
[null,{"$f":"CONCATENATE(selected_functions!$A$7,E299,C299)","v":"-3Terabytes"},"Terabytes",null,{"$f":"$E$26","v":-3},0,0,0,0,0,0]
[null,{"$f":"CONCATENATE(selected_functions!$A$7,E300,C300)","v":"-2Terabytes"},"Terabytes",null,{"$f":"$E$27","v":-2},0,0,0,0,0,0]
[null,{"$f":"CONCATENATE(selected_functions!$A$7,E301,C301)","v":"-1Terabytes"},"Terabytes",null,{"$f":"$E$28","v":-1},0,0,0,0,0,0]
[null,{"$f":"CONCATENATE(selected_functions!$A$7,E302,C302)","v":"0Terabytes"},"Terabytes",null,{"$f":"$E$29","v":0},0,0,0,0,0,0]
[null,{"$f":"CONCATENATE(selected_functions!$A$7,E303,C303)","v":"1Terabytes"},"Terabytes",null,{"$f":"$E$30","v":1},{"$f":"F282/1024","v":0},0,0,0,0,0]
[null,{"$f":"CONCATENATE(selected_functions!$A$7,E304,C304)","v":"2Terabytes"},"Terabytes",null,{"$f":"$E$31","v":2},0,0,0,0,0,0]
[null,{"$f":"CONCATENATE(selected_functions!$A$7,E305,C305)","v":"3Terabytes"},"Terabytes",null,{"$f":"$E$32","v":3},0,0,0,0,0,0]
[null,{"$f":"CONCATENATE(selected_functions!$A$7,E306,C306)","v":"-17Petabytes"},{"$f":"input_lists!$G$15","v":"Petabytes"},null,{"$f":"$E$12","v":-17},0,0,0,0,0,0]
[null,{"$f":"CONCATENATE(selected_functions!$A$7,E307,C307)","v":"-16Petabytes"},{"$f":"C306","v":"Petabytes"},null,{"$f":"$E$13","v":-16},0,0,0,0,0,0]
[null,{"$f":"CONCATENATE(selected_functions!$A$7,E308,C308)","v":"-15Petabytes"},{"$f":"C307","v":"Petabytes"},null,{"$f":"$E$14","v":-15},0,0,0,0,0,0]
[null,{"$f":"CONCATENATE(selected_functions!$A$7,E309,C309)","v":"-14Petabytes"},"Petabytes",null,{"$f":"$E$15","v":-14},0,0,0,0,0,0]
[null,{"$f":"CONCATENATE(selected_functions!$A$7,E310,C310)","v":"-13Petabytes"},"Petabytes",null,{"$f":"$E$16","v":-13},0,0,0,0,0,0]
[null,{"$f":"CONCATENATE(selected_functions!$A$7,E311,C311)","v":"-12Petabytes"},"Petabytes",null,{"$f":"$E$17","v":-12},0,0,0,0,0,0]
[null,{"$f":"CONCATENATE(selected_functions!$A$7,E312,C312)","v":"-11Petabytes"},"Petabytes",null,{"$f":"$E$18","v":-11},0,0,0,0,0,0]
[null,{"$f":"CONCATENATE(selected_functions!$A$7,E313,C313)","v":"-10Petabytes"},"Petabytes",null,{"$f":"$E$19","v":-10},{"$f":"F292/1024","v":0},0,0,0,0,0]
[null,{"$f":"CONCATENATE(selected_functions!$A$7,E314,C314)","v":"-9Petabytes"},"Petabytes",null,{"$f":"$E$20","v":-9},0,0,0,0,0,0]
[null,{"$f":"CONCATENATE(selected_functions!$A$7,E315,C315)","v":"-8Petabytes"},"Petabytes",null,{"$f":"$E$21","v":-8},0,0,0,0,0,0]
[null,{"$f":"CONCATENATE(selected_functions!$A$7,E316,C316)","v":"-7Petabytes"},"Petabytes",null,{"$f":"$E$22","v":-7},0,0,0,0,0,0]
[null,{"$f":"CONCATENATE(selected_functions!$A$7,E317,C317)","v":"-6Petabytes"},"Petabytes",null,{"$f":"$E$23","v":-6},0,0,0,0,0,0]
[null,{"$f":"CONCATENATE(selected_functions!$A$7,E318,C318)","v":"-5Petabytes"},"Petabytes",null,{"$f":"$E$24","v":-5},0,0,0,0,0,0]
[null,{"$f":"CONCATENATE(selected_functions!$A$7,E319,C319)","v":"-4Petabytes"},"Petabytes",null,{"$f":"$E$25","v":-4},0,0,0,0,0,0]
[null,{"$f":"CONCATENATE(selected_functions!$A$7,E320,C320)","v":"-3Petabytes"},"Petabytes",null,{"$f":"$E$26","v":-3},0,0,0,0,0,0]
[null,{"$f":"CONCATENATE(selected_functions!$A$7,E321,C321)","v":"-2Petabytes"},"Petabytes",null,{"$f":"$E$27","v":-2},0,0,0,0,0,0]
[null,{"$f":"CONCATENATE(selected_functions!$A$7,E322,C322)","v":"-1Petabytes"},"Petabytes",null,{"$f":"$E$28","v":-1},0,0,0,0,0,0]
[null,{"$f":"CONCATENATE(selected_functions!$A$7,E323,C323)","v":"0Petabytes"},"Petabytes",null,{"$f":"$E$29","v":0},{"$f":"F302/1024","v":0},0,0,0,0,0]
[null,{"$f":"CONCATENATE(selected_functions!$A$7,E324,C324)","v":"1Petabytes"},"Petabytes",null,{"$f":"$E$30","v":1},0,0,0,0,0,0]
[null,{"$f":"CONCATENATE(selected_functions!$A$7,E325,C325)","v":"2Petabytes"},"Petabytes",null,{"$f":"$E$31","v":2},0,0,0,0,0,0]
[null,{"$f":"CONCATENATE(selected_functions!$A$7,E326,C326)","v":"3Petabytes"},"Petabytes",null,{"$f":"$E$32","v":3},0,0,0,0,0,0]
[null,{"$f":"CONCATENATE(selected_functions!$A$8,E327,C327)","v":"-17Kilobytes"},{"$f":"input_lists!$G$11","v":"Kilobytes"},null,{"$f":"$E$12","v":-17},{"$f":"IF(AND(E327>=input_database!$D$8,E327<input_database!$C$8),input_database!$GC$8,\"0\")","v":"0"},{"$f":"IF(E327<input_database!$C$8,input_database!$GE$8,\"0\")","v":0},{"$f":"IFERROR(input_database!$GH$8,\"0\")","v":0},{"$f":"IF(E327=input_database!$C$8,input_database!$GG$8,\"0\")","v":"0"},{"$f":"IF(E327>=input_database!$C$8,(input_database!$GF$8+input_database!$GD$8),0)","v":0},{"$f":"SUM(F327:J327)","v":0}]
[null,{"$f":"CONCATENATE(selected_functions!$A$8,E328,C328)","v":"-16Kilobytes"},{"$f":"input_lists!$G$11","v":"Kilobytes"},null,{"$f":"$E$13","v":-16},{"$f":"IF(AND(E328>=input_database!$D$8,E328<input_database!$C$8),input_database!$GC$8,\"0\")","v":"0"},{"$f":"IF(E328<input_database!$C$8,input_database!$GE$8,\"0\")","v":0},{"$f":"IFERROR(input_database!$GH$8,\"0\")","v":0},{"$f":"IF(E328=input_database!$C$8,input_database!$GG$8,\"0\")","v":"0"},{"$f":"IF(E328>=input_database!$C$8,(input_database!$GF$8+input_database!$GD$8),0)","v":0},{"$f":"K327+SUM(F328:J328)","v":0}]
[null,{"$f":"CONCATENATE(selected_functions!$A$8,E329,C329)","v":"-15Kilobytes"},{"$f":"input_lists!$G$11","v":"Kilobytes"},null,{"$f":"$E$14","v":-15},{"$f":"IF(AND(E329>=input_database!$D$8,E329<input_database!$C$8),input_database!$GC$8,\"0\")","v":"0"},{"$f":"IF(E329<input_database!$C$8,input_database!$GE$8,\"0\")","v":0},{"$f":"IFERROR(input_database!$GH$8,\"0\")","v":0},{"$f":"IF(E329=input_database!$C$8,input_database!$GG$8,\"0\")","v":"0"},{"$f":"IF(E329>=input_database!$C$8,(input_database!$GF$8+input_database!$GD$8),0)","v":0},{"$f":"K328+SUM(F329:J329)","v":0}]
[null,{"$f":"CONCATENATE(selected_functions!$A$8,E330,C330)","v":"-14Kilobytes"},{"$f":"input_lists!$G$11","v":"Kilobytes"},null,{"$f":"$E$15","v":-14},{"$f":"IF(AND(E330>=input_database!$D$8,E330<input_database!$C$8),input_database!$GC$8,\"0\")","v":"0"},{"$f":"IF(E330<input_database!$C$8,input_database!$GE$8,\"0\")","v":0},{"$f":"IFERROR(input_database!$GH$8,\"0\")","v":0},{"$f":"IF(E330=input_database!$C$8,input_database!$GG$8,\"0\")","v":"0"},{"$f":"IF(E330>=input_database!$C$8,(input_database!$GF$8+input_database!$GD$8),0)","v":0},0]
[null,{"$f":"CONCATENATE(selected_functions!$A$8,E331,C331)","v":"-13Kilobytes"},{"$f":"input_lists!$G$11","v":"Kilobytes"},null,{"$f":"$E$16","v":-13},{"$f":"IF(AND(E331>=input_database!$D$8,E331<input_database!$C$8),input_database!$GC$8,\"0\")","v":"0"},{"$f":"IF(E331<input_database!$C$8,input_database!$GE$8,\"0\")","v":0},{"$f":"IFERROR(input_database!$GH$8,\"0\")","v":0},{"$f":"IF(E331=input_database!$C$8,input_database!$GG$8,\"0\")","v":"0"},{"$f":"IF(E331>=input_database!$C$8,(input_database!$GF$8+input_database!$GD$8),0)","v":0},0]
[null,{"$f":"CONCATENATE(selected_functions!$A$8,E332,C332)","v":"-12Kilobytes"},{"$f":"input_lists!$G$11","v":"Kilobytes"},null,{"$f":"$E$17","v":-12},{"$f":"IF(AND(E332>=input_database!$D$8,E332<input_database!$C$8),input_database!$GC$8,\"0\")","v":"0"},{"$f":"IF(E332<input_database!$C$8,input_database!$GE$8,\"0\")","v":0},{"$f":"IFERROR(input_database!$GH$8,\"0\")","v":0},{"$f":"IF(E332=input_database!$C$8,input_database!$GG$8,\"0\")","v":"0"},{"$f":"IF(E332>=input_database!$C$8,(input_database!$GF$8+input_database!$GD$8),0)","v":0},0]
[null,{"$f":"CONCATENATE(selected_functions!$A$8,E333,C333)","v":"-11Kilobytes"},{"$f":"input_lists!$G$11","v":"Kilobytes"},null,{"$f":"$E$18","v":-11},{"$f":"IF(AND(E333>=input_database!$D$8,E333<input_database!$C$8),input_database!$GC$8,\"0\")","v":"0"},{"$f":"IF(E333<input_database!$C$8,input_database!$GE$8,\"0\")","v":0},{"$f":"IFERROR(input_database!$GH$8,\"0\")","v":0},{"$f":"IF(E333=input_database!$C$8,input_database!$GG$8,\"0\")","v":"0"},{"$f":"IF(E333>=input_database!$C$8,(input_database!$GF$8+input_database!$GD$8),0)","v":0},0]
[null,{"$f":"CONCATENATE(selected_functions!$A$8,E334,C334)","v":"-10Kilobytes"},{"$f":"input_lists!$G$11","v":"Kilobytes"},null,{"$f":"$E$19","v":-10},{"$f":"IF(AND(E334>=input_database!$D$8,E334<input_database!$C$8),input_database!$GC$8,\"0\")","v":"0"},{"$f":"IF(E334<input_database!$C$8,input_database!$GE$8,\"0\")","v":0},{"$f":"IFERROR(input_database!$GH$8,\"0\")","v":0},{"$f":"IF(E334=input_database!$C$8,input_database!$GG$8,\"0\")","v":"0"},{"$f":"IF(E334>=input_database!$C$8,(input_database!$GF$8+input_database!$GD$8),0)","v":0},0]
[null,{"$f":"CONCATENATE(selected_functions!$A$8,E335,C335)","v":"-9Kilobytes"},{"$f":"input_lists!$G$11","v":"Kilobytes"},null,{"$f":"$E$20","v":-9},{"$f":"IF(AND(E335>=input_database!$D$8,E335<input_database!$C$8),input_database!$GC$8,\"0\")","v":"0"},{"$f":"IF(E335<input_database!$C$8,input_database!$GE$8,\"0\")","v":0},{"$f":"IFERROR(input_database!$GH$8,\"0\")","v":0},{"$f":"IF(E335=input_database!$C$8,input_database!$GG$8,\"0\")","v":"0"},{"$f":"IF(E335>=input_database!$C$8,(input_database!$GF$8+input_database!$GD$8),0)","v":0},0]
[null,{"$f":"CONCATENATE(selected_functions!$A$8,E336,C336)","v":"-8Kilobytes"},{"$f":"input_lists!$G$11","v":"Kilobytes"},null,{"$f":"$E$21","v":-8},{"$f":"IF(AND(E336>=input_database!$D$8,E336<input_database!$C$8),input_database!$GC$8,\"0\")","v":"0"},{"$f":"IF(E336<input_database!$C$8,input_database!$GE$8,\"0\")","v":0},{"$f":"IFERROR(input_database!$GH$8,\"0\")","v":0},{"$f":"IF(E336=input_database!$C$8,input_database!$GG$8,\"0\")","v":"0"},{"$f":"IF(E336>=input_database!$C$8,(input_database!$GF$8+input_database!$GD$8),0)","v":0},0]
[null,{"$f":"CONCATENATE(selected_functions!$A$8,E337,C337)","v":"-7Kilobytes"},{"$f":"input_lists!$G$11","v":"Kilobytes"},null,{"$f":"$E$22","v":-7},{"$f":"IF(AND(E337>=input_database!$D$8,E337<input_database!$C$8),input_database!$GC$8,\"0\")","v":"0"},{"$f":"IF(E337<input_database!$C$8,input_database!$GE$8,\"0\")","v":0},{"$f":"IFERROR(input_database!$GH$8,\"0\")","v":0},{"$f":"IF(E337=input_database!$C$8,input_database!$GG$8,\"0\")","v":"0"},{"$f":"IF(E337>=input_database!$C$8,(input_database!$GF$8+input_database!$GD$8),0)","v":0},0]
[null,{"$f":"CONCATENATE(selected_functions!$A$8,E338,C338)","v":"-6Kilobytes"},{"$f":"input_lists!$G$11","v":"Kilobytes"},null,{"$f":"$E$23","v":-6},{"$f":"IF(AND(E338>=input_database!$D$8,E338<input_database!$C$8),input_database!$GC$8,\"0\")","v":"0"},{"$f":"IF(E338<input_database!$C$8,input_database!$GE$8,\"0\")","v":0},{"$f":"IFERROR(input_database!$GH$8,\"0\")","v":0},{"$f":"IF(E338=input_database!$C$8,input_database!$GG$8,\"0\")","v":"0"},{"$f":"IF(E338>=input_database!$C$8,(input_database!$GF$8+input_database!$GD$8),0)","v":0},0]
[null,{"$f":"CONCATENATE(selected_functions!$A$8,E339,C339)","v":"-5Kilobytes"},{"$f":"input_lists!$G$11","v":"Kilobytes"},null,{"$f":"$E$24","v":-5},{"$f":"IF(AND(E339>=input_database!$D$8,E339<input_database!$C$8),input_database!$GC$8,\"0\")","v":"0"},{"$f":"IF(E339<input_database!$C$8,input_database!$GE$8,\"0\")","v":0},{"$f":"IFERROR(input_database!$GH$8,\"0\")","v":0},{"$f":"IF(E339=input_database!$C$8,input_database!$GG$8,\"0\")","v":"0"},{"$f":"IF(E339>=input_database!$C$8,(input_database!$GF$8+input_database!$GD$8),0)","v":0},0]
[null,{"$f":"CONCATENATE(selected_functions!$A$8,E340,C340)","v":"-4Kilobytes"},{"$f":"input_lists!$G$11","v":"Kilobytes"},null,{"$f":"$E$25","v":-4},{"$f":"IF(AND(E340>=input_database!$D$8,E340<input_database!$C$8),input_database!$GC$8,\"0\")","v":"0"},{"$f":"IF(E340<input_database!$C$8,input_database!$GE$8,\"0\")","v":0},{"$f":"IFERROR(input_database!$GH$8,\"0\")","v":0},{"$f":"IF(E340=input_database!$C$8,input_database!$GG$8,\"0\")","v":"0"},{"$f":"IF(E340>=input_database!$C$8,(input_database!$GF$8+input_database!$GD$8),0)","v":0},0]
[null,{"$f":"CONCATENATE(selected_functions!$A$8,E341,C341)","v":"-3Kilobytes"},{"$f":"input_lists!$G$11","v":"Kilobytes"},null,{"$f":"$E$26","v":-3},{"$f":"IF(AND(E341>=input_database!$D$8,E341<input_database!$C$8),input_database!$GC$8,\"0\")","v":"0"},{"$f":"IF(E341<input_database!$C$8,input_database!$GE$8,\"0\")","v":0},{"$f":"IFERROR(input_database!$GH$8,\"0\")","v":0},{"$f":"IF(E341=input_database!$C$8,input_database!$GG$8,\"0\")","v":"0"},{"$f":"IF(E341>=input_database!$C$8,(input_database!$GF$8+input_database!$GD$8),0)","v":0},0]
[null,{"$f":"CONCATENATE(selected_functions!$A$8,E342,C342)","v":"-2Kilobytes"},{"$f":"input_lists!$G$11","v":"Kilobytes"},null,{"$f":"$E$27","v":-2},{"$f":"IF(AND(E342>=input_database!$D$8,E342<input_database!$C$8),input_database!$GC$8,\"0\")","v":"0"},{"$f":"IF(E342<input_database!$C$8,input_database!$GE$8,\"0\")","v":0},{"$f":"IFERROR(input_database!$GH$8,\"0\")","v":0},{"$f":"IF(E342=input_database!$C$8,input_database!$GG$8,\"0\")","v":"0"},{"$f":"IF(E342>=input_database!$C$8,(input_database!$GF$8+input_database!$GD$8),0)","v":0},0]
[null,{"$f":"CONCATENATE(selected_functions!$A$8,E343,C343)","v":"-1Kilobytes"},{"$f":"input_lists!$G$11","v":"Kilobytes"},null,{"$f":"$E$28","v":-1},{"$f":"IF(AND(E343>=input_database!$D$8,E343<input_database!$C$8),input_database!$GC$8,\"0\")","v":"0"},{"$f":"IF(E343<input_database!$C$8,input_database!$GE$8,\"0\")","v":0},{"$f":"IFERROR(input_database!$GH$8,\"0\")","v":0},{"$f":"IF(E343=input_database!$C$8,input_database!$GG$8,\"0\")","v":"0"},{"$f":"IF(E343>=input_database!$C$8,(input_database!$GF$8+input_database!$GD$8),0)","v":0},0]
[null,{"$f":"CONCATENATE(selected_functions!$A$8,E344,C344)","v":"0Kilobytes"},{"$f":"input_lists!$G$11","v":"Kilobytes"},null,{"$f":"$E$29","v":0},{"$f":"IF(AND(E344>=input_database!$D$8,E344<input_database!$C$8),input_database!$GC$8,\"0\")","v":"0"},{"$f":"IF(E344<input_database!$C$8,input_database!$GE$8,\"0\")","v":"0"},{"$f":"IFERROR(input_database!$GH$8,\"0\")","v":0},{"$f":"IF(E344=input_database!$C$8,input_database!$GG$8,\"0\")","v":0},{"$f":"IF(E344>=input_database!$C$8,(input_database!$GF$8+input_database!$GD$8),0)","v":0},0]
[null,{"$f":"CONCATENATE(selected_functions!$A$8,E345,C345)","v":"1Kilobytes"},{"$f":"input_lists!$G$11","v":"Kilobytes"},null,{"$f":"$E$30","v":1},{"$f":"IF(AND(E345>=input_database!$D$8,E345<input_database!$C$8),input_database!$GC$8,\"0\")","v":"0"},{"$f":"IF(E345<input_database!$C$8,input_database!$GE$8,\"0\")","v":"0"},{"$f":"IFERROR(input_database!$GH$8,\"0\")","v":0},{"$f":"IF(E345=input_database!$C$8,input_database!$GG$8,\"0\")","v":"0"},{"$f":"IF(E345>=input_database!$C$8,(input_database!$GF$8+input_database!$GD$8),0)","v":0},0]
[null,{"$f":"CONCATENATE(selected_functions!$A$8,E346,C346)","v":"2Kilobytes"},{"$f":"input_lists!$G$11","v":"Kilobytes"},null,{"$f":"$E$31","v":2},{"$f":"IF(AND(E346>=input_database!$D$8,E346<input_database!$C$8),input_database!$GC$8,\"0\")","v":"0"},{"$f":"IF(E346<input_database!$C$8,input_database!$GE$8,\"0\")","v":"0"},{"$f":"IFERROR(input_database!$GH$8,\"0\")","v":0},{"$f":"IF(E346=input_database!$C$8,input_database!$GG$8,\"0\")","v":"0"},{"$f":"IF(E346>=input_database!$C$8,(input_database!$GF$8+input_database!$GD$8),0)","v":0},0]
[null,{"$f":"CONCATENATE(selected_functions!$A$8,E347,C347)","v":"3Kilobytes"},{"$f":"input_lists!$G$11","v":"Kilobytes"},null,{"$f":"$E$32","v":3},{"$f":"IF(AND(E347>=input_database!$D$8,E347<input_database!$C$8),input_database!$GC$8,\"0\")","v":"0"},{"$f":"IF(E347<input_database!$C$8,input_database!$GE$8,\"0\")","v":"0"},{"$f":"IFERROR(input_database!$GH$8,\"0\")","v":0},{"$f":"IF(E347=input_database!$C$8,input_database!$GG$8,\"0\")","v":"0"},{"$f":"IF(E347>=input_database!$C$8,(input_database!$GF$8+input_database!$GD$8),0)","v":0},0]
[null,{"$f":"CONCATENATE(selected_functions!$A$8,E348,C348)","v":"-17Megabytes"},{"$f":"input_lists!$G$12","v":"Megabytes"},null,{"$f":"$E$12","v":-17},{"$f":"F327/1024","v":0},0,0,0,0,0]
[null,{"$f":"CONCATENATE(selected_functions!$A$8,E349,C349)","v":"-16Megabytes"},{"$f":"C348","v":"Megabytes"},null,{"$f":"$E$13","v":-16},0,0,0,0,0,0]
[null,{"$f":"CONCATENATE(selected_functions!$A$8,E350,C350)","v":"-15Megabytes"},{"$f":"C349","v":"Megabytes"},null,{"$f":"$E$14","v":-15},0,0,0,0,0,0]
[null,{"$f":"CONCATENATE(selected_functions!$A$8,E351,C351)","v":"-14Megabytes"},"Megabytes",null,{"$f":"$E$15","v":-14},0,0,0,0,0,0]
[null,{"$f":"CONCATENATE(selected_functions!$A$8,E352,C352)","v":"-13Megabytes"},"Megabytes",null,{"$f":"$E$16","v":-13},0,0,0,0,0,0]
[null,{"$f":"CONCATENATE(selected_functions!$A$8,E353,C353)","v":"-12Megabytes"},"Megabytes",null,{"$f":"$E$17","v":-12},0,0,0,0,0,0]
[null,{"$f":"CONCATENATE(selected_functions!$A$8,E354,C354)","v":"-11Megabytes"},"Megabytes",null,{"$f":"$E$18","v":-11},0,0,0,0,0,0]
[null,{"$f":"CONCATENATE(selected_functions!$A$8,E355,C355)","v":"-10Megabytes"},"Megabytes",null,{"$f":"$E$19","v":-10},0,0,0,0,0,0]
[null,{"$f":"CONCATENATE(selected_functions!$A$8,E356,C356)","v":"-9Megabytes"},"Megabytes",null,{"$f":"$E$20","v":-9},0,0,0,0,0,0]
[null,{"$f":"CONCATENATE(selected_functions!$A$8,E357,C357)","v":"-8Megabytes"},"Megabytes",null,{"$f":"$E$21","v":-8},0,0,0,0,0,0]
[null,{"$f":"CONCATENATE(selected_functions!$A$8,E358,C358)","v":"-7Megabytes"},"Megabytes",null,{"$f":"$E$22","v":-7},{"$f":"F337/1024","v":0},0,0,0,0,0]
[null,{"$f":"CONCATENATE(selected_functions!$A$8,E359,C359)","v":"-6Megabytes"},"Megabytes",null,{"$f":"$E$23","v":-6},0,0,0,0,0,0]
[null,{"$f":"CONCATENATE(selected_functions!$A$8,E360,C360)","v":"-5Megabytes"},"Megabytes",null,{"$f":"$E$24","v":-5},0,0,0,0,0,0]
[null,{"$f":"CONCATENATE(selected_functions!$A$8,E361,C361)","v":"-4Megabytes"},"Megabytes",null,{"$f":"$E$25","v":-4},0,0,0,0,0,0]
[null,{"$f":"CONCATENATE(selected_functions!$A$8,E362,C362)","v":"-3Megabytes"},"Megabytes",null,{"$f":"$E$26","v":-3},0,0,0,0,0,0]
[null,{"$f":"CONCATENATE(selected_functions!$A$8,E363,C363)","v":"-2Megabytes"},"Megabytes",null,{"$f":"$E$27","v":-2},0,0,0,0,0,0]
[null,{"$f":"CONCATENATE(selected_functions!$A$8,E364,C364)","v":"-1Megabytes"},"Megabytes",null,{"$f":"$E$28","v":-1},0,0,0,0,0,0]
[null,{"$f":"CONCATENATE(selected_functions!$A$8,E365,C365)","v":"0Megabytes"},"Megabytes",null,{"$f":"$E$29","v":0},0,0,0,0,0,0]
[null,{"$f":"CONCATENATE(selected_functions!$A$8,E366,C366)","v":"1Megabytes"},"Megabytes",null,{"$f":"$E$30","v":1},0,0,0,0,0,0]
[null,{"$f":"CONCATENATE(selected_functions!$A$8,E367,C367)","v":"2Megabytes"},"Megabytes",null,{"$f":"$E$31","v":2},0,0,0,0,0,0]
[null,{"$f":"CONCATENATE(selected_functions!$A$8,E368,C368)","v":"3Megabytes"},{"$f":"C367","v":"Megabytes"},null,{"$f":"$E$32","v":3},{"$f":"F347/1024","v":0},0,0,0,0,0]
[null,{"$f":"CONCATENATE(selected_functions!$A$8,E369,C369)","v":"-17Gigabytes"},{"$f":"input_lists!$G$13","v":"Gigabytes"},null,{"$f":"$E$12","v":-17},0,0,0,0,0,0]
[null,{"$f":"CONCATENATE(selected_functions!$A$8,E370,C370)","v":"-16Gigabytes"},{"$f":"C369","v":"Gigabytes"},null,{"$f":"$E$13","v":-16},0,0,0,0,0,0]
[null,{"$f":"CONCATENATE(selected_functions!$A$8,E371,C371)","v":"-15Gigabytes"},{"$f":"C370","v":"Gigabytes"},null,{"$f":"$E$14","v":-15},0,0,0,0,0,0]
[null,{"$f":"CONCATENATE(selected_functions!$A$8,E372,C372)","v":"-14Gigabytes"},"Gigabytes",null,{"$f":"$E$15","v":-14},0,0,0,0,0,0]
[null,{"$f":"CONCATENATE(selected_functions!$A$8,E373,C373)","v":"-13Gigabytes"},"Gigabytes",null,{"$f":"$E$16","v":-13},0,0,0,0,0,0]
[null,{"$f":"CONCATENATE(selected_functions!$A$8,E374,C374)","v":"-12Gigabytes"},"Gigabytes",null,{"$f":"$E$17","v":-12},0,0,0,0,0,0]
[null,{"$f":"CONCATENATE(selected_functions!$A$8,E375,C375)","v":"-11Gigabytes"},"Gigabytes",null,{"$f":"$E$18","v":-11},0,0,0,0,0,0]
[null,{"$f":"CONCATENATE(selected_functions!$A$8,E376,C376)","v":"-10Gigabytes"},"Gigabytes",null,{"$f":"$E$19","v":-10},0,0,0,0,0,0]
[null,{"$f":"CONCATENATE(selected_functions!$A$8,E377,C377)","v":"-9Gigabytes"},"Gigabytes",null,{"$f":"$E$20","v":-9},0,0,0,0,0,0]
[null,{"$f":"CONCATENATE(selected_functions!$A$8,E378,C378)","v":"-8Gigabytes"},"Gigabytes",null,{"$f":"$E$21","v":-8},{"$f":"F357/1024","v":0},0,0,0,0,0]
[null,{"$f":"CONCATENATE(selected_functions!$A$8,E379,C379)","v":"-7Gigabytes"},"Gigabytes",null,{"$f":"$E$22","v":-7},0,0,0,0,0,0]
[null,{"$f":"CONCATENATE(selected_functions!$A$8,E380,C380)","v":"-6Gigabytes"},"Gigabytes",null,{"$f":"$E$23","v":-6},0,0,0,0,0,0]
[null,{"$f":"CONCATENATE(selected_functions!$A$8,E381,C381)","v":"-5Gigabytes"},"Gigabytes",null,{"$f":"$E$24","v":-5},0,0,0,0,0,0]
[null,{"$f":"CONCATENATE(selected_functions!$A$8,E382,C382)","v":"-4Gigabytes"},"Gigabytes",null,{"$f":"$E$25","v":-4},0,0,0,0,0,0]
[null,{"$f":"CONCATENATE(selected_functions!$A$8,E383,C383)","v":"-3Gigabytes"},"Gigabytes",null,{"$f":"$E$26","v":-3},0,0,0,0,0,0]
[null,{"$f":"CONCATENATE(selected_functions!$A$8,E384,C384)","v":"-2Gigabytes"},"Gigabytes",null,{"$f":"$E$27","v":-2},0,0,0,0,0,0]
[null,{"$f":"CONCATENATE(selected_functions!$A$8,E385,C385)","v":"-1Gigabytes"},"Gigabytes",null,{"$f":"$E$28","v":-1},0,0,0,0,0,0]
[null,{"$f":"CONCATENATE(selected_functions!$A$8,E386,C386)","v":"0Gigabytes"},"Gigabytes",null,{"$f":"$E$29","v":0},0,0,0,0,0,0]
[null,{"$f":"CONCATENATE(selected_functions!$A$8,E387,C387)","v":"1Gigabytes"},"Gigabytes",null,{"$f":"$E$30","v":1},0,0,0,0,0,0]
[null,{"$f":"CONCATENATE(selected_functions!$A$8,E388,C388)","v":"2Gigabytes"},"Gigabytes",null,{"$f":"$E$31","v":2},{"$f":"F367/1024","v":0},0,0,0,0,0]
[null,{"$f":"CONCATENATE(selected_functions!$A$8,E389,C389)","v":"3Gigabytes"},"Gigabytes",null,{"$f":"$E$32","v":3},0,0,0,0,0,0]
[null,{"$f":"CONCATENATE(selected_functions!$A$8,E390,C390)","v":"-17Terabytes"},{"$f":"input_lists!$G$14","v":"Terabytes"},null,{"$f":"$E$12","v":-17},0,0,0,0,0,0]
[null,{"$f":"CONCATENATE(selected_functions!$A$8,E391,C391)","v":"-16Terabytes"},{"$f":"C390","v":"Terabytes"},null,{"$f":"$E$13","v":-16},0,0,0,0,0,0]
[null,{"$f":"CONCATENATE(selected_functions!$A$8,E392,C392)","v":"-15Terabytes"},{"$f":"C391","v":"Terabytes"},null,{"$f":"$E$14","v":-15},0,0,0,0,0,0]
[null,{"$f":"CONCATENATE(selected_functions!$A$8,E393,C393)","v":"-14Terabytes"},"Terabytes",null,{"$f":"$E$15","v":-14},0,0,0,0,0,0]
[null,{"$f":"CONCATENATE(selected_functions!$A$8,E394,C394)","v":"-13Terabytes"},"Terabytes",null,{"$f":"$E$16","v":-13},0,0,0,0,0,0]
[null,{"$f":"CONCATENATE(selected_functions!$A$8,E395,C395)","v":"-12Terabytes"},"Terabytes",null,{"$f":"$E$17","v":-12},0,0,0,0,0,0]
[null,{"$f":"CONCATENATE(selected_functions!$A$8,E396,C396)","v":"-11Terabytes"},"Terabytes",null,{"$f":"$E$18","v":-11},0,0,0,0,0,0]
[null,{"$f":"CONCATENATE(selected_functions!$A$8,E397,C397)","v":"-10Terabytes"},"Terabytes",null,{"$f":"$E$19","v":-10},0,0,0,0,0,0]
[null,{"$f":"CONCATENATE(selected_functions!$A$8,E398,C398)","v":"-9Terabytes"},"Terabytes",null,{"$f":"$E$20","v":-9},{"$f":"F377/1024","v":0},0,0,0,0,0]
[null,{"$f":"CONCATENATE(selected_functions!$A$8,E399,C399)","v":"-8Terabytes"},"Terabytes",null,{"$f":"$E$21","v":-8},0,0,0,0,0,0]
[null,{"$f":"CONCATENATE(selected_functions!$A$8,E400,C400)","v":"-7Terabytes"},"Terabytes",null,{"$f":"$E$22","v":-7},0,0,0,0,0,0]
[null,{"$f":"CONCATENATE(selected_functions!$A$8,E401,C401)","v":"-6Terabytes"},"Terabytes",null,{"$f":"$E$23","v":-6},0,0,0,0,0,0]
[null,{"$f":"CONCATENATE(selected_functions!$A$8,E402,C402)","v":"-5Terabytes"},"Terabytes",null,{"$f":"$E$24","v":-5},0,0,0,0,0,0]
[null,{"$f":"CONCATENATE(selected_functions!$A$8,E403,C403)","v":"-4Terabytes"},"Terabytes",null,{"$f":"$E$25","v":-4},0,0,0,0,0,0]
[null,{"$f":"CONCATENATE(selected_functions!$A$8,E404,C404)","v":"-3Terabytes"},"Terabytes",null,{"$f":"$E$26","v":-3},0,0,0,0,0,0]
[null,{"$f":"CONCATENATE(selected_functions!$A$8,E405,C405)","v":"-2Terabytes"},"Terabytes",null,{"$f":"$E$27","v":-2},0,0,0,0,0,0]
[null,{"$f":"CONCATENATE(selected_functions!$A$8,E406,C406)","v":"-1Terabytes"},"Terabytes",null,{"$f":"$E$28","v":-1},0,0,0,0,0,0]
[null,{"$f":"CONCATENATE(selected_functions!$A$8,E407,C407)","v":"0Terabytes"},"Terabytes",null,{"$f":"$E$29","v":0},0,0,0,0,0,0]
[null,{"$f":"CONCATENATE(selected_functions!$A$8,E408,C408)","v":"1Terabytes"},"Terabytes",null,{"$f":"$E$30","v":1},{"$f":"F387/1024","v":0},0,0,0,0,0]
[null,{"$f":"CONCATENATE(selected_functions!$A$8,E409,C409)","v":"2Terabytes"},"Terabytes",null,{"$f":"$E$31","v":2},0,0,0,0,0,0]
[null,{"$f":"CONCATENATE(selected_functions!$A$8,E410,C410)","v":"3Terabytes"},"Terabytes",null,{"$f":"$E$32","v":3},0,0,0,0,0,0]
[null,{"$f":"CONCATENATE(selected_functions!$A$8,E411,C411)","v":"-17Petabytes"},{"$f":"input_lists!$G$15","v":"Petabytes"},null,{"$f":"$E$12","v":-17},0,0,0,0,0,0]
[null,{"$f":"CONCATENATE(selected_functions!$A$8,E412,C412)","v":"-16Petabytes"},{"$f":"C411","v":"Petabytes"},null,{"$f":"$E$13","v":-16},0,0,0,0,0,0]
[null,{"$f":"CONCATENATE(selected_functions!$A$8,E413,C413)","v":"-15Petabytes"},{"$f":"C412","v":"Petabytes"},null,{"$f":"$E$14","v":-15},0,0,0,0,0,0]
[null,{"$f":"CONCATENATE(selected_functions!$A$8,E414,C414)","v":"-14Petabytes"},"Petabytes",null,{"$f":"$E$15","v":-14},0,0,0,0,0,0]
[null,{"$f":"CONCATENATE(selected_functions!$A$8,E415,C415)","v":"-13Petabytes"},"Petabytes",null,{"$f":"$E$16","v":-13},0,0,0,0,0,0]
[null,{"$f":"CONCATENATE(selected_functions!$A$8,E416,C416)","v":"-12Petabytes"},"Petabytes",null,{"$f":"$E$17","v":-12},0,0,0,0,0,0]
[null,{"$f":"CONCATENATE(selected_functions!$A$8,E417,C417)","v":"-11Petabytes"},"Petabytes",null,{"$f":"$E$18","v":-11},0,0,0,0,0,0]
[null,{"$f":"CONCATENATE(selected_functions!$A$8,E418,C418)","v":"-10Petabytes"},"Petabytes",null,{"$f":"$E$19","v":-10},{"$f":"F397/1024","v":0},0,0,0,0,0]
[null,{"$f":"CONCATENATE(selected_functions!$A$8,E419,C419)","v":"-9Petabytes"},"Petabytes",null,{"$f":"$E$20","v":-9},0,0,0,0,0,0]
[null,{"$f":"CONCATENATE(selected_functions!$A$8,E420,C420)","v":"-8Petabytes"},"Petabytes",null,{"$f":"$E$21","v":-8},0,0,0,0,0,0]
[null,{"$f":"CONCATENATE(selected_functions!$A$8,E421,C421)","v":"-7Petabytes"},"Petabytes",null,{"$f":"$E$22","v":-7},0,0,0,0,0,0]
[null,{"$f":"CONCATENATE(selected_functions!$A$8,E422,C422)","v":"-6Petabytes"},"Petabytes",null,{"$f":"$E$23","v":-6},0,0,0,0,0,0]
[null,{"$f":"CONCATENATE(selected_functions!$A$8,E423,C423)","v":"-5Petabytes"},"Petabytes",null,{"$f":"$E$24","v":-5},0,0,0,0,0,0]
[null,{"$f":"CONCATENATE(selected_functions!$A$8,E424,C424)","v":"-4Petabytes"},"Petabytes",null,{"$f":"$E$25","v":-4},0,0,0,0,0,0]
[null,{"$f":"CONCATENATE(selected_functions!$A$8,E425,C425)","v":"-3Petabytes"},"Petabytes",null,{"$f":"$E$26","v":-3},0,0,0,0,0,0]
[null,{"$f":"CONCATENATE(selected_functions!$A$8,E426,C426)","v":"-2Petabytes"},"Petabytes",null,{"$f":"$E$27","v":-2},0,0,0,0,0,0]
[null,{"$f":"CONCATENATE(selected_functions!$A$8,E427,C427)","v":"-1Petabytes"},"Petabytes",null,{"$f":"$E$28","v":-1},0,0,0,0,0,0]
[null,{"$f":"CONCATENATE(selected_functions!$A$8,E428,C428)","v":"0Petabytes"},"Petabytes",null,{"$f":"$E$29","v":0},{"$f":"F407/1024","v":0},0,0,0,0,0]
[null,{"$f":"CONCATENATE(selected_functions!$A$8,E429,C429)","v":"1Petabytes"},"Petabytes",null,{"$f":"$E$30","v":1},0,0,0,0,0,0]
[null,{"$f":"CONCATENATE(selected_functions!$A$8,E430,C430)","v":"2Petabytes"},"Petabytes",null,{"$f":"$E$31","v":2},0,0,0,0,0,0]
[null,{"$f":"CONCATENATE(selected_functions!$A$8,E431,C431)","v":"3Petabytes"},"Petabytes",null,{"$f":"$E$32","v":3},0,0,0,0,0,0]
[null,{"$f":"CONCATENATE(selected_functions!$A$9,E432,C432)","v":"-17Kilobytes"},{"$f":"input_lists!$G$11","v":"Kilobytes"},null,{"$f":"$E$12","v":-17},{"$f":"IF(AND(E432>=input_database!$D$9,E432<input_database!$C$9),input_database!$GC$9,\"0\")","v":"0"},{"$f":"IF(E432<input_database!$C$9,input_database!$GE$9,\"0\")","v":0},{"$f":"IFERROR(input_database!$GH$9,\"0\")","v":0},{"$f":"IF(E432=input_database!$C$9,input_database!$GG$9,\"0\")","v":"0"},{"$f":"IF(E432>=input_database!$C$9,(input_database!$GF$9+input_database!$GD$9),0)","v":0},{"$f":"SUM(F432:J432)","v":0}]
[null,{"$f":"CONCATENATE(selected_functions!$A$9,E433,C433)","v":"-16Kilobytes"},{"$f":"input_lists!$G$11","v":"Kilobytes"},null,{"$f":"$E$13","v":-16},{"$f":"IF(AND(E433>=input_database!$D$9,E433<input_database!$C$9),input_database!$GC$9,\"0\")","v":"0"},{"$f":"IF(E433<input_database!$C$9,input_database!$GE$9,\"0\")","v":0},{"$f":"IFERROR(input_database!$GH$9,\"0\")","v":0},{"$f":"IF(E433=input_database!$C$9,input_database!$GG$9,\"0\")","v":"0"},{"$f":"IF(E433>=input_database!$C$9,(input_database!$GF$9+input_database!$GD$9),0)","v":0},{"$f":"K432+SUM(F433:J433)","v":0}]
[null,{"$f":"CONCATENATE(selected_functions!$A$9,E434,C434)","v":"-15Kilobytes"},{"$f":"input_lists!$G$11","v":"Kilobytes"},null,{"$f":"$E$14","v":-15},{"$f":"IF(AND(E434>=input_database!$D$9,E434<input_database!$C$9),input_database!$GC$9,\"0\")","v":"0"},{"$f":"IF(E434<input_database!$C$9,input_database!$GE$9,\"0\")","v":0},{"$f":"IFERROR(input_database!$GH$9,\"0\")","v":0},{"$f":"IF(E434=input_database!$C$9,input_database!$GG$9,\"0\")","v":"0"},{"$f":"IF(E434>=input_database!$C$9,(input_database!$GF$9+input_database!$GD$9),0)","v":0},{"$f":"K433+SUM(F434:J434)","v":0}]
[null,{"$f":"CONCATENATE(selected_functions!$A$9,E435,C435)","v":"-14Kilobytes"},{"$f":"input_lists!$G$11","v":"Kilobytes"},null,{"$f":"$E$15","v":-14},{"$f":"IF(AND(E435>=input_database!$D$9,E435<input_database!$C$9),input_database!$GC$9,\"0\")","v":"0"},{"$f":"IF(E435<input_database!$C$9,input_database!$GE$9,\"0\")","v":0},{"$f":"IFERROR(input_database!$GH$9,\"0\")","v":0},{"$f":"IF(E435=input_database!$C$9,input_database!$GG$9,\"0\")","v":"0"},{"$f":"IF(E435>=input_database!$C$9,(input_database!$GF$9+input_database!$GD$9),0)","v":0},0]
[null,{"$f":"CONCATENATE(selected_functions!$A$9,E436,C436)","v":"-13Kilobytes"},{"$f":"input_lists!$G$11","v":"Kilobytes"},null,{"$f":"$E$16","v":-13},{"$f":"IF(AND(E436>=input_database!$D$9,E436<input_database!$C$9),input_database!$GC$9,\"0\")","v":"0"},{"$f":"IF(E436<input_database!$C$9,input_database!$GE$9,\"0\")","v":0},{"$f":"IFERROR(input_database!$GH$9,\"0\")","v":0},{"$f":"IF(E436=input_database!$C$9,input_database!$GG$9,\"0\")","v":"0"},{"$f":"IF(E436>=input_database!$C$9,(input_database!$GF$9+input_database!$GD$9),0)","v":0},0]
[null,{"$f":"CONCATENATE(selected_functions!$A$9,E437,C437)","v":"-12Kilobytes"},{"$f":"input_lists!$G$11","v":"Kilobytes"},null,{"$f":"$E$17","v":-12},{"$f":"IF(AND(E437>=input_database!$D$9,E437<input_database!$C$9),input_database!$GC$9,\"0\")","v":"0"},{"$f":"IF(E437<input_database!$C$9,input_database!$GE$9,\"0\")","v":0},{"$f":"IFERROR(input_database!$GH$9,\"0\")","v":0},{"$f":"IF(E437=input_database!$C$9,input_database!$GG$9,\"0\")","v":"0"},{"$f":"IF(E437>=input_database!$C$9,(input_database!$GF$9+input_database!$GD$9),0)","v":0},0]
[null,{"$f":"CONCATENATE(selected_functions!$A$9,E438,C438)","v":"-11Kilobytes"},{"$f":"input_lists!$G$11","v":"Kilobytes"},null,{"$f":"$E$18","v":-11},{"$f":"IF(AND(E438>=input_database!$D$9,E438<input_database!$C$9),input_database!$GC$9,\"0\")","v":"0"},{"$f":"IF(E438<input_database!$C$9,input_database!$GE$9,\"0\")","v":0},{"$f":"IFERROR(input_database!$GH$9,\"0\")","v":0},{"$f":"IF(E438=input_database!$C$9,input_database!$GG$9,\"0\")","v":"0"},{"$f":"IF(E438>=input_database!$C$9,(input_database!$GF$9+input_database!$GD$9),0)","v":0},0]
[null,{"$f":"CONCATENATE(selected_functions!$A$9,E439,C439)","v":"-10Kilobytes"},{"$f":"input_lists!$G$11","v":"Kilobytes"},null,{"$f":"$E$19","v":-10},{"$f":"IF(AND(E439>=input_database!$D$9,E439<input_database!$C$9),input_database!$GC$9,\"0\")","v":"0"},{"$f":"IF(E439<input_database!$C$9,input_database!$GE$9,\"0\")","v":0},{"$f":"IFERROR(input_database!$GH$9,\"0\")","v":0},{"$f":"IF(E439=input_database!$C$9,input_database!$GG$9,\"0\")","v":"0"},{"$f":"IF(E439>=input_database!$C$9,(input_database!$GF$9+input_database!$GD$9),0)","v":0},0]
[null,{"$f":"CONCATENATE(selected_functions!$A$9,E440,C440)","v":"-9Kilobytes"},{"$f":"input_lists!$G$11","v":"Kilobytes"},null,{"$f":"$E$20","v":-9},{"$f":"IF(AND(E440>=input_database!$D$9,E440<input_database!$C$9),input_database!$GC$9,\"0\")","v":"0"},{"$f":"IF(E440<input_database!$C$9,input_database!$GE$9,\"0\")","v":0},{"$f":"IFERROR(input_database!$GH$9,\"0\")","v":0},{"$f":"IF(E440=input_database!$C$9,input_database!$GG$9,\"0\")","v":"0"},{"$f":"IF(E440>=input_database!$C$9,(input_database!$GF$9+input_database!$GD$9),0)","v":0},0]
[null,{"$f":"CONCATENATE(selected_functions!$A$9,E441,C441)","v":"-8Kilobytes"},{"$f":"input_lists!$G$11","v":"Kilobytes"},null,{"$f":"$E$21","v":-8},{"$f":"IF(AND(E441>=input_database!$D$9,E441<input_database!$C$9),input_database!$GC$9,\"0\")","v":"0"},{"$f":"IF(E441<input_database!$C$9,input_database!$GE$9,\"0\")","v":0},{"$f":"IFERROR(input_database!$GH$9,\"0\")","v":0},{"$f":"IF(E441=input_database!$C$9,input_database!$GG$9,\"0\")","v":"0"},{"$f":"IF(E441>=input_database!$C$9,(input_database!$GF$9+input_database!$GD$9),0)","v":0},0]
[null,{"$f":"CONCATENATE(selected_functions!$A$9,E442,C442)","v":"-7Kilobytes"},{"$f":"input_lists!$G$11","v":"Kilobytes"},null,{"$f":"$E$22","v":-7},{"$f":"IF(AND(E442>=input_database!$D$9,E442<input_database!$C$9),input_database!$GC$9,\"0\")","v":"0"},{"$f":"IF(E442<input_database!$C$9,input_database!$GE$9,\"0\")","v":0},{"$f":"IFERROR(input_database!$GH$9,\"0\")","v":0},{"$f":"IF(E442=input_database!$C$9,input_database!$GG$9,\"0\")","v":"0"},{"$f":"IF(E442>=input_database!$C$9,(input_database!$GF$9+input_database!$GD$9),0)","v":0},0]
[null,{"$f":"CONCATENATE(selected_functions!$A$9,E443,C443)","v":"-6Kilobytes"},{"$f":"input_lists!$G$11","v":"Kilobytes"},null,{"$f":"$E$23","v":-6},{"$f":"IF(AND(E443>=input_database!$D$9,E443<input_database!$C$9),input_database!$GC$9,\"0\")","v":"0"},{"$f":"IF(E443<input_database!$C$9,input_database!$GE$9,\"0\")","v":0},{"$f":"IFERROR(input_database!$GH$9,\"0\")","v":0},{"$f":"IF(E443=input_database!$C$9,input_database!$GG$9,\"0\")","v":"0"},{"$f":"IF(E443>=input_database!$C$9,(input_database!$GF$9+input_database!$GD$9),0)","v":0},0]
[null,{"$f":"CONCATENATE(selected_functions!$A$9,E444,C444)","v":"-5Kilobytes"},{"$f":"input_lists!$G$11","v":"Kilobytes"},null,{"$f":"$E$24","v":-5},{"$f":"IF(AND(E444>=input_database!$D$9,E444<input_database!$C$9),input_database!$GC$9,\"0\")","v":"0"},{"$f":"IF(E444<input_database!$C$9,input_database!$GE$9,\"0\")","v":0},{"$f":"IFERROR(input_database!$GH$9,\"0\")","v":0},{"$f":"IF(E444=input_database!$C$9,input_database!$GG$9,\"0\")","v":"0"},{"$f":"IF(E444>=input_database!$C$9,(input_database!$GF$9+input_database!$GD$9),0)","v":0},0]
[null,{"$f":"CONCATENATE(selected_functions!$A$9,E445,C445)","v":"-4Kilobytes"},{"$f":"input_lists!$G$11","v":"Kilobytes"},null,{"$f":"$E$25","v":-4},{"$f":"IF(AND(E445>=input_database!$D$9,E445<input_database!$C$9),input_database!$GC$9,\"0\")","v":"0"},{"$f":"IF(E445<input_database!$C$9,input_database!$GE$9,\"0\")","v":0},{"$f":"IFERROR(input_database!$GH$9,\"0\")","v":0},{"$f":"IF(E445=input_database!$C$9,input_database!$GG$9,\"0\")","v":"0"},{"$f":"IF(E445>=input_database!$C$9,(input_database!$GF$9+input_database!$GD$9),0)","v":0},0]
[null,{"$f":"CONCATENATE(selected_functions!$A$9,E446,C446)","v":"-3Kilobytes"},{"$f":"input_lists!$G$11","v":"Kilobytes"},null,{"$f":"$E$26","v":-3},{"$f":"IF(AND(E446>=input_database!$D$9,E446<input_database!$C$9),input_database!$GC$9,\"0\")","v":"0"},{"$f":"IF(E446<input_database!$C$9,input_database!$GE$9,\"0\")","v":0},{"$f":"IFERROR(input_database!$GH$9,\"0\")","v":0},{"$f":"IF(E446=input_database!$C$9,input_database!$GG$9,\"0\")","v":"0"},{"$f":"IF(E446>=input_database!$C$9,(input_database!$GF$9+input_database!$GD$9),0)","v":0},0]
[null,{"$f":"CONCATENATE(selected_functions!$A$9,E447,C447)","v":"-2Kilobytes"},{"$f":"input_lists!$G$11","v":"Kilobytes"},null,{"$f":"$E$27","v":-2},{"$f":"IF(AND(E447>=input_database!$D$9,E447<input_database!$C$9),input_database!$GC$9,\"0\")","v":"0"},{"$f":"IF(E447<input_database!$C$9,input_database!$GE$9,\"0\")","v":0},{"$f":"IFERROR(input_database!$GH$9,\"0\")","v":0},{"$f":"IF(E447=input_database!$C$9,input_database!$GG$9,\"0\")","v":"0"},{"$f":"IF(E447>=input_database!$C$9,(input_database!$GF$9+input_database!$GD$9),0)","v":0},0]
[null,{"$f":"CONCATENATE(selected_functions!$A$9,E448,C448)","v":"-1Kilobytes"},{"$f":"input_lists!$G$11","v":"Kilobytes"},null,{"$f":"$E$28","v":-1},{"$f":"IF(AND(E448>=input_database!$D$9,E448<input_database!$C$9),input_database!$GC$9,\"0\")","v":"0"},{"$f":"IF(E448<input_database!$C$9,input_database!$GE$9,\"0\")","v":0},{"$f":"IFERROR(input_database!$GH$9,\"0\")","v":0},{"$f":"IF(E448=input_database!$C$9,input_database!$GG$9,\"0\")","v":"0"},{"$f":"IF(E448>=input_database!$C$9,(input_database!$GF$9+input_database!$GD$9),0)","v":0},0]
[null,{"$f":"CONCATENATE(selected_functions!$A$9,E449,C449)","v":"0Kilobytes"},{"$f":"input_lists!$G$11","v":"Kilobytes"},null,{"$f":"$E$29","v":0},{"$f":"IF(AND(E449>=input_database!$D$9,E449<input_database!$C$9),input_database!$GC$9,\"0\")","v":"0"},{"$f":"IF(E449<input_database!$C$9,input_database!$GE$9,\"0\")","v":"0"},{"$f":"IFERROR(input_database!$GH$9,\"0\")","v":0},{"$f":"IF(E449=input_database!$C$9,input_database!$GG$9,\"0\")","v":0},{"$f":"IF(E449>=input_database!$C$9,(input_database!$GF$9+input_database!$GD$9),0)","v":0},0]
[null,{"$f":"CONCATENATE(selected_functions!$A$9,E450,C450)","v":"1Kilobytes"},{"$f":"input_lists!$G$11","v":"Kilobytes"},null,{"$f":"$E$30","v":1},{"$f":"IF(AND(E450>=input_database!$D$9,E450<input_database!$C$9),input_database!$GC$9,\"0\")","v":"0"},{"$f":"IF(E450<input_database!$C$9,input_database!$GE$9,\"0\")","v":"0"},{"$f":"IFERROR(input_database!$GH$9,\"0\")","v":0},{"$f":"IF(E450=input_database!$C$9,input_database!$GG$9,\"0\")","v":"0"},{"$f":"IF(E450>=input_database!$C$9,(input_database!$GF$9+input_database!$GD$9),0)","v":0},0]
[null,{"$f":"CONCATENATE(selected_functions!$A$9,E451,C451)","v":"2Kilobytes"},{"$f":"input_lists!$G$11","v":"Kilobytes"},null,{"$f":"$E$31","v":2},{"$f":"IF(AND(E451>=input_database!$D$9,E451<input_database!$C$9),input_database!$GC$9,\"0\")","v":"0"},{"$f":"IF(E451<input_database!$C$9,input_database!$GE$9,\"0\")","v":"0"},{"$f":"IFERROR(input_database!$GH$9,\"0\")","v":0},{"$f":"IF(E451=input_database!$C$9,input_database!$GG$9,\"0\")","v":"0"},{"$f":"IF(E451>=input_database!$C$9,(input_database!$GF$9+input_database!$GD$9),0)","v":0},0]
[null,{"$f":"CONCATENATE(selected_functions!$A$9,E452,C452)","v":"3Kilobytes"},{"$f":"input_lists!$G$11","v":"Kilobytes"},null,{"$f":"$E$32","v":3},{"$f":"IF(AND(E452>=input_database!$D$9,E452<input_database!$C$9),input_database!$GC$9,\"0\")","v":"0"},{"$f":"IF(E452<input_database!$C$9,input_database!$GE$9,\"0\")","v":"0"},{"$f":"IFERROR(input_database!$GH$9,\"0\")","v":0},{"$f":"IF(E452=input_database!$C$9,input_database!$GG$9,\"0\")","v":"0"},{"$f":"IF(E452>=input_database!$C$9,(input_database!$GF$9+input_database!$GD$9),0)","v":0},0]
[null,{"$f":"CONCATENATE(selected_functions!$A$9,E453,C453)","v":"-17Megabytes"},{"$f":"input_lists!$G$12","v":"Megabytes"},null,{"$f":"$E$12","v":-17},{"$f":"F432/1024","v":0},0,0,0,0,0]
[null,{"$f":"CONCATENATE(selected_functions!$A$9,E454,C454)","v":"-16Megabytes"},{"$f":"C453","v":"Megabytes"},null,{"$f":"$E$13","v":-16},0,0,0,0,0,0]
[null,{"$f":"CONCATENATE(selected_functions!$A$9,E455,C455)","v":"-15Megabytes"},{"$f":"C454","v":"Megabytes"},null,{"$f":"$E$14","v":-15},0,0,0,0,0,0]
[null,{"$f":"CONCATENATE(selected_functions!$A$9,E456,C456)","v":"-14Megabytes"},"Megabytes",null,{"$f":"$E$15","v":-14},0,0,0,0,0,0]
[null,{"$f":"CONCATENATE(selected_functions!$A$9,E457,C457)","v":"-13Megabytes"},"Megabytes",null,{"$f":"$E$16","v":-13},0,0,0,0,0,0]
[null,{"$f":"CONCATENATE(selected_functions!$A$9,E458,C458)","v":"-12Megabytes"},"Megabytes",null,{"$f":"$E$17","v":-12},0,0,0,0,0,0]
[null,{"$f":"CONCATENATE(selected_functions!$A$9,E459,C459)","v":"-11Megabytes"},"Megabytes",null,{"$f":"$E$18","v":-11},0,0,0,0,0,0]
[null,{"$f":"CONCATENATE(selected_functions!$A$9,E460,C460)","v":"-10Megabytes"},"Megabytes",null,{"$f":"$E$19","v":-10},0,0,0,0,0,0]
[null,{"$f":"CONCATENATE(selected_functions!$A$9,E461,C461)","v":"-9Megabytes"},"Megabytes",null,{"$f":"$E$20","v":-9},0,0,0,0,0,0]
[null,{"$f":"CONCATENATE(selected_functions!$A$9,E462,C462)","v":"-8Megabytes"},"Megabytes",null,{"$f":"$E$21","v":-8},0,0,0,0,0,0]
[null,{"$f":"CONCATENATE(selected_functions!$A$9,E463,C463)","v":"-7Megabytes"},"Megabytes",null,{"$f":"$E$22","v":-7},{"$f":"F442/1024","v":0},0,0,0,0,0]
[null,{"$f":"CONCATENATE(selected_functions!$A$9,E464,C464)","v":"-6Megabytes"},"Megabytes",null,{"$f":"$E$23","v":-6},0,0,0,0,0,0]
[null,{"$f":"CONCATENATE(selected_functions!$A$9,E465,C465)","v":"-5Megabytes"},"Megabytes",null,{"$f":"$E$24","v":-5},0,0,0,0,0,0]
[null,{"$f":"CONCATENATE(selected_functions!$A$9,E466,C466)","v":"-4Megabytes"},"Megabytes",null,{"$f":"$E$25","v":-4},0,0,0,0,0,0]
[null,{"$f":"CONCATENATE(selected_functions!$A$9,E467,C467)","v":"-3Megabytes"},"Megabytes",null,{"$f":"$E$26","v":-3},0,0,0,0,0,0]
[null,{"$f":"CONCATENATE(selected_functions!$A$9,E468,C468)","v":"-2Megabytes"},"Megabytes",null,{"$f":"$E$27","v":-2},0,0,0,0,0,0]
[null,{"$f":"CONCATENATE(selected_functions!$A$9,E469,C469)","v":"-1Megabytes"},"Megabytes",null,{"$f":"$E$28","v":-1},0,0,0,0,0,0]
[null,{"$f":"CONCATENATE(selected_functions!$A$9,E470,C470)","v":"0Megabytes"},"Megabytes",null,{"$f":"$E$29","v":0},0,0,0,0,0,0]
[null,{"$f":"CONCATENATE(selected_functions!$A$9,E471,C471)","v":"1Megabytes"},"Megabytes",null,{"$f":"$E$30","v":1},0,0,0,0,0,0]
[null,{"$f":"CONCATENATE(selected_functions!$A$9,E472,C472)","v":"2Megabytes"},"Megabytes",null,{"$f":"$E$31","v":2},0,0,0,0,0,0]
[null,{"$f":"CONCATENATE(selected_functions!$A$9,E473,C473)","v":"3Megabytes"},{"$f":"C472","v":"Megabytes"},null,{"$f":"$E$32","v":3},{"$f":"F452/1024","v":0},0,0,0,0,0]
[null,{"$f":"CONCATENATE(selected_functions!$A$9,E474,C474)","v":"-17Gigabytes"},{"$f":"input_lists!$G$13","v":"Gigabytes"},null,{"$f":"$E$12","v":-17},0,0,0,0,0,0]
[null,{"$f":"CONCATENATE(selected_functions!$A$9,E475,C475)","v":"-16Gigabytes"},{"$f":"C474","v":"Gigabytes"},null,{"$f":"$E$13","v":-16},0,0,0,0,0,0]
[null,{"$f":"CONCATENATE(selected_functions!$A$9,E476,C476)","v":"-15Gigabytes"},{"$f":"C475","v":"Gigabytes"},null,{"$f":"$E$14","v":-15},0,0,0,0,0,0]
[null,{"$f":"CONCATENATE(selected_functions!$A$9,E477,C477)","v":"-14Gigabytes"},"Gigabytes",null,{"$f":"$E$15","v":-14},0,0,0,0,0,0]
[null,{"$f":"CONCATENATE(selected_functions!$A$9,E478,C478)","v":"-13Gigabytes"},"Gigabytes",null,{"$f":"$E$16","v":-13},0,0,0,0,0,0]
[null,{"$f":"CONCATENATE(selected_functions!$A$9,E479,C479)","v":"-12Gigabytes"},"Gigabytes",null,{"$f":"$E$17","v":-12},0,0,0,0,0,0]
[null,{"$f":"CONCATENATE(selected_functions!$A$9,E480,C480)","v":"-11Gigabytes"},"Gigabytes",null,{"$f":"$E$18","v":-11},0,0,0,0,0,0]
[null,{"$f":"CONCATENATE(selected_functions!$A$9,E481,C481)","v":"-10Gigabytes"},"Gigabytes",null,{"$f":"$E$19","v":-10},0,0,0,0,0,0]
[null,{"$f":"CONCATENATE(selected_functions!$A$9,E482,C482)","v":"-9Gigabytes"},"Gigabytes",null,{"$f":"$E$20","v":-9},0,0,0,0,0,0]
[null,{"$f":"CONCATENATE(selected_functions!$A$9,E483,C483)","v":"-8Gigabytes"},"Gigabytes",null,{"$f":"$E$21","v":-8},{"$f":"F462/1024","v":0},0,0,0,0,0]
[null,{"$f":"CONCATENATE(selected_functions!$A$9,E484,C484)","v":"-7Gigabytes"},"Gigabytes",null,{"$f":"$E$22","v":-7},0,0,0,0,0,0]
[null,{"$f":"CONCATENATE(selected_functions!$A$9,E485,C485)","v":"-6Gigabytes"},"Gigabytes",null,{"$f":"$E$23","v":-6},0,0,0,0,0,0]
[null,{"$f":"CONCATENATE(selected_functions!$A$9,E486,C486)","v":"-5Gigabytes"},"Gigabytes",null,{"$f":"$E$24","v":-5},0,0,0,0,0,0]
[null,{"$f":"CONCATENATE(selected_functions!$A$9,E487,C487)","v":"-4Gigabytes"},"Gigabytes",null,{"$f":"$E$25","v":-4},0,0,0,0,0,0]
[null,{"$f":"CONCATENATE(selected_functions!$A$9,E488,C488)","v":"-3Gigabytes"},"Gigabytes",null,{"$f":"$E$26","v":-3},0,0,0,0,0,0]
[null,{"$f":"CONCATENATE(selected_functions!$A$9,E489,C489)","v":"-2Gigabytes"},"Gigabytes",null,{"$f":"$E$27","v":-2},0,0,0,0,0,0]
[null,{"$f":"CONCATENATE(selected_functions!$A$9,E490,C490)","v":"-1Gigabytes"},"Gigabytes",null,{"$f":"$E$28","v":-1},0,0,0,0,0,0]
[null,{"$f":"CONCATENATE(selected_functions!$A$9,E491,C491)","v":"0Gigabytes"},"Gigabytes",null,{"$f":"$E$29","v":0},0,0,0,0,0,0]
[null,{"$f":"CONCATENATE(selected_functions!$A$9,E492,C492)","v":"1Gigabytes"},"Gigabytes",null,{"$f":"$E$30","v":1},0,0,0,0,0,0]
[null,{"$f":"CONCATENATE(selected_functions!$A$9,E493,C493)","v":"2Gigabytes"},"Gigabytes",null,{"$f":"$E$31","v":2},{"$f":"F472/1024","v":0},0,0,0,0,0]
[null,{"$f":"CONCATENATE(selected_functions!$A$9,E494,C494)","v":"3Gigabytes"},"Gigabytes",null,{"$f":"$E$32","v":3},0,0,0,0,0,0]
[null,{"$f":"CONCATENATE(selected_functions!$A$9,E495,C495)","v":"-17Terabytes"},{"$f":"input_lists!$G$14","v":"Terabytes"},null,{"$f":"$E$12","v":-17},0,0,0,0,0,0]
[null,{"$f":"CONCATENATE(selected_functions!$A$9,E496,C496)","v":"-16Terabytes"},{"$f":"C495","v":"Terabytes"},null,{"$f":"$E$13","v":-16},0,0,0,0,0,0]
[null,{"$f":"CONCATENATE(selected_functions!$A$9,E497,C497)","v":"-15Terabytes"},{"$f":"C496","v":"Terabytes"},null,{"$f":"$E$14","v":-15},0,0,0,0,0,0]
[null,{"$f":"CONCATENATE(selected_functions!$A$9,E498,C498)","v":"-14Terabytes"},"Terabytes",null,{"$f":"$E$15","v":-14},0,0,0,0,0,0]
[null,{"$f":"CONCATENATE(selected_functions!$A$9,E499,C499)","v":"-13Terabytes"},"Terabytes",null,{"$f":"$E$16","v":-13},0,0,0,0,0,0]
[null,{"$f":"CONCATENATE(selected_functions!$A$9,E500,C500)","v":"-12Terabytes"},"Terabytes",null,{"$f":"$E$17","v":-12},0,0,0,0,0,0]
[null,{"$f":"CONCATENATE(selected_functions!$A$9,E501,C501)","v":"-11Terabytes"},"Terabytes",null,{"$f":"$E$18","v":-11},0,0,0,0,0,0]
[null,{"$f":"CONCATENATE(selected_functions!$A$9,E502,C502)","v":"-10Terabytes"},"Terabytes",null,{"$f":"$E$19","v":-10},0,0,0,0,0,0]
[null,{"$f":"CONCATENATE(selected_functions!$A$9,E503,C503)","v":"-9Terabytes"},"Terabytes",null,{"$f":"$E$20","v":-9},{"$f":"F482/1024","v":0},0,0,0,0,0]
[null,{"$f":"CONCATENATE(selected_functions!$A$9,E504,C504)","v":"-8Terabytes"},"Terabytes",null,{"$f":"$E$21","v":-8},0,0,0,0,0,0]
[null,{"$f":"CONCATENATE(selected_functions!$A$9,E505,C505)","v":"-7Terabytes"},"Terabytes",null,{"$f":"$E$22","v":-7},0,0,0,0,0,0]
[null,{"$f":"CONCATENATE(selected_functions!$A$9,E506,C506)","v":"-6Terabytes"},"Terabytes",null,{"$f":"$E$23","v":-6},0,0,0,0,0,0]
[null,{"$f":"CONCATENATE(selected_functions!$A$9,E507,C507)","v":"-5Terabytes"},"Terabytes",null,{"$f":"$E$24","v":-5},0,0,0,0,0,0]
[null,{"$f":"CONCATENATE(selected_functions!$A$9,E508,C508)","v":"-4Terabytes"},"Terabytes",null,{"$f":"$E$25","v":-4},0,0,0,0,0,0]
[null,{"$f":"CONCATENATE(selected_functions!$A$9,E509,C509)","v":"-3Terabytes"},"Terabytes",null,{"$f":"$E$26","v":-3},0,0,0,0,0,0]
[null,{"$f":"CONCATENATE(selected_functions!$A$9,E510,C510)","v":"-2Terabytes"},"Terabytes",null,{"$f":"$E$27","v":-2},0,0,0,0,0,0]
[null,{"$f":"CONCATENATE(selected_functions!$A$9,E511,C511)","v":"-1Terabytes"},"Terabytes",null,{"$f":"$E$28","v":-1},0,0,0,0,0,0]
[null,{"$f":"CONCATENATE(selected_functions!$A$9,E512,C512)","v":"0Terabytes"},"Terabytes",null,{"$f":"$E$29","v":0},0,0,0,0,0,0]
[null,{"$f":"CONCATENATE(selected_functions!$A$9,E513,C513)","v":"1Terabytes"},"Terabytes",null,{"$f":"$E$30","v":1},{"$f":"F492/1024","v":0},0,0,0,0,0]
[null,{"$f":"CONCATENATE(selected_functions!$A$9,E514,C514)","v":"2Terabytes"},"Terabytes",null,{"$f":"$E$31","v":2},0,0,0,0,0,0]
[null,{"$f":"CONCATENATE(selected_functions!$A$9,E515,C515)","v":"3Terabytes"},"Terabytes",null,{"$f":"$E$32","v":3},0,0,0,0,0,0]
[null,{"$f":"CONCATENATE(selected_functions!$A$9,E516,C516)","v":"-17Petabytes"},{"$f":"input_lists!$G$15","v":"Petabytes"},null,{"$f":"$E$12","v":-17},0,0,0,0,0,0]
[null,{"$f":"CONCATENATE(selected_functions!$A$9,E517,C517)","v":"-16Petabytes"},{"$f":"C516","v":"Petabytes"},null,{"$f":"$E$13","v":-16},0,0,0,0,0,0]
[null,{"$f":"CONCATENATE(selected_functions!$A$9,E518,C518)","v":"-15Petabytes"},{"$f":"C517","v":"Petabytes"},null,{"$f":"$E$14","v":-15},0,0,0,0,0,0]
[null,{"$f":"CONCATENATE(selected_functions!$A$9,E519,C519)","v":"-14Petabytes"},"Petabytes",null,{"$f":"$E$15","v":-14},0,0,0,0,0,0]
[null,{"$f":"CONCATENATE(selected_functions!$A$9,E520,C520)","v":"-13Petabytes"},"Petabytes",null,{"$f":"$E$16","v":-13},0,0,0,0,0,0]
[null,{"$f":"CONCATENATE(selected_functions!$A$9,E521,C521)","v":"-12Petabytes"},"Petabytes",null,{"$f":"$E$17","v":-12},0,0,0,0,0,0]
[null,{"$f":"CONCATENATE(selected_functions!$A$9,E522,C522)","v":"-11Petabytes"},"Petabytes",null,{"$f":"$E$18","v":-11},0,0,0,0,0,0]
[null,{"$f":"CONCATENATE(selected_functions!$A$9,E523,C523)","v":"-10Petabytes"},"Petabytes",null,{"$f":"$E$19","v":-10},{"$f":"F502/1024","v":0},0,0,0,0,0]
[null,{"$f":"CONCATENATE(selected_functions!$A$9,E524,C524)","v":"-9Petabytes"},"Petabytes",null,{"$f":"$E$20","v":-9},0,0,0,0,0,0]
[null,{"$f":"CONCATENATE(selected_functions!$A$9,E525,C525)","v":"-8Petabytes"},"Petabytes",null,{"$f":"$E$21","v":-8},0,0,0,0,0,0]
[null,{"$f":"CONCATENATE(selected_functions!$A$9,E526,C526)","v":"-7Petabytes"},"Petabytes",null,{"$f":"$E$22","v":-7},0,0,0,0,0,0]
[null,{"$f":"CONCATENATE(selected_functions!$A$9,E527,C527)","v":"-6Petabytes"},"Petabytes",null,{"$f":"$E$23","v":-6},0,0,0,0,0,0]
[null,{"$f":"CONCATENATE(selected_functions!$A$9,E528,C528)","v":"-5Petabytes"},"Petabytes",null,{"$f":"$E$24","v":-5},0,0,0,0,0,0]
[null,{"$f":"CONCATENATE(selected_functions!$A$9,E529,C529)","v":"-4Petabytes"},"Petabytes",null,{"$f":"$E$25","v":-4},0,0,0,0,0,0]
[null,{"$f":"CONCATENATE(selected_functions!$A$9,E530,C530)","v":"-3Petabytes"},"Petabytes",null,{"$f":"$E$26","v":-3},0,0,0,0,0,0]
[null,{"$f":"CONCATENATE(selected_functions!$A$9,E531,C531)","v":"-2Petabytes"},"Petabytes",null,{"$f":"$E$27","v":-2},0,0,0,0,0,0]
[null,{"$f":"CONCATENATE(selected_functions!$A$9,E532,C532)","v":"-1Petabytes"},"Petabytes",null,{"$f":"$E$28","v":-1},0,0,0,0,0,0]
[null,{"$f":"CONCATENATE(selected_functions!$A$9,E533,C533)","v":"0Petabytes"},"Petabytes",null,{"$f":"$E$29","v":0},{"$f":"F512/1024","v":0},0,0,0,0,0]
[null,{"$f":"CONCATENATE(selected_functions!$A$9,E534,C534)","v":"1Petabytes"},"Petabytes",null,{"$f":"$E$30","v":1},0,0,0,0,0,0]
[null,{"$f":"CONCATENATE(selected_functions!$A$9,E535,C535)","v":"2Petabytes"},"Petabytes",null,{"$f":"$E$31","v":2},0,0,0,0,0,0]
[null,{"$f":"CONCATENATE(selected_functions!$A$9,E536,C536)","v":"3Petabytes"},"Petabytes",null,{"$f":"$E$32","v":3},0,0,0,0,0,0]
[null,{"$f":"CONCATENATE(selected_functions!$A$10,E537,C537)","v":"-17Kilobytes"},{"$f":"input_lists!$G$11","v":"Kilobytes"},null,{"$f":"$E$12","v":-17},{"$f":"IF(AND(E537>=input_database!$D$10,E537<input_database!$C$10),input_database!$GC$10,\"0\")","v":"0"},{"$f":"IF(E537<input_database!$C$10,input_database!$GE$10,\"0\")","v":0},{"$f":"IFERROR(input_database!$GH$10,\"0\")","v":0},{"$f":"IF(E537=input_database!$C$10,input_database!$GG$10,\"0\")","v":"0"},{"$f":"IF(E537>=input_database!$C$10,(input_database!$GF$10+input_database!$GD$10),0)","v":0},{"$f":"SUM(F537:J537)","v":0}]
[null,{"$f":"CONCATENATE(selected_functions!$A$10,E538,C538)","v":"-16Kilobytes"},{"$f":"input_lists!$G$11","v":"Kilobytes"},null,{"$f":"$E$13","v":-16},{"$f":"IF(AND(E538>=input_database!$D$10,E538<input_database!$C$10),input_database!$GC$10,\"0\")","v":"0"},{"$f":"IF(E538<input_database!$C$10,input_database!$GE$10,\"0\")","v":0},{"$f":"IFERROR(input_database!$GH$10,\"0\")","v":0},{"$f":"IF(E538=input_database!$C$10,input_database!$GG$10,\"0\")","v":"0"},{"$f":"IF(E538>=input_database!$C$10,(input_database!$GF$10+input_database!$GD$10),0)","v":0},{"$f":"K537+SUM(F538:J538)","v":0}]
[null,{"$f":"CONCATENATE(selected_functions!$A$10,E539,C539)","v":"-15Kilobytes"},{"$f":"input_lists!$G$11","v":"Kilobytes"},null,{"$f":"$E$14","v":-15},{"$f":"IF(AND(E539>=input_database!$D$10,E539<input_database!$C$10),input_database!$GC$10,\"0\")","v":"0"},{"$f":"IF(E539<input_database!$C$10,input_database!$GE$10,\"0\")","v":0},{"$f":"IFERROR(input_database!$GH$10,\"0\")","v":0},{"$f":"IF(E539=input_database!$C$10,input_database!$GG$10,\"0\")","v":"0"},{"$f":"IF(E539>=input_database!$C$10,(input_database!$GF$10+input_database!$GD$10),0)","v":0},{"$f":"K538+SUM(F539:J539)","v":0}]
[null,{"$f":"CONCATENATE(selected_functions!$A$10,E540,C540)","v":"-14Kilobytes"},{"$f":"input_lists!$G$11","v":"Kilobytes"},null,{"$f":"$E$15","v":-14},{"$f":"IF(AND(E540>=input_database!$D$10,E540<input_database!$C$10),input_database!$GC$10,\"0\")","v":"0"},{"$f":"IF(E540<input_database!$C$10,input_database!$GE$10,\"0\")","v":0},{"$f":"IFERROR(input_database!$GH$10,\"0\")","v":0},{"$f":"IF(E540=input_database!$C$10,input_database!$GG$10,\"0\")","v":"0"},{"$f":"IF(E540>=input_database!$C$10,(input_database!$GF$10+input_database!$GD$10),0)","v":0},0]
[null,{"$f":"CONCATENATE(selected_functions!$A$10,E541,C541)","v":"-13Kilobytes"},{"$f":"input_lists!$G$11","v":"Kilobytes"},null,{"$f":"$E$16","v":-13},{"$f":"IF(AND(E541>=input_database!$D$10,E541<input_database!$C$10),input_database!$GC$10,\"0\")","v":"0"},{"$f":"IF(E541<input_database!$C$10,input_database!$GE$10,\"0\")","v":0},{"$f":"IFERROR(input_database!$GH$10,\"0\")","v":0},{"$f":"IF(E541=input_database!$C$10,input_database!$GG$10,\"0\")","v":"0"},{"$f":"IF(E541>=input_database!$C$10,(input_database!$GF$10+input_database!$GD$10),0)","v":0},0]
[null,{"$f":"CONCATENATE(selected_functions!$A$10,E542,C542)","v":"-12Kilobytes"},{"$f":"input_lists!$G$11","v":"Kilobytes"},null,{"$f":"$E$17","v":-12},{"$f":"IF(AND(E542>=input_database!$D$10,E542<input_database!$C$10),input_database!$GC$10,\"0\")","v":"0"},{"$f":"IF(E542<input_database!$C$10,input_database!$GE$10,\"0\")","v":0},{"$f":"IFERROR(input_database!$GH$10,\"0\")","v":0},{"$f":"IF(E542=input_database!$C$10,input_database!$GG$10,\"0\")","v":"0"},{"$f":"IF(E542>=input_database!$C$10,(input_database!$GF$10+input_database!$GD$10),0)","v":0},0]
[null,{"$f":"CONCATENATE(selected_functions!$A$10,E543,C543)","v":"-11Kilobytes"},{"$f":"input_lists!$G$11","v":"Kilobytes"},null,{"$f":"$E$18","v":-11},{"$f":"IF(AND(E543>=input_database!$D$10,E543<input_database!$C$10),input_database!$GC$10,\"0\")","v":"0"},{"$f":"IF(E543<input_database!$C$10,input_database!$GE$10,\"0\")","v":0},{"$f":"IFERROR(input_database!$GH$10,\"0\")","v":0},{"$f":"IF(E543=input_database!$C$10,input_database!$GG$10,\"0\")","v":"0"},{"$f":"IF(E543>=input_database!$C$10,(input_database!$GF$10+input_database!$GD$10),0)","v":0},0]
[null,{"$f":"CONCATENATE(selected_functions!$A$10,E544,C544)","v":"-10Kilobytes"},{"$f":"input_lists!$G$11","v":"Kilobytes"},null,{"$f":"$E$19","v":-10},{"$f":"IF(AND(E544>=input_database!$D$10,E544<input_database!$C$10),input_database!$GC$10,\"0\")","v":"0"},{"$f":"IF(E544<input_database!$C$10,input_database!$GE$10,\"0\")","v":0},{"$f":"IFERROR(input_database!$GH$10,\"0\")","v":0},{"$f":"IF(E544=input_database!$C$10,input_database!$GG$10,\"0\")","v":"0"},{"$f":"IF(E544>=input_database!$C$10,(input_database!$GF$10+input_database!$GD$10),0)","v":0},0]
[null,{"$f":"CONCATENATE(selected_functions!$A$10,E545,C545)","v":"-9Kilobytes"},{"$f":"input_lists!$G$11","v":"Kilobytes"},null,{"$f":"$E$20","v":-9},{"$f":"IF(AND(E545>=input_database!$D$10,E545<input_database!$C$10),input_database!$GC$10,\"0\")","v":"0"},{"$f":"IF(E545<input_database!$C$10,input_database!$GE$10,\"0\")","v":0},{"$f":"IFERROR(input_database!$GH$10,\"0\")","v":0},{"$f":"IF(E545=input_database!$C$10,input_database!$GG$10,\"0\")","v":"0"},{"$f":"IF(E545>=input_database!$C$10,(input_database!$GF$10+input_database!$GD$10),0)","v":0},0]
[null,{"$f":"CONCATENATE(selected_functions!$A$10,E546,C546)","v":"-8Kilobytes"},{"$f":"input_lists!$G$11","v":"Kilobytes"},null,{"$f":"$E$21","v":-8},{"$f":"IF(AND(E546>=input_database!$D$10,E546<input_database!$C$10),input_database!$GC$10,\"0\")","v":"0"},{"$f":"IF(E546<input_database!$C$10,input_database!$GE$10,\"0\")","v":0},{"$f":"IFERROR(input_database!$GH$10,\"0\")","v":0},{"$f":"IF(E546=input_database!$C$10,input_database!$GG$10,\"0\")","v":"0"},{"$f":"IF(E546>=input_database!$C$10,(input_database!$GF$10+input_database!$GD$10),0)","v":0},0]
[null,{"$f":"CONCATENATE(selected_functions!$A$10,E547,C547)","v":"-7Kilobytes"},{"$f":"input_lists!$G$11","v":"Kilobytes"},null,{"$f":"$E$22","v":-7},{"$f":"IF(AND(E547>=input_database!$D$10,E547<input_database!$C$10),input_database!$GC$10,\"0\")","v":"0"},{"$f":"IF(E547<input_database!$C$10,input_database!$GE$10,\"0\")","v":0},{"$f":"IFERROR(input_database!$GH$10,\"0\")","v":0},{"$f":"IF(E547=input_database!$C$10,input_database!$GG$10,\"0\")","v":"0"},{"$f":"IF(E547>=input_database!$C$10,(input_database!$GF$10+input_database!$GD$10),0)","v":0},0]
[null,{"$f":"CONCATENATE(selected_functions!$A$10,E548,C548)","v":"-6Kilobytes"},{"$f":"input_lists!$G$11","v":"Kilobytes"},null,{"$f":"$E$23","v":-6},{"$f":"IF(AND(E548>=input_database!$D$10,E548<input_database!$C$10),input_database!$GC$10,\"0\")","v":"0"},{"$f":"IF(E548<input_database!$C$10,input_database!$GE$10,\"0\")","v":0},{"$f":"IFERROR(input_database!$GH$10,\"0\")","v":0},{"$f":"IF(E548=input_database!$C$10,input_database!$GG$10,\"0\")","v":"0"},{"$f":"IF(E548>=input_database!$C$10,(input_database!$GF$10+input_database!$GD$10),0)","v":0},0]
[null,{"$f":"CONCATENATE(selected_functions!$A$10,E549,C549)","v":"-5Kilobytes"},{"$f":"input_lists!$G$11","v":"Kilobytes"},null,{"$f":"$E$24","v":-5},{"$f":"IF(AND(E549>=input_database!$D$10,E549<input_database!$C$10),input_database!$GC$10,\"0\")","v":"0"},{"$f":"IF(E549<input_database!$C$10,input_database!$GE$10,\"0\")","v":0},{"$f":"IFERROR(input_database!$GH$10,\"0\")","v":0},{"$f":"IF(E549=input_database!$C$10,input_database!$GG$10,\"0\")","v":"0"},{"$f":"IF(E549>=input_database!$C$10,(input_database!$GF$10+input_database!$GD$10),0)","v":0},0]
[null,{"$f":"CONCATENATE(selected_functions!$A$10,E550,C550)","v":"-4Kilobytes"},{"$f":"input_lists!$G$11","v":"Kilobytes"},null,{"$f":"$E$25","v":-4},{"$f":"IF(AND(E550>=input_database!$D$10,E550<input_database!$C$10),input_database!$GC$10,\"0\")","v":"0"},{"$f":"IF(E550<input_database!$C$10,input_database!$GE$10,\"0\")","v":0},{"$f":"IFERROR(input_database!$GH$10,\"0\")","v":0},{"$f":"IF(E550=input_database!$C$10,input_database!$GG$10,\"0\")","v":"0"},{"$f":"IF(E550>=input_database!$C$10,(input_database!$GF$10+input_database!$GD$10),0)","v":0},0]
[null,{"$f":"CONCATENATE(selected_functions!$A$10,E551,C551)","v":"-3Kilobytes"},{"$f":"input_lists!$G$11","v":"Kilobytes"},null,{"$f":"$E$26","v":-3},{"$f":"IF(AND(E551>=input_database!$D$10,E551<input_database!$C$10),input_database!$GC$10,\"0\")","v":"0"},{"$f":"IF(E551<input_database!$C$10,input_database!$GE$10,\"0\")","v":0},{"$f":"IFERROR(input_database!$GH$10,\"0\")","v":0},{"$f":"IF(E551=input_database!$C$10,input_database!$GG$10,\"0\")","v":"0"},{"$f":"IF(E551>=input_database!$C$10,(input_database!$GF$10+input_database!$GD$10),0)","v":0},0]
[null,{"$f":"CONCATENATE(selected_functions!$A$10,E552,C552)","v":"-2Kilobytes"},{"$f":"input_lists!$G$11","v":"Kilobytes"},null,{"$f":"$E$27","v":-2},{"$f":"IF(AND(E552>=input_database!$D$10,E552<input_database!$C$10),input_database!$GC$10,\"0\")","v":"0"},{"$f":"IF(E552<input_database!$C$10,input_database!$GE$10,\"0\")","v":0},{"$f":"IFERROR(input_database!$GH$10,\"0\")","v":0},{"$f":"IF(E552=input_database!$C$10,input_database!$GG$10,\"0\")","v":"0"},{"$f":"IF(E552>=input_database!$C$10,(input_database!$GF$10+input_database!$GD$10),0)","v":0},0]
[null,{"$f":"CONCATENATE(selected_functions!$A$10,E553,C553)","v":"-1Kilobytes"},{"$f":"input_lists!$G$11","v":"Kilobytes"},null,{"$f":"$E$28","v":-1},{"$f":"IF(AND(E553>=input_database!$D$10,E553<input_database!$C$10),input_database!$GC$10,\"0\")","v":"0"},{"$f":"IF(E553<input_database!$C$10,input_database!$GE$10,\"0\")","v":0},{"$f":"IFERROR(input_database!$GH$10,\"0\")","v":0},{"$f":"IF(E553=input_database!$C$10,input_database!$GG$10,\"0\")","v":"0"},{"$f":"IF(E553>=input_database!$C$10,(input_database!$GF$10+input_database!$GD$10),0)","v":0},0]
[null,{"$f":"CONCATENATE(selected_functions!$A$10,E554,C554)","v":"0Kilobytes"},{"$f":"input_lists!$G$11","v":"Kilobytes"},null,{"$f":"$E$29","v":0},{"$f":"IF(AND(E554>=input_database!$D$10,E554<input_database!$C$10),input_database!$GC$10,\"0\")","v":"0"},{"$f":"IF(E554<input_database!$C$10,input_database!$GE$10,\"0\")","v":"0"},{"$f":"IFERROR(input_database!$GH$10,\"0\")","v":0},{"$f":"IF(E554=input_database!$C$10,input_database!$GG$10,\"0\")","v":0},{"$f":"IF(E554>=input_database!$C$10,(input_database!$GF$10+input_database!$GD$10),0)","v":0},0]
[null,{"$f":"CONCATENATE(selected_functions!$A$10,E555,C555)","v":"1Kilobytes"},{"$f":"input_lists!$G$11","v":"Kilobytes"},null,{"$f":"$E$30","v":1},{"$f":"IF(AND(E555>=input_database!$D$10,E555<input_database!$C$10),input_database!$GC$10,\"0\")","v":"0"},{"$f":"IF(E555<input_database!$C$10,input_database!$GE$10,\"0\")","v":"0"},{"$f":"IFERROR(input_database!$GH$10,\"0\")","v":0},{"$f":"IF(E555=input_database!$C$10,input_database!$GG$10,\"0\")","v":"0"},{"$f":"IF(E555>=input_database!$C$10,(input_database!$GF$10+input_database!$GD$10),0)","v":0},0]
[null,{"$f":"CONCATENATE(selected_functions!$A$10,E556,C556)","v":"2Kilobytes"},{"$f":"input_lists!$G$11","v":"Kilobytes"},null,{"$f":"$E$31","v":2},{"$f":"IF(AND(E556>=input_database!$D$10,E556<input_database!$C$10),input_database!$GC$10,\"0\")","v":"0"},{"$f":"IF(E556<input_database!$C$10,input_database!$GE$10,\"0\")","v":"0"},{"$f":"IFERROR(input_database!$GH$10,\"0\")","v":0},{"$f":"IF(E556=input_database!$C$10,input_database!$GG$10,\"0\")","v":"0"},{"$f":"IF(E556>=input_database!$C$10,(input_database!$GF$10+input_database!$GD$10),0)","v":0},0]
[null,{"$f":"CONCATENATE(selected_functions!$A$10,E557,C557)","v":"3Kilobytes"},{"$f":"input_lists!$G$11","v":"Kilobytes"},null,{"$f":"$E$32","v":3},{"$f":"IF(AND(E557>=input_database!$D$10,E557<input_database!$C$10),input_database!$GC$10,\"0\")","v":"0"},{"$f":"IF(E557<input_database!$C$10,input_database!$GE$10,\"0\")","v":"0"},{"$f":"IFERROR(input_database!$GH$10,\"0\")","v":0},{"$f":"IF(E557=input_database!$C$10,input_database!$GG$10,\"0\")","v":"0"},{"$f":"IF(E557>=input_database!$C$10,(input_database!$GF$10+input_database!$GD$10),0)","v":0},0]
[null,{"$f":"CONCATENATE(selected_functions!$A$10,E558,C558)","v":"-17Megabytes"},{"$f":"input_lists!$G$12","v":"Megabytes"},null,{"$f":"$E$12","v":-17},{"$f":"F537/1024","v":0},0,0,0,0,0]
[null,{"$f":"CONCATENATE(selected_functions!$A$10,E559,C559)","v":"-16Megabytes"},{"$f":"C558","v":"Megabytes"},null,{"$f":"$E$13","v":-16},0,0,0,0,0,0]
[null,{"$f":"CONCATENATE(selected_functions!$A$10,E560,C560)","v":"-15Megabytes"},{"$f":"C559","v":"Megabytes"},null,{"$f":"$E$14","v":-15},0,0,0,0,0,0]
[null,{"$f":"CONCATENATE(selected_functions!$A$10,E561,C561)","v":"-14Megabytes"},"Megabytes",null,{"$f":"$E$15","v":-14},0,0,0,0,0,0]
[null,{"$f":"CONCATENATE(selected_functions!$A$10,E562,C562)","v":"-13Megabytes"},"Megabytes",null,{"$f":"$E$16","v":-13},0,0,0,0,0,0]
[null,{"$f":"CONCATENATE(selected_functions!$A$10,E563,C563)","v":"-12Megabytes"},"Megabytes",null,{"$f":"$E$17","v":-12},0,0,0,0,0,0]
[null,{"$f":"CONCATENATE(selected_functions!$A$10,E564,C564)","v":"-11Megabytes"},"Megabytes",null,{"$f":"$E$18","v":-11},0,0,0,0,0,0]
[null,{"$f":"CONCATENATE(selected_functions!$A$10,E565,C565)","v":"-10Megabytes"},"Megabytes",null,{"$f":"$E$19","v":-10},0,0,0,0,0,0]
[null,{"$f":"CONCATENATE(selected_functions!$A$10,E566,C566)","v":"-9Megabytes"},"Megabytes",null,{"$f":"$E$20","v":-9},0,0,0,0,0,0]
[null,{"$f":"CONCATENATE(selected_functions!$A$10,E567,C567)","v":"-8Megabytes"},"Megabytes",null,{"$f":"$E$21","v":-8},0,0,0,0,0,0]
[null,{"$f":"CONCATENATE(selected_functions!$A$10,E568,C568)","v":"-7Megabytes"},"Megabytes",null,{"$f":"$E$22","v":-7},{"$f":"F547/1024","v":0},0,0,0,0,0]
[null,{"$f":"CONCATENATE(selected_functions!$A$10,E569,C569)","v":"-6Megabytes"},"Megabytes",null,{"$f":"$E$23","v":-6},0,0,0,0,0,0]
[null,{"$f":"CONCATENATE(selected_functions!$A$10,E570,C570)","v":"-5Megabytes"},"Megabytes",null,{"$f":"$E$24","v":-5},0,0,0,0,0,0]
[null,{"$f":"CONCATENATE(selected_functions!$A$10,E571,C571)","v":"-4Megabytes"},"Megabytes",null,{"$f":"$E$25","v":-4},0,0,0,0,0,0]
[null,{"$f":"CONCATENATE(selected_functions!$A$10,E572,C572)","v":"-3Megabytes"},"Megabytes",null,{"$f":"$E$26","v":-3},0,0,0,0,0,0]
[null,{"$f":"CONCATENATE(selected_functions!$A$10,E573,C573)","v":"-2Megabytes"},"Megabytes",null,{"$f":"$E$27","v":-2},0,0,0,0,0,0]
[null,{"$f":"CONCATENATE(selected_functions!$A$10,E574,C574)","v":"-1Megabytes"},"Megabytes",null,{"$f":"$E$28","v":-1},0,0,0,0,0,0]
[null,{"$f":"CONCATENATE(selected_functions!$A$10,E575,C575)","v":"0Megabytes"},"Megabytes",null,{"$f":"$E$29","v":0},0,0,0,0,0,0]
[null,{"$f":"CONCATENATE(selected_functions!$A$10,E576,C576)","v":"1Megabytes"},"Megabytes",null,{"$f":"$E$30","v":1},0,0,0,0,0,0]
[null,{"$f":"CONCATENATE(selected_functions!$A$10,E577,C577)","v":"2Megabytes"},"Megabytes",null,{"$f":"$E$31","v":2},0,0,0,0,0,0]
[null,{"$f":"CONCATENATE(selected_functions!$A$10,E578,C578)","v":"3Megabytes"},{"$f":"C577","v":"Megabytes"},null,{"$f":"$E$32","v":3},{"$f":"F557/1024","v":0},0,0,0,0,0]
[null,{"$f":"CONCATENATE(selected_functions!$A$10,E579,C579)","v":"-17Gigabytes"},{"$f":"input_lists!$G$13","v":"Gigabytes"},null,{"$f":"$E$12","v":-17},0,0,0,0,0,0]
[null,{"$f":"CONCATENATE(selected_functions!$A$10,E580,C580)","v":"-16Gigabytes"},{"$f":"C579","v":"Gigabytes"},null,{"$f":"$E$13","v":-16},0,0,0,0,0,0]
[null,{"$f":"CONCATENATE(selected_functions!$A$10,E581,C581)","v":"-15Gigabytes"},{"$f":"C580","v":"Gigabytes"},null,{"$f":"$E$14","v":-15},0,0,0,0,0,0]
[null,{"$f":"CONCATENATE(selected_functions!$A$10,E582,C582)","v":"-14Gigabytes"},"Gigabytes",null,{"$f":"$E$15","v":-14},0,0,0,0,0,0]
[null,{"$f":"CONCATENATE(selected_functions!$A$10,E583,C583)","v":"-13Gigabytes"},"Gigabytes",null,{"$f":"$E$16","v":-13},0,0,0,0,0,0]
[null,{"$f":"CONCATENATE(selected_functions!$A$10,E584,C584)","v":"-12Gigabytes"},"Gigabytes",null,{"$f":"$E$17","v":-12},0,0,0,0,0,0]
[null,{"$f":"CONCATENATE(selected_functions!$A$10,E585,C585)","v":"-11Gigabytes"},"Gigabytes",null,{"$f":"$E$18","v":-11},0,0,0,0,0,0]
[null,{"$f":"CONCATENATE(selected_functions!$A$10,E586,C586)","v":"-10Gigabytes"},"Gigabytes",null,{"$f":"$E$19","v":-10},0,0,0,0,0,0]
[null,{"$f":"CONCATENATE(selected_functions!$A$10,E587,C587)","v":"-9Gigabytes"},"Gigabytes",null,{"$f":"$E$20","v":-9},0,0,0,0,0,0]
[null,{"$f":"CONCATENATE(selected_functions!$A$10,E588,C588)","v":"-8Gigabytes"},"Gigabytes",null,{"$f":"$E$21","v":-8},{"$f":"F567/1024","v":0},0,0,0,0,0]
[null,{"$f":"CONCATENATE(selected_functions!$A$10,E589,C589)","v":"-7Gigabytes"},"Gigabytes",null,{"$f":"$E$22","v":-7},0,0,0,0,0,0]
[null,{"$f":"CONCATENATE(selected_functions!$A$10,E590,C590)","v":"-6Gigabytes"},"Gigabytes",null,{"$f":"$E$23","v":-6},0,0,0,0,0,0]
[null,{"$f":"CONCATENATE(selected_functions!$A$10,E591,C591)","v":"-5Gigabytes"},"Gigabytes",null,{"$f":"$E$24","v":-5},0,0,0,0,0,0]
[null,{"$f":"CONCATENATE(selected_functions!$A$10,E592,C592)","v":"-4Gigabytes"},"Gigabytes",null,{"$f":"$E$25","v":-4},0,0,0,0,0,0]
[null,{"$f":"CONCATENATE(selected_functions!$A$10,E593,C593)","v":"-3Gigabytes"},"Gigabytes",null,{"$f":"$E$26","v":-3},0,0,0,0,0,0]
[null,{"$f":"CONCATENATE(selected_functions!$A$10,E594,C594)","v":"-2Gigabytes"},"Gigabytes",null,{"$f":"$E$27","v":-2},0,0,0,0,0,0]
[null,{"$f":"CONCATENATE(selected_functions!$A$10,E595,C595)","v":"-1Gigabytes"},"Gigabytes",null,{"$f":"$E$28","v":-1},0,0,0,0,0,0]
[null,{"$f":"CONCATENATE(selected_functions!$A$10,E596,C596)","v":"0Gigabytes"},"Gigabytes",null,{"$f":"$E$29","v":0},0,0,0,0,0,0]
[null,{"$f":"CONCATENATE(selected_functions!$A$10,E597,C597)","v":"1Gigabytes"},"Gigabytes",null,{"$f":"$E$30","v":1},0,0,0,0,0,0]
[null,{"$f":"CONCATENATE(selected_functions!$A$10,E598,C598)","v":"2Gigabytes"},"Gigabytes",null,{"$f":"$E$31","v":2},{"$f":"F577/1024","v":0},0,0,0,0,0]
[null,{"$f":"CONCATENATE(selected_functions!$A$10,E599,C599)","v":"3Gigabytes"},"Gigabytes",null,{"$f":"$E$32","v":3},0,0,0,0,0,0]
[null,{"$f":"CONCATENATE(selected_functions!$A$10,E600,C600)","v":"-17Terabytes"},{"$f":"input_lists!$G$14","v":"Terabytes"},null,{"$f":"$E$12","v":-17},0,0,0,0,0,0]
[null,{"$f":"CONCATENATE(selected_functions!$A$10,E601,C601)","v":"-16Terabytes"},{"$f":"C600","v":"Terabytes"},null,{"$f":"$E$13","v":-16},0,0,0,0,0,0]
[null,{"$f":"CONCATENATE(selected_functions!$A$10,E602,C602)","v":"-15Terabytes"},{"$f":"C601","v":"Terabytes"},null,{"$f":"$E$14","v":-15},0,0,0,0,0,0]
[null,{"$f":"CONCATENATE(selected_functions!$A$10,E603,C603)","v":"-14Terabytes"},"Terabytes",null,{"$f":"$E$15","v":-14},0,0,0,0,0,0]
[null,{"$f":"CONCATENATE(selected_functions!$A$10,E604,C604)","v":"-13Terabytes"},"Terabytes",null,{"$f":"$E$16","v":-13},0,0,0,0,0,0]
[null,{"$f":"CONCATENATE(selected_functions!$A$10,E605,C605)","v":"-12Terabytes"},"Terabytes",null,{"$f":"$E$17","v":-12},0,0,0,0,0,0]
[null,{"$f":"CONCATENATE(selected_functions!$A$10,E606,C606)","v":"-11Terabytes"},"Terabytes",null,{"$f":"$E$18","v":-11},0,0,0,0,0,0]
[null,{"$f":"CONCATENATE(selected_functions!$A$10,E607,C607)","v":"-10Terabytes"},"Terabytes",null,{"$f":"$E$19","v":-10},0,0,0,0,0,0]
[null,{"$f":"CONCATENATE(selected_functions!$A$10,E608,C608)","v":"-9Terabytes"},"Terabytes",null,{"$f":"$E$20","v":-9},{"$f":"F587/1024","v":0},0,0,0,0,0]
[null,{"$f":"CONCATENATE(selected_functions!$A$10,E609,C609)","v":"-8Terabytes"},"Terabytes",null,{"$f":"$E$21","v":-8},0,0,0,0,0,0]
[null,{"$f":"CONCATENATE(selected_functions!$A$10,E610,C610)","v":"-7Terabytes"},"Terabytes",null,{"$f":"$E$22","v":-7},0,0,0,0,0,0]
[null,{"$f":"CONCATENATE(selected_functions!$A$10,E611,C611)","v":"-6Terabytes"},"Terabytes",null,{"$f":"$E$23","v":-6},0,0,0,0,0,0]
[null,{"$f":"CONCATENATE(selected_functions!$A$10,E612,C612)","v":"-5Terabytes"},"Terabytes",null,{"$f":"$E$24","v":-5},0,0,0,0,0,0]
[null,{"$f":"CONCATENATE(selected_functions!$A$10,E613,C613)","v":"-4Terabytes"},"Terabytes",null,{"$f":"$E$25","v":-4},0,0,0,0,0,0]
[null,{"$f":"CONCATENATE(selected_functions!$A$10,E614,C614)","v":"-3Terabytes"},"Terabytes",null,{"$f":"$E$26","v":-3},0,0,0,0,0,0]
[null,{"$f":"CONCATENATE(selected_functions!$A$10,E615,C615)","v":"-2Terabytes"},"Terabytes",null,{"$f":"$E$27","v":-2},0,0,0,0,0,0]
[null,{"$f":"CONCATENATE(selected_functions!$A$10,E616,C616)","v":"-1Terabytes"},"Terabytes",null,{"$f":"$E$28","v":-1},0,0,0,0,0,0]
[null,{"$f":"CONCATENATE(selected_functions!$A$10,E617,C617)","v":"0Terabytes"},"Terabytes",null,{"$f":"$E$29","v":0},0,0,0,0,0,0]
[null,{"$f":"CONCATENATE(selected_functions!$A$10,E618,C618)","v":"1Terabytes"},"Terabytes",null,{"$f":"$E$30","v":1},{"$f":"F597/1024","v":0},0,0,0,0,0]
[null,{"$f":"CONCATENATE(selected_functions!$A$10,E619,C619)","v":"2Terabytes"},"Terabytes",null,{"$f":"$E$31","v":2},0,0,0,0,0,0]
[null,{"$f":"CONCATENATE(selected_functions!$A$10,E620,C620)","v":"3Terabytes"},"Terabytes",null,{"$f":"$E$32","v":3},0,0,0,0,0,0]
[null,{"$f":"CONCATENATE(selected_functions!$A$10,E621,C621)","v":"-17Petabytes"},{"$f":"input_lists!$G$15","v":"Petabytes"},null,{"$f":"$E$12","v":-17},0,0,0,0,0,0]
[null,{"$f":"CONCATENATE(selected_functions!$A$10,E622,C622)","v":"-16Petabytes"},{"$f":"C621","v":"Petabytes"},null,{"$f":"$E$13","v":-16},0,0,0,0,0,0]
[null,{"$f":"CONCATENATE(selected_functions!$A$10,E623,C623)","v":"-15Petabytes"},{"$f":"C622","v":"Petabytes"},null,{"$f":"$E$14","v":-15},0,0,0,0,0,0]
[null,{"$f":"CONCATENATE(selected_functions!$A$10,E624,C624)","v":"-14Petabytes"},"Petabytes",null,{"$f":"$E$15","v":-14},0,0,0,0,0,0]
[null,{"$f":"CONCATENATE(selected_functions!$A$10,E625,C625)","v":"-13Petabytes"},"Petabytes",null,{"$f":"$E$16","v":-13},0,0,0,0,0,0]
[null,{"$f":"CONCATENATE(selected_functions!$A$10,E626,C626)","v":"-12Petabytes"},"Petabytes",null,{"$f":"$E$17","v":-12},0,0,0,0,0,0]
[null,{"$f":"CONCATENATE(selected_functions!$A$10,E627,C627)","v":"-11Petabytes"},"Petabytes",null,{"$f":"$E$18","v":-11},0,0,0,0,0,0]
[null,{"$f":"CONCATENATE(selected_functions!$A$10,E628,C628)","v":"-10Petabytes"},"Petabytes",null,{"$f":"$E$19","v":-10},{"$f":"F607/1024","v":0},0,0,0,0,0]
[null,{"$f":"CONCATENATE(selected_functions!$A$10,E629,C629)","v":"-9Petabytes"},"Petabytes",null,{"$f":"$E$20","v":-9},0,0,0,0,0,0]
[null,{"$f":"CONCATENATE(selected_functions!$A$10,E630,C630)","v":"-8Petabytes"},"Petabytes",null,{"$f":"$E$21","v":-8},0,0,0,0,0,0]
[null,{"$f":"CONCATENATE(selected_functions!$A$10,E631,C631)","v":"-7Petabytes"},"Petabytes",null,{"$f":"$E$22","v":-7},0,0,0,0,0,0]
[null,{"$f":"CONCATENATE(selected_functions!$A$10,E632,C632)","v":"-6Petabytes"},"Petabytes",null,{"$f":"$E$23","v":-6},0,0,0,0,0,0]
[null,{"$f":"CONCATENATE(selected_functions!$A$10,E633,C633)","v":"-5Petabytes"},"Petabytes",null,{"$f":"$E$24","v":-5},0,0,0,0,0,0]
[null,{"$f":"CONCATENATE(selected_functions!$A$10,E634,C634)","v":"-4Petabytes"},"Petabytes",null,{"$f":"$E$25","v":-4},0,0,0,0,0,0]
[null,{"$f":"CONCATENATE(selected_functions!$A$10,E635,C635)","v":"-3Petabytes"},"Petabytes",null,{"$f":"$E$26","v":-3},0,0,0,0,0,0]
[null,{"$f":"CONCATENATE(selected_functions!$A$10,E636,C636)","v":"-2Petabytes"},"Petabytes",null,{"$f":"$E$27","v":-2},0,0,0,0,0,0]
[null,{"$f":"CONCATENATE(selected_functions!$A$10,E637,C637)","v":"-1Petabytes"},"Petabytes",null,{"$f":"$E$28","v":-1},0,0,0,0,0,0]
[null,{"$f":"CONCATENATE(selected_functions!$A$10,E638,C638)","v":"0Petabytes"},"Petabytes",null,{"$f":"$E$29","v":0},{"$f":"F617/1024","v":0},0,0,0,0,0]
[null,{"$f":"CONCATENATE(selected_functions!$A$10,E639,C639)","v":"1Petabytes"},"Petabytes",null,{"$f":"$E$30","v":1},0,0,0,0,0,0]
[null,{"$f":"CONCATENATE(selected_functions!$A$10,E640,C640)","v":"2Petabytes"},"Petabytes",null,{"$f":"$E$31","v":2},0,0,0,0,0,0]
[null,{"$f":"CONCATENATE(selected_functions!$A$10,E641,C641)","v":"3Petabytes"},"Petabytes",null,{"$f":"$E$32","v":3},0,0,0,0,0,0]
[null,{"$f":"CONCATENATE(selected_functions!$A$11,E642,C642)","v":"-17Kilobytes"},{"$f":"input_lists!$G$11","v":"Kilobytes"},null,{"$f":"$E$12","v":-17},{"$f":"IF(AND(E642>=input_database!$D$11,E642<input_database!$C$11),input_database!$GC$11,\"0\")","v":"0"},{"$f":"IF(E642<input_database!$C$11,input_database!$GE$11,\"0\")","v":0},{"$f":"IFERROR(input_database!$GH$11,\"0\")","v":0},{"$f":"IF(E642=input_database!$C$11,input_database!$GG$11,\"0\")","v":"0"},{"$f":"IF(E642>=input_database!$C$11,(input_database!$GF$11+input_database!$GD$11),0)","v":0},{"$f":"SUM(F642:J642)","v":0}]
[null,{"$f":"CONCATENATE(selected_functions!$A$11,E643,C643)","v":"-16Kilobytes"},{"$f":"input_lists!$G$11","v":"Kilobytes"},null,{"$f":"$E$13","v":-16},{"$f":"IF(AND(E643>=input_database!$D$11,E643<input_database!$C$11),input_database!$GC$11,\"0\")","v":"0"},{"$f":"IF(E643<input_database!$C$11,input_database!$GE$11,\"0\")","v":0},{"$f":"IFERROR(input_database!$GH$11,\"0\")","v":0},{"$f":"IF(E643=input_database!$C$11,input_database!$GG$11,\"0\")","v":"0"},{"$f":"IF(E643>=input_database!$C$11,(input_database!$GF$11+input_database!$GD$11),0)","v":0},{"$f":"K642+SUM(F643:J643)","v":0}]
[null,{"$f":"CONCATENATE(selected_functions!$A$11,E644,C644)","v":"-15Kilobytes"},{"$f":"input_lists!$G$11","v":"Kilobytes"},null,{"$f":"$E$14","v":-15},{"$f":"IF(AND(E644>=input_database!$D$11,E644<input_database!$C$11),input_database!$GC$11,\"0\")","v":"0"},{"$f":"IF(E644<input_database!$C$11,input_database!$GE$11,\"0\")","v":0},{"$f":"IFERROR(input_database!$GH$11,\"0\")","v":0},{"$f":"IF(E644=input_database!$C$11,input_database!$GG$11,\"0\")","v":"0"},{"$f":"IF(E644>=input_database!$C$11,(input_database!$GF$11+input_database!$GD$11),0)","v":0},{"$f":"K643+SUM(F644:J644)","v":0}]
[null,{"$f":"CONCATENATE(selected_functions!$A$11,E645,C645)","v":"-14Kilobytes"},{"$f":"input_lists!$G$11","v":"Kilobytes"},null,{"$f":"$E$15","v":-14},{"$f":"IF(AND(E645>=input_database!$D$11,E645<input_database!$C$11),input_database!$GC$11,\"0\")","v":"0"},{"$f":"IF(E645<input_database!$C$11,input_database!$GE$11,\"0\")","v":0},{"$f":"IFERROR(input_database!$GH$11,\"0\")","v":0},{"$f":"IF(E645=input_database!$C$11,input_database!$GG$11,\"0\")","v":"0"},{"$f":"IF(E645>=input_database!$C$11,(input_database!$GF$11+input_database!$GD$11),0)","v":0},0]
[null,{"$f":"CONCATENATE(selected_functions!$A$11,E646,C646)","v":"-13Kilobytes"},{"$f":"input_lists!$G$11","v":"Kilobytes"},null,{"$f":"$E$16","v":-13},{"$f":"IF(AND(E646>=input_database!$D$11,E646<input_database!$C$11),input_database!$GC$11,\"0\")","v":"0"},{"$f":"IF(E646<input_database!$C$11,input_database!$GE$11,\"0\")","v":0},{"$f":"IFERROR(input_database!$GH$11,\"0\")","v":0},{"$f":"IF(E646=input_database!$C$11,input_database!$GG$11,\"0\")","v":"0"},{"$f":"IF(E646>=input_database!$C$11,(input_database!$GF$11+input_database!$GD$11),0)","v":0},0]
[null,{"$f":"CONCATENATE(selected_functions!$A$11,E647,C647)","v":"-12Kilobytes"},{"$f":"input_lists!$G$11","v":"Kilobytes"},null,{"$f":"$E$17","v":-12},{"$f":"IF(AND(E647>=input_database!$D$11,E647<input_database!$C$11),input_database!$GC$11,\"0\")","v":"0"},{"$f":"IF(E647<input_database!$C$11,input_database!$GE$11,\"0\")","v":0},{"$f":"IFERROR(input_database!$GH$11,\"0\")","v":0},{"$f":"IF(E647=input_database!$C$11,input_database!$GG$11,\"0\")","v":"0"},{"$f":"IF(E647>=input_database!$C$11,(input_database!$GF$11+input_database!$GD$11),0)","v":0},0]
[null,{"$f":"CONCATENATE(selected_functions!$A$11,E648,C648)","v":"-11Kilobytes"},{"$f":"input_lists!$G$11","v":"Kilobytes"},null,{"$f":"$E$18","v":-11},{"$f":"IF(AND(E648>=input_database!$D$11,E648<input_database!$C$11),input_database!$GC$11,\"0\")","v":"0"},{"$f":"IF(E648<input_database!$C$11,input_database!$GE$11,\"0\")","v":0},{"$f":"IFERROR(input_database!$GH$11,\"0\")","v":0},{"$f":"IF(E648=input_database!$C$11,input_database!$GG$11,\"0\")","v":"0"},{"$f":"IF(E648>=input_database!$C$11,(input_database!$GF$11+input_database!$GD$11),0)","v":0},0]
[null,{"$f":"CONCATENATE(selected_functions!$A$11,E649,C649)","v":"-10Kilobytes"},{"$f":"input_lists!$G$11","v":"Kilobytes"},null,{"$f":"$E$19","v":-10},{"$f":"IF(AND(E649>=input_database!$D$11,E649<input_database!$C$11),input_database!$GC$11,\"0\")","v":"0"},{"$f":"IF(E649<input_database!$C$11,input_database!$GE$11,\"0\")","v":0},{"$f":"IFERROR(input_database!$GH$11,\"0\")","v":0},{"$f":"IF(E649=input_database!$C$11,input_database!$GG$11,\"0\")","v":"0"},{"$f":"IF(E649>=input_database!$C$11,(input_database!$GF$11+input_database!$GD$11),0)","v":0},0]
[null,{"$f":"CONCATENATE(selected_functions!$A$11,E650,C650)","v":"-9Kilobytes"},{"$f":"input_lists!$G$11","v":"Kilobytes"},null,{"$f":"$E$20","v":-9},{"$f":"IF(AND(E650>=input_database!$D$11,E650<input_database!$C$11),input_database!$GC$11,\"0\")","v":"0"},{"$f":"IF(E650<input_database!$C$11,input_database!$GE$11,\"0\")","v":0},{"$f":"IFERROR(input_database!$GH$11,\"0\")","v":0},{"$f":"IF(E650=input_database!$C$11,input_database!$GG$11,\"0\")","v":"0"},{"$f":"IF(E650>=input_database!$C$11,(input_database!$GF$11+input_database!$GD$11),0)","v":0},0]
[null,{"$f":"CONCATENATE(selected_functions!$A$11,E651,C651)","v":"-8Kilobytes"},{"$f":"input_lists!$G$11","v":"Kilobytes"},null,{"$f":"$E$21","v":-8},{"$f":"IF(AND(E651>=input_database!$D$11,E651<input_database!$C$11),input_database!$GC$11,\"0\")","v":"0"},{"$f":"IF(E651<input_database!$C$11,input_database!$GE$11,\"0\")","v":0},{"$f":"IFERROR(input_database!$GH$11,\"0\")","v":0},{"$f":"IF(E651=input_database!$C$11,input_database!$GG$11,\"0\")","v":"0"},{"$f":"IF(E651>=input_database!$C$11,(input_database!$GF$11+input_database!$GD$11),0)","v":0},0]
[null,{"$f":"CONCATENATE(selected_functions!$A$11,E652,C652)","v":"-7Kilobytes"},{"$f":"input_lists!$G$11","v":"Kilobytes"},null,{"$f":"$E$22","v":-7},{"$f":"IF(AND(E652>=input_database!$D$11,E652<input_database!$C$11),input_database!$GC$11,\"0\")","v":"0"},{"$f":"IF(E652<input_database!$C$11,input_database!$GE$11,\"0\")","v":0},{"$f":"IFERROR(input_database!$GH$11,\"0\")","v":0},{"$f":"IF(E652=input_database!$C$11,input_database!$GG$11,\"0\")","v":"0"},{"$f":"IF(E652>=input_database!$C$11,(input_database!$GF$11+input_database!$GD$11),0)","v":0},0]
[null,{"$f":"CONCATENATE(selected_functions!$A$11,E653,C653)","v":"-6Kilobytes"},{"$f":"input_lists!$G$11","v":"Kilobytes"},null,{"$f":"$E$23","v":-6},{"$f":"IF(AND(E653>=input_database!$D$11,E653<input_database!$C$11),input_database!$GC$11,\"0\")","v":"0"},{"$f":"IF(E653<input_database!$C$11,input_database!$GE$11,\"0\")","v":0},{"$f":"IFERROR(input_database!$GH$11,\"0\")","v":0},{"$f":"IF(E653=input_database!$C$11,input_database!$GG$11,\"0\")","v":"0"},{"$f":"IF(E653>=input_database!$C$11,(input_database!$GF$11+input_database!$GD$11),0)","v":0},0]
[null,{"$f":"CONCATENATE(selected_functions!$A$11,E654,C654)","v":"-5Kilobytes"},{"$f":"input_lists!$G$11","v":"Kilobytes"},null,{"$f":"$E$24","v":-5},{"$f":"IF(AND(E654>=input_database!$D$11,E654<input_database!$C$11),input_database!$GC$11,\"0\")","v":"0"},{"$f":"IF(E654<input_database!$C$11,input_database!$GE$11,\"0\")","v":0},{"$f":"IFERROR(input_database!$GH$11,\"0\")","v":0},{"$f":"IF(E654=input_database!$C$11,input_database!$GG$11,\"0\")","v":"0"},{"$f":"IF(E654>=input_database!$C$11,(input_database!$GF$11+input_database!$GD$11),0)","v":0},0]
[null,{"$f":"CONCATENATE(selected_functions!$A$11,E655,C655)","v":"-4Kilobytes"},{"$f":"input_lists!$G$11","v":"Kilobytes"},null,{"$f":"$E$25","v":-4},{"$f":"IF(AND(E655>=input_database!$D$11,E655<input_database!$C$11),input_database!$GC$11,\"0\")","v":"0"},{"$f":"IF(E655<input_database!$C$11,input_database!$GE$11,\"0\")","v":0},{"$f":"IFERROR(input_database!$GH$11,\"0\")","v":0},{"$f":"IF(E655=input_database!$C$11,input_database!$GG$11,\"0\")","v":"0"},{"$f":"IF(E655>=input_database!$C$11,(input_database!$GF$11+input_database!$GD$11),0)","v":0},0]
[null,{"$f":"CONCATENATE(selected_functions!$A$11,E656,C656)","v":"-3Kilobytes"},{"$f":"input_lists!$G$11","v":"Kilobytes"},null,{"$f":"$E$26","v":-3},{"$f":"IF(AND(E656>=input_database!$D$11,E656<input_database!$C$11),input_database!$GC$11,\"0\")","v":"0"},{"$f":"IF(E656<input_database!$C$11,input_database!$GE$11,\"0\")","v":0},{"$f":"IFERROR(input_database!$GH$11,\"0\")","v":0},{"$f":"IF(E656=input_database!$C$11,input_database!$GG$11,\"0\")","v":"0"},{"$f":"IF(E656>=input_database!$C$11,(input_database!$GF$11+input_database!$GD$11),0)","v":0},0]
[null,{"$f":"CONCATENATE(selected_functions!$A$11,E657,C657)","v":"-2Kilobytes"},{"$f":"input_lists!$G$11","v":"Kilobytes"},null,{"$f":"$E$27","v":-2},{"$f":"IF(AND(E657>=input_database!$D$11,E657<input_database!$C$11),input_database!$GC$11,\"0\")","v":"0"},{"$f":"IF(E657<input_database!$C$11,input_database!$GE$11,\"0\")","v":0},{"$f":"IFERROR(input_database!$GH$11,\"0\")","v":0},{"$f":"IF(E657=input_database!$C$11,input_database!$GG$11,\"0\")","v":"0"},{"$f":"IF(E657>=input_database!$C$11,(input_database!$GF$11+input_database!$GD$11),0)","v":0},0]
[null,{"$f":"CONCATENATE(selected_functions!$A$11,E658,C658)","v":"-1Kilobytes"},{"$f":"input_lists!$G$11","v":"Kilobytes"},null,{"$f":"$E$28","v":-1},{"$f":"IF(AND(E658>=input_database!$D$11,E658<input_database!$C$11),input_database!$GC$11,\"0\")","v":"0"},{"$f":"IF(E658<input_database!$C$11,input_database!$GE$11,\"0\")","v":0},{"$f":"IFERROR(input_database!$GH$11,\"0\")","v":0},{"$f":"IF(E658=input_database!$C$11,input_database!$GG$11,\"0\")","v":"0"},{"$f":"IF(E658>=input_database!$C$11,(input_database!$GF$11+input_database!$GD$11),0)","v":0},0]
[null,{"$f":"CONCATENATE(selected_functions!$A$11,E659,C659)","v":"0Kilobytes"},{"$f":"input_lists!$G$11","v":"Kilobytes"},null,{"$f":"$E$29","v":0},{"$f":"IF(AND(E659>=input_database!$D$11,E659<input_database!$C$11),input_database!$GC$11,\"0\")","v":"0"},{"$f":"IF(E659<input_database!$C$11,input_database!$GE$11,\"0\")","v":"0"},{"$f":"IFERROR(input_database!$GH$11,\"0\")","v":0},{"$f":"IF(E659=input_database!$C$11,input_database!$GG$11,\"0\")","v":0},{"$f":"IF(E659>=input_database!$C$11,(input_database!$GF$11+input_database!$GD$11),0)","v":0},0]
[null,{"$f":"CONCATENATE(selected_functions!$A$11,E660,C660)","v":"1Kilobytes"},{"$f":"input_lists!$G$11","v":"Kilobytes"},null,{"$f":"$E$30","v":1},{"$f":"IF(AND(E660>=input_database!$D$11,E660<input_database!$C$11),input_database!$GC$11,\"0\")","v":"0"},{"$f":"IF(E660<input_database!$C$11,input_database!$GE$11,\"0\")","v":"0"},{"$f":"IFERROR(input_database!$GH$11,\"0\")","v":0},{"$f":"IF(E660=input_database!$C$11,input_database!$GG$11,\"0\")","v":"0"},{"$f":"IF(E660>=input_database!$C$11,(input_database!$GF$11+input_database!$GD$11),0)","v":0},0]
[null,{"$f":"CONCATENATE(selected_functions!$A$11,E661,C661)","v":"2Kilobytes"},{"$f":"input_lists!$G$11","v":"Kilobytes"},null,{"$f":"$E$31","v":2},{"$f":"IF(AND(E661>=input_database!$D$11,E661<input_database!$C$11),input_database!$GC$11,\"0\")","v":"0"},{"$f":"IF(E661<input_database!$C$11,input_database!$GE$11,\"0\")","v":"0"},{"$f":"IFERROR(input_database!$GH$11,\"0\")","v":0},{"$f":"IF(E661=input_database!$C$11,input_database!$GG$11,\"0\")","v":"0"},{"$f":"IF(E661>=input_database!$C$11,(input_database!$GF$11+input_database!$GD$11),0)","v":0},0]
[null,{"$f":"CONCATENATE(selected_functions!$A$11,E662,C662)","v":"3Kilobytes"},{"$f":"input_lists!$G$11","v":"Kilobytes"},null,{"$f":"$E$32","v":3},{"$f":"IF(AND(E662>=input_database!$D$11,E662<input_database!$C$11),input_database!$GC$11,\"0\")","v":"0"},{"$f":"IF(E662<input_database!$C$11,input_database!$GE$11,\"0\")","v":"0"},{"$f":"IFERROR(input_database!$GH$11,\"0\")","v":0},{"$f":"IF(E662=input_database!$C$11,input_database!$GG$11,\"0\")","v":"0"},{"$f":"IF(E662>=input_database!$C$11,(input_database!$GF$11+input_database!$GD$11),0)","v":0},0]
[null,{"$f":"CONCATENATE(selected_functions!$A$11,E663,C663)","v":"-17Megabytes"},{"$f":"input_lists!$G$12","v":"Megabytes"},null,{"$f":"$E$12","v":-17},{"$f":"F642/1024","v":0},0,0,0,0,0]
[null,{"$f":"CONCATENATE(selected_functions!$A$11,E664,C664)","v":"-16Megabytes"},{"$f":"C663","v":"Megabytes"},null,{"$f":"$E$13","v":-16},0,0,0,0,0,0]
[null,{"$f":"CONCATENATE(selected_functions!$A$11,E665,C665)","v":"-15Megabytes"},{"$f":"C664","v":"Megabytes"},null,{"$f":"$E$14","v":-15},0,0,0,0,0,0]
[null,{"$f":"CONCATENATE(selected_functions!$A$11,E666,C666)","v":"-14Megabytes"},"Megabytes",null,{"$f":"$E$15","v":-14},0,0,0,0,0,0]
[null,{"$f":"CONCATENATE(selected_functions!$A$11,E667,C667)","v":"-13Megabytes"},"Megabytes",null,{"$f":"$E$16","v":-13},0,0,0,0,0,0]
[null,{"$f":"CONCATENATE(selected_functions!$A$11,E668,C668)","v":"-12Megabytes"},"Megabytes",null,{"$f":"$E$17","v":-12},0,0,0,0,0,0]
[null,{"$f":"CONCATENATE(selected_functions!$A$11,E669,C669)","v":"-11Megabytes"},"Megabytes",null,{"$f":"$E$18","v":-11},0,0,0,0,0,0]
[null,{"$f":"CONCATENATE(selected_functions!$A$11,E670,C670)","v":"-10Megabytes"},"Megabytes",null,{"$f":"$E$19","v":-10},0,0,0,0,0,0]
[null,{"$f":"CONCATENATE(selected_functions!$A$11,E671,C671)","v":"-9Megabytes"},"Megabytes",null,{"$f":"$E$20","v":-9},0,0,0,0,0,0]
[null,{"$f":"CONCATENATE(selected_functions!$A$11,E672,C672)","v":"-8Megabytes"},"Megabytes",null,{"$f":"$E$21","v":-8},0,0,0,0,0,0]
[null,{"$f":"CONCATENATE(selected_functions!$A$11,E673,C673)","v":"-7Megabytes"},"Megabytes",null,{"$f":"$E$22","v":-7},{"$f":"F652/1024","v":0},0,0,0,0,0]
[null,{"$f":"CONCATENATE(selected_functions!$A$11,E674,C674)","v":"-6Megabytes"},"Megabytes",null,{"$f":"$E$23","v":-6},0,0,0,0,0,0]
[null,{"$f":"CONCATENATE(selected_functions!$A$11,E675,C675)","v":"-5Megabytes"},"Megabytes",null,{"$f":"$E$24","v":-5},0,0,0,0,0,0]
[null,{"$f":"CONCATENATE(selected_functions!$A$11,E676,C676)","v":"-4Megabytes"},"Megabytes",null,{"$f":"$E$25","v":-4},0,0,0,0,0,0]
[null,{"$f":"CONCATENATE(selected_functions!$A$11,E677,C677)","v":"-3Megabytes"},"Megabytes",null,{"$f":"$E$26","v":-3},0,0,0,0,0,0]
[null,{"$f":"CONCATENATE(selected_functions!$A$11,E678,C678)","v":"-2Megabytes"},"Megabytes",null,{"$f":"$E$27","v":-2},0,0,0,0,0,0]
[null,{"$f":"CONCATENATE(selected_functions!$A$11,E679,C679)","v":"-1Megabytes"},"Megabytes",null,{"$f":"$E$28","v":-1},0,0,0,0,0,0]
[null,{"$f":"CONCATENATE(selected_functions!$A$11,E680,C680)","v":"0Megabytes"},"Megabytes",null,{"$f":"$E$29","v":0},0,0,0,0,0,0]
[null,{"$f":"CONCATENATE(selected_functions!$A$11,E681,C681)","v":"1Megabytes"},"Megabytes",null,{"$f":"$E$30","v":1},0,0,0,0,0,0]
[null,{"$f":"CONCATENATE(selected_functions!$A$11,E682,C682)","v":"2Megabytes"},"Megabytes",null,{"$f":"$E$31","v":2},0,0,0,0,0,0]
[null,{"$f":"CONCATENATE(selected_functions!$A$11,E683,C683)","v":"3Megabytes"},{"$f":"C682","v":"Megabytes"},null,{"$f":"$E$32","v":3},{"$f":"F662/1024","v":0},0,0,0,0,0]
[null,{"$f":"CONCATENATE(selected_functions!$A$11,E684,C684)","v":"-17Gigabytes"},{"$f":"input_lists!$G$13","v":"Gigabytes"},null,{"$f":"$E$12","v":-17},0,0,0,0,0,0]
[null,{"$f":"CONCATENATE(selected_functions!$A$11,E685,C685)","v":"-16Gigabytes"},{"$f":"C684","v":"Gigabytes"},null,{"$f":"$E$13","v":-16},0,0,0,0,0,0]
[null,{"$f":"CONCATENATE(selected_functions!$A$11,E686,C686)","v":"-15Gigabytes"},{"$f":"C685","v":"Gigabytes"},null,{"$f":"$E$14","v":-15},0,0,0,0,0,0]
[null,{"$f":"CONCATENATE(selected_functions!$A$11,E687,C687)","v":"-14Gigabytes"},"Gigabytes",null,{"$f":"$E$15","v":-14},0,0,0,0,0,0]
[null,{"$f":"CONCATENATE(selected_functions!$A$11,E688,C688)","v":"-13Gigabytes"},"Gigabytes",null,{"$f":"$E$16","v":-13},0,0,0,0,0,0]
[null,{"$f":"CONCATENATE(selected_functions!$A$11,E689,C689)","v":"-12Gigabytes"},"Gigabytes",null,{"$f":"$E$17","v":-12},0,0,0,0,0,0]
[null,{"$f":"CONCATENATE(selected_functions!$A$11,E690,C690)","v":"-11Gigabytes"},"Gigabytes",null,{"$f":"$E$18","v":-11},0,0,0,0,0,0]
[null,{"$f":"CONCATENATE(selected_functions!$A$11,E691,C691)","v":"-10Gigabytes"},"Gigabytes",null,{"$f":"$E$19","v":-10},0,0,0,0,0,0]
[null,{"$f":"CONCATENATE(selected_functions!$A$11,E692,C692)","v":"-9Gigabytes"},"Gigabytes",null,{"$f":"$E$20","v":-9},0,0,0,0,0,0]
[null,{"$f":"CONCATENATE(selected_functions!$A$11,E693,C693)","v":"-8Gigabytes"},"Gigabytes",null,{"$f":"$E$21","v":-8},{"$f":"F672/1024","v":0},0,0,0,0,0]
[null,{"$f":"CONCATENATE(selected_functions!$A$11,E694,C694)","v":"-7Gigabytes"},"Gigabytes",null,{"$f":"$E$22","v":-7},0,0,0,0,0,0]
[null,{"$f":"CONCATENATE(selected_functions!$A$11,E695,C695)","v":"-6Gigabytes"},"Gigabytes",null,{"$f":"$E$23","v":-6},0,0,0,0,0,0]
[null,{"$f":"CONCATENATE(selected_functions!$A$11,E696,C696)","v":"-5Gigabytes"},"Gigabytes",null,{"$f":"$E$24","v":-5},0,0,0,0,0,0]
[null,{"$f":"CONCATENATE(selected_functions!$A$11,E697,C697)","v":"-4Gigabytes"},"Gigabytes",null,{"$f":"$E$25","v":-4},0,0,0,0,0,0]
[null,{"$f":"CONCATENATE(selected_functions!$A$11,E698,C698)","v":"-3Gigabytes"},"Gigabytes",null,{"$f":"$E$26","v":-3},0,0,0,0,0,0]
[null,{"$f":"CONCATENATE(selected_functions!$A$11,E699,C699)","v":"-2Gigabytes"},"Gigabytes",null,{"$f":"$E$27","v":-2},0,0,0,0,0,0]
[null,{"$f":"CONCATENATE(selected_functions!$A$11,E700,C700)","v":"-1Gigabytes"},"Gigabytes",null,{"$f":"$E$28","v":-1},0,0,0,0,0,0]
[null,{"$f":"CONCATENATE(selected_functions!$A$11,E701,C701)","v":"0Gigabytes"},"Gigabytes",null,{"$f":"$E$29","v":0},0,0,0,0,0,0]
[null,{"$f":"CONCATENATE(selected_functions!$A$11,E702,C702)","v":"1Gigabytes"},"Gigabytes",null,{"$f":"$E$30","v":1},0,0,0,0,0,0]
[null,{"$f":"CONCATENATE(selected_functions!$A$11,E703,C703)","v":"2Gigabytes"},"Gigabytes",null,{"$f":"$E$31","v":2},{"$f":"F682/1024","v":0},0,0,0,0,0]
[null,{"$f":"CONCATENATE(selected_functions!$A$11,E704,C704)","v":"3Gigabytes"},"Gigabytes",null,{"$f":"$E$32","v":3},0,0,0,0,0,0]
[null,{"$f":"CONCATENATE(selected_functions!$A$11,E705,C705)","v":"-17Terabytes"},{"$f":"input_lists!$G$14","v":"Terabytes"},null,{"$f":"$E$12","v":-17},0,0,0,0,0,0]
[null,{"$f":"CONCATENATE(selected_functions!$A$11,E706,C706)","v":"-16Terabytes"},{"$f":"C705","v":"Terabytes"},null,{"$f":"$E$13","v":-16},0,0,0,0,0,0]
[null,{"$f":"CONCATENATE(selected_functions!$A$11,E707,C707)","v":"-15Terabytes"},{"$f":"C706","v":"Terabytes"},null,{"$f":"$E$14","v":-15},0,0,0,0,0,0]
[null,{"$f":"CONCATENATE(selected_functions!$A$11,E708,C708)","v":"-14Terabytes"},"Terabytes",null,{"$f":"$E$15","v":-14},0,0,0,0,0,0]
[null,{"$f":"CONCATENATE(selected_functions!$A$11,E709,C709)","v":"-13Terabytes"},"Terabytes",null,{"$f":"$E$16","v":-13},0,0,0,0,0,0]
[null,{"$f":"CONCATENATE(selected_functions!$A$11,E710,C710)","v":"-12Terabytes"},"Terabytes",null,{"$f":"$E$17","v":-12},0,0,0,0,0,0]
[null,{"$f":"CONCATENATE(selected_functions!$A$11,E711,C711)","v":"-11Terabytes"},"Terabytes",null,{"$f":"$E$18","v":-11},0,0,0,0,0,0]
[null,{"$f":"CONCATENATE(selected_functions!$A$11,E712,C712)","v":"-10Terabytes"},"Terabytes",null,{"$f":"$E$19","v":-10},0,0,0,0,0,0]
[null,{"$f":"CONCATENATE(selected_functions!$A$11,E713,C713)","v":"-9Terabytes"},"Terabytes",null,{"$f":"$E$20","v":-9},{"$f":"F692/1024","v":0},0,0,0,0,0]
[null,{"$f":"CONCATENATE(selected_functions!$A$11,E714,C714)","v":"-8Terabytes"},"Terabytes",null,{"$f":"$E$21","v":-8},0,0,0,0,0,0]
[null,{"$f":"CONCATENATE(selected_functions!$A$11,E715,C715)","v":"-7Terabytes"},"Terabytes",null,{"$f":"$E$22","v":-7},0,0,0,0,0,0]
[null,{"$f":"CONCATENATE(selected_functions!$A$11,E716,C716)","v":"-6Terabytes"},"Terabytes",null,{"$f":"$E$23","v":-6},0,0,0,0,0,0]
[null,{"$f":"CONCATENATE(selected_functions!$A$11,E717,C717)","v":"-5Terabytes"},"Terabytes",null,{"$f":"$E$24","v":-5},0,0,0,0,0,0]
[null,{"$f":"CONCATENATE(selected_functions!$A$11,E718,C718)","v":"-4Terabytes"},"Terabytes",null,{"$f":"$E$25","v":-4},0,0,0,0,0,0]
[null,{"$f":"CONCATENATE(selected_functions!$A$11,E719,C719)","v":"-3Terabytes"},"Terabytes",null,{"$f":"$E$26","v":-3},0,0,0,0,0,0]
[null,{"$f":"CONCATENATE(selected_functions!$A$11,E720,C720)","v":"-2Terabytes"},"Terabytes",null,{"$f":"$E$27","v":-2},0,0,0,0,0,0]
[null,{"$f":"CONCATENATE(selected_functions!$A$11,E721,C721)","v":"-1Terabytes"},"Terabytes",null,{"$f":"$E$28","v":-1},0,0,0,0,0,0]
[null,{"$f":"CONCATENATE(selected_functions!$A$11,E722,C722)","v":"0Terabytes"},"Terabytes",null,{"$f":"$E$29","v":0},0,0,0,0,0,0]
[null,{"$f":"CONCATENATE(selected_functions!$A$11,E723,C723)","v":"1Terabytes"},"Terabytes",null,{"$f":"$E$30","v":1},{"$f":"F702/1024","v":0},0,0,0,0,0]
[null,{"$f":"CONCATENATE(selected_functions!$A$11,E724,C724)","v":"2Terabytes"},"Terabytes",null,{"$f":"$E$31","v":2},0,0,0,0,0,0]
[null,{"$f":"CONCATENATE(selected_functions!$A$11,E725,C725)","v":"3Terabytes"},"Terabytes",null,{"$f":"$E$32","v":3},0,0,0,0,0,0]
[null,{"$f":"CONCATENATE(selected_functions!$A$11,E726,C726)","v":"-17Petabytes"},{"$f":"input_lists!$G$15","v":"Petabytes"},null,{"$f":"$E$12","v":-17},0,0,0,0,0,0]
[null,{"$f":"CONCATENATE(selected_functions!$A$11,E727,C727)","v":"-16Petabytes"},{"$f":"C726","v":"Petabytes"},null,{"$f":"$E$13","v":-16},0,0,0,0,0,0]
[null,{"$f":"CONCATENATE(selected_functions!$A$11,E728,C728)","v":"-15Petabytes"},{"$f":"C727","v":"Petabytes"},null,{"$f":"$E$14","v":-15},0,0,0,0,0,0]
[null,{"$f":"CONCATENATE(selected_functions!$A$11,E729,C729)","v":"-14Petabytes"},"Petabytes",null,{"$f":"$E$15","v":-14},0,0,0,0,0,0]
[null,{"$f":"CONCATENATE(selected_functions!$A$11,E730,C730)","v":"-13Petabytes"},"Petabytes",null,{"$f":"$E$16","v":-13},0,0,0,0,0,0]
[null,{"$f":"CONCATENATE(selected_functions!$A$11,E731,C731)","v":"-12Petabytes"},"Petabytes",null,{"$f":"$E$17","v":-12},0,0,0,0,0,0]
[null,{"$f":"CONCATENATE(selected_functions!$A$11,E732,C732)","v":"-11Petabytes"},"Petabytes",null,{"$f":"$E$18","v":-11},0,0,0,0,0,0]
[null,{"$f":"CONCATENATE(selected_functions!$A$11,E733,C733)","v":"-10Petabytes"},"Petabytes",null,{"$f":"$E$19","v":-10},{"$f":"F712/1024","v":0},0,0,0,0,0]
[null,{"$f":"CONCATENATE(selected_functions!$A$11,E734,C734)","v":"-9Petabytes"},"Petabytes",null,{"$f":"$E$20","v":-9},0,0,0,0,0,0]
[null,{"$f":"CONCATENATE(selected_functions!$A$11,E735,C735)","v":"-8Petabytes"},"Petabytes",null,{"$f":"$E$21","v":-8},0,0,0,0,0,0]
[null,{"$f":"CONCATENATE(selected_functions!$A$11,E736,C736)","v":"-7Petabytes"},"Petabytes",null,{"$f":"$E$22","v":-7},0,0,0,0,0,0]
[null,{"$f":"CONCATENATE(selected_functions!$A$11,E737,C737)","v":"-6Petabytes"},"Petabytes",null,{"$f":"$E$23","v":-6},0,0,0,0,0,0]
[null,{"$f":"CONCATENATE(selected_functions!$A$11,E738,C738)","v":"-5Petabytes"},"Petabytes",null,{"$f":"$E$24","v":-5},0,0,0,0,0,0]
[null,{"$f":"CONCATENATE(selected_functions!$A$11,E739,C739)","v":"-4Petabytes"},"Petabytes",null,{"$f":"$E$25","v":-4},0,0,0,0,0,0]
[null,{"$f":"CONCATENATE(selected_functions!$A$11,E740,C740)","v":"-3Petabytes"},"Petabytes",null,{"$f":"$E$26","v":-3},0,0,0,0,0,0]
[null,{"$f":"CONCATENATE(selected_functions!$A$11,E741,C741)","v":"-2Petabytes"},"Petabytes",null,{"$f":"$E$27","v":-2},0,0,0,0,0,0]
[null,{"$f":"CONCATENATE(selected_functions!$A$11,E742,C742)","v":"-1Petabytes"},"Petabytes",null,{"$f":"$E$28","v":-1},0,0,0,0,0,0]
[null,{"$f":"CONCATENATE(selected_functions!$A$11,E743,C743)","v":"0Petabytes"},"Petabytes",null,{"$f":"$E$29","v":0},{"$f":"F722/1024","v":0},0,0,0,0,0]
[null,{"$f":"CONCATENATE(selected_functions!$A$11,E744,C744)","v":"1Petabytes"},"Petabytes",null,{"$f":"$E$30","v":1},0,0,0,0,0,0]
[null,{"$f":"CONCATENATE(selected_functions!$A$11,E745,C745)","v":"2Petabytes"},"Petabytes",null,{"$f":"$E$31","v":2},0,0,0,0,0,0]
[null,{"$f":"CONCATENATE(selected_functions!$A$11,E746,C746)","v":"3Petabytes"},"Petabytes",null,{"$f":"$E$32","v":3},0,0,0,0,0,0]
[null,{"$f":"CONCATENATE(selected_functions!$A$12,E747,C747)","v":"-17Kilobytes"},{"$f":"input_lists!$G$11","v":"Kilobytes"},null,{"$f":"$E$12","v":-17},{"$f":"IF(AND(E747>=input_database!$D$12,E747<input_database!$C$12),input_database!$GC$12,\"0\")","v":"0"},{"$f":"IF(E747<input_database!$C$12,input_database!$GE$12,\"0\")","v":0},{"$f":"IFERROR(input_database!$GH$12,\"0\")","v":0},{"$f":"IF(E747=input_database!$C$12,input_database!$GG$12,\"0\")","v":"0"},{"$f":"IF(E747>=input_database!$C$12,(input_database!$GF$12+input_database!$GD$12),0)","v":0},{"$f":"SUM(F747:J747)","v":0}]
[null,{"$f":"CONCATENATE(selected_functions!$A$12,E748,C748)","v":"-16Kilobytes"},{"$f":"input_lists!$G$11","v":"Kilobytes"},null,{"$f":"$E$13","v":-16},{"$f":"IF(AND(E748>=input_database!$D$12,E748<input_database!$C$12),input_database!$GC$12,\"0\")","v":"0"},{"$f":"IF(E748<input_database!$C$12,input_database!$GE$12,\"0\")","v":0},{"$f":"IFERROR(input_database!$GH$12,\"0\")","v":0},{"$f":"IF(E748=input_database!$C$12,input_database!$GG$12,\"0\")","v":"0"},{"$f":"IF(E748>=input_database!$C$12,(input_database!$GF$12+input_database!$GD$12),0)","v":0},{"$f":"K747+SUM(F748:J748)","v":0}]
[null,{"$f":"CONCATENATE(selected_functions!$A$12,E749,C749)","v":"-15Kilobytes"},{"$f":"input_lists!$G$11","v":"Kilobytes"},null,{"$f":"$E$14","v":-15},{"$f":"IF(AND(E749>=input_database!$D$12,E749<input_database!$C$12),input_database!$GC$12,\"0\")","v":"0"},{"$f":"IF(E749<input_database!$C$12,input_database!$GE$12,\"0\")","v":0},{"$f":"IFERROR(input_database!$GH$12,\"0\")","v":0},{"$f":"IF(E749=input_database!$C$12,input_database!$GG$12,\"0\")","v":"0"},{"$f":"IF(E749>=input_database!$C$12,(input_database!$GF$12+input_database!$GD$12),0)","v":0},{"$f":"K748+SUM(F749:J749)","v":0}]
[null,{"$f":"CONCATENATE(selected_functions!$A$12,E750,C750)","v":"-14Kilobytes"},{"$f":"input_lists!$G$11","v":"Kilobytes"},null,{"$f":"$E$15","v":-14},{"$f":"IF(AND(E750>=input_database!$D$12,E750<input_database!$C$12),input_database!$GC$12,\"0\")","v":"0"},{"$f":"IF(E750<input_database!$C$12,input_database!$GE$12,\"0\")","v":0},{"$f":"IFERROR(input_database!$GH$12,\"0\")","v":0},{"$f":"IF(E750=input_database!$C$12,input_database!$GG$12,\"0\")","v":"0"},{"$f":"IF(E750>=input_database!$C$12,(input_database!$GF$12+input_database!$GD$12),0)","v":0},0]
[null,{"$f":"CONCATENATE(selected_functions!$A$12,E751,C751)","v":"-13Kilobytes"},{"$f":"input_lists!$G$11","v":"Kilobytes"},null,{"$f":"$E$16","v":-13},{"$f":"IF(AND(E751>=input_database!$D$12,E751<input_database!$C$12),input_database!$GC$12,\"0\")","v":"0"},{"$f":"IF(E751<input_database!$C$12,input_database!$GE$12,\"0\")","v":0},{"$f":"IFERROR(input_database!$GH$12,\"0\")","v":0},{"$f":"IF(E751=input_database!$C$12,input_database!$GG$12,\"0\")","v":"0"},{"$f":"IF(E751>=input_database!$C$12,(input_database!$GF$12+input_database!$GD$12),0)","v":0},0]
[null,{"$f":"CONCATENATE(selected_functions!$A$12,E752,C752)","v":"-12Kilobytes"},{"$f":"input_lists!$G$11","v":"Kilobytes"},null,{"$f":"$E$17","v":-12},{"$f":"IF(AND(E752>=input_database!$D$12,E752<input_database!$C$12),input_database!$GC$12,\"0\")","v":"0"},{"$f":"IF(E752<input_database!$C$12,input_database!$GE$12,\"0\")","v":0},{"$f":"IFERROR(input_database!$GH$12,\"0\")","v":0},{"$f":"IF(E752=input_database!$C$12,input_database!$GG$12,\"0\")","v":"0"},{"$f":"IF(E752>=input_database!$C$12,(input_database!$GF$12+input_database!$GD$12),0)","v":0},0]
[null,{"$f":"CONCATENATE(selected_functions!$A$12,E753,C753)","v":"-11Kilobytes"},{"$f":"input_lists!$G$11","v":"Kilobytes"},null,{"$f":"$E$18","v":-11},{"$f":"IF(AND(E753>=input_database!$D$12,E753<input_database!$C$12),input_database!$GC$12,\"0\")","v":"0"},{"$f":"IF(E753<input_database!$C$12,input_database!$GE$12,\"0\")","v":0},{"$f":"IFERROR(input_database!$GH$12,\"0\")","v":0},{"$f":"IF(E753=input_database!$C$12,input_database!$GG$12,\"0\")","v":"0"},{"$f":"IF(E753>=input_database!$C$12,(input_database!$GF$12+input_database!$GD$12),0)","v":0},0]
[null,{"$f":"CONCATENATE(selected_functions!$A$12,E754,C754)","v":"-10Kilobytes"},{"$f":"input_lists!$G$11","v":"Kilobytes"},null,{"$f":"$E$19","v":-10},{"$f":"IF(AND(E754>=input_database!$D$12,E754<input_database!$C$12),input_database!$GC$12,\"0\")","v":"0"},{"$f":"IF(E754<input_database!$C$12,input_database!$GE$12,\"0\")","v":0},{"$f":"IFERROR(input_database!$GH$12,\"0\")","v":0},{"$f":"IF(E754=input_database!$C$12,input_database!$GG$12,\"0\")","v":"0"},{"$f":"IF(E754>=input_database!$C$12,(input_database!$GF$12+input_database!$GD$12),0)","v":0},0]
[null,{"$f":"CONCATENATE(selected_functions!$A$12,E755,C755)","v":"-9Kilobytes"},{"$f":"input_lists!$G$11","v":"Kilobytes"},null,{"$f":"$E$20","v":-9},{"$f":"IF(AND(E755>=input_database!$D$12,E755<input_database!$C$12),input_database!$GC$12,\"0\")","v":"0"},{"$f":"IF(E755<input_database!$C$12,input_database!$GE$12,\"0\")","v":0},{"$f":"IFERROR(input_database!$GH$12,\"0\")","v":0},{"$f":"IF(E755=input_database!$C$12,input_database!$GG$12,\"0\")","v":"0"},{"$f":"IF(E755>=input_database!$C$12,(input_database!$GF$12+input_database!$GD$12),0)","v":0},0]
[null,{"$f":"CONCATENATE(selected_functions!$A$12,E756,C756)","v":"-8Kilobytes"},{"$f":"input_lists!$G$11","v":"Kilobytes"},null,{"$f":"$E$21","v":-8},{"$f":"IF(AND(E756>=input_database!$D$12,E756<input_database!$C$12),input_database!$GC$12,\"0\")","v":"0"},{"$f":"IF(E756<input_database!$C$12,input_database!$GE$12,\"0\")","v":0},{"$f":"IFERROR(input_database!$GH$12,\"0\")","v":0},{"$f":"IF(E756=input_database!$C$12,input_database!$GG$12,\"0\")","v":"0"},{"$f":"IF(E756>=input_database!$C$12,(input_database!$GF$12+input_database!$GD$12),0)","v":0},0]
[null,{"$f":"CONCATENATE(selected_functions!$A$12,E757,C757)","v":"-7Kilobytes"},{"$f":"input_lists!$G$11","v":"Kilobytes"},null,{"$f":"$E$22","v":-7},{"$f":"IF(AND(E757>=input_database!$D$12,E757<input_database!$C$12),input_database!$GC$12,\"0\")","v":"0"},{"$f":"IF(E757<input_database!$C$12,input_database!$GE$12,\"0\")","v":0},{"$f":"IFERROR(input_database!$GH$12,\"0\")","v":0},{"$f":"IF(E757=input_database!$C$12,input_database!$GG$12,\"0\")","v":"0"},{"$f":"IF(E757>=input_database!$C$12,(input_database!$GF$12+input_database!$GD$12),0)","v":0},0]
[null,{"$f":"CONCATENATE(selected_functions!$A$12,E758,C758)","v":"-6Kilobytes"},{"$f":"input_lists!$G$11","v":"Kilobytes"},null,{"$f":"$E$23","v":-6},{"$f":"IF(AND(E758>=input_database!$D$12,E758<input_database!$C$12),input_database!$GC$12,\"0\")","v":"0"},{"$f":"IF(E758<input_database!$C$12,input_database!$GE$12,\"0\")","v":0},{"$f":"IFERROR(input_database!$GH$12,\"0\")","v":0},{"$f":"IF(E758=input_database!$C$12,input_database!$GG$12,\"0\")","v":"0"},{"$f":"IF(E758>=input_database!$C$12,(input_database!$GF$12+input_database!$GD$12),0)","v":0},0]
[null,{"$f":"CONCATENATE(selected_functions!$A$12,E759,C759)","v":"-5Kilobytes"},{"$f":"input_lists!$G$11","v":"Kilobytes"},null,{"$f":"$E$24","v":-5},{"$f":"IF(AND(E759>=input_database!$D$12,E759<input_database!$C$12),input_database!$GC$12,\"0\")","v":"0"},{"$f":"IF(E759<input_database!$C$12,input_database!$GE$12,\"0\")","v":0},{"$f":"IFERROR(input_database!$GH$12,\"0\")","v":0},{"$f":"IF(E759=input_database!$C$12,input_database!$GG$12,\"0\")","v":"0"},{"$f":"IF(E759>=input_database!$C$12,(input_database!$GF$12+input_database!$GD$12),0)","v":0},0]
[null,{"$f":"CONCATENATE(selected_functions!$A$12,E760,C760)","v":"-4Kilobytes"},{"$f":"input_lists!$G$11","v":"Kilobytes"},null,{"$f":"$E$25","v":-4},{"$f":"IF(AND(E760>=input_database!$D$12,E760<input_database!$C$12),input_database!$GC$12,\"0\")","v":"0"},{"$f":"IF(E760<input_database!$C$12,input_database!$GE$12,\"0\")","v":0},{"$f":"IFERROR(input_database!$GH$12,\"0\")","v":0},{"$f":"IF(E760=input_database!$C$12,input_database!$GG$12,\"0\")","v":"0"},{"$f":"IF(E760>=input_database!$C$12,(input_database!$GF$12+input_database!$GD$12),0)","v":0},0]
[null,{"$f":"CONCATENATE(selected_functions!$A$12,E761,C761)","v":"-3Kilobytes"},{"$f":"input_lists!$G$11","v":"Kilobytes"},null,{"$f":"$E$26","v":-3},{"$f":"IF(AND(E761>=input_database!$D$12,E761<input_database!$C$12),input_database!$GC$12,\"0\")","v":"0"},{"$f":"IF(E761<input_database!$C$12,input_database!$GE$12,\"0\")","v":0},{"$f":"IFERROR(input_database!$GH$12,\"0\")","v":0},{"$f":"IF(E761=input_database!$C$12,input_database!$GG$12,\"0\")","v":"0"},{"$f":"IF(E761>=input_database!$C$12,(input_database!$GF$12+input_database!$GD$12),0)","v":0},0]
[null,{"$f":"CONCATENATE(selected_functions!$A$12,E762,C762)","v":"-2Kilobytes"},{"$f":"input_lists!$G$11","v":"Kilobytes"},null,{"$f":"$E$27","v":-2},{"$f":"IF(AND(E762>=input_database!$D$12,E762<input_database!$C$12),input_database!$GC$12,\"0\")","v":"0"},{"$f":"IF(E762<input_database!$C$12,input_database!$GE$12,\"0\")","v":0},{"$f":"IFERROR(input_database!$GH$12,\"0\")","v":0},{"$f":"IF(E762=input_database!$C$12,input_database!$GG$12,\"0\")","v":"0"},{"$f":"IF(E762>=input_database!$C$12,(input_database!$GF$12+input_database!$GD$12),0)","v":0},0]
[null,{"$f":"CONCATENATE(selected_functions!$A$12,E763,C763)","v":"-1Kilobytes"},{"$f":"input_lists!$G$11","v":"Kilobytes"},null,{"$f":"$E$28","v":-1},{"$f":"IF(AND(E763>=input_database!$D$12,E763<input_database!$C$12),input_database!$GC$12,\"0\")","v":"0"},{"$f":"IF(E763<input_database!$C$12,input_database!$GE$12,\"0\")","v":0},{"$f":"IFERROR(input_database!$GH$12,\"0\")","v":0},{"$f":"IF(E763=input_database!$C$12,input_database!$GG$12,\"0\")","v":"0"},{"$f":"IF(E763>=input_database!$C$12,(input_database!$GF$12+input_database!$GD$12),0)","v":0},0]
[null,{"$f":"CONCATENATE(selected_functions!$A$12,E764,C764)","v":"0Kilobytes"},{"$f":"input_lists!$G$11","v":"Kilobytes"},null,{"$f":"$E$29","v":0},{"$f":"IF(AND(E764>=input_database!$D$12,E764<input_database!$C$12),input_database!$GC$12,\"0\")","v":"0"},{"$f":"IF(E764<input_database!$C$12,input_database!$GE$12,\"0\")","v":"0"},{"$f":"IFERROR(input_database!$GH$12,\"0\")","v":0},{"$f":"IF(E764=input_database!$C$12,input_database!$GG$12,\"0\")","v":0},{"$f":"IF(E764>=input_database!$C$12,(input_database!$GF$12+input_database!$GD$12),0)","v":0},0]
[null,{"$f":"CONCATENATE(selected_functions!$A$12,E765,C765)","v":"1Kilobytes"},{"$f":"input_lists!$G$11","v":"Kilobytes"},null,{"$f":"$E$30","v":1},{"$f":"IF(AND(E765>=input_database!$D$12,E765<input_database!$C$12),input_database!$GC$12,\"0\")","v":"0"},{"$f":"IF(E765<input_database!$C$12,input_database!$GE$12,\"0\")","v":"0"},{"$f":"IFERROR(input_database!$GH$12,\"0\")","v":0},{"$f":"IF(E765=input_database!$C$12,input_database!$GG$12,\"0\")","v":"0"},{"$f":"IF(E765>=input_database!$C$12,(input_database!$GF$12+input_database!$GD$12),0)","v":0},0]
[null,{"$f":"CONCATENATE(selected_functions!$A$12,E766,C766)","v":"2Kilobytes"},{"$f":"input_lists!$G$11","v":"Kilobytes"},null,{"$f":"$E$31","v":2},{"$f":"IF(AND(E766>=input_database!$D$12,E766<input_database!$C$12),input_database!$GC$12,\"0\")","v":"0"},{"$f":"IF(E766<input_database!$C$12,input_database!$GE$12,\"0\")","v":"0"},{"$f":"IFERROR(input_database!$GH$12,\"0\")","v":0},{"$f":"IF(E766=input_database!$C$12,input_database!$GG$12,\"0\")","v":"0"},{"$f":"IF(E766>=input_database!$C$12,(input_database!$GF$12+input_database!$GD$12),0)","v":0},0]
[null,{"$f":"CONCATENATE(selected_functions!$A$12,E767,C767)","v":"3Kilobytes"},{"$f":"input_lists!$G$11","v":"Kilobytes"},null,{"$f":"$E$32","v":3},{"$f":"IF(AND(E767>=input_database!$D$12,E767<input_database!$C$12),input_database!$GC$12,\"0\")","v":"0"},{"$f":"IF(E767<input_database!$C$12,input_database!$GE$12,\"0\")","v":"0"},{"$f":"IFERROR(input_database!$GH$12,\"0\")","v":0},{"$f":"IF(E767=input_database!$C$12,input_database!$GG$12,\"0\")","v":"0"},{"$f":"IF(E767>=input_database!$C$12,(input_database!$GF$12+input_database!$GD$12),0)","v":0},0]
[null,{"$f":"CONCATENATE(selected_functions!$A$12,E768,C768)","v":"-17Megabytes"},{"$f":"input_lists!$G$12","v":"Megabytes"},null,{"$f":"$E$12","v":-17},{"$f":"F747/1024","v":0},0,0,0,0,0]
[null,{"$f":"CONCATENATE(selected_functions!$A$12,E769,C769)","v":"-16Megabytes"},{"$f":"C768","v":"Megabytes"},null,{"$f":"$E$13","v":-16},0,0,0,0,0,0]
[null,{"$f":"CONCATENATE(selected_functions!$A$12,E770,C770)","v":"-15Megabytes"},{"$f":"C769","v":"Megabytes"},null,{"$f":"$E$14","v":-15},0,0,0,0,0,0]
[null,{"$f":"CONCATENATE(selected_functions!$A$12,E771,C771)","v":"-14Megabytes"},"Megabytes",null,{"$f":"$E$15","v":-14},0,0,0,0,0,0]
[null,{"$f":"CONCATENATE(selected_functions!$A$12,E772,C772)","v":"-13Megabytes"},"Megabytes",null,{"$f":"$E$16","v":-13},0,0,0,0,0,0]
[null,{"$f":"CONCATENATE(selected_functions!$A$12,E773,C773)","v":"-12Megabytes"},"Megabytes",null,{"$f":"$E$17","v":-12},0,0,0,0,0,0]
[null,{"$f":"CONCATENATE(selected_functions!$A$12,E774,C774)","v":"-11Megabytes"},"Megabytes",null,{"$f":"$E$18","v":-11},0,0,0,0,0,0]
[null,{"$f":"CONCATENATE(selected_functions!$A$12,E775,C775)","v":"-10Megabytes"},"Megabytes",null,{"$f":"$E$19","v":-10},0,0,0,0,0,0]
[null,{"$f":"CONCATENATE(selected_functions!$A$12,E776,C776)","v":"-9Megabytes"},"Megabytes",null,{"$f":"$E$20","v":-9},0,0,0,0,0,0]
[null,{"$f":"CONCATENATE(selected_functions!$A$12,E777,C777)","v":"-8Megabytes"},"Megabytes",null,{"$f":"$E$21","v":-8},0,0,0,0,0,0]
[null,{"$f":"CONCATENATE(selected_functions!$A$12,E778,C778)","v":"-7Megabytes"},"Megabytes",null,{"$f":"$E$22","v":-7},{"$f":"F757/1024","v":0},0,0,0,0,0]
[null,{"$f":"CONCATENATE(selected_functions!$A$12,E779,C779)","v":"-6Megabytes"},"Megabytes",null,{"$f":"$E$23","v":-6},0,0,0,0,0,0]
[null,{"$f":"CONCATENATE(selected_functions!$A$12,E780,C780)","v":"-5Megabytes"},"Megabytes",null,{"$f":"$E$24","v":-5},0,0,0,0,0,0]
[null,{"$f":"CONCATENATE(selected_functions!$A$12,E781,C781)","v":"-4Megabytes"},"Megabytes",null,{"$f":"$E$25","v":-4},0,0,0,0,0,0]
[null,{"$f":"CONCATENATE(selected_functions!$A$12,E782,C782)","v":"-3Megabytes"},"Megabytes",null,{"$f":"$E$26","v":-3},0,0,0,0,0,0]
[null,{"$f":"CONCATENATE(selected_functions!$A$12,E783,C783)","v":"-2Megabytes"},"Megabytes",null,{"$f":"$E$27","v":-2},0,0,0,0,0,0]
[null,{"$f":"CONCATENATE(selected_functions!$A$12,E784,C784)","v":"-1Megabytes"},"Megabytes",null,{"$f":"$E$28","v":-1},0,0,0,0,0,0]
[null,{"$f":"CONCATENATE(selected_functions!$A$12,E785,C785)","v":"0Megabytes"},"Megabytes",null,{"$f":"$E$29","v":0},0,0,0,0,0,0]
[null,{"$f":"CONCATENATE(selected_functions!$A$12,E786,C786)","v":"1Megabytes"},"Megabytes",null,{"$f":"$E$30","v":1},0,0,0,0,0,0]
[null,{"$f":"CONCATENATE(selected_functions!$A$12,E787,C787)","v":"2Megabytes"},"Megabytes",null,{"$f":"$E$31","v":2},0,0,0,0,0,0]
[null,{"$f":"CONCATENATE(selected_functions!$A$12,E788,C788)","v":"3Megabytes"},{"$f":"C787","v":"Megabytes"},null,{"$f":"$E$32","v":3},{"$f":"F767/1024","v":0},0,0,0,0,0]
[null,{"$f":"CONCATENATE(selected_functions!$A$12,E789,C789)","v":"-17Gigabytes"},{"$f":"input_lists!$G$13","v":"Gigabytes"},null,{"$f":"$E$12","v":-17},0,0,0,0,0,0]
[null,{"$f":"CONCATENATE(selected_functions!$A$12,E790,C790)","v":"-16Gigabytes"},{"$f":"C789","v":"Gigabytes"},null,{"$f":"$E$13","v":-16},0,0,0,0,0,0]
[null,{"$f":"CONCATENATE(selected_functions!$A$12,E791,C791)","v":"-15Gigabytes"},{"$f":"C790","v":"Gigabytes"},null,{"$f":"$E$14","v":-15},0,0,0,0,0,0]
[null,{"$f":"CONCATENATE(selected_functions!$A$12,E792,C792)","v":"-14Gigabytes"},"Gigabytes",null,{"$f":"$E$15","v":-14},0,0,0,0,0,0]
[null,{"$f":"CONCATENATE(selected_functions!$A$12,E793,C793)","v":"-13Gigabytes"},"Gigabytes",null,{"$f":"$E$16","v":-13},0,0,0,0,0,0]
[null,{"$f":"CONCATENATE(selected_functions!$A$12,E794,C794)","v":"-12Gigabytes"},"Gigabytes",null,{"$f":"$E$17","v":-12},0,0,0,0,0,0]
[null,{"$f":"CONCATENATE(selected_functions!$A$12,E795,C795)","v":"-11Gigabytes"},"Gigabytes",null,{"$f":"$E$18","v":-11},0,0,0,0,0,0]
[null,{"$f":"CONCATENATE(selected_functions!$A$12,E796,C796)","v":"-10Gigabytes"},"Gigabytes",null,{"$f":"$E$19","v":-10},0,0,0,0,0,0]
[null,{"$f":"CONCATENATE(selected_functions!$A$12,E797,C797)","v":"-9Gigabytes"},"Gigabytes",null,{"$f":"$E$20","v":-9},0,0,0,0,0,0]
[null,{"$f":"CONCATENATE(selected_functions!$A$12,E798,C798)","v":"-8Gigabytes"},"Gigabytes",null,{"$f":"$E$21","v":-8},{"$f":"F777/1024","v":0},0,0,0,0,0]
[null,{"$f":"CONCATENATE(selected_functions!$A$12,E799,C799)","v":"-7Gigabytes"},"Gigabytes",null,{"$f":"$E$22","v":-7},0,0,0,0,0,0]
[null,{"$f":"CONCATENATE(selected_functions!$A$12,E800,C800)","v":"-6Gigabytes"},"Gigabytes",null,{"$f":"$E$23","v":-6},0,0,0,0,0,0]
[null,{"$f":"CONCATENATE(selected_functions!$A$12,E801,C801)","v":"-5Gigabytes"},"Gigabytes",null,{"$f":"$E$24","v":-5},0,0,0,0,0,0]
[null,{"$f":"CONCATENATE(selected_functions!$A$12,E802,C802)","v":"-4Gigabytes"},"Gigabytes",null,{"$f":"$E$25","v":-4},0,0,0,0,0,0]
[null,{"$f":"CONCATENATE(selected_functions!$A$12,E803,C803)","v":"-3Gigabytes"},"Gigabytes",null,{"$f":"$E$26","v":-3},0,0,0,0,0,0]
[null,{"$f":"CONCATENATE(selected_functions!$A$12,E804,C804)","v":"-2Gigabytes"},"Gigabytes",null,{"$f":"$E$27","v":-2},0,0,0,0,0,0]
[null,{"$f":"CONCATENATE(selected_functions!$A$12,E805,C805)","v":"-1Gigabytes"},"Gigabytes",null,{"$f":"$E$28","v":-1},0,0,0,0,0,0]
[null,{"$f":"CONCATENATE(selected_functions!$A$12,E806,C806)","v":"0Gigabytes"},"Gigabytes",null,{"$f":"$E$29","v":0},0,0,0,0,0,0]
[null,{"$f":"CONCATENATE(selected_functions!$A$12,E807,C807)","v":"1Gigabytes"},"Gigabytes",null,{"$f":"$E$30","v":1},0,0,0,0,0,0]
[null,{"$f":"CONCATENATE(selected_functions!$A$12,E808,C808)","v":"2Gigabytes"},"Gigabytes",null,{"$f":"$E$31","v":2},{"$f":"F787/1024","v":0},0,0,0,0,0]
[null,{"$f":"CONCATENATE(selected_functions!$A$12,E809,C809)","v":"3Gigabytes"},"Gigabytes",null,{"$f":"$E$32","v":3},0,0,0,0,0,0]
[null,{"$f":"CONCATENATE(selected_functions!$A$12,E810,C810)","v":"-17Terabytes"},{"$f":"input_lists!$G$14","v":"Terabytes"},null,{"$f":"$E$12","v":-17},0,0,0,0,0,0]
[null,{"$f":"CONCATENATE(selected_functions!$A$12,E811,C811)","v":"-16Terabytes"},{"$f":"C810","v":"Terabytes"},null,{"$f":"$E$13","v":-16},0,0,0,0,0,0]
[null,{"$f":"CONCATENATE(selected_functions!$A$12,E812,C812)","v":"-15Terabytes"},{"$f":"C811","v":"Terabytes"},null,{"$f":"$E$14","v":-15},0,0,0,0,0,0]
[null,{"$f":"CONCATENATE(selected_functions!$A$12,E813,C813)","v":"-14Terabytes"},"Terabytes",null,{"$f":"$E$15","v":-14},0,0,0,0,0,0]
[null,{"$f":"CONCATENATE(selected_functions!$A$12,E814,C814)","v":"-13Terabytes"},"Terabytes",null,{"$f":"$E$16","v":-13},0,0,0,0,0,0]
[null,{"$f":"CONCATENATE(selected_functions!$A$12,E815,C815)","v":"-12Terabytes"},"Terabytes",null,{"$f":"$E$17","v":-12},0,0,0,0,0,0]
[null,{"$f":"CONCATENATE(selected_functions!$A$12,E816,C816)","v":"-11Terabytes"},"Terabytes",null,{"$f":"$E$18","v":-11},0,0,0,0,0,0]
[null,{"$f":"CONCATENATE(selected_functions!$A$12,E817,C817)","v":"-10Terabytes"},"Terabytes",null,{"$f":"$E$19","v":-10},0,0,0,0,0,0]
[null,{"$f":"CONCATENATE(selected_functions!$A$12,E818,C818)","v":"-9Terabytes"},"Terabytes",null,{"$f":"$E$20","v":-9},{"$f":"F797/1024","v":0},0,0,0,0,0]
[null,{"$f":"CONCATENATE(selected_functions!$A$12,E819,C819)","v":"-8Terabytes"},"Terabytes",null,{"$f":"$E$21","v":-8},0,0,0,0,0,0]
[null,{"$f":"CONCATENATE(selected_functions!$A$12,E820,C820)","v":"-7Terabytes"},"Terabytes",null,{"$f":"$E$22","v":-7},0,0,0,0,0,0]
[null,{"$f":"CONCATENATE(selected_functions!$A$12,E821,C821)","v":"-6Terabytes"},"Terabytes",null,{"$f":"$E$23","v":-6},0,0,0,0,0,0]
[null,{"$f":"CONCATENATE(selected_functions!$A$12,E822,C822)","v":"-5Terabytes"},"Terabytes",null,{"$f":"$E$24","v":-5},0,0,0,0,0,0]
[null,{"$f":"CONCATENATE(selected_functions!$A$12,E823,C823)","v":"-4Terabytes"},"Terabytes",null,{"$f":"$E$25","v":-4},0,0,0,0,0,0]
[null,{"$f":"CONCATENATE(selected_functions!$A$12,E824,C824)","v":"-3Terabytes"},"Terabytes",null,{"$f":"$E$26","v":-3},0,0,0,0,0,0]
[null,{"$f":"CONCATENATE(selected_functions!$A$12,E825,C825)","v":"-2Terabytes"},"Terabytes",null,{"$f":"$E$27","v":-2},0,0,0,0,0,0]
[null,{"$f":"CONCATENATE(selected_functions!$A$12,E826,C826)","v":"-1Terabytes"},"Terabytes",null,{"$f":"$E$28","v":-1},0,0,0,0,0,0]
[null,{"$f":"CONCATENATE(selected_functions!$A$12,E827,C827)","v":"0Terabytes"},"Terabytes",null,{"$f":"$E$29","v":0},0,0,0,0,0,0]
[null,{"$f":"CONCATENATE(selected_functions!$A$12,E828,C828)","v":"1Terabytes"},"Terabytes",null,{"$f":"$E$30","v":1},{"$f":"F807/1024","v":0},0,0,0,0,0]
[null,{"$f":"CONCATENATE(selected_functions!$A$12,E829,C829)","v":"2Terabytes"},"Terabytes",null,{"$f":"$E$31","v":2},0,0,0,0,0,0]
[null,{"$f":"CONCATENATE(selected_functions!$A$12,E830,C830)","v":"3Terabytes"},"Terabytes",null,{"$f":"$E$32","v":3},0,0,0,0,0,0]
[null,{"$f":"CONCATENATE(selected_functions!$A$12,E831,C831)","v":"-17Petabytes"},{"$f":"input_lists!$G$15","v":"Petabytes"},null,{"$f":"$E$12","v":-17},0,0,0,0,0,0]
[null,{"$f":"CONCATENATE(selected_functions!$A$12,E832,C832)","v":"-16Petabytes"},{"$f":"C831","v":"Petabytes"},null,{"$f":"$E$13","v":-16},0,0,0,0,0,0]
[null,{"$f":"CONCATENATE(selected_functions!$A$12,E833,C833)","v":"-15Petabytes"},{"$f":"C832","v":"Petabytes"},null,{"$f":"$E$14","v":-15},0,0,0,0,0,0]
[null,{"$f":"CONCATENATE(selected_functions!$A$12,E834,C834)","v":"-14Petabytes"},"Petabytes",null,{"$f":"$E$15","v":-14},0,0,0,0,0,0]
[null,{"$f":"CONCATENATE(selected_functions!$A$12,E835,C835)","v":"-13Petabytes"},"Petabytes",null,{"$f":"$E$16","v":-13},0,0,0,0,0,0]
[null,{"$f":"CONCATENATE(selected_functions!$A$12,E836,C836)","v":"-12Petabytes"},"Petabytes",null,{"$f":"$E$17","v":-12},0,0,0,0,0,0]
[null,{"$f":"CONCATENATE(selected_functions!$A$12,E837,C837)","v":"-11Petabytes"},"Petabytes",null,{"$f":"$E$18","v":-11},0,0,0,0,0,0]
[null,{"$f":"CONCATENATE(selected_functions!$A$12,E838,C838)","v":"-10Petabytes"},"Petabytes",null,{"$f":"$E$19","v":-10},{"$f":"F817/1024","v":0},0,0,0,0,0]
[null,{"$f":"CONCATENATE(selected_functions!$A$12,E839,C839)","v":"-9Petabytes"},"Petabytes",null,{"$f":"$E$20","v":-9},0,0,0,0,0,0]
[null,{"$f":"CONCATENATE(selected_functions!$A$12,E840,C840)","v":"-8Petabytes"},"Petabytes",null,{"$f":"$E$21","v":-8},0,0,0,0,0,0]
[null,{"$f":"CONCATENATE(selected_functions!$A$12,E841,C841)","v":"-7Petabytes"},"Petabytes",null,{"$f":"$E$22","v":-7},0,0,0,0,0,0]
[null,{"$f":"CONCATENATE(selected_functions!$A$12,E842,C842)","v":"-6Petabytes"},"Petabytes",null,{"$f":"$E$23","v":-6},0,0,0,0,0,0]
[null,{"$f":"CONCATENATE(selected_functions!$A$12,E843,C843)","v":"-5Petabytes"},"Petabytes",null,{"$f":"$E$24","v":-5},0,0,0,0,0,0]
[null,{"$f":"CONCATENATE(selected_functions!$A$12,E844,C844)","v":"-4Petabytes"},"Petabytes",null,{"$f":"$E$25","v":-4},0,0,0,0,0,0]
[null,{"$f":"CONCATENATE(selected_functions!$A$12,E845,C845)","v":"-3Petabytes"},"Petabytes",null,{"$f":"$E$26","v":-3},0,0,0,0,0,0]
[null,{"$f":"CONCATENATE(selected_functions!$A$12,E846,C846)","v":"-2Petabytes"},"Petabytes",null,{"$f":"$E$27","v":-2},0,0,0,0,0,0]
[null,{"$f":"CONCATENATE(selected_functions!$A$12,E847,C847)","v":"-1Petabytes"},"Petabytes",null,{"$f":"$E$28","v":-1},0,0,0,0,0,0]
[null,{"$f":"CONCATENATE(selected_functions!$A$12,E848,C848)","v":"0Petabytes"},"Petabytes",null,{"$f":"$E$29","v":0},{"$f":"F827/1024","v":0},0,0,0,0,0]
[null,{"$f":"CONCATENATE(selected_functions!$A$12,E849,C849)","v":"1Petabytes"},"Petabytes",null,{"$f":"$E$30","v":1},0,0,0,0,0,0]
[null,{"$f":"CONCATENATE(selected_functions!$A$12,E850,C850)","v":"2Petabytes"},"Petabytes",null,{"$f":"$E$31","v":2},0,0,0,0,0,0]
[null,{"$f":"CONCATENATE(selected_functions!$A$12,E851,C851)","v":"3Petabytes"},"Petabytes",null,{"$f":"$E$32","v":3},0,0,0,0,0,0]
[null,{"$f":"CONCATENATE(selected_functions!$A$13,E852,C852)","v":"-17Kilobytes"},{"$f":"input_lists!$G$11","v":"Kilobytes"},null,{"$f":"$E$12","v":-17},{"$f":"IF(AND(E852>=input_database!$D$13,E852<input_database!$C$13),input_database!$GC$13,\"0\")","v":"0"},{"$f":"IF(E852<input_database!$C$13,input_database!$GE$13,\"0\")","v":0},{"$f":"IFERROR(input_database!$GH$13,\"0\")","v":0},{"$f":"IF(E852=input_database!$C$13,input_database!$GG$13,\"0\")","v":"0"},{"$f":"IF(E852>=input_database!$C$13,(input_database!$GF$13+input_database!$GD$13),0)","v":0},{"$f":"SUM(F852:J852)","v":0}]
[null,{"$f":"CONCATENATE(selected_functions!$A$13,E853,C853)","v":"-16Kilobytes"},{"$f":"input_lists!$G$11","v":"Kilobytes"},null,{"$f":"$E$13","v":-16},{"$f":"IF(AND(E853>=input_database!$D$13,E853<input_database!$C$13),input_database!$GC$13,\"0\")","v":"0"},{"$f":"IF(E853<input_database!$C$13,input_database!$GE$13,\"0\")","v":0},{"$f":"IFERROR(input_database!$GH$13,\"0\")","v":0},{"$f":"IF(E853=input_database!$C$13,input_database!$GG$13,\"0\")","v":"0"},{"$f":"IF(E853>=input_database!$C$13,(input_database!$GF$13+input_database!$GD$13),0)","v":0},{"$f":"K852+SUM(F853:J853)","v":0}]
[null,{"$f":"CONCATENATE(selected_functions!$A$13,E854,C854)","v":"-15Kilobytes"},{"$f":"input_lists!$G$11","v":"Kilobytes"},null,{"$f":"$E$14","v":-15},{"$f":"IF(AND(E854>=input_database!$D$13,E854<input_database!$C$13),input_database!$GC$13,\"0\")","v":"0"},{"$f":"IF(E854<input_database!$C$13,input_database!$GE$13,\"0\")","v":0},{"$f":"IFERROR(input_database!$GH$13,\"0\")","v":0},{"$f":"IF(E854=input_database!$C$13,input_database!$GG$13,\"0\")","v":"0"},{"$f":"IF(E854>=input_database!$C$13,(input_database!$GF$13+input_database!$GD$13),0)","v":0},{"$f":"K853+SUM(F854:J854)","v":0}]
[null,{"$f":"CONCATENATE(selected_functions!$A$13,E855,C855)","v":"-14Kilobytes"},{"$f":"input_lists!$G$11","v":"Kilobytes"},null,{"$f":"$E$15","v":-14},{"$f":"IF(AND(E855>=input_database!$D$13,E855<input_database!$C$13),input_database!$GC$13,\"0\")","v":"0"},{"$f":"IF(E855<input_database!$C$13,input_database!$GE$13,\"0\")","v":0},{"$f":"IFERROR(input_database!$GH$13,\"0\")","v":0},{"$f":"IF(E855=input_database!$C$13,input_database!$GG$13,\"0\")","v":"0"},{"$f":"IF(E855>=input_database!$C$13,(input_database!$GF$13+input_database!$GD$13),0)","v":0},0]
[null,{"$f":"CONCATENATE(selected_functions!$A$13,E856,C856)","v":"-13Kilobytes"},{"$f":"input_lists!$G$11","v":"Kilobytes"},null,{"$f":"$E$16","v":-13},{"$f":"IF(AND(E856>=input_database!$D$13,E856<input_database!$C$13),input_database!$GC$13,\"0\")","v":"0"},{"$f":"IF(E856<input_database!$C$13,input_database!$GE$13,\"0\")","v":0},{"$f":"IFERROR(input_database!$GH$13,\"0\")","v":0},{"$f":"IF(E856=input_database!$C$13,input_database!$GG$13,\"0\")","v":"0"},{"$f":"IF(E856>=input_database!$C$13,(input_database!$GF$13+input_database!$GD$13),0)","v":0},0]
[null,{"$f":"CONCATENATE(selected_functions!$A$13,E857,C857)","v":"-12Kilobytes"},{"$f":"input_lists!$G$11","v":"Kilobytes"},null,{"$f":"$E$17","v":-12},{"$f":"IF(AND(E857>=input_database!$D$13,E857<input_database!$C$13),input_database!$GC$13,\"0\")","v":"0"},{"$f":"IF(E857<input_database!$C$13,input_database!$GE$13,\"0\")","v":0},{"$f":"IFERROR(input_database!$GH$13,\"0\")","v":0},{"$f":"IF(E857=input_database!$C$13,input_database!$GG$13,\"0\")","v":"0"},{"$f":"IF(E857>=input_database!$C$13,(input_database!$GF$13+input_database!$GD$13),0)","v":0},0]
[null,{"$f":"CONCATENATE(selected_functions!$A$13,E858,C858)","v":"-11Kilobytes"},{"$f":"input_lists!$G$11","v":"Kilobytes"},null,{"$f":"$E$18","v":-11},{"$f":"IF(AND(E858>=input_database!$D$13,E858<input_database!$C$13),input_database!$GC$13,\"0\")","v":"0"},{"$f":"IF(E858<input_database!$C$13,input_database!$GE$13,\"0\")","v":0},{"$f":"IFERROR(input_database!$GH$13,\"0\")","v":0},{"$f":"IF(E858=input_database!$C$13,input_database!$GG$13,\"0\")","v":"0"},{"$f":"IF(E858>=input_database!$C$13,(input_database!$GF$13+input_database!$GD$13),0)","v":0},0]
[null,{"$f":"CONCATENATE(selected_functions!$A$13,E859,C859)","v":"-10Kilobytes"},{"$f":"input_lists!$G$11","v":"Kilobytes"},null,{"$f":"$E$19","v":-10},{"$f":"IF(AND(E859>=input_database!$D$13,E859<input_database!$C$13),input_database!$GC$13,\"0\")","v":"0"},{"$f":"IF(E859<input_database!$C$13,input_database!$GE$13,\"0\")","v":0},{"$f":"IFERROR(input_database!$GH$13,\"0\")","v":0},{"$f":"IF(E859=input_database!$C$13,input_database!$GG$13,\"0\")","v":"0"},{"$f":"IF(E859>=input_database!$C$13,(input_database!$GF$13+input_database!$GD$13),0)","v":0},0]
[null,{"$f":"CONCATENATE(selected_functions!$A$13,E860,C860)","v":"-9Kilobytes"},{"$f":"input_lists!$G$11","v":"Kilobytes"},null,{"$f":"$E$20","v":-9},{"$f":"IF(AND(E860>=input_database!$D$13,E860<input_database!$C$13),input_database!$GC$13,\"0\")","v":"0"},{"$f":"IF(E860<input_database!$C$13,input_database!$GE$13,\"0\")","v":0},{"$f":"IFERROR(input_database!$GH$13,\"0\")","v":0},{"$f":"IF(E860=input_database!$C$13,input_database!$GG$13,\"0\")","v":"0"},{"$f":"IF(E860>=input_database!$C$13,(input_database!$GF$13+input_database!$GD$13),0)","v":0},0]
[null,{"$f":"CONCATENATE(selected_functions!$A$13,E861,C861)","v":"-8Kilobytes"},{"$f":"input_lists!$G$11","v":"Kilobytes"},null,{"$f":"$E$21","v":-8},{"$f":"IF(AND(E861>=input_database!$D$13,E861<input_database!$C$13),input_database!$GC$13,\"0\")","v":"0"},{"$f":"IF(E861<input_database!$C$13,input_database!$GE$13,\"0\")","v":0},{"$f":"IFERROR(input_database!$GH$13,\"0\")","v":0},{"$f":"IF(E861=input_database!$C$13,input_database!$GG$13,\"0\")","v":"0"},{"$f":"IF(E861>=input_database!$C$13,(input_database!$GF$13+input_database!$GD$13),0)","v":0},0]
[null,{"$f":"CONCATENATE(selected_functions!$A$13,E862,C862)","v":"-7Kilobytes"},{"$f":"input_lists!$G$11","v":"Kilobytes"},null,{"$f":"$E$22","v":-7},{"$f":"IF(AND(E862>=input_database!$D$13,E862<input_database!$C$13),input_database!$GC$13,\"0\")","v":"0"},{"$f":"IF(E862<input_database!$C$13,input_database!$GE$13,\"0\")","v":0},{"$f":"IFERROR(input_database!$GH$13,\"0\")","v":0},{"$f":"IF(E862=input_database!$C$13,input_database!$GG$13,\"0\")","v":"0"},{"$f":"IF(E862>=input_database!$C$13,(input_database!$GF$13+input_database!$GD$13),0)","v":0},0]
[null,{"$f":"CONCATENATE(selected_functions!$A$13,E863,C863)","v":"-6Kilobytes"},{"$f":"input_lists!$G$11","v":"Kilobytes"},null,{"$f":"$E$23","v":-6},{"$f":"IF(AND(E863>=input_database!$D$13,E863<input_database!$C$13),input_database!$GC$13,\"0\")","v":"0"},{"$f":"IF(E863<input_database!$C$13,input_database!$GE$13,\"0\")","v":0},{"$f":"IFERROR(input_database!$GH$13,\"0\")","v":0},{"$f":"IF(E863=input_database!$C$13,input_database!$GG$13,\"0\")","v":"0"},{"$f":"IF(E863>=input_database!$C$13,(input_database!$GF$13+input_database!$GD$13),0)","v":0},0]
[null,{"$f":"CONCATENATE(selected_functions!$A$13,E864,C864)","v":"-5Kilobytes"},{"$f":"input_lists!$G$11","v":"Kilobytes"},null,{"$f":"$E$24","v":-5},{"$f":"IF(AND(E864>=input_database!$D$13,E864<input_database!$C$13),input_database!$GC$13,\"0\")","v":"0"},{"$f":"IF(E864<input_database!$C$13,input_database!$GE$13,\"0\")","v":0},{"$f":"IFERROR(input_database!$GH$13,\"0\")","v":0},{"$f":"IF(E864=input_database!$C$13,input_database!$GG$13,\"0\")","v":"0"},{"$f":"IF(E864>=input_database!$C$13,(input_database!$GF$13+input_database!$GD$13),0)","v":0},0]
[null,{"$f":"CONCATENATE(selected_functions!$A$13,E865,C865)","v":"-4Kilobytes"},{"$f":"input_lists!$G$11","v":"Kilobytes"},null,{"$f":"$E$25","v":-4},{"$f":"IF(AND(E865>=input_database!$D$13,E865<input_database!$C$13),input_database!$GC$13,\"0\")","v":"0"},{"$f":"IF(E865<input_database!$C$13,input_database!$GE$13,\"0\")","v":0},{"$f":"IFERROR(input_database!$GH$13,\"0\")","v":0},{"$f":"IF(E865=input_database!$C$13,input_database!$GG$13,\"0\")","v":"0"},{"$f":"IF(E865>=input_database!$C$13,(input_database!$GF$13+input_database!$GD$13),0)","v":0},0]
[null,{"$f":"CONCATENATE(selected_functions!$A$13,E866,C866)","v":"-3Kilobytes"},{"$f":"input_lists!$G$11","v":"Kilobytes"},null,{"$f":"$E$26","v":-3},{"$f":"IF(AND(E866>=input_database!$D$13,E866<input_database!$C$13),input_database!$GC$13,\"0\")","v":"0"},{"$f":"IF(E866<input_database!$C$13,input_database!$GE$13,\"0\")","v":0},{"$f":"IFERROR(input_database!$GH$13,\"0\")","v":0},{"$f":"IF(E866=input_database!$C$13,input_database!$GG$13,\"0\")","v":"0"},{"$f":"IF(E866>=input_database!$C$13,(input_database!$GF$13+input_database!$GD$13),0)","v":0},0]
[null,{"$f":"CONCATENATE(selected_functions!$A$13,E867,C867)","v":"-2Kilobytes"},{"$f":"input_lists!$G$11","v":"Kilobytes"},null,{"$f":"$E$27","v":-2},{"$f":"IF(AND(E867>=input_database!$D$13,E867<input_database!$C$13),input_database!$GC$13,\"0\")","v":"0"},{"$f":"IF(E867<input_database!$C$13,input_database!$GE$13,\"0\")","v":0},{"$f":"IFERROR(input_database!$GH$13,\"0\")","v":0},{"$f":"IF(E867=input_database!$C$13,input_database!$GG$13,\"0\")","v":"0"},{"$f":"IF(E867>=input_database!$C$13,(input_database!$GF$13+input_database!$GD$13),0)","v":0},0]
[null,{"$f":"CONCATENATE(selected_functions!$A$13,E868,C868)","v":"-1Kilobytes"},{"$f":"input_lists!$G$11","v":"Kilobytes"},null,{"$f":"$E$28","v":-1},{"$f":"IF(AND(E868>=input_database!$D$13,E868<input_database!$C$13),input_database!$GC$13,\"0\")","v":"0"},{"$f":"IF(E868<input_database!$C$13,input_database!$GE$13,\"0\")","v":0},{"$f":"IFERROR(input_database!$GH$13,\"0\")","v":0},{"$f":"IF(E868=input_database!$C$13,input_database!$GG$13,\"0\")","v":"0"},{"$f":"IF(E868>=input_database!$C$13,(input_database!$GF$13+input_database!$GD$13),0)","v":0},0]
[null,{"$f":"CONCATENATE(selected_functions!$A$13,E869,C869)","v":"0Kilobytes"},{"$f":"input_lists!$G$11","v":"Kilobytes"},null,{"$f":"$E$29","v":0},{"$f":"IF(AND(E869>=input_database!$D$13,E869<input_database!$C$13),input_database!$GC$13,\"0\")","v":"0"},{"$f":"IF(E869<input_database!$C$13,input_database!$GE$13,\"0\")","v":"0"},{"$f":"IFERROR(input_database!$GH$13,\"0\")","v":0},{"$f":"IF(E869=input_database!$C$13,input_database!$GG$13,\"0\")","v":0},{"$f":"IF(E869>=input_database!$C$13,(input_database!$GF$13+input_database!$GD$13),0)","v":0},0]
[null,{"$f":"CONCATENATE(selected_functions!$A$13,E870,C870)","v":"1Kilobytes"},{"$f":"input_lists!$G$11","v":"Kilobytes"},null,{"$f":"$E$30","v":1},{"$f":"IF(AND(E870>=input_database!$D$13,E870<input_database!$C$13),input_database!$GC$13,\"0\")","v":"0"},{"$f":"IF(E870<input_database!$C$13,input_database!$GE$13,\"0\")","v":"0"},{"$f":"IFERROR(input_database!$GH$13,\"0\")","v":0},{"$f":"IF(E870=input_database!$C$13,input_database!$GG$13,\"0\")","v":"0"},{"$f":"IF(E870>=input_database!$C$13,(input_database!$GF$13+input_database!$GD$13),0)","v":0},0]
[null,{"$f":"CONCATENATE(selected_functions!$A$13,E871,C871)","v":"2Kilobytes"},{"$f":"input_lists!$G$11","v":"Kilobytes"},null,{"$f":"$E$31","v":2},{"$f":"IF(AND(E871>=input_database!$D$13,E871<input_database!$C$13),input_database!$GC$13,\"0\")","v":"0"},{"$f":"IF(E871<input_database!$C$13,input_database!$GE$13,\"0\")","v":"0"},{"$f":"IFERROR(input_database!$GH$13,\"0\")","v":0},{"$f":"IF(E871=input_database!$C$13,input_database!$GG$13,\"0\")","v":"0"},{"$f":"IF(E871>=input_database!$C$13,(input_database!$GF$13+input_database!$GD$13),0)","v":0},0]
[null,{"$f":"CONCATENATE(selected_functions!$A$13,E872,C872)","v":"3Kilobytes"},{"$f":"input_lists!$G$11","v":"Kilobytes"},null,{"$f":"$E$32","v":3},{"$f":"IF(AND(E872>=input_database!$D$13,E872<input_database!$C$13),input_database!$GC$13,\"0\")","v":"0"},{"$f":"IF(E872<input_database!$C$13,input_database!$GE$13,\"0\")","v":"0"},{"$f":"IFERROR(input_database!$GH$13,\"0\")","v":0},{"$f":"IF(E872=input_database!$C$13,input_database!$GG$13,\"0\")","v":"0"},{"$f":"IF(E872>=input_database!$C$13,(input_database!$GF$13+input_database!$GD$13),0)","v":0},0]
[null,{"$f":"CONCATENATE(selected_functions!$A$13,E873,C873)","v":"-17Megabytes"},{"$f":"input_lists!$G$12","v":"Megabytes"},null,{"$f":"$E$12","v":-17},{"$f":"F852/1024","v":0},0,0,0,0,0]
[null,{"$f":"CONCATENATE(selected_functions!$A$13,E874,C874)","v":"-16Megabytes"},{"$f":"C873","v":"Megabytes"},null,{"$f":"$E$13","v":-16},0,0,0,0,0,0]
[null,{"$f":"CONCATENATE(selected_functions!$A$13,E875,C875)","v":"-15Megabytes"},{"$f":"C874","v":"Megabytes"},null,{"$f":"$E$14","v":-15},0,0,0,0,0,0]
[null,{"$f":"CONCATENATE(selected_functions!$A$13,E876,C876)","v":"-14Megabytes"},"Megabytes",null,{"$f":"$E$15","v":-14},0,0,0,0,0,0]
[null,{"$f":"CONCATENATE(selected_functions!$A$13,E877,C877)","v":"-13Megabytes"},"Megabytes",null,{"$f":"$E$16","v":-13},0,0,0,0,0,0]
[null,{"$f":"CONCATENATE(selected_functions!$A$13,E878,C878)","v":"-12Megabytes"},"Megabytes",null,{"$f":"$E$17","v":-12},0,0,0,0,0,0]
[null,{"$f":"CONCATENATE(selected_functions!$A$13,E879,C879)","v":"-11Megabytes"},"Megabytes",null,{"$f":"$E$18","v":-11},0,0,0,0,0,0]
[null,{"$f":"CONCATENATE(selected_functions!$A$13,E880,C880)","v":"-10Megabytes"},"Megabytes",null,{"$f":"$E$19","v":-10},0,0,0,0,0,0]
[null,{"$f":"CONCATENATE(selected_functions!$A$13,E881,C881)","v":"-9Megabytes"},"Megabytes",null,{"$f":"$E$20","v":-9},0,0,0,0,0,0]
[null,{"$f":"CONCATENATE(selected_functions!$A$13,E882,C882)","v":"-8Megabytes"},"Megabytes",null,{"$f":"$E$21","v":-8},0,0,0,0,0,0]
[null,{"$f":"CONCATENATE(selected_functions!$A$13,E883,C883)","v":"-7Megabytes"},"Megabytes",null,{"$f":"$E$22","v":-7},{"$f":"F862/1024","v":0},0,0,0,0,0]
[null,{"$f":"CONCATENATE(selected_functions!$A$13,E884,C884)","v":"-6Megabytes"},"Megabytes",null,{"$f":"$E$23","v":-6},0,0,0,0,0,0]
[null,{"$f":"CONCATENATE(selected_functions!$A$13,E885,C885)","v":"-5Megabytes"},"Megabytes",null,{"$f":"$E$24","v":-5},0,0,0,0,0,0]
[null,{"$f":"CONCATENATE(selected_functions!$A$13,E886,C886)","v":"-4Megabytes"},"Megabytes",null,{"$f":"$E$25","v":-4},0,0,0,0,0,0]
[null,{"$f":"CONCATENATE(selected_functions!$A$13,E887,C887)","v":"-3Megabytes"},"Megabytes",null,{"$f":"$E$26","v":-3},0,0,0,0,0,0]
[null,{"$f":"CONCATENATE(selected_functions!$A$13,E888,C888)","v":"-2Megabytes"},"Megabytes",null,{"$f":"$E$27","v":-2},0,0,0,0,0,0]
[null,{"$f":"CONCATENATE(selected_functions!$A$13,E889,C889)","v":"-1Megabytes"},"Megabytes",null,{"$f":"$E$28","v":-1},0,0,0,0,0,0]
[null,{"$f":"CONCATENATE(selected_functions!$A$13,E890,C890)","v":"0Megabytes"},"Megabytes",null,{"$f":"$E$29","v":0},0,0,0,0,0,0]
[null,{"$f":"CONCATENATE(selected_functions!$A$13,E891,C891)","v":"1Megabytes"},"Megabytes",null,{"$f":"$E$30","v":1},0,0,0,0,0,0]
[null,{"$f":"CONCATENATE(selected_functions!$A$13,E892,C892)","v":"2Megabytes"},"Megabytes",null,{"$f":"$E$31","v":2},0,0,0,0,0,0]
[null,{"$f":"CONCATENATE(selected_functions!$A$13,E893,C893)","v":"3Megabytes"},{"$f":"C892","v":"Megabytes"},null,{"$f":"$E$32","v":3},{"$f":"F872/1024","v":0},0,0,0,0,0]
[null,{"$f":"CONCATENATE(selected_functions!$A$13,E894,C894)","v":"-17Gigabytes"},{"$f":"input_lists!$G$13","v":"Gigabytes"},null,{"$f":"$E$12","v":-17},0,0,0,0,0,0]
[null,{"$f":"CONCATENATE(selected_functions!$A$13,E895,C895)","v":"-16Gigabytes"},{"$f":"C894","v":"Gigabytes"},null,{"$f":"$E$13","v":-16},0,0,0,0,0,0]
[null,{"$f":"CONCATENATE(selected_functions!$A$13,E896,C896)","v":"-15Gigabytes"},{"$f":"C895","v":"Gigabytes"},null,{"$f":"$E$14","v":-15},0,0,0,0,0,0]
[null,{"$f":"CONCATENATE(selected_functions!$A$13,E897,C897)","v":"-14Gigabytes"},"Gigabytes",null,{"$f":"$E$15","v":-14},0,0,0,0,0,0]
[null,{"$f":"CONCATENATE(selected_functions!$A$13,E898,C898)","v":"-13Gigabytes"},"Gigabytes",null,{"$f":"$E$16","v":-13},0,0,0,0,0,0]
[null,{"$f":"CONCATENATE(selected_functions!$A$13,E899,C899)","v":"-12Gigabytes"},"Gigabytes",null,{"$f":"$E$17","v":-12},0,0,0,0,0,0]
[null,{"$f":"CONCATENATE(selected_functions!$A$13,E900,C900)","v":"-11Gigabytes"},"Gigabytes",null,{"$f":"$E$18","v":-11},0,0,0,0,0,0]
[null,{"$f":"CONCATENATE(selected_functions!$A$13,E901,C901)","v":"-10Gigabytes"},"Gigabytes",null,{"$f":"$E$19","v":-10},0,0,0,0,0,0]
[null,{"$f":"CONCATENATE(selected_functions!$A$13,E902,C902)","v":"-9Gigabytes"},"Gigabytes",null,{"$f":"$E$20","v":-9},0,0,0,0,0,0]
[null,{"$f":"CONCATENATE(selected_functions!$A$13,E903,C903)","v":"-8Gigabytes"},"Gigabytes",null,{"$f":"$E$21","v":-8},{"$f":"F882/1024","v":0},0,0,0,0,0]
[null,{"$f":"CONCATENATE(selected_functions!$A$13,E904,C904)","v":"-7Gigabytes"},"Gigabytes",null,{"$f":"$E$22","v":-7},0,0,0,0,0,0]
[null,{"$f":"CONCATENATE(selected_functions!$A$13,E905,C905)","v":"-6Gigabytes"},"Gigabytes",null,{"$f":"$E$23","v":-6},0,0,0,0,0,0]
[null,{"$f":"CONCATENATE(selected_functions!$A$13,E906,C906)","v":"-5Gigabytes"},"Gigabytes",null,{"$f":"$E$24","v":-5},0,0,0,0,0,0]
[null,{"$f":"CONCATENATE(selected_functions!$A$13,E907,C907)","v":"-4Gigabytes"},"Gigabytes",null,{"$f":"$E$25","v":-4},0,0,0,0,0,0]
[null,{"$f":"CONCATENATE(selected_functions!$A$13,E908,C908)","v":"-3Gigabytes"},"Gigabytes",null,{"$f":"$E$26","v":-3},0,0,0,0,0,0]
[null,{"$f":"CONCATENATE(selected_functions!$A$13,E909,C909)","v":"-2Gigabytes"},"Gigabytes",null,{"$f":"$E$27","v":-2},0,0,0,0,0,0]
[null,{"$f":"CONCATENATE(selected_functions!$A$13,E910,C910)","v":"-1Gigabytes"},"Gigabytes",null,{"$f":"$E$28","v":-1},0,0,0,0,0,0]
[null,{"$f":"CONCATENATE(selected_functions!$A$13,E911,C911)","v":"0Gigabytes"},"Gigabytes",null,{"$f":"$E$29","v":0},0,0,0,0,0,0]
[null,{"$f":"CONCATENATE(selected_functions!$A$13,E912,C912)","v":"1Gigabytes"},"Gigabytes",null,{"$f":"$E$30","v":1},0,0,0,0,0,0]
[null,{"$f":"CONCATENATE(selected_functions!$A$13,E913,C913)","v":"2Gigabytes"},"Gigabytes",null,{"$f":"$E$31","v":2},{"$f":"F892/1024","v":0},0,0,0,0,0]
[null,{"$f":"CONCATENATE(selected_functions!$A$13,E914,C914)","v":"3Gigabytes"},"Gigabytes",null,{"$f":"$E$32","v":3},0,0,0,0,0,0]
[null,{"$f":"CONCATENATE(selected_functions!$A$13,E915,C915)","v":"-17Terabytes"},{"$f":"input_lists!$G$14","v":"Terabytes"},null,{"$f":"$E$12","v":-17},0,0,0,0,0,0]
[null,{"$f":"CONCATENATE(selected_functions!$A$13,E916,C916)","v":"-16Terabytes"},{"$f":"C915","v":"Terabytes"},null,{"$f":"$E$13","v":-16},0,0,0,0,0,0]
[null,{"$f":"CONCATENATE(selected_functions!$A$13,E917,C917)","v":"-15Terabytes"},{"$f":"C916","v":"Terabytes"},null,{"$f":"$E$14","v":-15},0,0,0,0,0,0]
[null,{"$f":"CONCATENATE(selected_functions!$A$13,E918,C918)","v":"-14Terabytes"},"Terabytes",null,{"$f":"$E$15","v":-14},0,0,0,0,0,0]
[null,{"$f":"CONCATENATE(selected_functions!$A$13,E919,C919)","v":"-13Terabytes"},"Terabytes",null,{"$f":"$E$16","v":-13},0,0,0,0,0,0]
[null,{"$f":"CONCATENATE(selected_functions!$A$13,E920,C920)","v":"-12Terabytes"},"Terabytes",null,{"$f":"$E$17","v":-12},0,0,0,0,0,0]
[null,{"$f":"CONCATENATE(selected_functions!$A$13,E921,C921)","v":"-11Terabytes"},"Terabytes",null,{"$f":"$E$18","v":-11},0,0,0,0,0,0]
[null,{"$f":"CONCATENATE(selected_functions!$A$13,E922,C922)","v":"-10Terabytes"},"Terabytes",null,{"$f":"$E$19","v":-10},0,0,0,0,0,0]
[null,{"$f":"CONCATENATE(selected_functions!$A$13,E923,C923)","v":"-9Terabytes"},"Terabytes",null,{"$f":"$E$20","v":-9},{"$f":"F902/1024","v":0},0,0,0,0,0]
[null,{"$f":"CONCATENATE(selected_functions!$A$13,E924,C924)","v":"-8Terabytes"},"Terabytes",null,{"$f":"$E$21","v":-8},0,0,0,0,0,0]
[null,{"$f":"CONCATENATE(selected_functions!$A$13,E925,C925)","v":"-7Terabytes"},"Terabytes",null,{"$f":"$E$22","v":-7},0,0,0,0,0,0]
[null,{"$f":"CONCATENATE(selected_functions!$A$13,E926,C926)","v":"-6Terabytes"},"Terabytes",null,{"$f":"$E$23","v":-6},0,0,0,0,0,0]
[null,{"$f":"CONCATENATE(selected_functions!$A$13,E927,C927)","v":"-5Terabytes"},"Terabytes",null,{"$f":"$E$24","v":-5},0,0,0,0,0,0]
[null,{"$f":"CONCATENATE(selected_functions!$A$13,E928,C928)","v":"-4Terabytes"},"Terabytes",null,{"$f":"$E$25","v":-4},0,0,0,0,0,0]
[null,{"$f":"CONCATENATE(selected_functions!$A$13,E929,C929)","v":"-3Terabytes"},"Terabytes",null,{"$f":"$E$26","v":-3},0,0,0,0,0,0]
[null,{"$f":"CONCATENATE(selected_functions!$A$13,E930,C930)","v":"-2Terabytes"},"Terabytes",null,{"$f":"$E$27","v":-2},0,0,0,0,0,0]
[null,{"$f":"CONCATENATE(selected_functions!$A$13,E931,C931)","v":"-1Terabytes"},"Terabytes",null,{"$f":"$E$28","v":-1},0,0,0,0,0,0]
[null,{"$f":"CONCATENATE(selected_functions!$A$13,E932,C932)","v":"0Terabytes"},"Terabytes",null,{"$f":"$E$29","v":0},0,0,0,0,0,0]
[null,{"$f":"CONCATENATE(selected_functions!$A$13,E933,C933)","v":"1Terabytes"},"Terabytes",null,{"$f":"$E$30","v":1},{"$f":"F912/1024","v":0},0,0,0,0,0]
[null,{"$f":"CONCATENATE(selected_functions!$A$13,E934,C934)","v":"2Terabytes"},"Terabytes",null,{"$f":"$E$31","v":2},0,0,0,0,0,0]
[null,{"$f":"CONCATENATE(selected_functions!$A$13,E935,C935)","v":"3Terabytes"},"Terabytes",null,{"$f":"$E$32","v":3},0,0,0,0,0,0]
[null,{"$f":"CONCATENATE(selected_functions!$A$13,E936,C936)","v":"-17Petabytes"},{"$f":"input_lists!$G$15","v":"Petabytes"},null,{"$f":"$E$12","v":-17},0,0,0,0,0,0]
[null,{"$f":"CONCATENATE(selected_functions!$A$13,E937,C937)","v":"-16Petabytes"},{"$f":"C936","v":"Petabytes"},null,{"$f":"$E$13","v":-16},0,0,0,0,0,0]
[null,{"$f":"CONCATENATE(selected_functions!$A$13,E938,C938)","v":"-15Petabytes"},{"$f":"C937","v":"Petabytes"},null,{"$f":"$E$14","v":-15},0,0,0,0,0,0]
[null,{"$f":"CONCATENATE(selected_functions!$A$13,E939,C939)","v":"-14Petabytes"},"Petabytes",null,{"$f":"$E$15","v":-14},0,0,0,0,0,0]
[null,{"$f":"CONCATENATE(selected_functions!$A$13,E940,C940)","v":"-13Petabytes"},"Petabytes",null,{"$f":"$E$16","v":-13},0,0,0,0,0,0]
[null,{"$f":"CONCATENATE(selected_functions!$A$13,E941,C941)","v":"-12Petabytes"},"Petabytes",null,{"$f":"$E$17","v":-12},0,0,0,0,0,0]
[null,{"$f":"CONCATENATE(selected_functions!$A$13,E942,C942)","v":"-11Petabytes"},"Petabytes",null,{"$f":"$E$18","v":-11},0,0,0,0,0,0]
[null,{"$f":"CONCATENATE(selected_functions!$A$13,E943,C943)","v":"-10Petabytes"},"Petabytes",null,{"$f":"$E$19","v":-10},{"$f":"F922/1024","v":0},0,0,0,0,0]
[null,{"$f":"CONCATENATE(selected_functions!$A$13,E944,C944)","v":"-9Petabytes"},"Petabytes",null,{"$f":"$E$20","v":-9},0,0,0,0,0,0]
[null,{"$f":"CONCATENATE(selected_functions!$A$13,E945,C945)","v":"-8Petabytes"},"Petabytes",null,{"$f":"$E$21","v":-8},0,0,0,0,0,0]
[null,{"$f":"CONCATENATE(selected_functions!$A$13,E946,C946)","v":"-7Petabytes"},"Petabytes",null,{"$f":"$E$22","v":-7},0,0,0,0,0,0]
[null,{"$f":"CONCATENATE(selected_functions!$A$13,E947,C947)","v":"-6Petabytes"},"Petabytes",null,{"$f":"$E$23","v":-6},0,0,0,0,0,0]
[null,{"$f":"CONCATENATE(selected_functions!$A$13,E948,C948)","v":"-5Petabytes"},"Petabytes",null,{"$f":"$E$24","v":-5},0,0,0,0,0,0]
[null,{"$f":"CONCATENATE(selected_functions!$A$13,E949,C949)","v":"-4Petabytes"},"Petabytes",null,{"$f":"$E$25","v":-4},0,0,0,0,0,0]
[null,{"$f":"CONCATENATE(selected_functions!$A$13,E950,C950)","v":"-3Petabytes"},"Petabytes",null,{"$f":"$E$26","v":-3},0,0,0,0,0,0]
[null,{"$f":"CONCATENATE(selected_functions!$A$13,E951,C951)","v":"-2Petabytes"},"Petabytes",null,{"$f":"$E$27","v":-2},0,0,0,0,0,0]
[null,{"$f":"CONCATENATE(selected_functions!$A$13,E952,C952)","v":"-1Petabytes"},"Petabytes",null,{"$f":"$E$28","v":-1},0,0,0,0,0,0]
[null,{"$f":"CONCATENATE(selected_functions!$A$13,E953,C953)","v":"0Petabytes"},"Petabytes",null,{"$f":"$E$29","v":0},{"$f":"F932/1024","v":0},0,0,0,0,0]
[null,{"$f":"CONCATENATE(selected_functions!$A$13,E954,C954)","v":"1Petabytes"},"Petabytes",null,{"$f":"$E$30","v":1},0,0,0,0,0,0]
[null,{"$f":"CONCATENATE(selected_functions!$A$13,E955,C955)","v":"2Petabytes"},"Petabytes",null,{"$f":"$E$31","v":2},0,0,0,0,0,0]
[null,{"$f":"CONCATENATE(selected_functions!$A$13,E956,C956)","v":"3Petabytes"},"Petabytes",null,{"$f":"$E$32","v":3},0,0,0,0,0,0]
[null,{"$f":"CONCATENATE(selected_functions!$A$14,E957,C957)","v":"-17Kilobytes"},{"$f":"input_lists!$G$11","v":"Kilobytes"},null,{"$f":"$E$12","v":-17},{"$f":"IF(AND(E957>=input_database!$D$14,E957<input_database!$C$14),input_database!$GC$14,\"0\")","v":"0"},{"$f":"IF(E957<input_database!$C$14,input_database!$GE$14,\"0\")","v":0},{"$f":"IFERROR(input_database!$GH$14,\"0\")","v":0},{"$f":"IF(E957=input_database!$C$14,input_database!$GG$14,\"0\")","v":"0"},{"$f":"IF(E957>=input_database!$C$14,(input_database!$GF$14+input_database!$GD$14),0)","v":0},{"$f":"SUM(F957:J957)","v":0}]
[null,{"$f":"CONCATENATE(selected_functions!$A$14,E958,C958)","v":"-16Kilobytes"},{"$f":"input_lists!$G$11","v":"Kilobytes"},null,{"$f":"$E$13","v":-16},{"$f":"IF(AND(E958>=input_database!$D$14,E958<input_database!$C$14),input_database!$GC$14,\"0\")","v":"0"},{"$f":"IF(E958<input_database!$C$14,input_database!$GE$14,\"0\")","v":0},{"$f":"IFERROR(input_database!$GH$14,\"0\")","v":0},{"$f":"IF(E958=input_database!$C$14,input_database!$GG$14,\"0\")","v":"0"},{"$f":"IF(E958>=input_database!$C$14,(input_database!$GF$14+input_database!$GD$14),0)","v":0},{"$f":"K957+SUM(F958:J958)","v":0}]
[null,{"$f":"CONCATENATE(selected_functions!$A$14,E959,C959)","v":"-15Kilobytes"},{"$f":"input_lists!$G$11","v":"Kilobytes"},null,{"$f":"$E$14","v":-15},{"$f":"IF(AND(E959>=input_database!$D$14,E959<input_database!$C$14),input_database!$GC$14,\"0\")","v":"0"},{"$f":"IF(E959<input_database!$C$14,input_database!$GE$14,\"0\")","v":0},{"$f":"IFERROR(input_database!$GH$14,\"0\")","v":0},{"$f":"IF(E959=input_database!$C$14,input_database!$GG$14,\"0\")","v":"0"},{"$f":"IF(E959>=input_database!$C$14,(input_database!$GF$14+input_database!$GD$14),0)","v":0},{"$f":"K958+SUM(F959:J959)","v":0}]
[null,{"$f":"CONCATENATE(selected_functions!$A$14,E960,C960)","v":"-14Kilobytes"},{"$f":"input_lists!$G$11","v":"Kilobytes"},null,{"$f":"$E$15","v":-14},{"$f":"IF(AND(E960>=input_database!$D$14,E960<input_database!$C$14),input_database!$GC$14,\"0\")","v":"0"},{"$f":"IF(E960<input_database!$C$14,input_database!$GE$14,\"0\")","v":0},{"$f":"IFERROR(input_database!$GH$14,\"0\")","v":0},{"$f":"IF(E960=input_database!$C$14,input_database!$GG$14,\"0\")","v":"0"},{"$f":"IF(E960>=input_database!$C$14,(input_database!$GF$14+input_database!$GD$14),0)","v":0},0]
[null,{"$f":"CONCATENATE(selected_functions!$A$14,E961,C961)","v":"-13Kilobytes"},{"$f":"input_lists!$G$11","v":"Kilobytes"},null,{"$f":"$E$16","v":-13},{"$f":"IF(AND(E961>=input_database!$D$14,E961<input_database!$C$14),input_database!$GC$14,\"0\")","v":"0"},{"$f":"IF(E961<input_database!$C$14,input_database!$GE$14,\"0\")","v":0},{"$f":"IFERROR(input_database!$GH$14,\"0\")","v":0},{"$f":"IF(E961=input_database!$C$14,input_database!$GG$14,\"0\")","v":"0"},{"$f":"IF(E961>=input_database!$C$14,(input_database!$GF$14+input_database!$GD$14),0)","v":0},0]
[null,{"$f":"CONCATENATE(selected_functions!$A$14,E962,C962)","v":"-12Kilobytes"},{"$f":"input_lists!$G$11","v":"Kilobytes"},null,{"$f":"$E$17","v":-12},{"$f":"IF(AND(E962>=input_database!$D$14,E962<input_database!$C$14),input_database!$GC$14,\"0\")","v":"0"},{"$f":"IF(E962<input_database!$C$14,input_database!$GE$14,\"0\")","v":0},{"$f":"IFERROR(input_database!$GH$14,\"0\")","v":0},{"$f":"IF(E962=input_database!$C$14,input_database!$GG$14,\"0\")","v":"0"},{"$f":"IF(E962>=input_database!$C$14,(input_database!$GF$14+input_database!$GD$14),0)","v":0},0]
[null,{"$f":"CONCATENATE(selected_functions!$A$14,E963,C963)","v":"-11Kilobytes"},{"$f":"input_lists!$G$11","v":"Kilobytes"},null,{"$f":"$E$18","v":-11},{"$f":"IF(AND(E963>=input_database!$D$14,E963<input_database!$C$14),input_database!$GC$14,\"0\")","v":"0"},{"$f":"IF(E963<input_database!$C$14,input_database!$GE$14,\"0\")","v":0},{"$f":"IFERROR(input_database!$GH$14,\"0\")","v":0},{"$f":"IF(E963=input_database!$C$14,input_database!$GG$14,\"0\")","v":"0"},{"$f":"IF(E963>=input_database!$C$14,(input_database!$GF$14+input_database!$GD$14),0)","v":0},0]
[null,{"$f":"CONCATENATE(selected_functions!$A$14,E964,C964)","v":"-10Kilobytes"},{"$f":"input_lists!$G$11","v":"Kilobytes"},null,{"$f":"$E$19","v":-10},{"$f":"IF(AND(E964>=input_database!$D$14,E964<input_database!$C$14),input_database!$GC$14,\"0\")","v":"0"},{"$f":"IF(E964<input_database!$C$14,input_database!$GE$14,\"0\")","v":0},{"$f":"IFERROR(input_database!$GH$14,\"0\")","v":0},{"$f":"IF(E964=input_database!$C$14,input_database!$GG$14,\"0\")","v":"0"},{"$f":"IF(E964>=input_database!$C$14,(input_database!$GF$14+input_database!$GD$14),0)","v":0},0]
[null,{"$f":"CONCATENATE(selected_functions!$A$14,E965,C965)","v":"-9Kilobytes"},{"$f":"input_lists!$G$11","v":"Kilobytes"},null,{"$f":"$E$20","v":-9},{"$f":"IF(AND(E965>=input_database!$D$14,E965<input_database!$C$14),input_database!$GC$14,\"0\")","v":"0"},{"$f":"IF(E965<input_database!$C$14,input_database!$GE$14,\"0\")","v":0},{"$f":"IFERROR(input_database!$GH$14,\"0\")","v":0},{"$f":"IF(E965=input_database!$C$14,input_database!$GG$14,\"0\")","v":"0"},{"$f":"IF(E965>=input_database!$C$14,(input_database!$GF$14+input_database!$GD$14),0)","v":0},0]
[null,{"$f":"CONCATENATE(selected_functions!$A$14,E966,C966)","v":"-8Kilobytes"},{"$f":"input_lists!$G$11","v":"Kilobytes"},null,{"$f":"$E$21","v":-8},{"$f":"IF(AND(E966>=input_database!$D$14,E966<input_database!$C$14),input_database!$GC$14,\"0\")","v":"0"},{"$f":"IF(E966<input_database!$C$14,input_database!$GE$14,\"0\")","v":0},{"$f":"IFERROR(input_database!$GH$14,\"0\")","v":0},{"$f":"IF(E966=input_database!$C$14,input_database!$GG$14,\"0\")","v":"0"},{"$f":"IF(E966>=input_database!$C$14,(input_database!$GF$14+input_database!$GD$14),0)","v":0},0]
[null,{"$f":"CONCATENATE(selected_functions!$A$14,E967,C967)","v":"-7Kilobytes"},{"$f":"input_lists!$G$11","v":"Kilobytes"},null,{"$f":"$E$22","v":-7},{"$f":"IF(AND(E967>=input_database!$D$14,E967<input_database!$C$14),input_database!$GC$14,\"0\")","v":"0"},{"$f":"IF(E967<input_database!$C$14,input_database!$GE$14,\"0\")","v":0},{"$f":"IFERROR(input_database!$GH$14,\"0\")","v":0},{"$f":"IF(E967=input_database!$C$14,input_database!$GG$14,\"0\")","v":"0"},{"$f":"IF(E967>=input_database!$C$14,(input_database!$GF$14+input_database!$GD$14),0)","v":0},0]
[null,{"$f":"CONCATENATE(selected_functions!$A$14,E968,C968)","v":"-6Kilobytes"},{"$f":"input_lists!$G$11","v":"Kilobytes"},null,{"$f":"$E$23","v":-6},{"$f":"IF(AND(E968>=input_database!$D$14,E968<input_database!$C$14),input_database!$GC$14,\"0\")","v":"0"},{"$f":"IF(E968<input_database!$C$14,input_database!$GE$14,\"0\")","v":0},{"$f":"IFERROR(input_database!$GH$14,\"0\")","v":0},{"$f":"IF(E968=input_database!$C$14,input_database!$GG$14,\"0\")","v":"0"},{"$f":"IF(E968>=input_database!$C$14,(input_database!$GF$14+input_database!$GD$14),0)","v":0},0]
[null,{"$f":"CONCATENATE(selected_functions!$A$14,E969,C969)","v":"-5Kilobytes"},{"$f":"input_lists!$G$11","v":"Kilobytes"},null,{"$f":"$E$24","v":-5},{"$f":"IF(AND(E969>=input_database!$D$14,E969<input_database!$C$14),input_database!$GC$14,\"0\")","v":"0"},{"$f":"IF(E969<input_database!$C$14,input_database!$GE$14,\"0\")","v":0},{"$f":"IFERROR(input_database!$GH$14,\"0\")","v":0},{"$f":"IF(E969=input_database!$C$14,input_database!$GG$14,\"0\")","v":"0"},{"$f":"IF(E969>=input_database!$C$14,(input_database!$GF$14+input_database!$GD$14),0)","v":0},0]
[null,{"$f":"CONCATENATE(selected_functions!$A$14,E970,C970)","v":"-4Kilobytes"},{"$f":"input_lists!$G$11","v":"Kilobytes"},null,{"$f":"$E$25","v":-4},{"$f":"IF(AND(E970>=input_database!$D$14,E970<input_database!$C$14),input_database!$GC$14,\"0\")","v":"0"},{"$f":"IF(E970<input_database!$C$14,input_database!$GE$14,\"0\")","v":0},{"$f":"IFERROR(input_database!$GH$14,\"0\")","v":0},{"$f":"IF(E970=input_database!$C$14,input_database!$GG$14,\"0\")","v":"0"},{"$f":"IF(E970>=input_database!$C$14,(input_database!$GF$14+input_database!$GD$14),0)","v":0},0]
[null,{"$f":"CONCATENATE(selected_functions!$A$14,E971,C971)","v":"-3Kilobytes"},{"$f":"input_lists!$G$11","v":"Kilobytes"},null,{"$f":"$E$26","v":-3},{"$f":"IF(AND(E971>=input_database!$D$14,E971<input_database!$C$14),input_database!$GC$14,\"0\")","v":"0"},{"$f":"IF(E971<input_database!$C$14,input_database!$GE$14,\"0\")","v":0},{"$f":"IFERROR(input_database!$GH$14,\"0\")","v":0},{"$f":"IF(E971=input_database!$C$14,input_database!$GG$14,\"0\")","v":"0"},{"$f":"IF(E971>=input_database!$C$14,(input_database!$GF$14+input_database!$GD$14),0)","v":0},0]
[null,{"$f":"CONCATENATE(selected_functions!$A$14,E972,C972)","v":"-2Kilobytes"},{"$f":"input_lists!$G$11","v":"Kilobytes"},null,{"$f":"$E$27","v":-2},{"$f":"IF(AND(E972>=input_database!$D$14,E972<input_database!$C$14),input_database!$GC$14,\"0\")","v":"0"},{"$f":"IF(E972<input_database!$C$14,input_database!$GE$14,\"0\")","v":0},{"$f":"IFERROR(input_database!$GH$14,\"0\")","v":0},{"$f":"IF(E972=input_database!$C$14,input_database!$GG$14,\"0\")","v":"0"},{"$f":"IF(E972>=input_database!$C$14,(input_database!$GF$14+input_database!$GD$14),0)","v":0},0]
[null,{"$f":"CONCATENATE(selected_functions!$A$14,E973,C973)","v":"-1Kilobytes"},{"$f":"input_lists!$G$11","v":"Kilobytes"},null,{"$f":"$E$28","v":-1},{"$f":"IF(AND(E973>=input_database!$D$14,E973<input_database!$C$14),input_database!$GC$14,\"0\")","v":"0"},{"$f":"IF(E973<input_database!$C$14,input_database!$GE$14,\"0\")","v":0},{"$f":"IFERROR(input_database!$GH$14,\"0\")","v":0},{"$f":"IF(E973=input_database!$C$14,input_database!$GG$14,\"0\")","v":"0"},{"$f":"IF(E973>=input_database!$C$14,(input_database!$GF$14+input_database!$GD$14),0)","v":0},0]
[null,{"$f":"CONCATENATE(selected_functions!$A$14,E974,C974)","v":"0Kilobytes"},{"$f":"input_lists!$G$11","v":"Kilobytes"},null,{"$f":"$E$29","v":0},{"$f":"IF(AND(E974>=input_database!$D$14,E974<input_database!$C$14),input_database!$GC$14,\"0\")","v":"0"},{"$f":"IF(E974<input_database!$C$14,input_database!$GE$14,\"0\")","v":"0"},{"$f":"IFERROR(input_database!$GH$14,\"0\")","v":0},{"$f":"IF(E974=input_database!$C$14,input_database!$GG$14,\"0\")","v":0},{"$f":"IF(E974>=input_database!$C$14,(input_database!$GF$14+input_database!$GD$14),0)","v":0},0]
[null,{"$f":"CONCATENATE(selected_functions!$A$14,E975,C975)","v":"1Kilobytes"},{"$f":"input_lists!$G$11","v":"Kilobytes"},null,{"$f":"$E$30","v":1},{"$f":"IF(AND(E975>=input_database!$D$14,E975<input_database!$C$14),input_database!$GC$14,\"0\")","v":"0"},{"$f":"IF(E975<input_database!$C$14,input_database!$GE$14,\"0\")","v":"0"},{"$f":"IFERROR(input_database!$GH$14,\"0\")","v":0},{"$f":"IF(E975=input_database!$C$14,input_database!$GG$14,\"0\")","v":"0"},{"$f":"IF(E975>=input_database!$C$14,(input_database!$GF$14+input_database!$GD$14),0)","v":0},0]
[null,{"$f":"CONCATENATE(selected_functions!$A$14,E976,C976)","v":"2Kilobytes"},{"$f":"input_lists!$G$11","v":"Kilobytes"},null,{"$f":"$E$31","v":2},{"$f":"IF(AND(E976>=input_database!$D$14,E976<input_database!$C$14),input_database!$GC$14,\"0\")","v":"0"},{"$f":"IF(E976<input_database!$C$14,input_database!$GE$14,\"0\")","v":"0"},{"$f":"IFERROR(input_database!$GH$14,\"0\")","v":0},{"$f":"IF(E976=input_database!$C$14,input_database!$GG$14,\"0\")","v":"0"},{"$f":"IF(E976>=input_database!$C$14,(input_database!$GF$14+input_database!$GD$14),0)","v":0},0]
[null,{"$f":"CONCATENATE(selected_functions!$A$14,E977,C977)","v":"3Kilobytes"},{"$f":"input_lists!$G$11","v":"Kilobytes"},null,{"$f":"$E$32","v":3},{"$f":"IF(AND(E977>=input_database!$D$14,E977<input_database!$C$14),input_database!$GC$14,\"0\")","v":"0"},{"$f":"IF(E977<input_database!$C$14,input_database!$GE$14,\"0\")","v":"0"},{"$f":"IFERROR(input_database!$GH$14,\"0\")","v":0},{"$f":"IF(E977=input_database!$C$14,input_database!$GG$14,\"0\")","v":"0"},{"$f":"IF(E977>=input_database!$C$14,(input_database!$GF$14+input_database!$GD$14),0)","v":0},0]
[null,{"$f":"CONCATENATE(selected_functions!$A$14,E978,C978)","v":"-17Megabytes"},{"$f":"input_lists!$G$12","v":"Megabytes"},null,{"$f":"$E$12","v":-17},{"$f":"F957/1024","v":0},0,0,0,0,0]
[null,{"$f":"CONCATENATE(selected_functions!$A$14,E979,C979)","v":"-16Megabytes"},{"$f":"C978","v":"Megabytes"},null,{"$f":"$E$13","v":-16},0,0,0,0,0,0]
[null,{"$f":"CONCATENATE(selected_functions!$A$14,E980,C980)","v":"-15Megabytes"},{"$f":"C979","v":"Megabytes"},null,{"$f":"$E$14","v":-15},0,0,0,0,0,0]
[null,{"$f":"CONCATENATE(selected_functions!$A$14,E981,C981)","v":"-14Megabytes"},"Megabytes",null,{"$f":"$E$15","v":-14},0,0,0,0,0,0]
[null,{"$f":"CONCATENATE(selected_functions!$A$14,E982,C982)","v":"-13Megabytes"},"Megabytes",null,{"$f":"$E$16","v":-13},0,0,0,0,0,0]
[null,{"$f":"CONCATENATE(selected_functions!$A$14,E983,C983)","v":"-12Megabytes"},"Megabytes",null,{"$f":"$E$17","v":-12},0,0,0,0,0,0]
[null,{"$f":"CONCATENATE(selected_functions!$A$14,E984,C984)","v":"-11Megabytes"},"Megabytes",null,{"$f":"$E$18","v":-11},0,0,0,0,0,0]
[null,{"$f":"CONCATENATE(selected_functions!$A$14,E985,C985)","v":"-10Megabytes"},"Megabytes",null,{"$f":"$E$19","v":-10},0,0,0,0,0,0]
[null,{"$f":"CONCATENATE(selected_functions!$A$14,E986,C986)","v":"-9Megabytes"},"Megabytes",null,{"$f":"$E$20","v":-9},0,0,0,0,0,0]
[null,{"$f":"CONCATENATE(selected_functions!$A$14,E987,C987)","v":"-8Megabytes"},"Megabytes",null,{"$f":"$E$21","v":-8},0,0,0,0,0,0]
[null,{"$f":"CONCATENATE(selected_functions!$A$14,E988,C988)","v":"-7Megabytes"},"Megabytes",null,{"$f":"$E$22","v":-7},{"$f":"F967/1024","v":0},0,0,0,0,0]
[null,{"$f":"CONCATENATE(selected_functions!$A$14,E989,C989)","v":"-6Megabytes"},"Megabytes",null,{"$f":"$E$23","v":-6},0,0,0,0,0,0]
[null,{"$f":"CONCATENATE(selected_functions!$A$14,E990,C990)","v":"-5Megabytes"},"Megabytes",null,{"$f":"$E$24","v":-5},0,0,0,0,0,0]
[null,{"$f":"CONCATENATE(selected_functions!$A$14,E991,C991)","v":"-4Megabytes"},"Megabytes",null,{"$f":"$E$25","v":-4},0,0,0,0,0,0]
[null,{"$f":"CONCATENATE(selected_functions!$A$14,E992,C992)","v":"-3Megabytes"},"Megabytes",null,{"$f":"$E$26","v":-3},0,0,0,0,0,0]
[null,{"$f":"CONCATENATE(selected_functions!$A$14,E993,C993)","v":"-2Megabytes"},"Megabytes",null,{"$f":"$E$27","v":-2},0,0,0,0,0,0]
[null,{"$f":"CONCATENATE(selected_functions!$A$14,E994,C994)","v":"-1Megabytes"},"Megabytes",null,{"$f":"$E$28","v":-1},0,0,0,0,0,0]
[null,{"$f":"CONCATENATE(selected_functions!$A$14,E995,C995)","v":"0Megabytes"},"Megabytes",null,{"$f":"$E$29","v":0},0,0,0,0,0,0]
[null,{"$f":"CONCATENATE(selected_functions!$A$14,E996,C996)","v":"1Megabytes"},"Megabytes",null,{"$f":"$E$30","v":1},0,0,0,0,0,0]
[null,{"$f":"CONCATENATE(selected_functions!$A$14,E997,C997)","v":"2Megabytes"},"Megabytes",null,{"$f":"$E$31","v":2},0,0,0,0,0,0]
[null,{"$f":"CONCATENATE(selected_functions!$A$14,E998,C998)","v":"3Megabytes"},{"$f":"C997","v":"Megabytes"},null,{"$f":"$E$32","v":3},{"$f":"F977/1024","v":0},0,0,0,0,0]
[null,{"$f":"CONCATENATE(selected_functions!$A$14,E999,C999)","v":"-17Gigabytes"},{"$f":"input_lists!$G$13","v":"Gigabytes"},null,{"$f":"$E$12","v":-17},0,0,0,0,0,0]
[null,{"$f":"CONCATENATE(selected_functions!$A$14,E1000,C1000)","v":"-16Gigabytes"},{"$f":"C999","v":"Gigabytes"},null,{"$f":"$E$13","v":-16},0,0,0,0,0,0]
[null,{"$f":"CONCATENATE(selected_functions!$A$14,E1001,C1001)","v":"-15Gigabytes"},{"$f":"C1000","v":"Gigabytes"},null,{"$f":"$E$14","v":-15},0,0,0,0,0,0]
[null,{"$f":"CONCATENATE(selected_functions!$A$14,E1002,C1002)","v":"-14Gigabytes"},"Gigabytes",null,{"$f":"$E$15","v":-14},0,0,0,0,0,0]
[null,{"$f":"CONCATENATE(selected_functions!$A$14,E1003,C1003)","v":"-13Gigabytes"},"Gigabytes",null,{"$f":"$E$16","v":-13},0,0,0,0,0,0]
[null,{"$f":"CONCATENATE(selected_functions!$A$14,E1004,C1004)","v":"-12Gigabytes"},"Gigabytes",null,{"$f":"$E$17","v":-12},0,0,0,0,0,0]
[null,{"$f":"CONCATENATE(selected_functions!$A$14,E1005,C1005)","v":"-11Gigabytes"},"Gigabytes",null,{"$f":"$E$18","v":-11},0,0,0,0,0,0]
[null,{"$f":"CONCATENATE(selected_functions!$A$14,E1006,C1006)","v":"-10Gigabytes"},"Gigabytes",null,{"$f":"$E$19","v":-10},0,0,0,0,0,0]
[null,{"$f":"CONCATENATE(selected_functions!$A$14,E1007,C1007)","v":"-9Gigabytes"},"Gigabytes",null,{"$f":"$E$20","v":-9},0,0,0,0,0,0]
[null,{"$f":"CONCATENATE(selected_functions!$A$14,E1008,C1008)","v":"-8Gigabytes"},"Gigabytes",null,{"$f":"$E$21","v":-8},{"$f":"F987/1024","v":0},0,0,0,0,0]
[null,{"$f":"CONCATENATE(selected_functions!$A$14,E1009,C1009)","v":"-7Gigabytes"},"Gigabytes",null,{"$f":"$E$22","v":-7},0,0,0,0,0,0]
[null,{"$f":"CONCATENATE(selected_functions!$A$14,E1010,C1010)","v":"-6Gigabytes"},"Gigabytes",null,{"$f":"$E$23","v":-6},0,0,0,0,0,0]
[null,{"$f":"CONCATENATE(selected_functions!$A$14,E1011,C1011)","v":"-5Gigabytes"},"Gigabytes",null,{"$f":"$E$24","v":-5},0,0,0,0,0,0]
[null,{"$f":"CONCATENATE(selected_functions!$A$14,E1012,C1012)","v":"-4Gigabytes"},"Gigabytes",null,{"$f":"$E$25","v":-4},0,0,0,0,0,0]
[null,{"$f":"CONCATENATE(selected_functions!$A$14,E1013,C1013)","v":"-3Gigabytes"},"Gigabytes",null,{"$f":"$E$26","v":-3},0,0,0,0,0,0]
[null,{"$f":"CONCATENATE(selected_functions!$A$14,E1014,C1014)","v":"-2Gigabytes"},"Gigabytes",null,{"$f":"$E$27","v":-2},0,0,0,0,0,0]
[null,{"$f":"CONCATENATE(selected_functions!$A$14,E1015,C1015)","v":"-1Gigabytes"},"Gigabytes",null,{"$f":"$E$28","v":-1},0,0,0,0,0,0]
[null,{"$f":"CONCATENATE(selected_functions!$A$14,E1016,C1016)","v":"0Gigabytes"},"Gigabytes",null,{"$f":"$E$29","v":0},0,0,0,0,0,0]
[null,{"$f":"CONCATENATE(selected_functions!$A$14,E1017,C1017)","v":"1Gigabytes"},"Gigabytes",null,{"$f":"$E$30","v":1},0,0,0,0,0,0]
[null,{"$f":"CONCATENATE(selected_functions!$A$14,E1018,C1018)","v":"2Gigabytes"},"Gigabytes",null,{"$f":"$E$31","v":2},{"$f":"F997/1024","v":0},0,0,0,0,0]
[null,{"$f":"CONCATENATE(selected_functions!$A$14,E1019,C1019)","v":"3Gigabytes"},"Gigabytes",null,{"$f":"$E$32","v":3},0,0,0,0,0,0]
[null,{"$f":"CONCATENATE(selected_functions!$A$14,E1020,C1020)","v":"-17Terabytes"},{"$f":"input_lists!$G$14","v":"Terabytes"},null,{"$f":"$E$12","v":-17},0,0,0,0,0,0]
[null,{"$f":"CONCATENATE(selected_functions!$A$14,E1021,C1021)","v":"-16Terabytes"},{"$f":"C1020","v":"Terabytes"},null,{"$f":"$E$13","v":-16},0,0,0,0,0,0]
[null,{"$f":"CONCATENATE(selected_functions!$A$14,E1022,C1022)","v":"-15Terabytes"},{"$f":"C1021","v":"Terabytes"},null,{"$f":"$E$14","v":-15},0,0,0,0,0,0]
[null,{"$f":"CONCATENATE(selected_functions!$A$14,E1023,C1023)","v":"-14Terabytes"},"Terabytes",null,{"$f":"$E$15","v":-14},0,0,0,0,0,0]
[null,{"$f":"CONCATENATE(selected_functions!$A$14,E1024,C1024)","v":"-13Terabytes"},"Terabytes",null,{"$f":"$E$16","v":-13},0,0,0,0,0,0]
[null,{"$f":"CONCATENATE(selected_functions!$A$14,E1025,C1025)","v":"-12Terabytes"},"Terabytes",null,{"$f":"$E$17","v":-12},0,0,0,0,0,0]
[null,{"$f":"CONCATENATE(selected_functions!$A$14,E1026,C1026)","v":"-11Terabytes"},"Terabytes",null,{"$f":"$E$18","v":-11},0,0,0,0,0,0]
[null,{"$f":"CONCATENATE(selected_functions!$A$14,E1027,C1027)","v":"-10Terabytes"},"Terabytes",null,{"$f":"$E$19","v":-10},0,0,0,0,0,0]
[null,{"$f":"CONCATENATE(selected_functions!$A$14,E1028,C1028)","v":"-9Terabytes"},"Terabytes",null,{"$f":"$E$20","v":-9},{"$f":"F1007/1024","v":0},0,0,0,0,0]
[null,{"$f":"CONCATENATE(selected_functions!$A$14,E1029,C1029)","v":"-8Terabytes"},"Terabytes",null,{"$f":"$E$21","v":-8},0,0,0,0,0,0]
[null,{"$f":"CONCATENATE(selected_functions!$A$14,E1030,C1030)","v":"-7Terabytes"},"Terabytes",null,{"$f":"$E$22","v":-7},0,0,0,0,0,0]
[null,{"$f":"CONCATENATE(selected_functions!$A$14,E1031,C1031)","v":"-6Terabytes"},"Terabytes",null,{"$f":"$E$23","v":-6},0,0,0,0,0,0]
[null,{"$f":"CONCATENATE(selected_functions!$A$14,E1032,C1032)","v":"-5Terabytes"},"Terabytes",null,{"$f":"$E$24","v":-5},0,0,0,0,0,0]
[null,{"$f":"CONCATENATE(selected_functions!$A$14,E1033,C1033)","v":"-4Terabytes"},"Terabytes",null,{"$f":"$E$25","v":-4},0,0,0,0,0,0]
[null,{"$f":"CONCATENATE(selected_functions!$A$14,E1034,C1034)","v":"-3Terabytes"},"Terabytes",null,{"$f":"$E$26","v":-3},0,0,0,0,0,0]
[null,{"$f":"CONCATENATE(selected_functions!$A$14,E1035,C1035)","v":"-2Terabytes"},"Terabytes",null,{"$f":"$E$27","v":-2},0,0,0,0,0,0]
[null,{"$f":"CONCATENATE(selected_functions!$A$14,E1036,C1036)","v":"-1Terabytes"},"Terabytes",null,{"$f":"$E$28","v":-1},0,0,0,0,0,0]
[null,{"$f":"CONCATENATE(selected_functions!$A$14,E1037,C1037)","v":"0Terabytes"},"Terabytes",null,{"$f":"$E$29","v":0},0,0,0,0,0,0]
[null,{"$f":"CONCATENATE(selected_functions!$A$14,E1038,C1038)","v":"1Terabytes"},"Terabytes",null,{"$f":"$E$30","v":1},{"$f":"F1017/1024","v":0},0,0,0,0,0]
[null,{"$f":"CONCATENATE(selected_functions!$A$14,E1039,C1039)","v":"2Terabytes"},"Terabytes",null,{"$f":"$E$31","v":2},0,0,0,0,0,0]
[null,{"$f":"CONCATENATE(selected_functions!$A$14,E1040,C1040)","v":"3Terabytes"},"Terabytes",null,{"$f":"$E$32","v":3},0,0,0,0,0,0]
[null,{"$f":"CONCATENATE(selected_functions!$A$14,E1041,C1041)","v":"-17Petabytes"},{"$f":"input_lists!$G$15","v":"Petabytes"},null,{"$f":"$E$12","v":-17},0,0,0,0,0,0]
[null,{"$f":"CONCATENATE(selected_functions!$A$14,E1042,C1042)","v":"-16Petabytes"},{"$f":"C1041","v":"Petabytes"},null,{"$f":"$E$13","v":-16},0,0,0,0,0,0]
[null,{"$f":"CONCATENATE(selected_functions!$A$14,E1043,C1043)","v":"-15Petabytes"},{"$f":"C1042","v":"Petabytes"},null,{"$f":"$E$14","v":-15},0,0,0,0,0,0]
[null,{"$f":"CONCATENATE(selected_functions!$A$14,E1044,C1044)","v":"-14Petabytes"},"Petabytes",null,{"$f":"$E$15","v":-14},0,0,0,0,0,0]
[null,{"$f":"CONCATENATE(selected_functions!$A$14,E1045,C1045)","v":"-13Petabytes"},"Petabytes",null,{"$f":"$E$16","v":-13},0,0,0,0,0,0]
[null,{"$f":"CONCATENATE(selected_functions!$A$14,E1046,C1046)","v":"-12Petabytes"},"Petabytes",null,{"$f":"$E$17","v":-12},0,0,0,0,0,0]
[null,{"$f":"CONCATENATE(selected_functions!$A$14,E1047,C1047)","v":"-11Petabytes"},"Petabytes",null,{"$f":"$E$18","v":-11},0,0,0,0,0,0]
[null,{"$f":"CONCATENATE(selected_functions!$A$14,E1048,C1048)","v":"-10Petabytes"},"Petabytes",null,{"$f":"$E$19","v":-10},{"$f":"F1027/1024","v":0},0,0,0,0,0]
[null,{"$f":"CONCATENATE(selected_functions!$A$14,E1049,C1049)","v":"-9Petabytes"},"Petabytes",null,{"$f":"$E$20","v":-9},0,0,0,0,0,0]
[null,{"$f":"CONCATENATE(selected_functions!$A$14,E1050,C1050)","v":"-8Petabytes"},"Petabytes",null,{"$f":"$E$21","v":-8},0,0,0,0,0,0]
[null,{"$f":"CONCATENATE(selected_functions!$A$14,E1051,C1051)","v":"-7Petabytes"},"Petabytes",null,{"$f":"$E$22","v":-7},0,0,0,0,0,0]
[null,{"$f":"CONCATENATE(selected_functions!$A$14,E1052,C1052)","v":"-6Petabytes"},"Petabytes",null,{"$f":"$E$23","v":-6},0,0,0,0,0,0]
[null,{"$f":"CONCATENATE(selected_functions!$A$14,E1053,C1053)","v":"-5Petabytes"},"Petabytes",null,{"$f":"$E$24","v":-5},0,0,0,0,0,0]
[null,{"$f":"CONCATENATE(selected_functions!$A$14,E1054,C1054)","v":"-4Petabytes"},"Petabytes",null,{"$f":"$E$25","v":-4},0,0,0,0,0,0]
[null,{"$f":"CONCATENATE(selected_functions!$A$14,E1055,C1055)","v":"-3Petabytes"},"Petabytes",null,{"$f":"$E$26","v":-3},0,0,0,0,0,0]
[null,{"$f":"CONCATENATE(selected_functions!$A$14,E1056,C1056)","v":"-2Petabytes"},"Petabytes",null,{"$f":"$E$27","v":-2},0,0,0,0,0,0]
[null,{"$f":"CONCATENATE(selected_functions!$A$14,E1057,C1057)","v":"-1Petabytes"},"Petabytes",null,{"$f":"$E$28","v":-1},0,0,0,0,0,0]
[null,{"$f":"CONCATENATE(selected_functions!$A$14,E1058,C1058)","v":"0Petabytes"},"Petabytes",null,{"$f":"$E$29","v":0},{"$f":"F1037/1024","v":0},0,0,0,0,0]
[null,{"$f":"CONCATENATE(selected_functions!$A$14,E1059,C1059)","v":"1Petabytes"},"Petabytes",null,{"$f":"$E$30","v":1},0,0,0,0,0,0]
[null,{"$f":"CONCATENATE(selected_functions!$A$14,E1060,C1060)","v":"2Petabytes"},"Petabytes",null,{"$f":"$E$31","v":2},0,0,0,0,0,0]
[null,{"$f":"CONCATENATE(selected_functions!$A$14,E1061,C1061)","v":"3Petabytes"},"Petabytes",null,{"$f":"$E$32","v":3},0,0,0,0,0,0]
[null,{"$f":"CONCATENATE(selected_functions!$A$15,E1062,C1062)","v":"-17Kilobytes"},{"$f":"input_lists!$G$11","v":"Kilobytes"},null,{"$f":"$E$12","v":-17},{"$f":"IF(AND(E1062>=input_database!$D$15,E1062<input_database!$C$15),input_database!$GC$15,\"0\")","v":"0"},{"$f":"IF(E1062<input_database!$C$15,input_database!$GE$15,\"0\")","v":0},{"$f":"IFERROR(input_database!$GH$15,\"0\")","v":0},{"$f":"IF(E1062=input_database!$C$15,input_database!$GG$15,\"0\")","v":"0"},{"$f":"IF(E1062>=input_database!$C$15,(input_database!$GF$15+input_database!$GD$15),0)","v":0},{"$f":"SUM(F1062:J1062)","v":0}]
[null,{"$f":"CONCATENATE(selected_functions!$A$15,E1063,C1063)","v":"-16Kilobytes"},{"$f":"input_lists!$G$11","v":"Kilobytes"},null,{"$f":"$E$13","v":-16},{"$f":"IF(AND(E1063>=input_database!$D$15,E1063<input_database!$C$15),input_database!$GC$15,\"0\")","v":"0"},{"$f":"IF(E1063<input_database!$C$15,input_database!$GE$15,\"0\")","v":0},{"$f":"IFERROR(input_database!$GH$15,\"0\")","v":0},{"$f":"IF(E1063=input_database!$C$15,input_database!$GG$15,\"0\")","v":"0"},{"$f":"IF(E1063>=input_database!$C$15,(input_database!$GF$15+input_database!$GD$15),0)","v":0},{"$f":"K1062+SUM(F1063:J1063)","v":0}]
[null,{"$f":"CONCATENATE(selected_functions!$A$15,E1064,C1064)","v":"-15Kilobytes"},{"$f":"input_lists!$G$11","v":"Kilobytes"},null,{"$f":"$E$14","v":-15},{"$f":"IF(AND(E1064>=input_database!$D$15,E1064<input_database!$C$15),input_database!$GC$15,\"0\")","v":"0"},{"$f":"IF(E1064<input_database!$C$15,input_database!$GE$15,\"0\")","v":0},{"$f":"IFERROR(input_database!$GH$15,\"0\")","v":0},{"$f":"IF(E1064=input_database!$C$15,input_database!$GG$15,\"0\")","v":"0"},{"$f":"IF(E1064>=input_database!$C$15,(input_database!$GF$15+input_database!$GD$15),0)","v":0},{"$f":"K1063+SUM(F1064:J1064)","v":0}]
[null,{"$f":"CONCATENATE(selected_functions!$A$15,E1065,C1065)","v":"-14Kilobytes"},{"$f":"input_lists!$G$11","v":"Kilobytes"},null,{"$f":"$E$15","v":-14},{"$f":"IF(AND(E1065>=input_database!$D$15,E1065<input_database!$C$15),input_database!$GC$15,\"0\")","v":"0"},{"$f":"IF(E1065<input_database!$C$15,input_database!$GE$15,\"0\")","v":0},{"$f":"IFERROR(input_database!$GH$15,\"0\")","v":0},{"$f":"IF(E1065=input_database!$C$15,input_database!$GG$15,\"0\")","v":"0"},{"$f":"IF(E1065>=input_database!$C$15,(input_database!$GF$15+input_database!$GD$15),0)","v":0},0]
[null,{"$f":"CONCATENATE(selected_functions!$A$15,E1066,C1066)","v":"-13Kilobytes"},{"$f":"input_lists!$G$11","v":"Kilobytes"},null,{"$f":"$E$16","v":-13},{"$f":"IF(AND(E1066>=input_database!$D$15,E1066<input_database!$C$15),input_database!$GC$15,\"0\")","v":"0"},{"$f":"IF(E1066<input_database!$C$15,input_database!$GE$15,\"0\")","v":0},{"$f":"IFERROR(input_database!$GH$15,\"0\")","v":0},{"$f":"IF(E1066=input_database!$C$15,input_database!$GG$15,\"0\")","v":"0"},{"$f":"IF(E1066>=input_database!$C$15,(input_database!$GF$15+input_database!$GD$15),0)","v":0},0]
[null,{"$f":"CONCATENATE(selected_functions!$A$15,E1067,C1067)","v":"-12Kilobytes"},{"$f":"input_lists!$G$11","v":"Kilobytes"},null,{"$f":"$E$17","v":-12},{"$f":"IF(AND(E1067>=input_database!$D$15,E1067<input_database!$C$15),input_database!$GC$15,\"0\")","v":"0"},{"$f":"IF(E1067<input_database!$C$15,input_database!$GE$15,\"0\")","v":0},{"$f":"IFERROR(input_database!$GH$15,\"0\")","v":0},{"$f":"IF(E1067=input_database!$C$15,input_database!$GG$15,\"0\")","v":"0"},{"$f":"IF(E1067>=input_database!$C$15,(input_database!$GF$15+input_database!$GD$15),0)","v":0},0]
[null,{"$f":"CONCATENATE(selected_functions!$A$15,E1068,C1068)","v":"-11Kilobytes"},{"$f":"input_lists!$G$11","v":"Kilobytes"},null,{"$f":"$E$18","v":-11},{"$f":"IF(AND(E1068>=input_database!$D$15,E1068<input_database!$C$15),input_database!$GC$15,\"0\")","v":"0"},{"$f":"IF(E1068<input_database!$C$15,input_database!$GE$15,\"0\")","v":0},{"$f":"IFERROR(input_database!$GH$15,\"0\")","v":0},{"$f":"IF(E1068=input_database!$C$15,input_database!$GG$15,\"0\")","v":"0"},{"$f":"IF(E1068>=input_database!$C$15,(input_database!$GF$15+input_database!$GD$15),0)","v":0},0]
[null,{"$f":"CONCATENATE(selected_functions!$A$15,E1069,C1069)","v":"-10Kilobytes"},{"$f":"input_lists!$G$11","v":"Kilobytes"},null,{"$f":"$E$19","v":-10},{"$f":"IF(AND(E1069>=input_database!$D$15,E1069<input_database!$C$15),input_database!$GC$15,\"0\")","v":"0"},{"$f":"IF(E1069<input_database!$C$15,input_database!$GE$15,\"0\")","v":0},{"$f":"IFERROR(input_database!$GH$15,\"0\")","v":0},{"$f":"IF(E1069=input_database!$C$15,input_database!$GG$15,\"0\")","v":"0"},{"$f":"IF(E1069>=input_database!$C$15,(input_database!$GF$15+input_database!$GD$15),0)","v":0},0]
[null,{"$f":"CONCATENATE(selected_functions!$A$15,E1070,C1070)","v":"-9Kilobytes"},{"$f":"input_lists!$G$11","v":"Kilobytes"},null,{"$f":"$E$20","v":-9},{"$f":"IF(AND(E1070>=input_database!$D$15,E1070<input_database!$C$15),input_database!$GC$15,\"0\")","v":"0"},{"$f":"IF(E1070<input_database!$C$15,input_database!$GE$15,\"0\")","v":0},{"$f":"IFERROR(input_database!$GH$15,\"0\")","v":0},{"$f":"IF(E1070=input_database!$C$15,input_database!$GG$15,\"0\")","v":"0"},{"$f":"IF(E1070>=input_database!$C$15,(input_database!$GF$15+input_database!$GD$15),0)","v":0},0]
[null,{"$f":"CONCATENATE(selected_functions!$A$15,E1071,C1071)","v":"-8Kilobytes"},{"$f":"input_lists!$G$11","v":"Kilobytes"},null,{"$f":"$E$21","v":-8},{"$f":"IF(AND(E1071>=input_database!$D$15,E1071<input_database!$C$15),input_database!$GC$15,\"0\")","v":"0"},{"$f":"IF(E1071<input_database!$C$15,input_database!$GE$15,\"0\")","v":0},{"$f":"IFERROR(input_database!$GH$15,\"0\")","v":0},{"$f":"IF(E1071=input_database!$C$15,input_database!$GG$15,\"0\")","v":"0"},{"$f":"IF(E1071>=input_database!$C$15,(input_database!$GF$15+input_database!$GD$15),0)","v":0},0]
[null,{"$f":"CONCATENATE(selected_functions!$A$15,E1072,C1072)","v":"-7Kilobytes"},{"$f":"input_lists!$G$11","v":"Kilobytes"},null,{"$f":"$E$22","v":-7},{"$f":"IF(AND(E1072>=input_database!$D$15,E1072<input_database!$C$15),input_database!$GC$15,\"0\")","v":"0"},{"$f":"IF(E1072<input_database!$C$15,input_database!$GE$15,\"0\")","v":0},{"$f":"IFERROR(input_database!$GH$15,\"0\")","v":0},{"$f":"IF(E1072=input_database!$C$15,input_database!$GG$15,\"0\")","v":"0"},{"$f":"IF(E1072>=input_database!$C$15,(input_database!$GF$15+input_database!$GD$15),0)","v":0},0]
[null,{"$f":"CONCATENATE(selected_functions!$A$15,E1073,C1073)","v":"-6Kilobytes"},{"$f":"input_lists!$G$11","v":"Kilobytes"},null,{"$f":"$E$23","v":-6},{"$f":"IF(AND(E1073>=input_database!$D$15,E1073<input_database!$C$15),input_database!$GC$15,\"0\")","v":"0"},{"$f":"IF(E1073<input_database!$C$15,input_database!$GE$15,\"0\")","v":0},{"$f":"IFERROR(input_database!$GH$15,\"0\")","v":0},{"$f":"IF(E1073=input_database!$C$15,input_database!$GG$15,\"0\")","v":"0"},{"$f":"IF(E1073>=input_database!$C$15,(input_database!$GF$15+input_database!$GD$15),0)","v":0},0]
[null,{"$f":"CONCATENATE(selected_functions!$A$15,E1074,C1074)","v":"-5Kilobytes"},{"$f":"input_lists!$G$11","v":"Kilobytes"},null,{"$f":"$E$24","v":-5},{"$f":"IF(AND(E1074>=input_database!$D$15,E1074<input_database!$C$15),input_database!$GC$15,\"0\")","v":"0"},{"$f":"IF(E1074<input_database!$C$15,input_database!$GE$15,\"0\")","v":0},{"$f":"IFERROR(input_database!$GH$15,\"0\")","v":0},{"$f":"IF(E1074=input_database!$C$15,input_database!$GG$15,\"0\")","v":"0"},{"$f":"IF(E1074>=input_database!$C$15,(input_database!$GF$15+input_database!$GD$15),0)","v":0},0]
[null,{"$f":"CONCATENATE(selected_functions!$A$15,E1075,C1075)","v":"-4Kilobytes"},{"$f":"input_lists!$G$11","v":"Kilobytes"},null,{"$f":"$E$25","v":-4},{"$f":"IF(AND(E1075>=input_database!$D$15,E1075<input_database!$C$15),input_database!$GC$15,\"0\")","v":"0"},{"$f":"IF(E1075<input_database!$C$15,input_database!$GE$15,\"0\")","v":0},{"$f":"IFERROR(input_database!$GH$15,\"0\")","v":0},{"$f":"IF(E1075=input_database!$C$15,input_database!$GG$15,\"0\")","v":"0"},{"$f":"IF(E1075>=input_database!$C$15,(input_database!$GF$15+input_database!$GD$15),0)","v":0},0]
[null,{"$f":"CONCATENATE(selected_functions!$A$15,E1076,C1076)","v":"-3Kilobytes"},{"$f":"input_lists!$G$11","v":"Kilobytes"},null,{"$f":"$E$26","v":-3},{"$f":"IF(AND(E1076>=input_database!$D$15,E1076<input_database!$C$15),input_database!$GC$15,\"0\")","v":"0"},{"$f":"IF(E1076<input_database!$C$15,input_database!$GE$15,\"0\")","v":0},{"$f":"IFERROR(input_database!$GH$15,\"0\")","v":0},{"$f":"IF(E1076=input_database!$C$15,input_database!$GG$15,\"0\")","v":"0"},{"$f":"IF(E1076>=input_database!$C$15,(input_database!$GF$15+input_database!$GD$15),0)","v":0},0]
[null,{"$f":"CONCATENATE(selected_functions!$A$15,E1077,C1077)","v":"-2Kilobytes"},{"$f":"input_lists!$G$11","v":"Kilobytes"},null,{"$f":"$E$27","v":-2},{"$f":"IF(AND(E1077>=input_database!$D$15,E1077<input_database!$C$15),input_database!$GC$15,\"0\")","v":"0"},{"$f":"IF(E1077<input_database!$C$15,input_database!$GE$15,\"0\")","v":0},{"$f":"IFERROR(input_database!$GH$15,\"0\")","v":0},{"$f":"IF(E1077=input_database!$C$15,input_database!$GG$15,\"0\")","v":"0"},{"$f":"IF(E1077>=input_database!$C$15,(input_database!$GF$15+input_database!$GD$15),0)","v":0},0]
[null,{"$f":"CONCATENATE(selected_functions!$A$15,E1078,C1078)","v":"-1Kilobytes"},{"$f":"input_lists!$G$11","v":"Kilobytes"},null,{"$f":"$E$28","v":-1},{"$f":"IF(AND(E1078>=input_database!$D$15,E1078<input_database!$C$15),input_database!$GC$15,\"0\")","v":"0"},{"$f":"IF(E1078<input_database!$C$15,input_database!$GE$15,\"0\")","v":0},{"$f":"IFERROR(input_database!$GH$15,\"0\")","v":0},{"$f":"IF(E1078=input_database!$C$15,input_database!$GG$15,\"0\")","v":"0"},{"$f":"IF(E1078>=input_database!$C$15,(input_database!$GF$15+input_database!$GD$15),0)","v":0},0]
[null,{"$f":"CONCATENATE(selected_functions!$A$15,E1079,C1079)","v":"0Kilobytes"},{"$f":"input_lists!$G$11","v":"Kilobytes"},null,{"$f":"$E$29","v":0},{"$f":"IF(AND(E1079>=input_database!$D$15,E1079<input_database!$C$15),input_database!$GC$15,\"0\")","v":"0"},{"$f":"IF(E1079<input_database!$C$15,input_database!$GE$15,\"0\")","v":"0"},{"$f":"IFERROR(input_database!$GH$15,\"0\")","v":0},{"$f":"IF(E1079=input_database!$C$15,input_database!$GG$15,\"0\")","v":0},{"$f":"IF(E1079>=input_database!$C$15,(input_database!$GF$15+input_database!$GD$15),0)","v":0},0]
[null,{"$f":"CONCATENATE(selected_functions!$A$15,E1080,C1080)","v":"1Kilobytes"},{"$f":"input_lists!$G$11","v":"Kilobytes"},null,{"$f":"$E$30","v":1},{"$f":"IF(AND(E1080>=input_database!$D$15,E1080<input_database!$C$15),input_database!$GC$15,\"0\")","v":"0"},{"$f":"IF(E1080<input_database!$C$15,input_database!$GE$15,\"0\")","v":"0"},{"$f":"IFERROR(input_database!$GH$15,\"0\")","v":0},{"$f":"IF(E1080=input_database!$C$15,input_database!$GG$15,\"0\")","v":"0"},{"$f":"IF(E1080>=input_database!$C$15,(input_database!$GF$15+input_database!$GD$15),0)","v":0},0]
[null,{"$f":"CONCATENATE(selected_functions!$A$15,E1081,C1081)","v":"2Kilobytes"},{"$f":"input_lists!$G$11","v":"Kilobytes"},null,{"$f":"$E$31","v":2},{"$f":"IF(AND(E1081>=input_database!$D$15,E1081<input_database!$C$15),input_database!$GC$15,\"0\")","v":"0"},{"$f":"IF(E1081<input_database!$C$15,input_database!$GE$15,\"0\")","v":"0"},{"$f":"IFERROR(input_database!$GH$15,\"0\")","v":0},{"$f":"IF(E1081=input_database!$C$15,input_database!$GG$15,\"0\")","v":"0"},{"$f":"IF(E1081>=input_database!$C$15,(input_database!$GF$15+input_database!$GD$15),0)","v":0},0]
[null,{"$f":"CONCATENATE(selected_functions!$A$15,E1082,C1082)","v":"3Kilobytes"},{"$f":"input_lists!$G$11","v":"Kilobytes"},null,{"$f":"$E$32","v":3},{"$f":"IF(AND(E1082>=input_database!$D$15,E1082<input_database!$C$15),input_database!$GC$15,\"0\")","v":"0"},{"$f":"IF(E1082<input_database!$C$15,input_database!$GE$15,\"0\")","v":"0"},{"$f":"IFERROR(input_database!$GH$15,\"0\")","v":0},{"$f":"IF(E1082=input_database!$C$15,input_database!$GG$15,\"0\")","v":"0"},{"$f":"IF(E1082>=input_database!$C$15,(input_database!$GF$15+input_database!$GD$15),0)","v":0},0]
[null,{"$f":"CONCATENATE(selected_functions!$A$15,E1083,C1083)","v":"-17Megabytes"},{"$f":"input_lists!$G$12","v":"Megabytes"},null,{"$f":"$E$12","v":-17},{"$f":"F1062/1024","v":0},0,0,0,0,0]
[null,{"$f":"CONCATENATE(selected_functions!$A$15,E1084,C1084)","v":"-16Megabytes"},{"$f":"C1083","v":"Megabytes"},null,{"$f":"$E$13","v":-16},0,0,0,0,0,0]
[null,{"$f":"CONCATENATE(selected_functions!$A$15,E1085,C1085)","v":"-15Megabytes"},{"$f":"C1084","v":"Megabytes"},null,{"$f":"$E$14","v":-15},0,0,0,0,0,0]
[null,{"$f":"CONCATENATE(selected_functions!$A$15,E1086,C1086)","v":"-14Megabytes"},"Megabytes",null,{"$f":"$E$15","v":-14},0,0,0,0,0,0]
[null,{"$f":"CONCATENATE(selected_functions!$A$15,E1087,C1087)","v":"-13Megabytes"},"Megabytes",null,{"$f":"$E$16","v":-13},0,0,0,0,0,0]
[null,{"$f":"CONCATENATE(selected_functions!$A$15,E1088,C1088)","v":"-12Megabytes"},"Megabytes",null,{"$f":"$E$17","v":-12},0,0,0,0,0,0]
[null,{"$f":"CONCATENATE(selected_functions!$A$15,E1089,C1089)","v":"-11Megabytes"},"Megabytes",null,{"$f":"$E$18","v":-11},0,0,0,0,0,0]
[null,{"$f":"CONCATENATE(selected_functions!$A$15,E1090,C1090)","v":"-10Megabytes"},"Megabytes",null,{"$f":"$E$19","v":-10},0,0,0,0,0,0]
[null,{"$f":"CONCATENATE(selected_functions!$A$15,E1091,C1091)","v":"-9Megabytes"},"Megabytes",null,{"$f":"$E$20","v":-9},0,0,0,0,0,0]
[null,{"$f":"CONCATENATE(selected_functions!$A$15,E1092,C1092)","v":"-8Megabytes"},"Megabytes",null,{"$f":"$E$21","v":-8},0,0,0,0,0,0]
[null,{"$f":"CONCATENATE(selected_functions!$A$15,E1093,C1093)","v":"-7Megabytes"},"Megabytes",null,{"$f":"$E$22","v":-7},{"$f":"F1072/1024","v":0},0,0,0,0,0]
[null,{"$f":"CONCATENATE(selected_functions!$A$15,E1094,C1094)","v":"-6Megabytes"},"Megabytes",null,{"$f":"$E$23","v":-6},0,0,0,0,0,0]
[null,{"$f":"CONCATENATE(selected_functions!$A$15,E1095,C1095)","v":"-5Megabytes"},"Megabytes",null,{"$f":"$E$24","v":-5},0,0,0,0,0,0]
[null,{"$f":"CONCATENATE(selected_functions!$A$15,E1096,C1096)","v":"-4Megabytes"},"Megabytes",null,{"$f":"$E$25","v":-4},0,0,0,0,0,0]
[null,{"$f":"CONCATENATE(selected_functions!$A$15,E1097,C1097)","v":"-3Megabytes"},"Megabytes",null,{"$f":"$E$26","v":-3},0,0,0,0,0,0]
[null,{"$f":"CONCATENATE(selected_functions!$A$15,E1098,C1098)","v":"-2Megabytes"},"Megabytes",null,{"$f":"$E$27","v":-2},0,0,0,0,0,0]
[null,{"$f":"CONCATENATE(selected_functions!$A$15,E1099,C1099)","v":"-1Megabytes"},"Megabytes",null,{"$f":"$E$28","v":-1},0,0,0,0,0,0]
[null,{"$f":"CONCATENATE(selected_functions!$A$15,E1100,C1100)","v":"0Megabytes"},"Megabytes",null,{"$f":"$E$29","v":0},0,0,0,0,0,0]
[null,{"$f":"CONCATENATE(selected_functions!$A$15,E1101,C1101)","v":"1Megabytes"},"Megabytes",null,{"$f":"$E$30","v":1},0,0,0,0,0,0]
[null,{"$f":"CONCATENATE(selected_functions!$A$15,E1102,C1102)","v":"2Megabytes"},"Megabytes",null,{"$f":"$E$31","v":2},0,0,0,0,0,0]
[null,{"$f":"CONCATENATE(selected_functions!$A$15,E1103,C1103)","v":"3Megabytes"},{"$f":"C1102","v":"Megabytes"},null,{"$f":"$E$32","v":3},{"$f":"F1082/1024","v":0},0,0,0,0,0]
[null,{"$f":"CONCATENATE(selected_functions!$A$15,E1104,C1104)","v":"-17Gigabytes"},{"$f":"input_lists!$G$13","v":"Gigabytes"},null,{"$f":"$E$12","v":-17},0,0,0,0,0,0]
[null,{"$f":"CONCATENATE(selected_functions!$A$15,E1105,C1105)","v":"-16Gigabytes"},{"$f":"C1104","v":"Gigabytes"},null,{"$f":"$E$13","v":-16},0,0,0,0,0,0]
[null,{"$f":"CONCATENATE(selected_functions!$A$15,E1106,C1106)","v":"-15Gigabytes"},{"$f":"C1105","v":"Gigabytes"},null,{"$f":"$E$14","v":-15},0,0,0,0,0,0]
[null,{"$f":"CONCATENATE(selected_functions!$A$15,E1107,C1107)","v":"-14Gigabytes"},"Gigabytes",null,{"$f":"$E$15","v":-14},0,0,0,0,0,0]
[null,{"$f":"CONCATENATE(selected_functions!$A$15,E1108,C1108)","v":"-13Gigabytes"},"Gigabytes",null,{"$f":"$E$16","v":-13},0,0,0,0,0,0]
[null,{"$f":"CONCATENATE(selected_functions!$A$15,E1109,C1109)","v":"-12Gigabytes"},"Gigabytes",null,{"$f":"$E$17","v":-12},0,0,0,0,0,0]
[null,{"$f":"CONCATENATE(selected_functions!$A$15,E1110,C1110)","v":"-11Gigabytes"},"Gigabytes",null,{"$f":"$E$18","v":-11},0,0,0,0,0,0]
[null,{"$f":"CONCATENATE(selected_functions!$A$15,E1111,C1111)","v":"-10Gigabytes"},"Gigabytes",null,{"$f":"$E$19","v":-10},0,0,0,0,0,0]
[null,{"$f":"CONCATENATE(selected_functions!$A$15,E1112,C1112)","v":"-9Gigabytes"},"Gigabytes",null,{"$f":"$E$20","v":-9},0,0,0,0,0,0]
[null,{"$f":"CONCATENATE(selected_functions!$A$15,E1113,C1113)","v":"-8Gigabytes"},"Gigabytes",null,{"$f":"$E$21","v":-8},{"$f":"F1092/1024","v":0},0,0,0,0,0]
[null,{"$f":"CONCATENATE(selected_functions!$A$15,E1114,C1114)","v":"-7Gigabytes"},"Gigabytes",null,{"$f":"$E$22","v":-7},0,0,0,0,0,0]
[null,{"$f":"CONCATENATE(selected_functions!$A$15,E1115,C1115)","v":"-6Gigabytes"},"Gigabytes",null,{"$f":"$E$23","v":-6},0,0,0,0,0,0]
[null,{"$f":"CONCATENATE(selected_functions!$A$15,E1116,C1116)","v":"-5Gigabytes"},"Gigabytes",null,{"$f":"$E$24","v":-5},0,0,0,0,0,0]
[null,{"$f":"CONCATENATE(selected_functions!$A$15,E1117,C1117)","v":"-4Gigabytes"},"Gigabytes",null,{"$f":"$E$25","v":-4},0,0,0,0,0,0]
[null,{"$f":"CONCATENATE(selected_functions!$A$15,E1118,C1118)","v":"-3Gigabytes"},"Gigabytes",null,{"$f":"$E$26","v":-3},0,0,0,0,0,0]
[null,{"$f":"CONCATENATE(selected_functions!$A$15,E1119,C1119)","v":"-2Gigabytes"},"Gigabytes",null,{"$f":"$E$27","v":-2},0,0,0,0,0,0]
[null,{"$f":"CONCATENATE(selected_functions!$A$15,E1120,C1120)","v":"-1Gigabytes"},"Gigabytes",null,{"$f":"$E$28","v":-1},0,0,0,0,0,0]
[null,{"$f":"CONCATENATE(selected_functions!$A$15,E1121,C1121)","v":"0Gigabytes"},"Gigabytes",null,{"$f":"$E$29","v":0},0,0,0,0,0,0]
[null,{"$f":"CONCATENATE(selected_functions!$A$15,E1122,C1122)","v":"1Gigabytes"},"Gigabytes",null,{"$f":"$E$30","v":1},0,0,0,0,0,0]
[null,{"$f":"CONCATENATE(selected_functions!$A$15,E1123,C1123)","v":"2Gigabytes"},"Gigabytes",null,{"$f":"$E$31","v":2},{"$f":"F1102/1024","v":0},0,0,0,0,0]
[null,{"$f":"CONCATENATE(selected_functions!$A$15,E1124,C1124)","v":"3Gigabytes"},"Gigabytes",null,{"$f":"$E$32","v":3},0,0,0,0,0,0]
[null,{"$f":"CONCATENATE(selected_functions!$A$15,E1125,C1125)","v":"-17Terabytes"},{"$f":"input_lists!$G$14","v":"Terabytes"},null,{"$f":"$E$12","v":-17},0,0,0,0,0,0]
[null,{"$f":"CONCATENATE(selected_functions!$A$15,E1126,C1126)","v":"-16Terabytes"},{"$f":"C1125","v":"Terabytes"},null,{"$f":"$E$13","v":-16},0,0,0,0,0,0]
[null,{"$f":"CONCATENATE(selected_functions!$A$15,E1127,C1127)","v":"-15Terabytes"},{"$f":"C1126","v":"Terabytes"},null,{"$f":"$E$14","v":-15},0,0,0,0,0,0]
[null,{"$f":"CONCATENATE(selected_functions!$A$15,E1128,C1128)","v":"-14Terabytes"},"Terabytes",null,{"$f":"$E$15","v":-14},0,0,0,0,0,0]
[null,{"$f":"CONCATENATE(selected_functions!$A$15,E1129,C1129)","v":"-13Terabytes"},"Terabytes",null,{"$f":"$E$16","v":-13},0,0,0,0,0,0]
[null,{"$f":"CONCATENATE(selected_functions!$A$15,E1130,C1130)","v":"-12Terabytes"},"Terabytes",null,{"$f":"$E$17","v":-12},0,0,0,0,0,0]
[null,{"$f":"CONCATENATE(selected_functions!$A$15,E1131,C1131)","v":"-11Terabytes"},"Terabytes",null,{"$f":"$E$18","v":-11},0,0,0,0,0,0]
[null,{"$f":"CONCATENATE(selected_functions!$A$15,E1132,C1132)","v":"-10Terabytes"},"Terabytes",null,{"$f":"$E$19","v":-10},0,0,0,0,0,0]
[null,{"$f":"CONCATENATE(selected_functions!$A$15,E1133,C1133)","v":"-9Terabytes"},"Terabytes",null,{"$f":"$E$20","v":-9},{"$f":"F1112/1024","v":0},0,0,0,0,0]
[null,{"$f":"CONCATENATE(selected_functions!$A$15,E1134,C1134)","v":"-8Terabytes"},"Terabytes",null,{"$f":"$E$21","v":-8},0,0,0,0,0,0]
[null,{"$f":"CONCATENATE(selected_functions!$A$15,E1135,C1135)","v":"-7Terabytes"},"Terabytes",null,{"$f":"$E$22","v":-7},0,0,0,0,0,0]
[null,{"$f":"CONCATENATE(selected_functions!$A$15,E1136,C1136)","v":"-6Terabytes"},"Terabytes",null,{"$f":"$E$23","v":-6},0,0,0,0,0,0]
[null,{"$f":"CONCATENATE(selected_functions!$A$15,E1137,C1137)","v":"-5Terabytes"},"Terabytes",null,{"$f":"$E$24","v":-5},0,0,0,0,0,0]
[null,{"$f":"CONCATENATE(selected_functions!$A$15,E1138,C1138)","v":"-4Terabytes"},"Terabytes",null,{"$f":"$E$25","v":-4},0,0,0,0,0,0]
[null,{"$f":"CONCATENATE(selected_functions!$A$15,E1139,C1139)","v":"-3Terabytes"},"Terabytes",null,{"$f":"$E$26","v":-3},0,0,0,0,0,0]
[null,{"$f":"CONCATENATE(selected_functions!$A$15,E1140,C1140)","v":"-2Terabytes"},"Terabytes",null,{"$f":"$E$27","v":-2},0,0,0,0,0,0]
[null,{"$f":"CONCATENATE(selected_functions!$A$15,E1141,C1141)","v":"-1Terabytes"},"Terabytes",null,{"$f":"$E$28","v":-1},0,0,0,0,0,0]
[null,{"$f":"CONCATENATE(selected_functions!$A$15,E1142,C1142)","v":"0Terabytes"},"Terabytes",null,{"$f":"$E$29","v":0},0,0,0,0,0,0]
[null,{"$f":"CONCATENATE(selected_functions!$A$15,E1143,C1143)","v":"1Terabytes"},"Terabytes",null,{"$f":"$E$30","v":1},{"$f":"F1122/1024","v":0},0,0,0,0,0]
[null,{"$f":"CONCATENATE(selected_functions!$A$15,E1144,C1144)","v":"2Terabytes"},"Terabytes",null,{"$f":"$E$31","v":2},0,0,0,0,0,0]
[null,{"$f":"CONCATENATE(selected_functions!$A$15,E1145,C1145)","v":"3Terabytes"},"Terabytes",null,{"$f":"$E$32","v":3},0,0,0,0,0,0]
[null,{"$f":"CONCATENATE(selected_functions!$A$15,E1146,C1146)","v":"-17Petabytes"},{"$f":"input_lists!$G$15","v":"Petabytes"},null,{"$f":"$E$12","v":-17},0,0,0,0,0,0]
[null,{"$f":"CONCATENATE(selected_functions!$A$15,E1147,C1147)","v":"-16Petabytes"},{"$f":"C1146","v":"Petabytes"},null,{"$f":"$E$13","v":-16},0,0,0,0,0,0]
[null,{"$f":"CONCATENATE(selected_functions!$A$15,E1148,C1148)","v":"-15Petabytes"},{"$f":"C1147","v":"Petabytes"},null,{"$f":"$E$14","v":-15},0,0,0,0,0,0]
[null,{"$f":"CONCATENATE(selected_functions!$A$15,E1149,C1149)","v":"-14Petabytes"},"Petabytes",null,{"$f":"$E$15","v":-14},0,0,0,0,0,0]
[null,{"$f":"CONCATENATE(selected_functions!$A$15,E1150,C1150)","v":"-13Petabytes"},"Petabytes",null,{"$f":"$E$16","v":-13},0,0,0,0,0,0]
[null,{"$f":"CONCATENATE(selected_functions!$A$15,E1151,C1151)","v":"-12Petabytes"},"Petabytes",null,{"$f":"$E$17","v":-12},0,0,0,0,0,0]
[null,{"$f":"CONCATENATE(selected_functions!$A$15,E1152,C1152)","v":"-11Petabytes"},"Petabytes",null,{"$f":"$E$18","v":-11},0,0,0,0,0,0]
[null,{"$f":"CONCATENATE(selected_functions!$A$15,E1153,C1153)","v":"-10Petabytes"},"Petabytes",null,{"$f":"$E$19","v":-10},{"$f":"F1132/1024","v":0},0,0,0,0,0]
[null,{"$f":"CONCATENATE(selected_functions!$A$15,E1154,C1154)","v":"-9Petabytes"},"Petabytes",null,{"$f":"$E$20","v":-9},0,0,0,0,0,0]
[null,{"$f":"CONCATENATE(selected_functions!$A$15,E1155,C1155)","v":"-8Petabytes"},"Petabytes",null,{"$f":"$E$21","v":-8},0,0,0,0,0,0]
[null,{"$f":"CONCATENATE(selected_functions!$A$15,E1156,C1156)","v":"-7Petabytes"},"Petabytes",null,{"$f":"$E$22","v":-7},0,0,0,0,0,0]
[null,{"$f":"CONCATENATE(selected_functions!$A$15,E1157,C1157)","v":"-6Petabytes"},"Petabytes",null,{"$f":"$E$23","v":-6},0,0,0,0,0,0]
[null,{"$f":"CONCATENATE(selected_functions!$A$15,E1158,C1158)","v":"-5Petabytes"},"Petabytes",null,{"$f":"$E$24","v":-5},0,0,0,0,0,0]
[null,{"$f":"CONCATENATE(selected_functions!$A$15,E1159,C1159)","v":"-4Petabytes"},"Petabytes",null,{"$f":"$E$25","v":-4},0,0,0,0,0,0]
[null,{"$f":"CONCATENATE(selected_functions!$A$15,E1160,C1160)","v":"-3Petabytes"},"Petabytes",null,{"$f":"$E$26","v":-3},0,0,0,0,0,0]
[null,{"$f":"CONCATENATE(selected_functions!$A$15,E1161,C1161)","v":"-2Petabytes"},"Petabytes",null,{"$f":"$E$27","v":-2},0,0,0,0,0,0]
[null,{"$f":"CONCATENATE(selected_functions!$A$15,E1162,C1162)","v":"-1Petabytes"},"Petabytes",null,{"$f":"$E$28","v":-1},0,0,0,0,0,0]
[null,{"$f":"CONCATENATE(selected_functions!$A$15,E1163,C1163)","v":"0Petabytes"},"Petabytes",null,{"$f":"$E$29","v":0},{"$f":"F1142/1024","v":0},0,0,0,0,0]
[null,{"$f":"CONCATENATE(selected_functions!$A$15,E1164,C1164)","v":"1Petabytes"},"Petabytes",null,{"$f":"$E$30","v":1},0,0,0,0,0,0]
[null,{"$f":"CONCATENATE(selected_functions!$A$15,E1165,C1165)","v":"2Petabytes"},"Petabytes",null,{"$f":"$E$31","v":2},0,0,0,0,0,0]
[null,{"$f":"CONCATENATE(selected_functions!$A$15,E1166,C1166)","v":"3Petabytes"},"Petabytes",null,{"$f":"$E$32","v":3},0,0,0,0,0,0]
[null,{"$f":"CONCATENATE(selected_functions!$A$16,E1167,C1167)","v":"-17Kilobytes"},{"$f":"input_lists!$G$11","v":"Kilobytes"},null,{"$f":"$E$12","v":-17},{"$f":"IF(AND(E1167>=input_database!$D$16,E1167<input_database!$C$16),input_database!$GC$16,\"0\")","v":"0"},{"$f":"IF(E1167<input_database!$C$16,input_database!$GE$16,\"0\")","v":0},{"$f":"IFERROR(input_database!$GH$16,\"0\")","v":0},{"$f":"IF(E1167=input_database!$C$16,input_database!$GG$16,\"0\")","v":"0"},{"$f":"IF(E1167>=input_database!$C$16,(input_database!$GF$16+input_database!$GD$16),0)","v":0},{"$f":"SUM(F1167:J1167)","v":0}]
[null,{"$f":"CONCATENATE(selected_functions!$A$16,E1168,C1168)","v":"-16Kilobytes"},{"$f":"input_lists!$G$11","v":"Kilobytes"},null,{"$f":"$E$13","v":-16},{"$f":"IF(AND(E1168>=input_database!$D$16,E1168<input_database!$C$16),input_database!$GC$16,\"0\")","v":"0"},{"$f":"IF(E1168<input_database!$C$16,input_database!$GE$16,\"0\")","v":0},{"$f":"IFERROR(input_database!$GH$16,\"0\")","v":0},{"$f":"IF(E1168=input_database!$C$16,input_database!$GG$16,\"0\")","v":"0"},{"$f":"IF(E1168>=input_database!$C$16,(input_database!$GF$16+input_database!$GD$16),0)","v":0},{"$f":"K1167+SUM(F1168:J1168)","v":0}]
[null,{"$f":"CONCATENATE(selected_functions!$A$16,E1169,C1169)","v":"-15Kilobytes"},{"$f":"input_lists!$G$11","v":"Kilobytes"},null,{"$f":"$E$14","v":-15},{"$f":"IF(AND(E1169>=input_database!$D$16,E1169<input_database!$C$16),input_database!$GC$16,\"0\")","v":"0"},{"$f":"IF(E1169<input_database!$C$16,input_database!$GE$16,\"0\")","v":0},{"$f":"IFERROR(input_database!$GH$16,\"0\")","v":0},{"$f":"IF(E1169=input_database!$C$16,input_database!$GG$16,\"0\")","v":"0"},{"$f":"IF(E1169>=input_database!$C$16,(input_database!$GF$16+input_database!$GD$16),0)","v":0},{"$f":"K1168+SUM(F1169:J1169)","v":0}]
[null,{"$f":"CONCATENATE(selected_functions!$A$16,E1170,C1170)","v":"-14Kilobytes"},{"$f":"input_lists!$G$11","v":"Kilobytes"},null,{"$f":"$E$15","v":-14},{"$f":"IF(AND(E1170>=input_database!$D$16,E1170<input_database!$C$16),input_database!$GC$16,\"0\")","v":"0"},{"$f":"IF(E1170<input_database!$C$16,input_database!$GE$16,\"0\")","v":0},{"$f":"IFERROR(input_database!$GH$16,\"0\")","v":0},{"$f":"IF(E1170=input_database!$C$16,input_database!$GG$16,\"0\")","v":"0"},{"$f":"IF(E1170>=input_database!$C$16,(input_database!$GF$16+input_database!$GD$16),0)","v":0},0]
[null,{"$f":"CONCATENATE(selected_functions!$A$16,E1171,C1171)","v":"-13Kilobytes"},{"$f":"input_lists!$G$11","v":"Kilobytes"},null,{"$f":"$E$16","v":-13},{"$f":"IF(AND(E1171>=input_database!$D$16,E1171<input_database!$C$16),input_database!$GC$16,\"0\")","v":"0"},{"$f":"IF(E1171<input_database!$C$16,input_database!$GE$16,\"0\")","v":0},{"$f":"IFERROR(input_database!$GH$16,\"0\")","v":0},{"$f":"IF(E1171=input_database!$C$16,input_database!$GG$16,\"0\")","v":"0"},{"$f":"IF(E1171>=input_database!$C$16,(input_database!$GF$16+input_database!$GD$16),0)","v":0},0]
[null,{"$f":"CONCATENATE(selected_functions!$A$16,E1172,C1172)","v":"-12Kilobytes"},{"$f":"input_lists!$G$11","v":"Kilobytes"},null,{"$f":"$E$17","v":-12},{"$f":"IF(AND(E1172>=input_database!$D$16,E1172<input_database!$C$16),input_database!$GC$16,\"0\")","v":"0"},{"$f":"IF(E1172<input_database!$C$16,input_database!$GE$16,\"0\")","v":0},{"$f":"IFERROR(input_database!$GH$16,\"0\")","v":0},{"$f":"IF(E1172=input_database!$C$16,input_database!$GG$16,\"0\")","v":"0"},{"$f":"IF(E1172>=input_database!$C$16,(input_database!$GF$16+input_database!$GD$16),0)","v":0},0]
[null,{"$f":"CONCATENATE(selected_functions!$A$16,E1173,C1173)","v":"-11Kilobytes"},{"$f":"input_lists!$G$11","v":"Kilobytes"},null,{"$f":"$E$18","v":-11},{"$f":"IF(AND(E1173>=input_database!$D$16,E1173<input_database!$C$16),input_database!$GC$16,\"0\")","v":"0"},{"$f":"IF(E1173<input_database!$C$16,input_database!$GE$16,\"0\")","v":0},{"$f":"IFERROR(input_database!$GH$16,\"0\")","v":0},{"$f":"IF(E1173=input_database!$C$16,input_database!$GG$16,\"0\")","v":"0"},{"$f":"IF(E1173>=input_database!$C$16,(input_database!$GF$16+input_database!$GD$16),0)","v":0},0]
[null,{"$f":"CONCATENATE(selected_functions!$A$16,E1174,C1174)","v":"-10Kilobytes"},{"$f":"input_lists!$G$11","v":"Kilobytes"},null,{"$f":"$E$19","v":-10},{"$f":"IF(AND(E1174>=input_database!$D$16,E1174<input_database!$C$16),input_database!$GC$16,\"0\")","v":"0"},{"$f":"IF(E1174<input_database!$C$16,input_database!$GE$16,\"0\")","v":0},{"$f":"IFERROR(input_database!$GH$16,\"0\")","v":0},{"$f":"IF(E1174=input_database!$C$16,input_database!$GG$16,\"0\")","v":"0"},{"$f":"IF(E1174>=input_database!$C$16,(input_database!$GF$16+input_database!$GD$16),0)","v":0},0]
[null,{"$f":"CONCATENATE(selected_functions!$A$16,E1175,C1175)","v":"-9Kilobytes"},{"$f":"input_lists!$G$11","v":"Kilobytes"},null,{"$f":"$E$20","v":-9},{"$f":"IF(AND(E1175>=input_database!$D$16,E1175<input_database!$C$16),input_database!$GC$16,\"0\")","v":"0"},{"$f":"IF(E1175<input_database!$C$16,input_database!$GE$16,\"0\")","v":0},{"$f":"IFERROR(input_database!$GH$16,\"0\")","v":0},{"$f":"IF(E1175=input_database!$C$16,input_database!$GG$16,\"0\")","v":"0"},{"$f":"IF(E1175>=input_database!$C$16,(input_database!$GF$16+input_database!$GD$16),0)","v":0},0]
[null,{"$f":"CONCATENATE(selected_functions!$A$16,E1176,C1176)","v":"-8Kilobytes"},{"$f":"input_lists!$G$11","v":"Kilobytes"},null,{"$f":"$E$21","v":-8},{"$f":"IF(AND(E1176>=input_database!$D$16,E1176<input_database!$C$16),input_database!$GC$16,\"0\")","v":"0"},{"$f":"IF(E1176<input_database!$C$16,input_database!$GE$16,\"0\")","v":0},{"$f":"IFERROR(input_database!$GH$16,\"0\")","v":0},{"$f":"IF(E1176=input_database!$C$16,input_database!$GG$16,\"0\")","v":"0"},{"$f":"IF(E1176>=input_database!$C$16,(input_database!$GF$16+input_database!$GD$16),0)","v":0},0]
[null,{"$f":"CONCATENATE(selected_functions!$A$16,E1177,C1177)","v":"-7Kilobytes"},{"$f":"input_lists!$G$11","v":"Kilobytes"},null,{"$f":"$E$22","v":-7},{"$f":"IF(AND(E1177>=input_database!$D$16,E1177<input_database!$C$16),input_database!$GC$16,\"0\")","v":"0"},{"$f":"IF(E1177<input_database!$C$16,input_database!$GE$16,\"0\")","v":0},{"$f":"IFERROR(input_database!$GH$16,\"0\")","v":0},{"$f":"IF(E1177=input_database!$C$16,input_database!$GG$16,\"0\")","v":"0"},{"$f":"IF(E1177>=input_database!$C$16,(input_database!$GF$16+input_database!$GD$16),0)","v":0},0]
[null,{"$f":"CONCATENATE(selected_functions!$A$16,E1178,C1178)","v":"-6Kilobytes"},{"$f":"input_lists!$G$11","v":"Kilobytes"},null,{"$f":"$E$23","v":-6},{"$f":"IF(AND(E1178>=input_database!$D$16,E1178<input_database!$C$16),input_database!$GC$16,\"0\")","v":"0"},{"$f":"IF(E1178<input_database!$C$16,input_database!$GE$16,\"0\")","v":0},{"$f":"IFERROR(input_database!$GH$16,\"0\")","v":0},{"$f":"IF(E1178=input_database!$C$16,input_database!$GG$16,\"0\")","v":"0"},{"$f":"IF(E1178>=input_database!$C$16,(input_database!$GF$16+input_database!$GD$16),0)","v":0},0]
[null,{"$f":"CONCATENATE(selected_functions!$A$16,E1179,C1179)","v":"-5Kilobytes"},{"$f":"input_lists!$G$11","v":"Kilobytes"},null,{"$f":"$E$24","v":-5},{"$f":"IF(AND(E1179>=input_database!$D$16,E1179<input_database!$C$16),input_database!$GC$16,\"0\")","v":"0"},{"$f":"IF(E1179<input_database!$C$16,input_database!$GE$16,\"0\")","v":0},{"$f":"IFERROR(input_database!$GH$16,\"0\")","v":0},{"$f":"IF(E1179=input_database!$C$16,input_database!$GG$16,\"0\")","v":"0"},{"$f":"IF(E1179>=input_database!$C$16,(input_database!$GF$16+input_database!$GD$16),0)","v":0},0]
[null,{"$f":"CONCATENATE(selected_functions!$A$16,E1180,C1180)","v":"-4Kilobytes"},{"$f":"input_lists!$G$11","v":"Kilobytes"},null,{"$f":"$E$25","v":-4},{"$f":"IF(AND(E1180>=input_database!$D$16,E1180<input_database!$C$16),input_database!$GC$16,\"0\")","v":"0"},{"$f":"IF(E1180<input_database!$C$16,input_database!$GE$16,\"0\")","v":0},{"$f":"IFERROR(input_database!$GH$16,\"0\")","v":0},{"$f":"IF(E1180=input_database!$C$16,input_database!$GG$16,\"0\")","v":"0"},{"$f":"IF(E1180>=input_database!$C$16,(input_database!$GF$16+input_database!$GD$16),0)","v":0},0]
[null,{"$f":"CONCATENATE(selected_functions!$A$16,E1181,C1181)","v":"-3Kilobytes"},{"$f":"input_lists!$G$11","v":"Kilobytes"},null,{"$f":"$E$26","v":-3},{"$f":"IF(AND(E1181>=input_database!$D$16,E1181<input_database!$C$16),input_database!$GC$16,\"0\")","v":"0"},{"$f":"IF(E1181<input_database!$C$16,input_database!$GE$16,\"0\")","v":0},{"$f":"IFERROR(input_database!$GH$16,\"0\")","v":0},{"$f":"IF(E1181=input_database!$C$16,input_database!$GG$16,\"0\")","v":"0"},{"$f":"IF(E1181>=input_database!$C$16,(input_database!$GF$16+input_database!$GD$16),0)","v":0},0]
[null,{"$f":"CONCATENATE(selected_functions!$A$16,E1182,C1182)","v":"-2Kilobytes"},{"$f":"input_lists!$G$11","v":"Kilobytes"},null,{"$f":"$E$27","v":-2},{"$f":"IF(AND(E1182>=input_database!$D$16,E1182<input_database!$C$16),input_database!$GC$16,\"0\")","v":"0"},{"$f":"IF(E1182<input_database!$C$16,input_database!$GE$16,\"0\")","v":0},{"$f":"IFERROR(input_database!$GH$16,\"0\")","v":0},{"$f":"IF(E1182=input_database!$C$16,input_database!$GG$16,\"0\")","v":"0"},{"$f":"IF(E1182>=input_database!$C$16,(input_database!$GF$16+input_database!$GD$16),0)","v":0},0]
[null,{"$f":"CONCATENATE(selected_functions!$A$16,E1183,C1183)","v":"-1Kilobytes"},{"$f":"input_lists!$G$11","v":"Kilobytes"},null,{"$f":"$E$28","v":-1},{"$f":"IF(AND(E1183>=input_database!$D$16,E1183<input_database!$C$16),input_database!$GC$16,\"0\")","v":"0"},{"$f":"IF(E1183<input_database!$C$16,input_database!$GE$16,\"0\")","v":0},{"$f":"IFERROR(input_database!$GH$16,\"0\")","v":0},{"$f":"IF(E1183=input_database!$C$16,input_database!$GG$16,\"0\")","v":"0"},{"$f":"IF(E1183>=input_database!$C$16,(input_database!$GF$16+input_database!$GD$16),0)","v":0},0]
[null,{"$f":"CONCATENATE(selected_functions!$A$16,E1184,C1184)","v":"0Kilobytes"},{"$f":"input_lists!$G$11","v":"Kilobytes"},null,{"$f":"$E$29","v":0},{"$f":"IF(AND(E1184>=input_database!$D$16,E1184<input_database!$C$16),input_database!$GC$16,\"0\")","v":"0"},{"$f":"IF(E1184<input_database!$C$16,input_database!$GE$16,\"0\")","v":"0"},{"$f":"IFERROR(input_database!$GH$16,\"0\")","v":0},{"$f":"IF(E1184=input_database!$C$16,input_database!$GG$16,\"0\")","v":0},{"$f":"IF(E1184>=input_database!$C$16,(input_database!$GF$16+input_database!$GD$16),0)","v":0},0]
[null,{"$f":"CONCATENATE(selected_functions!$A$16,E1185,C1185)","v":"1Kilobytes"},{"$f":"input_lists!$G$11","v":"Kilobytes"},null,{"$f":"$E$30","v":1},{"$f":"IF(AND(E1185>=input_database!$D$16,E1185<input_database!$C$16),input_database!$GC$16,\"0\")","v":"0"},{"$f":"IF(E1185<input_database!$C$16,input_database!$GE$16,\"0\")","v":"0"},{"$f":"IFERROR(input_database!$GH$16,\"0\")","v":0},{"$f":"IF(E1185=input_database!$C$16,input_database!$GG$16,\"0\")","v":"0"},{"$f":"IF(E1185>=input_database!$C$16,(input_database!$GF$16+input_database!$GD$16),0)","v":0},0]
[null,{"$f":"CONCATENATE(selected_functions!$A$16,E1186,C1186)","v":"2Kilobytes"},{"$f":"input_lists!$G$11","v":"Kilobytes"},null,{"$f":"$E$31","v":2},{"$f":"IF(AND(E1186>=input_database!$D$16,E1186<input_database!$C$16),input_database!$GC$16,\"0\")","v":"0"},{"$f":"IF(E1186<input_database!$C$16,input_database!$GE$16,\"0\")","v":"0"},{"$f":"IFERROR(input_database!$GH$16,\"0\")","v":0},{"$f":"IF(E1186=input_database!$C$16,input_database!$GG$16,\"0\")","v":"0"},{"$f":"IF(E1186>=input_database!$C$16,(input_database!$GF$16+input_database!$GD$16),0)","v":0},0]
[null,{"$f":"CONCATENATE(selected_functions!$A$16,E1187,C1187)","v":"3Kilobytes"},{"$f":"input_lists!$G$11","v":"Kilobytes"},null,{"$f":"$E$32","v":3},{"$f":"IF(AND(E1187>=input_database!$D$16,E1187<input_database!$C$16),input_database!$GC$16,\"0\")","v":"0"},{"$f":"IF(E1187<input_database!$C$16,input_database!$GE$16,\"0\")","v":"0"},{"$f":"IFERROR(input_database!$GH$16,\"0\")","v":0},{"$f":"IF(E1187=input_database!$C$16,input_database!$GG$16,\"0\")","v":"0"},{"$f":"IF(E1187>=input_database!$C$16,(input_database!$GF$16+input_database!$GD$16),0)","v":0},0]
[null,{"$f":"CONCATENATE(selected_functions!$A$16,E1188,C1188)","v":"-17Megabytes"},{"$f":"input_lists!$G$12","v":"Megabytes"},null,{"$f":"$E$12","v":-17},{"$f":"F1167/1024","v":0},0,0,0,0,0]
[null,{"$f":"CONCATENATE(selected_functions!$A$16,E1189,C1189)","v":"-16Megabytes"},{"$f":"C1188","v":"Megabytes"},null,{"$f":"$E$13","v":-16},0,0,0,0,0,0]
[null,{"$f":"CONCATENATE(selected_functions!$A$16,E1190,C1190)","v":"-15Megabytes"},{"$f":"C1189","v":"Megabytes"},null,{"$f":"$E$14","v":-15},0,0,0,0,0,0]
[null,{"$f":"CONCATENATE(selected_functions!$A$16,E1191,C1191)","v":"-14Megabytes"},"Megabytes",null,{"$f":"$E$15","v":-14},0,0,0,0,0,0]
[null,{"$f":"CONCATENATE(selected_functions!$A$16,E1192,C1192)","v":"-13Megabytes"},"Megabytes",null,{"$f":"$E$16","v":-13},0,0,0,0,0,0]
[null,{"$f":"CONCATENATE(selected_functions!$A$16,E1193,C1193)","v":"-12Megabytes"},"Megabytes",null,{"$f":"$E$17","v":-12},0,0,0,0,0,0]
[null,{"$f":"CONCATENATE(selected_functions!$A$16,E1194,C1194)","v":"-11Megabytes"},"Megabytes",null,{"$f":"$E$18","v":-11},0,0,0,0,0,0]
[null,{"$f":"CONCATENATE(selected_functions!$A$16,E1195,C1195)","v":"-10Megabytes"},"Megabytes",null,{"$f":"$E$19","v":-10},0,0,0,0,0,0]
[null,{"$f":"CONCATENATE(selected_functions!$A$16,E1196,C1196)","v":"-9Megabytes"},"Megabytes",null,{"$f":"$E$20","v":-9},0,0,0,0,0,0]
[null,{"$f":"CONCATENATE(selected_functions!$A$16,E1197,C1197)","v":"-8Megabytes"},"Megabytes",null,{"$f":"$E$21","v":-8},0,0,0,0,0,0]
[null,{"$f":"CONCATENATE(selected_functions!$A$16,E1198,C1198)","v":"-7Megabytes"},"Megabytes",null,{"$f":"$E$22","v":-7},{"$f":"F1177/1024","v":0},0,0,0,0,0]
[null,{"$f":"CONCATENATE(selected_functions!$A$16,E1199,C1199)","v":"-6Megabytes"},"Megabytes",null,{"$f":"$E$23","v":-6},0,0,0,0,0,0]
[null,{"$f":"CONCATENATE(selected_functions!$A$16,E1200,C1200)","v":"-5Megabytes"},"Megabytes",null,{"$f":"$E$24","v":-5},0,0,0,0,0,0]
[null,{"$f":"CONCATENATE(selected_functions!$A$16,E1201,C1201)","v":"-4Megabytes"},"Megabytes",null,{"$f":"$E$25","v":-4},0,0,0,0,0,0]
[null,{"$f":"CONCATENATE(selected_functions!$A$16,E1202,C1202)","v":"-3Megabytes"},"Megabytes",null,{"$f":"$E$26","v":-3},0,0,0,0,0,0]
[null,{"$f":"CONCATENATE(selected_functions!$A$16,E1203,C1203)","v":"-2Megabytes"},"Megabytes",null,{"$f":"$E$27","v":-2},0,0,0,0,0,0]
[null,{"$f":"CONCATENATE(selected_functions!$A$16,E1204,C1204)","v":"-1Megabytes"},"Megabytes",null,{"$f":"$E$28","v":-1},0,0,0,0,0,0]
[null,{"$f":"CONCATENATE(selected_functions!$A$16,E1205,C1205)","v":"0Megabytes"},"Megabytes",null,{"$f":"$E$29","v":0},0,0,0,0,0,0]
[null,{"$f":"CONCATENATE(selected_functions!$A$16,E1206,C1206)","v":"1Megabytes"},"Megabytes",null,{"$f":"$E$30","v":1},0,0,0,0,0,0]
[null,{"$f":"CONCATENATE(selected_functions!$A$16,E1207,C1207)","v":"2Megabytes"},"Megabytes",null,{"$f":"$E$31","v":2},0,0,0,0,0,0]
[null,{"$f":"CONCATENATE(selected_functions!$A$16,E1208,C1208)","v":"3Megabytes"},{"$f":"C1207","v":"Megabytes"},null,{"$f":"$E$32","v":3},{"$f":"F1187/1024","v":0},0,0,0,0,0]
[null,{"$f":"CONCATENATE(selected_functions!$A$16,E1209,C1209)","v":"-17Gigabytes"},{"$f":"input_lists!$G$13","v":"Gigabytes"},null,{"$f":"$E$12","v":-17},0,0,0,0,0,0]
[null,{"$f":"CONCATENATE(selected_functions!$A$16,E1210,C1210)","v":"-16Gigabytes"},{"$f":"C1209","v":"Gigabytes"},null,{"$f":"$E$13","v":-16},0,0,0,0,0,0]
[null,{"$f":"CONCATENATE(selected_functions!$A$16,E1211,C1211)","v":"-15Gigabytes"},{"$f":"C1210","v":"Gigabytes"},null,{"$f":"$E$14","v":-15},0,0,0,0,0,0]
[null,{"$f":"CONCATENATE(selected_functions!$A$16,E1212,C1212)","v":"-14Gigabytes"},"Gigabytes",null,{"$f":"$E$15","v":-14},0,0,0,0,0,0]
[null,{"$f":"CONCATENATE(selected_functions!$A$16,E1213,C1213)","v":"-13Gigabytes"},"Gigabytes",null,{"$f":"$E$16","v":-13},0,0,0,0,0,0]
[null,{"$f":"CONCATENATE(selected_functions!$A$16,E1214,C1214)","v":"-12Gigabytes"},"Gigabytes",null,{"$f":"$E$17","v":-12},0,0,0,0,0,0]
[null,{"$f":"CONCATENATE(selected_functions!$A$16,E1215,C1215)","v":"-11Gigabytes"},"Gigabytes",null,{"$f":"$E$18","v":-11},0,0,0,0,0,0]
[null,{"$f":"CONCATENATE(selected_functions!$A$16,E1216,C1216)","v":"-10Gigabytes"},"Gigabytes",null,{"$f":"$E$19","v":-10},0,0,0,0,0,0]
[null,{"$f":"CONCATENATE(selected_functions!$A$16,E1217,C1217)","v":"-9Gigabytes"},"Gigabytes",null,{"$f":"$E$20","v":-9},0,0,0,0,0,0]
[null,{"$f":"CONCATENATE(selected_functions!$A$16,E1218,C1218)","v":"-8Gigabytes"},"Gigabytes",null,{"$f":"$E$21","v":-8},{"$f":"F1197/1024","v":0},0,0,0,0,0]
[null,{"$f":"CONCATENATE(selected_functions!$A$16,E1219,C1219)","v":"-7Gigabytes"},"Gigabytes",null,{"$f":"$E$22","v":-7},0,0,0,0,0,0]
[null,{"$f":"CONCATENATE(selected_functions!$A$16,E1220,C1220)","v":"-6Gigabytes"},"Gigabytes",null,{"$f":"$E$23","v":-6},0,0,0,0,0,0]
[null,{"$f":"CONCATENATE(selected_functions!$A$16,E1221,C1221)","v":"-5Gigabytes"},"Gigabytes",null,{"$f":"$E$24","v":-5},0,0,0,0,0,0]
[null,{"$f":"CONCATENATE(selected_functions!$A$16,E1222,C1222)","v":"-4Gigabytes"},"Gigabytes",null,{"$f":"$E$25","v":-4},0,0,0,0,0,0]
[null,{"$f":"CONCATENATE(selected_functions!$A$16,E1223,C1223)","v":"-3Gigabytes"},"Gigabytes",null,{"$f":"$E$26","v":-3},0,0,0,0,0,0]
[null,{"$f":"CONCATENATE(selected_functions!$A$16,E1224,C1224)","v":"-2Gigabytes"},"Gigabytes",null,{"$f":"$E$27","v":-2},0,0,0,0,0,0]
[null,{"$f":"CONCATENATE(selected_functions!$A$16,E1225,C1225)","v":"-1Gigabytes"},"Gigabytes",null,{"$f":"$E$28","v":-1},0,0,0,0,0,0]
[null,{"$f":"CONCATENATE(selected_functions!$A$16,E1226,C1226)","v":"0Gigabytes"},"Gigabytes",null,{"$f":"$E$29","v":0},0,0,0,0,0,0]
[null,{"$f":"CONCATENATE(selected_functions!$A$16,E1227,C1227)","v":"1Gigabytes"},"Gigabytes",null,{"$f":"$E$30","v":1},0,0,0,0,0,0]
[null,{"$f":"CONCATENATE(selected_functions!$A$16,E1228,C1228)","v":"2Gigabytes"},"Gigabytes",null,{"$f":"$E$31","v":2},{"$f":"F1207/1024","v":0},0,0,0,0,0]
[null,{"$f":"CONCATENATE(selected_functions!$A$16,E1229,C1229)","v":"3Gigabytes"},"Gigabytes",null,{"$f":"$E$32","v":3},0,0,0,0,0,0]
[null,{"$f":"CONCATENATE(selected_functions!$A$16,E1230,C1230)","v":"-17Terabytes"},{"$f":"input_lists!$G$14","v":"Terabytes"},null,{"$f":"$E$12","v":-17},0,0,0,0,0,0]
[null,{"$f":"CONCATENATE(selected_functions!$A$16,E1231,C1231)","v":"-16Terabytes"},{"$f":"C1230","v":"Terabytes"},null,{"$f":"$E$13","v":-16},0,0,0,0,0,0]
[null,{"$f":"CONCATENATE(selected_functions!$A$16,E1232,C1232)","v":"-15Terabytes"},{"$f":"C1231","v":"Terabytes"},null,{"$f":"$E$14","v":-15},0,0,0,0,0,0]
[null,{"$f":"CONCATENATE(selected_functions!$A$16,E1233,C1233)","v":"-14Terabytes"},"Terabytes",null,{"$f":"$E$15","v":-14},0,0,0,0,0,0]
[null,{"$f":"CONCATENATE(selected_functions!$A$16,E1234,C1234)","v":"-13Terabytes"},"Terabytes",null,{"$f":"$E$16","v":-13},0,0,0,0,0,0]
[null,{"$f":"CONCATENATE(selected_functions!$A$16,E1235,C1235)","v":"-12Terabytes"},"Terabytes",null,{"$f":"$E$17","v":-12},0,0,0,0,0,0]
[null,{"$f":"CONCATENATE(selected_functions!$A$16,E1236,C1236)","v":"-11Terabytes"},"Terabytes",null,{"$f":"$E$18","v":-11},0,0,0,0,0,0]
[null,{"$f":"CONCATENATE(selected_functions!$A$16,E1237,C1237)","v":"-10Terabytes"},"Terabytes",null,{"$f":"$E$19","v":-10},0,0,0,0,0,0]
[null,{"$f":"CONCATENATE(selected_functions!$A$16,E1238,C1238)","v":"-9Terabytes"},"Terabytes",null,{"$f":"$E$20","v":-9},{"$f":"F1217/1024","v":0},0,0,0,0,0]
[null,{"$f":"CONCATENATE(selected_functions!$A$16,E1239,C1239)","v":"-8Terabytes"},"Terabytes",null,{"$f":"$E$21","v":-8},0,0,0,0,0,0]
[null,{"$f":"CONCATENATE(selected_functions!$A$16,E1240,C1240)","v":"-7Terabytes"},"Terabytes",null,{"$f":"$E$22","v":-7},0,0,0,0,0,0]
[null,{"$f":"CONCATENATE(selected_functions!$A$16,E1241,C1241)","v":"-6Terabytes"},"Terabytes",null,{"$f":"$E$23","v":-6},0,0,0,0,0,0]
[null,{"$f":"CONCATENATE(selected_functions!$A$16,E1242,C1242)","v":"-5Terabytes"},"Terabytes",null,{"$f":"$E$24","v":-5},0,0,0,0,0,0]
[null,{"$f":"CONCATENATE(selected_functions!$A$16,E1243,C1243)","v":"-4Terabytes"},"Terabytes",null,{"$f":"$E$25","v":-4},0,0,0,0,0,0]
[null,{"$f":"CONCATENATE(selected_functions!$A$16,E1244,C1244)","v":"-3Terabytes"},"Terabytes",null,{"$f":"$E$26","v":-3},0,0,0,0,0,0]
[null,{"$f":"CONCATENATE(selected_functions!$A$16,E1245,C1245)","v":"-2Terabytes"},"Terabytes",null,{"$f":"$E$27","v":-2},0,0,0,0,0,0]
[null,{"$f":"CONCATENATE(selected_functions!$A$16,E1246,C1246)","v":"-1Terabytes"},"Terabytes",null,{"$f":"$E$28","v":-1},0,0,0,0,0,0]
[null,{"$f":"CONCATENATE(selected_functions!$A$16,E1247,C1247)","v":"0Terabytes"},"Terabytes",null,{"$f":"$E$29","v":0},0,0,0,0,0,0]
[null,{"$f":"CONCATENATE(selected_functions!$A$16,E1248,C1248)","v":"1Terabytes"},"Terabytes",null,{"$f":"$E$30","v":1},{"$f":"F1227/1024","v":0},0,0,0,0,0]
[null,{"$f":"CONCATENATE(selected_functions!$A$16,E1249,C1249)","v":"2Terabytes"},"Terabytes",null,{"$f":"$E$31","v":2},0,0,0,0,0,0]
[null,{"$f":"CONCATENATE(selected_functions!$A$16,E1250,C1250)","v":"3Terabytes"},"Terabytes",null,{"$f":"$E$32","v":3},0,0,0,0,0,0]
[null,{"$f":"CONCATENATE(selected_functions!$A$16,E1251,C1251)","v":"-17Petabytes"},{"$f":"input_lists!$G$15","v":"Petabytes"},null,{"$f":"$E$12","v":-17},0,0,0,0,0,0]
[null,{"$f":"CONCATENATE(selected_functions!$A$16,E1252,C1252)","v":"-16Petabytes"},{"$f":"C1251","v":"Petabytes"},null,{"$f":"$E$13","v":-16},0,0,0,0,0,0]
[null,{"$f":"CONCATENATE(selected_functions!$A$16,E1253,C1253)","v":"-15Petabytes"},{"$f":"C1252","v":"Petabytes"},null,{"$f":"$E$14","v":-15},0,0,0,0,0,0]
[null,{"$f":"CONCATENATE(selected_functions!$A$16,E1254,C1254)","v":"-14Petabytes"},"Petabytes",null,{"$f":"$E$15","v":-14},0,0,0,0,0,0]
[null,{"$f":"CONCATENATE(selected_functions!$A$16,E1255,C1255)","v":"-13Petabytes"},"Petabytes",null,{"$f":"$E$16","v":-13},0,0,0,0,0,0]
[null,{"$f":"CONCATENATE(selected_functions!$A$16,E1256,C1256)","v":"-12Petabytes"},"Petabytes",null,{"$f":"$E$17","v":-12},0,0,0,0,0,0]
[null,{"$f":"CONCATENATE(selected_functions!$A$16,E1257,C1257)","v":"-11Petabytes"},"Petabytes",null,{"$f":"$E$18","v":-11},0,0,0,0,0,0]
[null,{"$f":"CONCATENATE(selected_functions!$A$16,E1258,C1258)","v":"-10Petabytes"},"Petabytes",null,{"$f":"$E$19","v":-10},{"$f":"F1237/1024","v":0},0,0,0,0,0]
[null,{"$f":"CONCATENATE(selected_functions!$A$16,E1259,C1259)","v":"-9Petabytes"},"Petabytes",null,{"$f":"$E$20","v":-9},0,0,0,0,0,0]
[null,{"$f":"CONCATENATE(selected_functions!$A$16,E1260,C1260)","v":"-8Petabytes"},"Petabytes",null,{"$f":"$E$21","v":-8},0,0,0,0,0,0]
[null,{"$f":"CONCATENATE(selected_functions!$A$16,E1261,C1261)","v":"-7Petabytes"},"Petabytes",null,{"$f":"$E$22","v":-7},0,0,0,0,0,0]
[null,{"$f":"CONCATENATE(selected_functions!$A$16,E1262,C1262)","v":"-6Petabytes"},"Petabytes",null,{"$f":"$E$23","v":-6},0,0,0,0,0,0]
[null,{"$f":"CONCATENATE(selected_functions!$A$16,E1263,C1263)","v":"-5Petabytes"},"Petabytes",null,{"$f":"$E$24","v":-5},0,0,0,0,0,0]
[null,{"$f":"CONCATENATE(selected_functions!$A$16,E1264,C1264)","v":"-4Petabytes"},"Petabytes",null,{"$f":"$E$25","v":-4},0,0,0,0,0,0]
[null,{"$f":"CONCATENATE(selected_functions!$A$16,E1265,C1265)","v":"-3Petabytes"},"Petabytes",null,{"$f":"$E$26","v":-3},0,0,0,0,0,0]
[null,{"$f":"CONCATENATE(selected_functions!$A$16,E1266,C1266)","v":"-2Petabytes"},"Petabytes",null,{"$f":"$E$27","v":-2},0,0,0,0,0,0]
[null,{"$f":"CONCATENATE(selected_functions!$A$16,E1267,C1267)","v":"-1Petabytes"},"Petabytes",null,{"$f":"$E$28","v":-1},0,0,0,0,0,0]
[null,{"$f":"CONCATENATE(selected_functions!$A$16,E1268,C1268)","v":"0Petabytes"},"Petabytes",null,{"$f":"$E$29","v":0},{"$f":"F1247/1024","v":0},0,0,0,0,0]
[null,{"$f":"CONCATENATE(selected_functions!$A$16,E1269,C1269)","v":"1Petabytes"},"Petabytes",null,{"$f":"$E$30","v":1},0,0,0,0,0,0]
[null,{"$f":"CONCATENATE(selected_functions!$A$16,E1270,C1270)","v":"2Petabytes"},"Petabytes",null,{"$f":"$E$31","v":2},0,0,0,0,0,0]
[null,{"$f":"CONCATENATE(selected_functions!$A$16,E1271,C1271)","v":"3Petabytes"},"Petabytes",null,{"$f":"$E$32","v":3},0,0,0,0,0,0]
[null,{"$f":"CONCATENATE(selected_functions!$A$17,E1272,C1272)","v":"-17Kilobytes"},{"$f":"input_lists!$G$11","v":"Kilobytes"},null,{"$f":"$E$12","v":-17},{"$f":"IF(AND(E1272>=input_database!$D$17,E1272<input_database!$C$17),input_database!$GC$17,\"0\")","v":"0"},{"$f":"IF(E1272<input_database!$C$17,input_database!$GE$17,\"0\")","v":0},{"$f":"IFERROR(input_database!$GH$17,\"0\")","v":0},{"$f":"IF(E1272=input_database!$C$17,input_database!$GG$17,\"0\")","v":"0"},{"$f":"IF(E1272>=input_database!$C$17,(input_database!$GF$17+input_database!$GD$17),0)","v":0},{"$f":"SUM(F1272:J1272)","v":0}]
[null,{"$f":"CONCATENATE(selected_functions!$A$17,E1273,C1273)","v":"-16Kilobytes"},{"$f":"input_lists!$G$11","v":"Kilobytes"},null,{"$f":"$E$13","v":-16},{"$f":"IF(AND(E1273>=input_database!$D$17,E1273<input_database!$C$17),input_database!$GC$17,\"0\")","v":"0"},{"$f":"IF(E1273<input_database!$C$17,input_database!$GE$17,\"0\")","v":0},{"$f":"IFERROR(input_database!$GH$17,\"0\")","v":0},{"$f":"IF(E1273=input_database!$C$17,input_database!$GG$17,\"0\")","v":"0"},{"$f":"IF(E1273>=input_database!$C$17,(input_database!$GF$17+input_database!$GD$17),0)","v":0},{"$f":"K1272+SUM(F1273:J1273)","v":0}]
[null,{"$f":"CONCATENATE(selected_functions!$A$17,E1274,C1274)","v":"-15Kilobytes"},{"$f":"input_lists!$G$11","v":"Kilobytes"},null,{"$f":"$E$14","v":-15},{"$f":"IF(AND(E1274>=input_database!$D$17,E1274<input_database!$C$17),input_database!$GC$17,\"0\")","v":"0"},{"$f":"IF(E1274<input_database!$C$17,input_database!$GE$17,\"0\")","v":0},{"$f":"IFERROR(input_database!$GH$17,\"0\")","v":0},{"$f":"IF(E1274=input_database!$C$17,input_database!$GG$17,\"0\")","v":"0"},{"$f":"IF(E1274>=input_database!$C$17,(input_database!$GF$17+input_database!$GD$17),0)","v":0},{"$f":"K1273+SUM(F1274:J1274)","v":0}]
[null,{"$f":"CONCATENATE(selected_functions!$A$17,E1275,C1275)","v":"-14Kilobytes"},{"$f":"input_lists!$G$11","v":"Kilobytes"},null,{"$f":"$E$15","v":-14},{"$f":"IF(AND(E1275>=input_database!$D$17,E1275<input_database!$C$17),input_database!$GC$17,\"0\")","v":"0"},{"$f":"IF(E1275<input_database!$C$17,input_database!$GE$17,\"0\")","v":0},{"$f":"IFERROR(input_database!$GH$17,\"0\")","v":0},{"$f":"IF(E1275=input_database!$C$17,input_database!$GG$17,\"0\")","v":"0"},{"$f":"IF(E1275>=input_database!$C$17,(input_database!$GF$17+input_database!$GD$17),0)","v":0},0]
[null,{"$f":"CONCATENATE(selected_functions!$A$17,E1276,C1276)","v":"-13Kilobytes"},{"$f":"input_lists!$G$11","v":"Kilobytes"},null,{"$f":"$E$16","v":-13},{"$f":"IF(AND(E1276>=input_database!$D$17,E1276<input_database!$C$17),input_database!$GC$17,\"0\")","v":"0"},{"$f":"IF(E1276<input_database!$C$17,input_database!$GE$17,\"0\")","v":0},{"$f":"IFERROR(input_database!$GH$17,\"0\")","v":0},{"$f":"IF(E1276=input_database!$C$17,input_database!$GG$17,\"0\")","v":"0"},{"$f":"IF(E1276>=input_database!$C$17,(input_database!$GF$17+input_database!$GD$17),0)","v":0},0]
[null,{"$f":"CONCATENATE(selected_functions!$A$17,E1277,C1277)","v":"-12Kilobytes"},{"$f":"input_lists!$G$11","v":"Kilobytes"},null,{"$f":"$E$17","v":-12},{"$f":"IF(AND(E1277>=input_database!$D$17,E1277<input_database!$C$17),input_database!$GC$17,\"0\")","v":"0"},{"$f":"IF(E1277<input_database!$C$17,input_database!$GE$17,\"0\")","v":0},{"$f":"IFERROR(input_database!$GH$17,\"0\")","v":0},{"$f":"IF(E1277=input_database!$C$17,input_database!$GG$17,\"0\")","v":"0"},{"$f":"IF(E1277>=input_database!$C$17,(input_database!$GF$17+input_database!$GD$17),0)","v":0},0]
[null,{"$f":"CONCATENATE(selected_functions!$A$17,E1278,C1278)","v":"-11Kilobytes"},{"$f":"input_lists!$G$11","v":"Kilobytes"},null,{"$f":"$E$18","v":-11},{"$f":"IF(AND(E1278>=input_database!$D$17,E1278<input_database!$C$17),input_database!$GC$17,\"0\")","v":"0"},{"$f":"IF(E1278<input_database!$C$17,input_database!$GE$17,\"0\")","v":0},{"$f":"IFERROR(input_database!$GH$17,\"0\")","v":0},{"$f":"IF(E1278=input_database!$C$17,input_database!$GG$17,\"0\")","v":"0"},{"$f":"IF(E1278>=input_database!$C$17,(input_database!$GF$17+input_database!$GD$17),0)","v":0},0]
[null,{"$f":"CONCATENATE(selected_functions!$A$17,E1279,C1279)","v":"-10Kilobytes"},{"$f":"input_lists!$G$11","v":"Kilobytes"},null,{"$f":"$E$19","v":-10},{"$f":"IF(AND(E1279>=input_database!$D$17,E1279<input_database!$C$17),input_database!$GC$17,\"0\")","v":"0"},{"$f":"IF(E1279<input_database!$C$17,input_database!$GE$17,\"0\")","v":0},{"$f":"IFERROR(input_database!$GH$17,\"0\")","v":0},{"$f":"IF(E1279=input_database!$C$17,input_database!$GG$17,\"0\")","v":"0"},{"$f":"IF(E1279>=input_database!$C$17,(input_database!$GF$17+input_database!$GD$17),0)","v":0},0]
[null,{"$f":"CONCATENATE(selected_functions!$A$17,E1280,C1280)","v":"-9Kilobytes"},{"$f":"input_lists!$G$11","v":"Kilobytes"},null,{"$f":"$E$20","v":-9},{"$f":"IF(AND(E1280>=input_database!$D$17,E1280<input_database!$C$17),input_database!$GC$17,\"0\")","v":"0"},{"$f":"IF(E1280<input_database!$C$17,input_database!$GE$17,\"0\")","v":0},{"$f":"IFERROR(input_database!$GH$17,\"0\")","v":0},{"$f":"IF(E1280=input_database!$C$17,input_database!$GG$17,\"0\")","v":"0"},{"$f":"IF(E1280>=input_database!$C$17,(input_database!$GF$17+input_database!$GD$17),0)","v":0},0]
[null,{"$f":"CONCATENATE(selected_functions!$A$17,E1281,C1281)","v":"-8Kilobytes"},{"$f":"input_lists!$G$11","v":"Kilobytes"},null,{"$f":"$E$21","v":-8},{"$f":"IF(AND(E1281>=input_database!$D$17,E1281<input_database!$C$17),input_database!$GC$17,\"0\")","v":"0"},{"$f":"IF(E1281<input_database!$C$17,input_database!$GE$17,\"0\")","v":0},{"$f":"IFERROR(input_database!$GH$17,\"0\")","v":0},{"$f":"IF(E1281=input_database!$C$17,input_database!$GG$17,\"0\")","v":"0"},{"$f":"IF(E1281>=input_database!$C$17,(input_database!$GF$17+input_database!$GD$17),0)","v":0},0]
[null,{"$f":"CONCATENATE(selected_functions!$A$17,E1282,C1282)","v":"-7Kilobytes"},{"$f":"input_lists!$G$11","v":"Kilobytes"},null,{"$f":"$E$22","v":-7},{"$f":"IF(AND(E1282>=input_database!$D$17,E1282<input_database!$C$17),input_database!$GC$17,\"0\")","v":"0"},{"$f":"IF(E1282<input_database!$C$17,input_database!$GE$17,\"0\")","v":0},{"$f":"IFERROR(input_database!$GH$17,\"0\")","v":0},{"$f":"IF(E1282=input_database!$C$17,input_database!$GG$17,\"0\")","v":"0"},{"$f":"IF(E1282>=input_database!$C$17,(input_database!$GF$17+input_database!$GD$17),0)","v":0},0]
[null,{"$f":"CONCATENATE(selected_functions!$A$17,E1283,C1283)","v":"-6Kilobytes"},{"$f":"input_lists!$G$11","v":"Kilobytes"},null,{"$f":"$E$23","v":-6},{"$f":"IF(AND(E1283>=input_database!$D$17,E1283<input_database!$C$17),input_database!$GC$17,\"0\")","v":"0"},{"$f":"IF(E1283<input_database!$C$17,input_database!$GE$17,\"0\")","v":0},{"$f":"IFERROR(input_database!$GH$17,\"0\")","v":0},{"$f":"IF(E1283=input_database!$C$17,input_database!$GG$17,\"0\")","v":"0"},{"$f":"IF(E1283>=input_database!$C$17,(input_database!$GF$17+input_database!$GD$17),0)","v":0},0]
[null,{"$f":"CONCATENATE(selected_functions!$A$17,E1284,C1284)","v":"-5Kilobytes"},{"$f":"input_lists!$G$11","v":"Kilobytes"},null,{"$f":"$E$24","v":-5},{"$f":"IF(AND(E1284>=input_database!$D$17,E1284<input_database!$C$17),input_database!$GC$17,\"0\")","v":"0"},{"$f":"IF(E1284<input_database!$C$17,input_database!$GE$17,\"0\")","v":0},{"$f":"IFERROR(input_database!$GH$17,\"0\")","v":0},{"$f":"IF(E1284=input_database!$C$17,input_database!$GG$17,\"0\")","v":"0"},{"$f":"IF(E1284>=input_database!$C$17,(input_database!$GF$17+input_database!$GD$17),0)","v":0},0]
[null,{"$f":"CONCATENATE(selected_functions!$A$17,E1285,C1285)","v":"-4Kilobytes"},{"$f":"input_lists!$G$11","v":"Kilobytes"},null,{"$f":"$E$25","v":-4},{"$f":"IF(AND(E1285>=input_database!$D$17,E1285<input_database!$C$17),input_database!$GC$17,\"0\")","v":"0"},{"$f":"IF(E1285<input_database!$C$17,input_database!$GE$17,\"0\")","v":0},{"$f":"IFERROR(input_database!$GH$17,\"0\")","v":0},{"$f":"IF(E1285=input_database!$C$17,input_database!$GG$17,\"0\")","v":"0"},{"$f":"IF(E1285>=input_database!$C$17,(input_database!$GF$17+input_database!$GD$17),0)","v":0},0]
[null,{"$f":"CONCATENATE(selected_functions!$A$17,E1286,C1286)","v":"-3Kilobytes"},{"$f":"input_lists!$G$11","v":"Kilobytes"},null,{"$f":"$E$26","v":-3},{"$f":"IF(AND(E1286>=input_database!$D$17,E1286<input_database!$C$17),input_database!$GC$17,\"0\")","v":"0"},{"$f":"IF(E1286<input_database!$C$17,input_database!$GE$17,\"0\")","v":0},{"$f":"IFERROR(input_database!$GH$17,\"0\")","v":0},{"$f":"IF(E1286=input_database!$C$17,input_database!$GG$17,\"0\")","v":"0"},{"$f":"IF(E1286>=input_database!$C$17,(input_database!$GF$17+input_database!$GD$17),0)","v":0},0]
[null,{"$f":"CONCATENATE(selected_functions!$A$17,E1287,C1287)","v":"-2Kilobytes"},{"$f":"input_lists!$G$11","v":"Kilobytes"},null,{"$f":"$E$27","v":-2},{"$f":"IF(AND(E1287>=input_database!$D$17,E1287<input_database!$C$17),input_database!$GC$17,\"0\")","v":"0"},{"$f":"IF(E1287<input_database!$C$17,input_database!$GE$17,\"0\")","v":0},{"$f":"IFERROR(input_database!$GH$17,\"0\")","v":0},{"$f":"IF(E1287=input_database!$C$17,input_database!$GG$17,\"0\")","v":"0"},{"$f":"IF(E1287>=input_database!$C$17,(input_database!$GF$17+input_database!$GD$17),0)","v":0},0]
[null,{"$f":"CONCATENATE(selected_functions!$A$17,E1288,C1288)","v":"-1Kilobytes"},{"$f":"input_lists!$G$11","v":"Kilobytes"},null,{"$f":"$E$28","v":-1},{"$f":"IF(AND(E1288>=input_database!$D$17,E1288<input_database!$C$17),input_database!$GC$17,\"0\")","v":"0"},{"$f":"IF(E1288<input_database!$C$17,input_database!$GE$17,\"0\")","v":0},{"$f":"IFERROR(input_database!$GH$17,\"0\")","v":0},{"$f":"IF(E1288=input_database!$C$17,input_database!$GG$17,\"0\")","v":"0"},{"$f":"IF(E1288>=input_database!$C$17,(input_database!$GF$17+input_database!$GD$17),0)","v":0},0]
[null,{"$f":"CONCATENATE(selected_functions!$A$17,E1289,C1289)","v":"0Kilobytes"},{"$f":"input_lists!$G$11","v":"Kilobytes"},null,{"$f":"$E$29","v":0},{"$f":"IF(AND(E1289>=input_database!$D$17,E1289<input_database!$C$17),input_database!$GC$17,\"0\")","v":"0"},{"$f":"IF(E1289<input_database!$C$17,input_database!$GE$17,\"0\")","v":"0"},{"$f":"IFERROR(input_database!$GH$17,\"0\")","v":0},{"$f":"IF(E1289=input_database!$C$17,input_database!$GG$17,\"0\")","v":0},{"$f":"IF(E1289>=input_database!$C$17,(input_database!$GF$17+input_database!$GD$17),0)","v":0},0]
[null,{"$f":"CONCATENATE(selected_functions!$A$17,E1290,C1290)","v":"1Kilobytes"},{"$f":"input_lists!$G$11","v":"Kilobytes"},null,{"$f":"$E$30","v":1},{"$f":"IF(AND(E1290>=input_database!$D$17,E1290<input_database!$C$17),input_database!$GC$17,\"0\")","v":"0"},{"$f":"IF(E1290<input_database!$C$17,input_database!$GE$17,\"0\")","v":"0"},{"$f":"IFERROR(input_database!$GH$17,\"0\")","v":0},{"$f":"IF(E1290=input_database!$C$17,input_database!$GG$17,\"0\")","v":"0"},{"$f":"IF(E1290>=input_database!$C$17,(input_database!$GF$17+input_database!$GD$17),0)","v":0},0]
[null,{"$f":"CONCATENATE(selected_functions!$A$17,E1291,C1291)","v":"2Kilobytes"},{"$f":"input_lists!$G$11","v":"Kilobytes"},null,{"$f":"$E$31","v":2},{"$f":"IF(AND(E1291>=input_database!$D$17,E1291<input_database!$C$17),input_database!$GC$17,\"0\")","v":"0"},{"$f":"IF(E1291<input_database!$C$17,input_database!$GE$17,\"0\")","v":"0"},{"$f":"IFERROR(input_database!$GH$17,\"0\")","v":0},{"$f":"IF(E1291=input_database!$C$17,input_database!$GG$17,\"0\")","v":"0"},{"$f":"IF(E1291>=input_database!$C$17,(input_database!$GF$17+input_database!$GD$17),0)","v":0},0]
[null,{"$f":"CONCATENATE(selected_functions!$A$17,E1292,C1292)","v":"3Kilobytes"},{"$f":"input_lists!$G$11","v":"Kilobytes"},null,{"$f":"$E$32","v":3},{"$f":"IF(AND(E1292>=input_database!$D$17,E1292<input_database!$C$17),input_database!$GC$17,\"0\")","v":"0"},{"$f":"IF(E1292<input_database!$C$17,input_database!$GE$17,\"0\")","v":"0"},{"$f":"IFERROR(input_database!$GH$17,\"0\")","v":0},{"$f":"IF(E1292=input_database!$C$17,input_database!$GG$17,\"0\")","v":"0"},{"$f":"IF(E1292>=input_database!$C$17,(input_database!$GF$17+input_database!$GD$17),0)","v":0},0]
[null,{"$f":"CONCATENATE(selected_functions!$A$17,E1293,C1293)","v":"-17Megabytes"},{"$f":"input_lists!$G$12","v":"Megabytes"},null,{"$f":"$E$12","v":-17},{"$f":"F1272/1024","v":0},0,0,0,0,0]
[null,{"$f":"CONCATENATE(selected_functions!$A$17,E1294,C1294)","v":"-16Megabytes"},{"$f":"C1293","v":"Megabytes"},null,{"$f":"$E$13","v":-16},0,0,0,0,0,0]
[null,{"$f":"CONCATENATE(selected_functions!$A$17,E1295,C1295)","v":"-15Megabytes"},{"$f":"C1294","v":"Megabytes"},null,{"$f":"$E$14","v":-15},0,0,0,0,0,0]
[null,{"$f":"CONCATENATE(selected_functions!$A$17,E1296,C1296)","v":"-14Megabytes"},"Megabytes",null,{"$f":"$E$15","v":-14},0,0,0,0,0,0]
[null,{"$f":"CONCATENATE(selected_functions!$A$17,E1297,C1297)","v":"-13Megabytes"},"Megabytes",null,{"$f":"$E$16","v":-13},0,0,0,0,0,0]
[null,{"$f":"CONCATENATE(selected_functions!$A$17,E1298,C1298)","v":"-12Megabytes"},"Megabytes",null,{"$f":"$E$17","v":-12},0,0,0,0,0,0]
[null,{"$f":"CONCATENATE(selected_functions!$A$17,E1299,C1299)","v":"-11Megabytes"},"Megabytes",null,{"$f":"$E$18","v":-11},0,0,0,0,0,0]
[null,{"$f":"CONCATENATE(selected_functions!$A$17,E1300,C1300)","v":"-10Megabytes"},"Megabytes",null,{"$f":"$E$19","v":-10},0,0,0,0,0,0]
[null,{"$f":"CONCATENATE(selected_functions!$A$17,E1301,C1301)","v":"-9Megabytes"},"Megabytes",null,{"$f":"$E$20","v":-9},0,0,0,0,0,0]
[null,{"$f":"CONCATENATE(selected_functions!$A$17,E1302,C1302)","v":"-8Megabytes"},"Megabytes",null,{"$f":"$E$21","v":-8},0,0,0,0,0,0]
[null,{"$f":"CONCATENATE(selected_functions!$A$17,E1303,C1303)","v":"-7Megabytes"},"Megabytes",null,{"$f":"$E$22","v":-7},{"$f":"F1282/1024","v":0},0,0,0,0,0]
[null,{"$f":"CONCATENATE(selected_functions!$A$17,E1304,C1304)","v":"-6Megabytes"},"Megabytes",null,{"$f":"$E$23","v":-6},0,0,0,0,0,0]
[null,{"$f":"CONCATENATE(selected_functions!$A$17,E1305,C1305)","v":"-5Megabytes"},"Megabytes",null,{"$f":"$E$24","v":-5},0,0,0,0,0,0]
[null,{"$f":"CONCATENATE(selected_functions!$A$17,E1306,C1306)","v":"-4Megabytes"},"Megabytes",null,{"$f":"$E$25","v":-4},0,0,0,0,0,0]
[null,{"$f":"CONCATENATE(selected_functions!$A$17,E1307,C1307)","v":"-3Megabytes"},"Megabytes",null,{"$f":"$E$26","v":-3},0,0,0,0,0,0]
[null,{"$f":"CONCATENATE(selected_functions!$A$17,E1308,C1308)","v":"-2Megabytes"},"Megabytes",null,{"$f":"$E$27","v":-2},0,0,0,0,0,0]
[null,{"$f":"CONCATENATE(selected_functions!$A$17,E1309,C1309)","v":"-1Megabytes"},"Megabytes",null,{"$f":"$E$28","v":-1},0,0,0,0,0,0]
[null,{"$f":"CONCATENATE(selected_functions!$A$17,E1310,C1310)","v":"0Megabytes"},"Megabytes",null,{"$f":"$E$29","v":0},0,0,0,0,0,0]
[null,{"$f":"CONCATENATE(selected_functions!$A$17,E1311,C1311)","v":"1Megabytes"},"Megabytes",null,{"$f":"$E$30","v":1},0,0,0,0,0,0]
[null,{"$f":"CONCATENATE(selected_functions!$A$17,E1312,C1312)","v":"2Megabytes"},"Megabytes",null,{"$f":"$E$31","v":2},0,0,0,0,0,0]
[null,{"$f":"CONCATENATE(selected_functions!$A$17,E1313,C1313)","v":"3Megabytes"},{"$f":"C1312","v":"Megabytes"},null,{"$f":"$E$32","v":3},{"$f":"F1292/1024","v":0},0,0,0,0,0]
[null,{"$f":"CONCATENATE(selected_functions!$A$17,E1314,C1314)","v":"-17Gigabytes"},{"$f":"input_lists!$G$13","v":"Gigabytes"},null,{"$f":"$E$12","v":-17},0,0,0,0,0,0]
[null,{"$f":"CONCATENATE(selected_functions!$A$17,E1315,C1315)","v":"-16Gigabytes"},{"$f":"C1314","v":"Gigabytes"},null,{"$f":"$E$13","v":-16},0,0,0,0,0,0]
[null,{"$f":"CONCATENATE(selected_functions!$A$17,E1316,C1316)","v":"-15Gigabytes"},{"$f":"C1315","v":"Gigabytes"},null,{"$f":"$E$14","v":-15},0,0,0,0,0,0]
[null,{"$f":"CONCATENATE(selected_functions!$A$17,E1317,C1317)","v":"-14Gigabytes"},"Gigabytes",null,{"$f":"$E$15","v":-14},0,0,0,0,0,0]
[null,{"$f":"CONCATENATE(selected_functions!$A$17,E1318,C1318)","v":"-13Gigabytes"},"Gigabytes",null,{"$f":"$E$16","v":-13},0,0,0,0,0,0]
[null,{"$f":"CONCATENATE(selected_functions!$A$17,E1319,C1319)","v":"-12Gigabytes"},"Gigabytes",null,{"$f":"$E$17","v":-12},0,0,0,0,0,0]
[null,{"$f":"CONCATENATE(selected_functions!$A$17,E1320,C1320)","v":"-11Gigabytes"},"Gigabytes",null,{"$f":"$E$18","v":-11},0,0,0,0,0,0]
[null,{"$f":"CONCATENATE(selected_functions!$A$17,E1321,C1321)","v":"-10Gigabytes"},"Gigabytes",null,{"$f":"$E$19","v":-10},0,0,0,0,0,0]
[null,{"$f":"CONCATENATE(selected_functions!$A$17,E1322,C1322)","v":"-9Gigabytes"},"Gigabytes",null,{"$f":"$E$20","v":-9},0,0,0,0,0,0]
[null,{"$f":"CONCATENATE(selected_functions!$A$17,E1323,C1323)","v":"-8Gigabytes"},"Gigabytes",null,{"$f":"$E$21","v":-8},{"$f":"F1302/1024","v":0},0,0,0,0,0]
[null,{"$f":"CONCATENATE(selected_functions!$A$17,E1324,C1324)","v":"-7Gigabytes"},"Gigabytes",null,{"$f":"$E$22","v":-7},0,0,0,0,0,0]
[null,{"$f":"CONCATENATE(selected_functions!$A$17,E1325,C1325)","v":"-6Gigabytes"},"Gigabytes",null,{"$f":"$E$23","v":-6},0,0,0,0,0,0]
[null,{"$f":"CONCATENATE(selected_functions!$A$17,E1326,C1326)","v":"-5Gigabytes"},"Gigabytes",null,{"$f":"$E$24","v":-5},0,0,0,0,0,0]
[null,{"$f":"CONCATENATE(selected_functions!$A$17,E1327,C1327)","v":"-4Gigabytes"},"Gigabytes",null,{"$f":"$E$25","v":-4},0,0,0,0,0,0]
[null,{"$f":"CONCATENATE(selected_functions!$A$17,E1328,C1328)","v":"-3Gigabytes"},"Gigabytes",null,{"$f":"$E$26","v":-3},0,0,0,0,0,0]
[null,{"$f":"CONCATENATE(selected_functions!$A$17,E1329,C1329)","v":"-2Gigabytes"},"Gigabytes",null,{"$f":"$E$27","v":-2},0,0,0,0,0,0]
[null,{"$f":"CONCATENATE(selected_functions!$A$17,E1330,C1330)","v":"-1Gigabytes"},"Gigabytes",null,{"$f":"$E$28","v":-1},0,0,0,0,0,0]
[null,{"$f":"CONCATENATE(selected_functions!$A$17,E1331,C1331)","v":"0Gigabytes"},"Gigabytes",null,{"$f":"$E$29","v":0},0,0,0,0,0,0]
[null,{"$f":"CONCATENATE(selected_functions!$A$17,E1332,C1332)","v":"1Gigabytes"},"Gigabytes",null,{"$f":"$E$30","v":1},0,0,0,0,0,0]
[null,{"$f":"CONCATENATE(selected_functions!$A$17,E1333,C1333)","v":"2Gigabytes"},"Gigabytes",null,{"$f":"$E$31","v":2},{"$f":"F1312/1024","v":0},0,0,0,0,0]
[null,{"$f":"CONCATENATE(selected_functions!$A$17,E1334,C1334)","v":"3Gigabytes"},"Gigabytes",null,{"$f":"$E$32","v":3},0,0,0,0,0,0]
[null,{"$f":"CONCATENATE(selected_functions!$A$17,E1335,C1335)","v":"-17Terabytes"},{"$f":"input_lists!$G$14","v":"Terabytes"},null,{"$f":"$E$12","v":-17},0,0,0,0,0,0]
[null,{"$f":"CONCATENATE(selected_functions!$A$17,E1336,C1336)","v":"-16Terabytes"},{"$f":"C1335","v":"Terabytes"},null,{"$f":"$E$13","v":-16},0,0,0,0,0,0]
[null,{"$f":"CONCATENATE(selected_functions!$A$17,E1337,C1337)","v":"-15Terabytes"},{"$f":"C1336","v":"Terabytes"},null,{"$f":"$E$14","v":-15},0,0,0,0,0,0]
[null,{"$f":"CONCATENATE(selected_functions!$A$17,E1338,C1338)","v":"-14Terabytes"},"Terabytes",null,{"$f":"$E$15","v":-14},0,0,0,0,0,0]
[null,{"$f":"CONCATENATE(selected_functions!$A$17,E1339,C1339)","v":"-13Terabytes"},"Terabytes",null,{"$f":"$E$16","v":-13},0,0,0,0,0,0]
[null,{"$f":"CONCATENATE(selected_functions!$A$17,E1340,C1340)","v":"-12Terabytes"},"Terabytes",null,{"$f":"$E$17","v":-12},0,0,0,0,0,0]
[null,{"$f":"CONCATENATE(selected_functions!$A$17,E1341,C1341)","v":"-11Terabytes"},"Terabytes",null,{"$f":"$E$18","v":-11},0,0,0,0,0,0]
[null,{"$f":"CONCATENATE(selected_functions!$A$17,E1342,C1342)","v":"-10Terabytes"},"Terabytes",null,{"$f":"$E$19","v":-10},0,0,0,0,0,0]
[null,{"$f":"CONCATENATE(selected_functions!$A$17,E1343,C1343)","v":"-9Terabytes"},"Terabytes",null,{"$f":"$E$20","v":-9},{"$f":"F1322/1024","v":0},0,0,0,0,0]
[null,{"$f":"CONCATENATE(selected_functions!$A$17,E1344,C1344)","v":"-8Terabytes"},"Terabytes",null,{"$f":"$E$21","v":-8},0,0,0,0,0,0]
[null,{"$f":"CONCATENATE(selected_functions!$A$17,E1345,C1345)","v":"-7Terabytes"},"Terabytes",null,{"$f":"$E$22","v":-7},0,0,0,0,0,0]
[null,{"$f":"CONCATENATE(selected_functions!$A$17,E1346,C1346)","v":"-6Terabytes"},"Terabytes",null,{"$f":"$E$23","v":-6},0,0,0,0,0,0]
[null,{"$f":"CONCATENATE(selected_functions!$A$17,E1347,C1347)","v":"-5Terabytes"},"Terabytes",null,{"$f":"$E$24","v":-5},0,0,0,0,0,0]
[null,{"$f":"CONCATENATE(selected_functions!$A$17,E1348,C1348)","v":"-4Terabytes"},"Terabytes",null,{"$f":"$E$25","v":-4},0,0,0,0,0,0]
[null,{"$f":"CONCATENATE(selected_functions!$A$17,E1349,C1349)","v":"-3Terabytes"},"Terabytes",null,{"$f":"$E$26","v":-3},0,0,0,0,0,0]
[null,{"$f":"CONCATENATE(selected_functions!$A$17,E1350,C1350)","v":"-2Terabytes"},"Terabytes",null,{"$f":"$E$27","v":-2},0,0,0,0,0,0]
[null,{"$f":"CONCATENATE(selected_functions!$A$17,E1351,C1351)","v":"-1Terabytes"},"Terabytes",null,{"$f":"$E$28","v":-1},0,0,0,0,0,0]
[null,{"$f":"CONCATENATE(selected_functions!$A$17,E1352,C1352)","v":"0Terabytes"},"Terabytes",null,{"$f":"$E$29","v":0},0,0,0,0,0,0]
[null,{"$f":"CONCATENATE(selected_functions!$A$17,E1353,C1353)","v":"1Terabytes"},"Terabytes",null,{"$f":"$E$30","v":1},{"$f":"F1332/1024","v":0},0,0,0,0,0]
[null,{"$f":"CONCATENATE(selected_functions!$A$17,E1354,C1354)","v":"2Terabytes"},"Terabytes",null,{"$f":"$E$31","v":2},0,0,0,0,0,0]
[null,{"$f":"CONCATENATE(selected_functions!$A$17,E1355,C1355)","v":"3Terabytes"},"Terabytes",null,{"$f":"$E$32","v":3},0,0,0,0,0,0]
[null,{"$f":"CONCATENATE(selected_functions!$A$17,E1356,C1356)","v":"-17Petabytes"},{"$f":"input_lists!$G$15","v":"Petabytes"},null,{"$f":"$E$12","v":-17},0,0,0,0,0,0]
[null,{"$f":"CONCATENATE(selected_functions!$A$17,E1357,C1357)","v":"-16Petabytes"},{"$f":"C1356","v":"Petabytes"},null,{"$f":"$E$13","v":-16},0,0,0,0,0,0]
[null,{"$f":"CONCATENATE(selected_functions!$A$17,E1358,C1358)","v":"-15Petabytes"},{"$f":"C1357","v":"Petabytes"},null,{"$f":"$E$14","v":-15},0,0,0,0,0,0]
[null,{"$f":"CONCATENATE(selected_functions!$A$17,E1359,C1359)","v":"-14Petabytes"},"Petabytes",null,{"$f":"$E$15","v":-14},0,0,0,0,0,0]
[null,{"$f":"CONCATENATE(selected_functions!$A$17,E1360,C1360)","v":"-13Petabytes"},"Petabytes",null,{"$f":"$E$16","v":-13},0,0,0,0,0,0]
[null,{"$f":"CONCATENATE(selected_functions!$A$17,E1361,C1361)","v":"-12Petabytes"},"Petabytes",null,{"$f":"$E$17","v":-12},0,0,0,0,0,0]
[null,{"$f":"CONCATENATE(selected_functions!$A$17,E1362,C1362)","v":"-11Petabytes"},"Petabytes",null,{"$f":"$E$18","v":-11},0,0,0,0,0,0]
[null,{"$f":"CONCATENATE(selected_functions!$A$17,E1363,C1363)","v":"-10Petabytes"},"Petabytes",null,{"$f":"$E$19","v":-10},{"$f":"F1342/1024","v":0},0,0,0,0,0]
[null,{"$f":"CONCATENATE(selected_functions!$A$17,E1364,C1364)","v":"-9Petabytes"},"Petabytes",null,{"$f":"$E$20","v":-9},0,0,0,0,0,0]
[null,{"$f":"CONCATENATE(selected_functions!$A$17,E1365,C1365)","v":"-8Petabytes"},"Petabytes",null,{"$f":"$E$21","v":-8},0,0,0,0,0,0]
[null,{"$f":"CONCATENATE(selected_functions!$A$17,E1366,C1366)","v":"-7Petabytes"},"Petabytes",null,{"$f":"$E$22","v":-7},0,0,0,0,0,0]
[null,{"$f":"CONCATENATE(selected_functions!$A$17,E1367,C1367)","v":"-6Petabytes"},"Petabytes",null,{"$f":"$E$23","v":-6},0,0,0,0,0,0]
[null,{"$f":"CONCATENATE(selected_functions!$A$17,E1368,C1368)","v":"-5Petabytes"},"Petabytes",null,{"$f":"$E$24","v":-5},0,0,0,0,0,0]
[null,{"$f":"CONCATENATE(selected_functions!$A$17,E1369,C1369)","v":"-4Petabytes"},"Petabytes",null,{"$f":"$E$25","v":-4},0,0,0,0,0,0]
[null,{"$f":"CONCATENATE(selected_functions!$A$17,E1370,C1370)","v":"-3Petabytes"},"Petabytes",null,{"$f":"$E$26","v":-3},0,0,0,0,0,0]
[null,{"$f":"CONCATENATE(selected_functions!$A$17,E1371,C1371)","v":"-2Petabytes"},"Petabytes",null,{"$f":"$E$27","v":-2},0,0,0,0,0,0]
[null,{"$f":"CONCATENATE(selected_functions!$A$17,E1372,C1372)","v":"-1Petabytes"},"Petabytes",null,{"$f":"$E$28","v":-1},0,0,0,0,0,0]
[null,{"$f":"CONCATENATE(selected_functions!$A$17,E1373,C1373)","v":"0Petabytes"},"Petabytes",null,{"$f":"$E$29","v":0},{"$f":"F1352/1024","v":0},0,0,0,0,0]
[null,{"$f":"CONCATENATE(selected_functions!$A$17,E1374,C1374)","v":"1Petabytes"},"Petabytes",null,{"$f":"$E$30","v":1},0,0,0,0,0,0]
[null,{"$f":"CONCATENATE(selected_functions!$A$17,E1375,C1375)","v":"2Petabytes"},"Petabytes",null,{"$f":"$E$31","v":2},0,0,0,0,0,0]
[null,{"$f":"CONCATENATE(selected_functions!$A$17,E1376,C1376)","v":"3Petabytes"},"Petabytes",null,{"$f":"$E$32","v":3},0,0,0,0,0,0]
[null,{"$f":"CONCATENATE(selected_functions!$A$18,E1377,C1377)","v":"-17Kilobytes"},{"$f":"input_lists!$G$11","v":"Kilobytes"},null,{"$f":"$E$12","v":-17},{"$f":"IF(AND(E1377>=input_database!$D$18,E1377<input_database!$C$18),input_database!$GC$18,\"0\")","v":"0"},{"$f":"IF(E1377<input_database!$C$18,input_database!$GE$18,\"0\")","v":0},{"$f":"IFERROR(input_database!$GH$18,\"0\")","v":0},{"$f":"IF(E1377=input_database!$C$18,input_database!$GG$18,\"0\")","v":"0"},{"$f":"IF(E1377>=input_database!$C$18,(input_database!$GF$18+input_database!$GD$18),0)","v":0},{"$f":"SUM(F1377:J1377)","v":0}]
[null,{"$f":"CONCATENATE(selected_functions!$A$18,E1378,C1378)","v":"-16Kilobytes"},{"$f":"input_lists!$G$11","v":"Kilobytes"},null,{"$f":"$E$13","v":-16},{"$f":"IF(AND(E1378>=input_database!$D$18,E1378<input_database!$C$18),input_database!$GC$18,\"0\")","v":"0"},{"$f":"IF(E1378<input_database!$C$18,input_database!$GE$18,\"0\")","v":0},{"$f":"IFERROR(input_database!$GH$18,\"0\")","v":0},{"$f":"IF(E1378=input_database!$C$18,input_database!$GG$18,\"0\")","v":"0"},{"$f":"IF(E1378>=input_database!$C$18,(input_database!$GF$18+input_database!$GD$18),0)","v":0},{"$f":"K1377+SUM(F1378:J1378)","v":0}]
[null,{"$f":"CONCATENATE(selected_functions!$A$18,E1379,C1379)","v":"-15Kilobytes"},{"$f":"input_lists!$G$11","v":"Kilobytes"},null,{"$f":"$E$14","v":-15},{"$f":"IF(AND(E1379>=input_database!$D$18,E1379<input_database!$C$18),input_database!$GC$18,\"0\")","v":"0"},{"$f":"IF(E1379<input_database!$C$18,input_database!$GE$18,\"0\")","v":0},{"$f":"IFERROR(input_database!$GH$18,\"0\")","v":0},{"$f":"IF(E1379=input_database!$C$18,input_database!$GG$18,\"0\")","v":"0"},{"$f":"IF(E1379>=input_database!$C$18,(input_database!$GF$18+input_database!$GD$18),0)","v":0},{"$f":"K1378+SUM(F1379:J1379)","v":0}]
[null,{"$f":"CONCATENATE(selected_functions!$A$18,E1380,C1380)","v":"-14Kilobytes"},{"$f":"input_lists!$G$11","v":"Kilobytes"},null,{"$f":"$E$15","v":-14},{"$f":"IF(AND(E1380>=input_database!$D$18,E1380<input_database!$C$18),input_database!$GC$18,\"0\")","v":"0"},{"$f":"IF(E1380<input_database!$C$18,input_database!$GE$18,\"0\")","v":0},{"$f":"IFERROR(input_database!$GH$18,\"0\")","v":0},{"$f":"IF(E1380=input_database!$C$18,input_database!$GG$18,\"0\")","v":"0"},{"$f":"IF(E1380>=input_database!$C$18,(input_database!$GF$18+input_database!$GD$18),0)","v":0},0]
[null,{"$f":"CONCATENATE(selected_functions!$A$18,E1381,C1381)","v":"-13Kilobytes"},{"$f":"input_lists!$G$11","v":"Kilobytes"},null,{"$f":"$E$16","v":-13},{"$f":"IF(AND(E1381>=input_database!$D$18,E1381<input_database!$C$18),input_database!$GC$18,\"0\")","v":"0"},{"$f":"IF(E1381<input_database!$C$18,input_database!$GE$18,\"0\")","v":0},{"$f":"IFERROR(input_database!$GH$18,\"0\")","v":0},{"$f":"IF(E1381=input_database!$C$18,input_database!$GG$18,\"0\")","v":"0"},{"$f":"IF(E1381>=input_database!$C$18,(input_database!$GF$18+input_database!$GD$18),0)","v":0},0]
[null,{"$f":"CONCATENATE(selected_functions!$A$18,E1382,C1382)","v":"-12Kilobytes"},{"$f":"input_lists!$G$11","v":"Kilobytes"},null,{"$f":"$E$17","v":-12},{"$f":"IF(AND(E1382>=input_database!$D$18,E1382<input_database!$C$18),input_database!$GC$18,\"0\")","v":"0"},{"$f":"IF(E1382<input_database!$C$18,input_database!$GE$18,\"0\")","v":0},{"$f":"IFERROR(input_database!$GH$18,\"0\")","v":0},{"$f":"IF(E1382=input_database!$C$18,input_database!$GG$18,\"0\")","v":"0"},{"$f":"IF(E1382>=input_database!$C$18,(input_database!$GF$18+input_database!$GD$18),0)","v":0},0]
[null,{"$f":"CONCATENATE(selected_functions!$A$18,E1383,C1383)","v":"-11Kilobytes"},{"$f":"input_lists!$G$11","v":"Kilobytes"},null,{"$f":"$E$18","v":-11},{"$f":"IF(AND(E1383>=input_database!$D$18,E1383<input_database!$C$18),input_database!$GC$18,\"0\")","v":"0"},{"$f":"IF(E1383<input_database!$C$18,input_database!$GE$18,\"0\")","v":0},{"$f":"IFERROR(input_database!$GH$18,\"0\")","v":0},{"$f":"IF(E1383=input_database!$C$18,input_database!$GG$18,\"0\")","v":"0"},{"$f":"IF(E1383>=input_database!$C$18,(input_database!$GF$18+input_database!$GD$18),0)","v":0},0]
[null,{"$f":"CONCATENATE(selected_functions!$A$18,E1384,C1384)","v":"-10Kilobytes"},{"$f":"input_lists!$G$11","v":"Kilobytes"},null,{"$f":"$E$19","v":-10},{"$f":"IF(AND(E1384>=input_database!$D$18,E1384<input_database!$C$18),input_database!$GC$18,\"0\")","v":"0"},{"$f":"IF(E1384<input_database!$C$18,input_database!$GE$18,\"0\")","v":0},{"$f":"IFERROR(input_database!$GH$18,\"0\")","v":0},{"$f":"IF(E1384=input_database!$C$18,input_database!$GG$18,\"0\")","v":"0"},{"$f":"IF(E1384>=input_database!$C$18,(input_database!$GF$18+input_database!$GD$18),0)","v":0},0]
[null,{"$f":"CONCATENATE(selected_functions!$A$18,E1385,C1385)","v":"-9Kilobytes"},{"$f":"input_lists!$G$11","v":"Kilobytes"},null,{"$f":"$E$20","v":-9},{"$f":"IF(AND(E1385>=input_database!$D$18,E1385<input_database!$C$18),input_database!$GC$18,\"0\")","v":"0"},{"$f":"IF(E1385<input_database!$C$18,input_database!$GE$18,\"0\")","v":0},{"$f":"IFERROR(input_database!$GH$18,\"0\")","v":0},{"$f":"IF(E1385=input_database!$C$18,input_database!$GG$18,\"0\")","v":"0"},{"$f":"IF(E1385>=input_database!$C$18,(input_database!$GF$18+input_database!$GD$18),0)","v":0},0]
[null,{"$f":"CONCATENATE(selected_functions!$A$18,E1386,C1386)","v":"-8Kilobytes"},{"$f":"input_lists!$G$11","v":"Kilobytes"},null,{"$f":"$E$21","v":-8},{"$f":"IF(AND(E1386>=input_database!$D$18,E1386<input_database!$C$18),input_database!$GC$18,\"0\")","v":"0"},{"$f":"IF(E1386<input_database!$C$18,input_database!$GE$18,\"0\")","v":0},{"$f":"IFERROR(input_database!$GH$18,\"0\")","v":0},{"$f":"IF(E1386=input_database!$C$18,input_database!$GG$18,\"0\")","v":"0"},{"$f":"IF(E1386>=input_database!$C$18,(input_database!$GF$18+input_database!$GD$18),0)","v":0},0]
[null,{"$f":"CONCATENATE(selected_functions!$A$18,E1387,C1387)","v":"-7Kilobytes"},{"$f":"input_lists!$G$11","v":"Kilobytes"},null,{"$f":"$E$22","v":-7},{"$f":"IF(AND(E1387>=input_database!$D$18,E1387<input_database!$C$18),input_database!$GC$18,\"0\")","v":"0"},{"$f":"IF(E1387<input_database!$C$18,input_database!$GE$18,\"0\")","v":0},{"$f":"IFERROR(input_database!$GH$18,\"0\")","v":0},{"$f":"IF(E1387=input_database!$C$18,input_database!$GG$18,\"0\")","v":"0"},{"$f":"IF(E1387>=input_database!$C$18,(input_database!$GF$18+input_database!$GD$18),0)","v":0},0]
[null,{"$f":"CONCATENATE(selected_functions!$A$18,E1388,C1388)","v":"-6Kilobytes"},{"$f":"input_lists!$G$11","v":"Kilobytes"},null,{"$f":"$E$23","v":-6},{"$f":"IF(AND(E1388>=input_database!$D$18,E1388<input_database!$C$18),input_database!$GC$18,\"0\")","v":"0"},{"$f":"IF(E1388<input_database!$C$18,input_database!$GE$18,\"0\")","v":0},{"$f":"IFERROR(input_database!$GH$18,\"0\")","v":0},{"$f":"IF(E1388=input_database!$C$18,input_database!$GG$18,\"0\")","v":"0"},{"$f":"IF(E1388>=input_database!$C$18,(input_database!$GF$18+input_database!$GD$18),0)","v":0},0]
[null,{"$f":"CONCATENATE(selected_functions!$A$18,E1389,C1389)","v":"-5Kilobytes"},{"$f":"input_lists!$G$11","v":"Kilobytes"},null,{"$f":"$E$24","v":-5},{"$f":"IF(AND(E1389>=input_database!$D$18,E1389<input_database!$C$18),input_database!$GC$18,\"0\")","v":"0"},{"$f":"IF(E1389<input_database!$C$18,input_database!$GE$18,\"0\")","v":0},{"$f":"IFERROR(input_database!$GH$18,\"0\")","v":0},{"$f":"IF(E1389=input_database!$C$18,input_database!$GG$18,\"0\")","v":"0"},{"$f":"IF(E1389>=input_database!$C$18,(input_database!$GF$18+input_database!$GD$18),0)","v":0},0]
[null,{"$f":"CONCATENATE(selected_functions!$A$18,E1390,C1390)","v":"-4Kilobytes"},{"$f":"input_lists!$G$11","v":"Kilobytes"},null,{"$f":"$E$25","v":-4},{"$f":"IF(AND(E1390>=input_database!$D$18,E1390<input_database!$C$18),input_database!$GC$18,\"0\")","v":"0"},{"$f":"IF(E1390<input_database!$C$18,input_database!$GE$18,\"0\")","v":0},{"$f":"IFERROR(input_database!$GH$18,\"0\")","v":0},{"$f":"IF(E1390=input_database!$C$18,input_database!$GG$18,\"0\")","v":"0"},{"$f":"IF(E1390>=input_database!$C$18,(input_database!$GF$18+input_database!$GD$18),0)","v":0},0]
[null,{"$f":"CONCATENATE(selected_functions!$A$18,E1391,C1391)","v":"-3Kilobytes"},{"$f":"input_lists!$G$11","v":"Kilobytes"},null,{"$f":"$E$26","v":-3},{"$f":"IF(AND(E1391>=input_database!$D$18,E1391<input_database!$C$18),input_database!$GC$18,\"0\")","v":"0"},{"$f":"IF(E1391<input_database!$C$18,input_database!$GE$18,\"0\")","v":0},{"$f":"IFERROR(input_database!$GH$18,\"0\")","v":0},{"$f":"IF(E1391=input_database!$C$18,input_database!$GG$18,\"0\")","v":"0"},{"$f":"IF(E1391>=input_database!$C$18,(input_database!$GF$18+input_database!$GD$18),0)","v":0},0]
[null,{"$f":"CONCATENATE(selected_functions!$A$18,E1392,C1392)","v":"-2Kilobytes"},{"$f":"input_lists!$G$11","v":"Kilobytes"},null,{"$f":"$E$27","v":-2},{"$f":"IF(AND(E1392>=input_database!$D$18,E1392<input_database!$C$18),input_database!$GC$18,\"0\")","v":"0"},{"$f":"IF(E1392<input_database!$C$18,input_database!$GE$18,\"0\")","v":0},{"$f":"IFERROR(input_database!$GH$18,\"0\")","v":0},{"$f":"IF(E1392=input_database!$C$18,input_database!$GG$18,\"0\")","v":"0"},{"$f":"IF(E1392>=input_database!$C$18,(input_database!$GF$18+input_database!$GD$18),0)","v":0},0]
[null,{"$f":"CONCATENATE(selected_functions!$A$18,E1393,C1393)","v":"-1Kilobytes"},{"$f":"input_lists!$G$11","v":"Kilobytes"},null,{"$f":"$E$28","v":-1},{"$f":"IF(AND(E1393>=input_database!$D$18,E1393<input_database!$C$18),input_database!$GC$18,\"0\")","v":"0"},{"$f":"IF(E1393<input_database!$C$18,input_database!$GE$18,\"0\")","v":0},{"$f":"IFERROR(input_database!$GH$18,\"0\")","v":0},{"$f":"IF(E1393=input_database!$C$18,input_database!$GG$18,\"0\")","v":"0"},{"$f":"IF(E1393>=input_database!$C$18,(input_database!$GF$18+input_database!$GD$18),0)","v":0},0]
[null,{"$f":"CONCATENATE(selected_functions!$A$18,E1394,C1394)","v":"0Kilobytes"},{"$f":"input_lists!$G$11","v":"Kilobytes"},null,{"$f":"$E$29","v":0},{"$f":"IF(AND(E1394>=input_database!$D$18,E1394<input_database!$C$18),input_database!$GC$18,\"0\")","v":"0"},{"$f":"IF(E1394<input_database!$C$18,input_database!$GE$18,\"0\")","v":"0"},{"$f":"IFERROR(input_database!$GH$18,\"0\")","v":0},{"$f":"IF(E1394=input_database!$C$18,input_database!$GG$18,\"0\")","v":0},{"$f":"IF(E1394>=input_database!$C$18,(input_database!$GF$18+input_database!$GD$18),0)","v":0},0]
[null,{"$f":"CONCATENATE(selected_functions!$A$18,E1395,C1395)","v":"1Kilobytes"},{"$f":"input_lists!$G$11","v":"Kilobytes"},null,{"$f":"$E$30","v":1},{"$f":"IF(AND(E1395>=input_database!$D$18,E1395<input_database!$C$18),input_database!$GC$18,\"0\")","v":"0"},{"$f":"IF(E1395<input_database!$C$18,input_database!$GE$18,\"0\")","v":"0"},{"$f":"IFERROR(input_database!$GH$18,\"0\")","v":0},{"$f":"IF(E1395=input_database!$C$18,input_database!$GG$18,\"0\")","v":"0"},{"$f":"IF(E1395>=input_database!$C$18,(input_database!$GF$18+input_database!$GD$18),0)","v":0},0]
[null,{"$f":"CONCATENATE(selected_functions!$A$18,E1396,C1396)","v":"2Kilobytes"},{"$f":"input_lists!$G$11","v":"Kilobytes"},null,{"$f":"$E$31","v":2},{"$f":"IF(AND(E1396>=input_database!$D$18,E1396<input_database!$C$18),input_database!$GC$18,\"0\")","v":"0"},{"$f":"IF(E1396<input_database!$C$18,input_database!$GE$18,\"0\")","v":"0"},{"$f":"IFERROR(input_database!$GH$18,\"0\")","v":0},{"$f":"IF(E1396=input_database!$C$18,input_database!$GG$18,\"0\")","v":"0"},{"$f":"IF(E1396>=input_database!$C$18,(input_database!$GF$18+input_database!$GD$18),0)","v":0},0]
[null,{"$f":"CONCATENATE(selected_functions!$A$18,E1397,C1397)","v":"3Kilobytes"},{"$f":"input_lists!$G$11","v":"Kilobytes"},null,{"$f":"$E$32","v":3},{"$f":"IF(AND(E1397>=input_database!$D$18,E1397<input_database!$C$18),input_database!$GC$18,\"0\")","v":"0"},{"$f":"IF(E1397<input_database!$C$18,input_database!$GE$18,\"0\")","v":"0"},{"$f":"IFERROR(input_database!$GH$18,\"0\")","v":0},{"$f":"IF(E1397=input_database!$C$18,input_database!$GG$18,\"0\")","v":"0"},{"$f":"IF(E1397>=input_database!$C$18,(input_database!$GF$18+input_database!$GD$18),0)","v":0},0]
[null,{"$f":"CONCATENATE(selected_functions!$A$18,E1398,C1398)","v":"-17Megabytes"},{"$f":"input_lists!$G$12","v":"Megabytes"},null,{"$f":"$E$12","v":-17},{"$f":"F1377/1024","v":0},0,0,0,0,0]
[null,{"$f":"CONCATENATE(selected_functions!$A$18,E1399,C1399)","v":"-16Megabytes"},{"$f":"C1398","v":"Megabytes"},null,{"$f":"$E$13","v":-16},0,0,0,0,0,0]
[null,{"$f":"CONCATENATE(selected_functions!$A$18,E1400,C1400)","v":"-15Megabytes"},{"$f":"C1399","v":"Megabytes"},null,{"$f":"$E$14","v":-15},0,0,0,0,0,0]
[null,{"$f":"CONCATENATE(selected_functions!$A$18,E1401,C1401)","v":"-14Megabytes"},"Megabytes",null,{"$f":"$E$15","v":-14},0,0,0,0,0,0]
[null,{"$f":"CONCATENATE(selected_functions!$A$18,E1402,C1402)","v":"-13Megabytes"},"Megabytes",null,{"$f":"$E$16","v":-13},0,0,0,0,0,0]
[null,{"$f":"CONCATENATE(selected_functions!$A$18,E1403,C1403)","v":"-12Megabytes"},"Megabytes",null,{"$f":"$E$17","v":-12},0,0,0,0,0,0]
[null,{"$f":"CONCATENATE(selected_functions!$A$18,E1404,C1404)","v":"-11Megabytes"},"Megabytes",null,{"$f":"$E$18","v":-11},0,0,0,0,0,0]
[null,{"$f":"CONCATENATE(selected_functions!$A$18,E1405,C1405)","v":"-10Megabytes"},"Megabytes",null,{"$f":"$E$19","v":-10},0,0,0,0,0,0]
[null,{"$f":"CONCATENATE(selected_functions!$A$18,E1406,C1406)","v":"-9Megabytes"},"Megabytes",null,{"$f":"$E$20","v":-9},0,0,0,0,0,0]
[null,{"$f":"CONCATENATE(selected_functions!$A$18,E1407,C1407)","v":"-8Megabytes"},"Megabytes",null,{"$f":"$E$21","v":-8},0,0,0,0,0,0]
[null,{"$f":"CONCATENATE(selected_functions!$A$18,E1408,C1408)","v":"-7Megabytes"},"Megabytes",null,{"$f":"$E$22","v":-7},{"$f":"F1387/1024","v":0},0,0,0,0,0]
[null,{"$f":"CONCATENATE(selected_functions!$A$18,E1409,C1409)","v":"-6Megabytes"},"Megabytes",null,{"$f":"$E$23","v":-6},0,0,0,0,0,0]
[null,{"$f":"CONCATENATE(selected_functions!$A$18,E1410,C1410)","v":"-5Megabytes"},"Megabytes",null,{"$f":"$E$24","v":-5},0,0,0,0,0,0]
[null,{"$f":"CONCATENATE(selected_functions!$A$18,E1411,C1411)","v":"-4Megabytes"},"Megabytes",null,{"$f":"$E$25","v":-4},0,0,0,0,0,0]
[null,{"$f":"CONCATENATE(selected_functions!$A$18,E1412,C1412)","v":"-3Megabytes"},"Megabytes",null,{"$f":"$E$26","v":-3},0,0,0,0,0,0]
[null,{"$f":"CONCATENATE(selected_functions!$A$18,E1413,C1413)","v":"-2Megabytes"},"Megabytes",null,{"$f":"$E$27","v":-2},0,0,0,0,0,0]
[null,{"$f":"CONCATENATE(selected_functions!$A$18,E1414,C1414)","v":"-1Megabytes"},"Megabytes",null,{"$f":"$E$28","v":-1},0,0,0,0,0,0]
[null,{"$f":"CONCATENATE(selected_functions!$A$18,E1415,C1415)","v":"0Megabytes"},"Megabytes",null,{"$f":"$E$29","v":0},0,0,0,0,0,0]
[null,{"$f":"CONCATENATE(selected_functions!$A$18,E1416,C1416)","v":"1Megabytes"},"Megabytes",null,{"$f":"$E$30","v":1},0,0,0,0,0,0]
[null,{"$f":"CONCATENATE(selected_functions!$A$18,E1417,C1417)","v":"2Megabytes"},"Megabytes",null,{"$f":"$E$31","v":2},0,0,0,0,0,0]
[null,{"$f":"CONCATENATE(selected_functions!$A$18,E1418,C1418)","v":"3Megabytes"},{"$f":"C1417","v":"Megabytes"},null,{"$f":"$E$32","v":3},{"$f":"F1397/1024","v":0},0,0,0,0,0]
[null,{"$f":"CONCATENATE(selected_functions!$A$18,E1419,C1419)","v":"-17Gigabytes"},{"$f":"input_lists!$G$13","v":"Gigabytes"},null,{"$f":"$E$12","v":-17},0,0,0,0,0,0]
[null,{"$f":"CONCATENATE(selected_functions!$A$18,E1420,C1420)","v":"-16Gigabytes"},{"$f":"C1419","v":"Gigabytes"},null,{"$f":"$E$13","v":-16},0,0,0,0,0,0]
[null,{"$f":"CONCATENATE(selected_functions!$A$18,E1421,C1421)","v":"-15Gigabytes"},{"$f":"C1420","v":"Gigabytes"},null,{"$f":"$E$14","v":-15},0,0,0,0,0,0]
[null,{"$f":"CONCATENATE(selected_functions!$A$18,E1422,C1422)","v":"-14Gigabytes"},"Gigabytes",null,{"$f":"$E$15","v":-14},0,0,0,0,0,0]
[null,{"$f":"CONCATENATE(selected_functions!$A$18,E1423,C1423)","v":"-13Gigabytes"},"Gigabytes",null,{"$f":"$E$16","v":-13},0,0,0,0,0,0]
[null,{"$f":"CONCATENATE(selected_functions!$A$18,E1424,C1424)","v":"-12Gigabytes"},"Gigabytes",null,{"$f":"$E$17","v":-12},0,0,0,0,0,0]
[null,{"$f":"CONCATENATE(selected_functions!$A$18,E1425,C1425)","v":"-11Gigabytes"},"Gigabytes",null,{"$f":"$E$18","v":-11},0,0,0,0,0,0]
[null,{"$f":"CONCATENATE(selected_functions!$A$18,E1426,C1426)","v":"-10Gigabytes"},"Gigabytes",null,{"$f":"$E$19","v":-10},0,0,0,0,0,0]
[null,{"$f":"CONCATENATE(selected_functions!$A$18,E1427,C1427)","v":"-9Gigabytes"},"Gigabytes",null,{"$f":"$E$20","v":-9},0,0,0,0,0,0]
[null,{"$f":"CONCATENATE(selected_functions!$A$18,E1428,C1428)","v":"-8Gigabytes"},"Gigabytes",null,{"$f":"$E$21","v":-8},{"$f":"F1407/1024","v":0},0,0,0,0,0]
[null,{"$f":"CONCATENATE(selected_functions!$A$18,E1429,C1429)","v":"-7Gigabytes"},"Gigabytes",null,{"$f":"$E$22","v":-7},0,0,0,0,0,0]
[null,{"$f":"CONCATENATE(selected_functions!$A$18,E1430,C1430)","v":"-6Gigabytes"},"Gigabytes",null,{"$f":"$E$23","v":-6},0,0,0,0,0,0]
[null,{"$f":"CONCATENATE(selected_functions!$A$18,E1431,C1431)","v":"-5Gigabytes"},"Gigabytes",null,{"$f":"$E$24","v":-5},0,0,0,0,0,0]
[null,{"$f":"CONCATENATE(selected_functions!$A$18,E1432,C1432)","v":"-4Gigabytes"},"Gigabytes",null,{"$f":"$E$25","v":-4},0,0,0,0,0,0]
[null,{"$f":"CONCATENATE(selected_functions!$A$18,E1433,C1433)","v":"-3Gigabytes"},"Gigabytes",null,{"$f":"$E$26","v":-3},0,0,0,0,0,0]
[null,{"$f":"CONCATENATE(selected_functions!$A$18,E1434,C1434)","v":"-2Gigabytes"},"Gigabytes",null,{"$f":"$E$27","v":-2},0,0,0,0,0,0]
[null,{"$f":"CONCATENATE(selected_functions!$A$18,E1435,C1435)","v":"-1Gigabytes"},"Gigabytes",null,{"$f":"$E$28","v":-1},0,0,0,0,0,0]
[null,{"$f":"CONCATENATE(selected_functions!$A$18,E1436,C1436)","v":"0Gigabytes"},"Gigabytes",null,{"$f":"$E$29","v":0},0,0,0,0,0,0]
[null,{"$f":"CONCATENATE(selected_functions!$A$18,E1437,C1437)","v":"1Gigabytes"},"Gigabytes",null,{"$f":"$E$30","v":1},0,0,0,0,0,0]
[null,{"$f":"CONCATENATE(selected_functions!$A$18,E1438,C1438)","v":"2Gigabytes"},"Gigabytes",null,{"$f":"$E$31","v":2},{"$f":"F1417/1024","v":0},0,0,0,0,0]
[null,{"$f":"CONCATENATE(selected_functions!$A$18,E1439,C1439)","v":"3Gigabytes"},"Gigabytes",null,{"$f":"$E$32","v":3},0,0,0,0,0,0]
[null,{"$f":"CONCATENATE(selected_functions!$A$18,E1440,C1440)","v":"-17Terabytes"},{"$f":"input_lists!$G$14","v":"Terabytes"},null,{"$f":"$E$12","v":-17},0,0,0,0,0,0]
[null,{"$f":"CONCATENATE(selected_functions!$A$18,E1441,C1441)","v":"-16Terabytes"},{"$f":"C1440","v":"Terabytes"},null,{"$f":"$E$13","v":-16},0,0,0,0,0,0]
[null,{"$f":"CONCATENATE(selected_functions!$A$18,E1442,C1442)","v":"-15Terabytes"},{"$f":"C1441","v":"Terabytes"},null,{"$f":"$E$14","v":-15},0,0,0,0,0,0]
[null,{"$f":"CONCATENATE(selected_functions!$A$18,E1443,C1443)","v":"-14Terabytes"},"Terabytes",null,{"$f":"$E$15","v":-14},0,0,0,0,0,0]
[null,{"$f":"CONCATENATE(selected_functions!$A$18,E1444,C1444)","v":"-13Terabytes"},"Terabytes",null,{"$f":"$E$16","v":-13},0,0,0,0,0,0]
[null,{"$f":"CONCATENATE(selected_functions!$A$18,E1445,C1445)","v":"-12Terabytes"},"Terabytes",null,{"$f":"$E$17","v":-12},0,0,0,0,0,0]
[null,{"$f":"CONCATENATE(selected_functions!$A$18,E1446,C1446)","v":"-11Terabytes"},"Terabytes",null,{"$f":"$E$18","v":-11},0,0,0,0,0,0]
[null,{"$f":"CONCATENATE(selected_functions!$A$18,E1447,C1447)","v":"-10Terabytes"},"Terabytes",null,{"$f":"$E$19","v":-10},0,0,0,0,0,0]
[null,{"$f":"CONCATENATE(selected_functions!$A$18,E1448,C1448)","v":"-9Terabytes"},"Terabytes",null,{"$f":"$E$20","v":-9},{"$f":"F1427/1024","v":0},0,0,0,0,0]
[null,{"$f":"CONCATENATE(selected_functions!$A$18,E1449,C1449)","v":"-8Terabytes"},"Terabytes",null,{"$f":"$E$21","v":-8},0,0,0,0,0,0]
[null,{"$f":"CONCATENATE(selected_functions!$A$18,E1450,C1450)","v":"-7Terabytes"},"Terabytes",null,{"$f":"$E$22","v":-7},0,0,0,0,0,0]
[null,{"$f":"CONCATENATE(selected_functions!$A$18,E1451,C1451)","v":"-6Terabytes"},"Terabytes",null,{"$f":"$E$23","v":-6},0,0,0,0,0,0]
[null,{"$f":"CONCATENATE(selected_functions!$A$18,E1452,C1452)","v":"-5Terabytes"},"Terabytes",null,{"$f":"$E$24","v":-5},0,0,0,0,0,0]
[null,{"$f":"CONCATENATE(selected_functions!$A$18,E1453,C1453)","v":"-4Terabytes"},"Terabytes",null,{"$f":"$E$25","v":-4},0,0,0,0,0,0]
[null,{"$f":"CONCATENATE(selected_functions!$A$18,E1454,C1454)","v":"-3Terabytes"},"Terabytes",null,{"$f":"$E$26","v":-3},0,0,0,0,0,0]
[null,{"$f":"CONCATENATE(selected_functions!$A$18,E1455,C1455)","v":"-2Terabytes"},"Terabytes",null,{"$f":"$E$27","v":-2},0,0,0,0,0,0]
[null,{"$f":"CONCATENATE(selected_functions!$A$18,E1456,C1456)","v":"-1Terabytes"},"Terabytes",null,{"$f":"$E$28","v":-1},0,0,0,0,0,0]
[null,{"$f":"CONCATENATE(selected_functions!$A$18,E1457,C1457)","v":"0Terabytes"},"Terabytes",null,{"$f":"$E$29","v":0},0,0,0,0,0,0]
[null,{"$f":"CONCATENATE(selected_functions!$A$18,E1458,C1458)","v":"1Terabytes"},"Terabytes",null,{"$f":"$E$30","v":1},{"$f":"F1437/1024","v":0},0,0,0,0,0]
[null,{"$f":"CONCATENATE(selected_functions!$A$18,E1459,C1459)","v":"2Terabytes"},"Terabytes",null,{"$f":"$E$31","v":2},0,0,0,0,0,0]
[null,{"$f":"CONCATENATE(selected_functions!$A$18,E1460,C1460)","v":"3Terabytes"},"Terabytes",null,{"$f":"$E$32","v":3},0,0,0,0,0,0]
[null,{"$f":"CONCATENATE(selected_functions!$A$18,E1461,C1461)","v":"-17Petabytes"},{"$f":"input_lists!$G$15","v":"Petabytes"},null,{"$f":"$E$12","v":-17},0,0,0,0,0,0]
[null,{"$f":"CONCATENATE(selected_functions!$A$18,E1462,C1462)","v":"-16Petabytes"},{"$f":"C1461","v":"Petabytes"},null,{"$f":"$E$13","v":-16},0,0,0,0,0,0]
[null,{"$f":"CONCATENATE(selected_functions!$A$18,E1463,C1463)","v":"-15Petabytes"},{"$f":"C1462","v":"Petabytes"},null,{"$f":"$E$14","v":-15},0,0,0,0,0,0]
[null,{"$f":"CONCATENATE(selected_functions!$A$18,E1464,C1464)","v":"-14Petabytes"},"Petabytes",null,{"$f":"$E$15","v":-14},0,0,0,0,0,0]
[null,{"$f":"CONCATENATE(selected_functions!$A$18,E1465,C1465)","v":"-13Petabytes"},"Petabytes",null,{"$f":"$E$16","v":-13},0,0,0,0,0,0]
[null,{"$f":"CONCATENATE(selected_functions!$A$18,E1466,C1466)","v":"-12Petabytes"},"Petabytes",null,{"$f":"$E$17","v":-12},0,0,0,0,0,0]
[null,{"$f":"CONCATENATE(selected_functions!$A$18,E1467,C1467)","v":"-11Petabytes"},"Petabytes",null,{"$f":"$E$18","v":-11},0,0,0,0,0,0]
[null,{"$f":"CONCATENATE(selected_functions!$A$18,E1468,C1468)","v":"-10Petabytes"},"Petabytes",null,{"$f":"$E$19","v":-10},{"$f":"F1447/1024","v":0},0,0,0,0,0]
[null,{"$f":"CONCATENATE(selected_functions!$A$18,E1469,C1469)","v":"-9Petabytes"},"Petabytes",null,{"$f":"$E$20","v":-9},0,0,0,0,0,0]
[null,{"$f":"CONCATENATE(selected_functions!$A$18,E1470,C1470)","v":"-8Petabytes"},"Petabytes",null,{"$f":"$E$21","v":-8},0,0,0,0,0,0]
[null,{"$f":"CONCATENATE(selected_functions!$A$18,E1471,C1471)","v":"-7Petabytes"},"Petabytes",null,{"$f":"$E$22","v":-7},0,0,0,0,0,0]
[null,{"$f":"CONCATENATE(selected_functions!$A$18,E1472,C1472)","v":"-6Petabytes"},"Petabytes",null,{"$f":"$E$23","v":-6},0,0,0,0,0,0]
[null,{"$f":"CONCATENATE(selected_functions!$A$18,E1473,C1473)","v":"-5Petabytes"},"Petabytes",null,{"$f":"$E$24","v":-5},0,0,0,0,0,0]
[null,{"$f":"CONCATENATE(selected_functions!$A$18,E1474,C1474)","v":"-4Petabytes"},"Petabytes",null,{"$f":"$E$25","v":-4},0,0,0,0,0,0]
[null,{"$f":"CONCATENATE(selected_functions!$A$18,E1475,C1475)","v":"-3Petabytes"},"Petabytes",null,{"$f":"$E$26","v":-3},0,0,0,0,0,0]
[null,{"$f":"CONCATENATE(selected_functions!$A$18,E1476,C1476)","v":"-2Petabytes"},"Petabytes",null,{"$f":"$E$27","v":-2},0,0,0,0,0,0]
[null,{"$f":"CONCATENATE(selected_functions!$A$18,E1477,C1477)","v":"-1Petabytes"},"Petabytes",null,{"$f":"$E$28","v":-1},0,0,0,0,0,0]
[null,{"$f":"CONCATENATE(selected_functions!$A$18,E1478,C1478)","v":"0Petabytes"},"Petabytes",null,{"$f":"$E$29","v":0},{"$f":"F1457/1024","v":0},0,0,0,0,0]
[null,{"$f":"CONCATENATE(selected_functions!$A$18,E1479,C1479)","v":"1Petabytes"},"Petabytes",null,{"$f":"$E$30","v":1},0,0,0,0,0,0]
[null,{"$f":"CONCATENATE(selected_functions!$A$18,E1480,C1480)","v":"2Petabytes"},"Petabytes",null,{"$f":"$E$31","v":2},0,0,0,0,0,0]
[null,{"$f":"CONCATENATE(selected_functions!$A$18,E1481,C1481)","v":"3Petabytes"},"Petabytes",null,{"$f":"$E$32","v":3},0,0,0,0,0,0]
[null,{"$f":"CONCATENATE(selected_functions!$A$19,E1482,C1482)","v":"-17Kilobytes"},{"$f":"input_lists!$G$11","v":"Kilobytes"},null,{"$f":"$E$12","v":-17},{"$f":"IF(AND(E1482>=input_database!$D$19,E1482<input_database!$C$19),input_database!$GC$19,\"0\")","v":"0"},{"$f":"IF(E1482<input_database!$C$19,input_database!$GE$19,\"0\")","v":0},{"$f":"IFERROR(input_database!$GH$19,\"0\")","v":0},{"$f":"IF(E1482=input_database!$C$19,input_database!$GG$19,\"0\")","v":"0"},{"$f":"IF(E1482>=input_database!$C$19,(input_database!$GF$19+input_database!$GD$19),0)","v":0},{"$f":"SUM(F1482:J1482)","v":0}]
[null,{"$f":"CONCATENATE(selected_functions!$A$19,E1483,C1483)","v":"-16Kilobytes"},{"$f":"input_lists!$G$11","v":"Kilobytes"},null,{"$f":"$E$13","v":-16},{"$f":"IF(AND(E1483>=input_database!$D$19,E1483<input_database!$C$19),input_database!$GC$19,\"0\")","v":"0"},{"$f":"IF(E1483<input_database!$C$19,input_database!$GE$19,\"0\")","v":0},{"$f":"IFERROR(input_database!$GH$19,\"0\")","v":0},{"$f":"IF(E1483=input_database!$C$19,input_database!$GG$19,\"0\")","v":"0"},{"$f":"IF(E1483>=input_database!$C$19,(input_database!$GF$19+input_database!$GD$19),0)","v":0},{"$f":"K1482+SUM(F1483:J1483)","v":0}]
[null,{"$f":"CONCATENATE(selected_functions!$A$19,E1484,C1484)","v":"-15Kilobytes"},{"$f":"input_lists!$G$11","v":"Kilobytes"},null,{"$f":"$E$14","v":-15},{"$f":"IF(AND(E1484>=input_database!$D$19,E1484<input_database!$C$19),input_database!$GC$19,\"0\")","v":"0"},{"$f":"IF(E1484<input_database!$C$19,input_database!$GE$19,\"0\")","v":0},{"$f":"IFERROR(input_database!$GH$19,\"0\")","v":0},{"$f":"IF(E1484=input_database!$C$19,input_database!$GG$19,\"0\")","v":"0"},{"$f":"IF(E1484>=input_database!$C$19,(input_database!$GF$19+input_database!$GD$19),0)","v":0},{"$f":"K1483+SUM(F1484:J1484)","v":0}]
[null,{"$f":"CONCATENATE(selected_functions!$A$19,E1485,C1485)","v":"-14Kilobytes"},{"$f":"input_lists!$G$11","v":"Kilobytes"},null,{"$f":"$E$15","v":-14},{"$f":"IF(AND(E1485>=input_database!$D$19,E1485<input_database!$C$19),input_database!$GC$19,\"0\")","v":"0"},{"$f":"IF(E1485<input_database!$C$19,input_database!$GE$19,\"0\")","v":0},{"$f":"IFERROR(input_database!$GH$19,\"0\")","v":0},{"$f":"IF(E1485=input_database!$C$19,input_database!$GG$19,\"0\")","v":"0"},{"$f":"IF(E1485>=input_database!$C$19,(input_database!$GF$19+input_database!$GD$19),0)","v":0},0]
[null,{"$f":"CONCATENATE(selected_functions!$A$19,E1486,C1486)","v":"-13Kilobytes"},{"$f":"input_lists!$G$11","v":"Kilobytes"},null,{"$f":"$E$16","v":-13},{"$f":"IF(AND(E1486>=input_database!$D$19,E1486<input_database!$C$19),input_database!$GC$19,\"0\")","v":"0"},{"$f":"IF(E1486<input_database!$C$19,input_database!$GE$19,\"0\")","v":0},{"$f":"IFERROR(input_database!$GH$19,\"0\")","v":0},{"$f":"IF(E1486=input_database!$C$19,input_database!$GG$19,\"0\")","v":"0"},{"$f":"IF(E1486>=input_database!$C$19,(input_database!$GF$19+input_database!$GD$19),0)","v":0},0]
[null,{"$f":"CONCATENATE(selected_functions!$A$19,E1487,C1487)","v":"-12Kilobytes"},{"$f":"input_lists!$G$11","v":"Kilobytes"},null,{"$f":"$E$17","v":-12},{"$f":"IF(AND(E1487>=input_database!$D$19,E1487<input_database!$C$19),input_database!$GC$19,\"0\")","v":"0"},{"$f":"IF(E1487<input_database!$C$19,input_database!$GE$19,\"0\")","v":0},{"$f":"IFERROR(input_database!$GH$19,\"0\")","v":0},{"$f":"IF(E1487=input_database!$C$19,input_database!$GG$19,\"0\")","v":"0"},{"$f":"IF(E1487>=input_database!$C$19,(input_database!$GF$19+input_database!$GD$19),0)","v":0},0]
[null,{"$f":"CONCATENATE(selected_functions!$A$19,E1488,C1488)","v":"-11Kilobytes"},{"$f":"input_lists!$G$11","v":"Kilobytes"},null,{"$f":"$E$18","v":-11},{"$f":"IF(AND(E1488>=input_database!$D$19,E1488<input_database!$C$19),input_database!$GC$19,\"0\")","v":"0"},{"$f":"IF(E1488<input_database!$C$19,input_database!$GE$19,\"0\")","v":0},{"$f":"IFERROR(input_database!$GH$19,\"0\")","v":0},{"$f":"IF(E1488=input_database!$C$19,input_database!$GG$19,\"0\")","v":"0"},{"$f":"IF(E1488>=input_database!$C$19,(input_database!$GF$19+input_database!$GD$19),0)","v":0},0]
[null,{"$f":"CONCATENATE(selected_functions!$A$19,E1489,C1489)","v":"-10Kilobytes"},{"$f":"input_lists!$G$11","v":"Kilobytes"},null,{"$f":"$E$19","v":-10},{"$f":"IF(AND(E1489>=input_database!$D$19,E1489<input_database!$C$19),input_database!$GC$19,\"0\")","v":"0"},{"$f":"IF(E1489<input_database!$C$19,input_database!$GE$19,\"0\")","v":0},{"$f":"IFERROR(input_database!$GH$19,\"0\")","v":0},{"$f":"IF(E1489=input_database!$C$19,input_database!$GG$19,\"0\")","v":"0"},{"$f":"IF(E1489>=input_database!$C$19,(input_database!$GF$19+input_database!$GD$19),0)","v":0},0]
[null,{"$f":"CONCATENATE(selected_functions!$A$19,E1490,C1490)","v":"-9Kilobytes"},{"$f":"input_lists!$G$11","v":"Kilobytes"},null,{"$f":"$E$20","v":-9},{"$f":"IF(AND(E1490>=input_database!$D$19,E1490<input_database!$C$19),input_database!$GC$19,\"0\")","v":"0"},{"$f":"IF(E1490<input_database!$C$19,input_database!$GE$19,\"0\")","v":0},{"$f":"IFERROR(input_database!$GH$19,\"0\")","v":0},{"$f":"IF(E1490=input_database!$C$19,input_database!$GG$19,\"0\")","v":"0"},{"$f":"IF(E1490>=input_database!$C$19,(input_database!$GF$19+input_database!$GD$19),0)","v":0},0]
[null,{"$f":"CONCATENATE(selected_functions!$A$19,E1491,C1491)","v":"-8Kilobytes"},{"$f":"input_lists!$G$11","v":"Kilobytes"},null,{"$f":"$E$21","v":-8},{"$f":"IF(AND(E1491>=input_database!$D$19,E1491<input_database!$C$19),input_database!$GC$19,\"0\")","v":"0"},{"$f":"IF(E1491<input_database!$C$19,input_database!$GE$19,\"0\")","v":0},{"$f":"IFERROR(input_database!$GH$19,\"0\")","v":0},{"$f":"IF(E1491=input_database!$C$19,input_database!$GG$19,\"0\")","v":"0"},{"$f":"IF(E1491>=input_database!$C$19,(input_database!$GF$19+input_database!$GD$19),0)","v":0},0]
[null,{"$f":"CONCATENATE(selected_functions!$A$19,E1492,C1492)","v":"-7Kilobytes"},{"$f":"input_lists!$G$11","v":"Kilobytes"},null,{"$f":"$E$22","v":-7},{"$f":"IF(AND(E1492>=input_database!$D$19,E1492<input_database!$C$19),input_database!$GC$19,\"0\")","v":"0"},{"$f":"IF(E1492<input_database!$C$19,input_database!$GE$19,\"0\")","v":0},{"$f":"IFERROR(input_database!$GH$19,\"0\")","v":0},{"$f":"IF(E1492=input_database!$C$19,input_database!$GG$19,\"0\")","v":"0"},{"$f":"IF(E1492>=input_database!$C$19,(input_database!$GF$19+input_database!$GD$19),0)","v":0},0]
[null,{"$f":"CONCATENATE(selected_functions!$A$19,E1493,C1493)","v":"-6Kilobytes"},{"$f":"input_lists!$G$11","v":"Kilobytes"},null,{"$f":"$E$23","v":-6},{"$f":"IF(AND(E1493>=input_database!$D$19,E1493<input_database!$C$19),input_database!$GC$19,\"0\")","v":"0"},{"$f":"IF(E1493<input_database!$C$19,input_database!$GE$19,\"0\")","v":0},{"$f":"IFERROR(input_database!$GH$19,\"0\")","v":0},{"$f":"IF(E1493=input_database!$C$19,input_database!$GG$19,\"0\")","v":"0"},{"$f":"IF(E1493>=input_database!$C$19,(input_database!$GF$19+input_database!$GD$19),0)","v":0},0]
[null,{"$f":"CONCATENATE(selected_functions!$A$19,E1494,C1494)","v":"-5Kilobytes"},{"$f":"input_lists!$G$11","v":"Kilobytes"},null,{"$f":"$E$24","v":-5},{"$f":"IF(AND(E1494>=input_database!$D$19,E1494<input_database!$C$19),input_database!$GC$19,\"0\")","v":"0"},{"$f":"IF(E1494<input_database!$C$19,input_database!$GE$19,\"0\")","v":0},{"$f":"IFERROR(input_database!$GH$19,\"0\")","v":0},{"$f":"IF(E1494=input_database!$C$19,input_database!$GG$19,\"0\")","v":"0"},{"$f":"IF(E1494>=input_database!$C$19,(input_database!$GF$19+input_database!$GD$19),0)","v":0},0]
[null,{"$f":"CONCATENATE(selected_functions!$A$19,E1495,C1495)","v":"-4Kilobytes"},{"$f":"input_lists!$G$11","v":"Kilobytes"},null,{"$f":"$E$25","v":-4},{"$f":"IF(AND(E1495>=input_database!$D$19,E1495<input_database!$C$19),input_database!$GC$19,\"0\")","v":"0"},{"$f":"IF(E1495<input_database!$C$19,input_database!$GE$19,\"0\")","v":0},{"$f":"IFERROR(input_database!$GH$19,\"0\")","v":0},{"$f":"IF(E1495=input_database!$C$19,input_database!$GG$19,\"0\")","v":"0"},{"$f":"IF(E1495>=input_database!$C$19,(input_database!$GF$19+input_database!$GD$19),0)","v":0},0]
[null,{"$f":"CONCATENATE(selected_functions!$A$19,E1496,C1496)","v":"-3Kilobytes"},{"$f":"input_lists!$G$11","v":"Kilobytes"},null,{"$f":"$E$26","v":-3},{"$f":"IF(AND(E1496>=input_database!$D$19,E1496<input_database!$C$19),input_database!$GC$19,\"0\")","v":"0"},{"$f":"IF(E1496<input_database!$C$19,input_database!$GE$19,\"0\")","v":0},{"$f":"IFERROR(input_database!$GH$19,\"0\")","v":0},{"$f":"IF(E1496=input_database!$C$19,input_database!$GG$19,\"0\")","v":"0"},{"$f":"IF(E1496>=input_database!$C$19,(input_database!$GF$19+input_database!$GD$19),0)","v":0},0]
[null,{"$f":"CONCATENATE(selected_functions!$A$19,E1497,C1497)","v":"-2Kilobytes"},{"$f":"input_lists!$G$11","v":"Kilobytes"},null,{"$f":"$E$27","v":-2},{"$f":"IF(AND(E1497>=input_database!$D$19,E1497<input_database!$C$19),input_database!$GC$19,\"0\")","v":"0"},{"$f":"IF(E1497<input_database!$C$19,input_database!$GE$19,\"0\")","v":0},{"$f":"IFERROR(input_database!$GH$19,\"0\")","v":0},{"$f":"IF(E1497=input_database!$C$19,input_database!$GG$19,\"0\")","v":"0"},{"$f":"IF(E1497>=input_database!$C$19,(input_database!$GF$19+input_database!$GD$19),0)","v":0},0]
[null,{"$f":"CONCATENATE(selected_functions!$A$19,E1498,C1498)","v":"-1Kilobytes"},{"$f":"input_lists!$G$11","v":"Kilobytes"},null,{"$f":"$E$28","v":-1},{"$f":"IF(AND(E1498>=input_database!$D$19,E1498<input_database!$C$19),input_database!$GC$19,\"0\")","v":"0"},{"$f":"IF(E1498<input_database!$C$19,input_database!$GE$19,\"0\")","v":0},{"$f":"IFERROR(input_database!$GH$19,\"0\")","v":0},{"$f":"IF(E1498=input_database!$C$19,input_database!$GG$19,\"0\")","v":"0"},{"$f":"IF(E1498>=input_database!$C$19,(input_database!$GF$19+input_database!$GD$19),0)","v":0},0]
[null,{"$f":"CONCATENATE(selected_functions!$A$19,E1499,C1499)","v":"0Kilobytes"},{"$f":"input_lists!$G$11","v":"Kilobytes"},null,{"$f":"$E$29","v":0},{"$f":"IF(AND(E1499>=input_database!$D$19,E1499<input_database!$C$19),input_database!$GC$19,\"0\")","v":"0"},{"$f":"IF(E1499<input_database!$C$19,input_database!$GE$19,\"0\")","v":"0"},{"$f":"IFERROR(input_database!$GH$19,\"0\")","v":0},{"$f":"IF(E1499=input_database!$C$19,input_database!$GG$19,\"0\")","v":0},{"$f":"IF(E1499>=input_database!$C$19,(input_database!$GF$19+input_database!$GD$19),0)","v":0},0]
[null,{"$f":"CONCATENATE(selected_functions!$A$19,E1500,C1500)","v":"1Kilobytes"},{"$f":"input_lists!$G$11","v":"Kilobytes"},null,{"$f":"$E$30","v":1},{"$f":"IF(AND(E1500>=input_database!$D$19,E1500<input_database!$C$19),input_database!$GC$19,\"0\")","v":"0"},{"$f":"IF(E1500<input_database!$C$19,input_database!$GE$19,\"0\")","v":"0"},{"$f":"IFERROR(input_database!$GH$19,\"0\")","v":0},{"$f":"IF(E1500=input_database!$C$19,input_database!$GG$19,\"0\")","v":"0"},{"$f":"IF(E1500>=input_database!$C$19,(input_database!$GF$19+input_database!$GD$19),0)","v":0},0]
[null,{"$f":"CONCATENATE(selected_functions!$A$19,E1501,C1501)","v":"2Kilobytes"},{"$f":"input_lists!$G$11","v":"Kilobytes"},null,{"$f":"$E$31","v":2},{"$f":"IF(AND(E1501>=input_database!$D$19,E1501<input_database!$C$19),input_database!$GC$19,\"0\")","v":"0"},{"$f":"IF(E1501<input_database!$C$19,input_database!$GE$19,\"0\")","v":"0"},{"$f":"IFERROR(input_database!$GH$19,\"0\")","v":0},{"$f":"IF(E1501=input_database!$C$19,input_database!$GG$19,\"0\")","v":"0"},{"$f":"IF(E1501>=input_database!$C$19,(input_database!$GF$19+input_database!$GD$19),0)","v":0},0]
[null,{"$f":"CONCATENATE(selected_functions!$A$19,E1502,C1502)","v":"3Kilobytes"},{"$f":"input_lists!$G$11","v":"Kilobytes"},null,{"$f":"$E$32","v":3},{"$f":"IF(AND(E1502>=input_database!$D$19,E1502<input_database!$C$19),input_database!$GC$19,\"0\")","v":"0"},{"$f":"IF(E1502<input_database!$C$19,input_database!$GE$19,\"0\")","v":"0"},{"$f":"IFERROR(input_database!$GH$19,\"0\")","v":0},{"$f":"IF(E1502=input_database!$C$19,input_database!$GG$19,\"0\")","v":"0"},{"$f":"IF(E1502>=input_database!$C$19,(input_database!$GF$19+input_database!$GD$19),0)","v":0},0]
[null,{"$f":"CONCATENATE(selected_functions!$A$19,E1503,C1503)","v":"-17Megabytes"},{"$f":"input_lists!$G$12","v":"Megabytes"},null,{"$f":"$E$12","v":-17},{"$f":"F1482/1024","v":0},0,0,0,0,0]
[null,{"$f":"CONCATENATE(selected_functions!$A$19,E1504,C1504)","v":"-16Megabytes"},{"$f":"C1503","v":"Megabytes"},null,{"$f":"$E$13","v":-16},0,0,0,0,0,0]
[null,{"$f":"CONCATENATE(selected_functions!$A$19,E1505,C1505)","v":"-15Megabytes"},{"$f":"C1504","v":"Megabytes"},null,{"$f":"$E$14","v":-15},0,0,0,0,0,0]
[null,{"$f":"CONCATENATE(selected_functions!$A$19,E1506,C1506)","v":"-14Megabytes"},"Megabytes",null,{"$f":"$E$15","v":-14},0,0,0,0,0,0]
[null,{"$f":"CONCATENATE(selected_functions!$A$19,E1507,C1507)","v":"-13Megabytes"},"Megabytes",null,{"$f":"$E$16","v":-13},0,0,0,0,0,0]
[null,{"$f":"CONCATENATE(selected_functions!$A$19,E1508,C1508)","v":"-12Megabytes"},"Megabytes",null,{"$f":"$E$17","v":-12},0,0,0,0,0,0]
[null,{"$f":"CONCATENATE(selected_functions!$A$19,E1509,C1509)","v":"-11Megabytes"},"Megabytes",null,{"$f":"$E$18","v":-11},0,0,0,0,0,0]
[null,{"$f":"CONCATENATE(selected_functions!$A$19,E1510,C1510)","v":"-10Megabytes"},"Megabytes",null,{"$f":"$E$19","v":-10},0,0,0,0,0,0]
[null,{"$f":"CONCATENATE(selected_functions!$A$19,E1511,C1511)","v":"-9Megabytes"},"Megabytes",null,{"$f":"$E$20","v":-9},0,0,0,0,0,0]
[null,{"$f":"CONCATENATE(selected_functions!$A$19,E1512,C1512)","v":"-8Megabytes"},"Megabytes",null,{"$f":"$E$21","v":-8},0,0,0,0,0,0]
[null,{"$f":"CONCATENATE(selected_functions!$A$19,E1513,C1513)","v":"-7Megabytes"},"Megabytes",null,{"$f":"$E$22","v":-7},{"$f":"F1492/1024","v":0},0,0,0,0,0]
[null,{"$f":"CONCATENATE(selected_functions!$A$19,E1514,C1514)","v":"-6Megabytes"},"Megabytes",null,{"$f":"$E$23","v":-6},0,0,0,0,0,0]
[null,{"$f":"CONCATENATE(selected_functions!$A$19,E1515,C1515)","v":"-5Megabytes"},"Megabytes",null,{"$f":"$E$24","v":-5},0,0,0,0,0,0]
[null,{"$f":"CONCATENATE(selected_functions!$A$19,E1516,C1516)","v":"-4Megabytes"},"Megabytes",null,{"$f":"$E$25","v":-4},0,0,0,0,0,0]
[null,{"$f":"CONCATENATE(selected_functions!$A$19,E1517,C1517)","v":"-3Megabytes"},"Megabytes",null,{"$f":"$E$26","v":-3},0,0,0,0,0,0]
[null,{"$f":"CONCATENATE(selected_functions!$A$19,E1518,C1518)","v":"-2Megabytes"},"Megabytes",null,{"$f":"$E$27","v":-2},0,0,0,0,0,0]
[null,{"$f":"CONCATENATE(selected_functions!$A$19,E1519,C1519)","v":"-1Megabytes"},"Megabytes",null,{"$f":"$E$28","v":-1},0,0,0,0,0,0]
[null,{"$f":"CONCATENATE(selected_functions!$A$19,E1520,C1520)","v":"0Megabytes"},"Megabytes",null,{"$f":"$E$29","v":0},0,0,0,0,0,0]
[null,{"$f":"CONCATENATE(selected_functions!$A$19,E1521,C1521)","v":"1Megabytes"},"Megabytes",null,{"$f":"$E$30","v":1},0,0,0,0,0,0]
[null,{"$f":"CONCATENATE(selected_functions!$A$19,E1522,C1522)","v":"2Megabytes"},"Megabytes",null,{"$f":"$E$31","v":2},0,0,0,0,0,0]
[null,{"$f":"CONCATENATE(selected_functions!$A$19,E1523,C1523)","v":"3Megabytes"},{"$f":"C1522","v":"Megabytes"},null,{"$f":"$E$32","v":3},{"$f":"F1502/1024","v":0},0,0,0,0,0]
[null,{"$f":"CONCATENATE(selected_functions!$A$19,E1524,C1524)","v":"-17Gigabytes"},{"$f":"input_lists!$G$13","v":"Gigabytes"},null,{"$f":"$E$12","v":-17},0,0,0,0,0,0]
[null,{"$f":"CONCATENATE(selected_functions!$A$19,E1525,C1525)","v":"-16Gigabytes"},{"$f":"C1524","v":"Gigabytes"},null,{"$f":"$E$13","v":-16},0,0,0,0,0,0]
[null,{"$f":"CONCATENATE(selected_functions!$A$19,E1526,C1526)","v":"-15Gigabytes"},{"$f":"C1525","v":"Gigabytes"},null,{"$f":"$E$14","v":-15},0,0,0,0,0,0]
[null,{"$f":"CONCATENATE(selected_functions!$A$19,E1527,C1527)","v":"-14Gigabytes"},"Gigabytes",null,{"$f":"$E$15","v":-14},0,0,0,0,0,0]
[null,{"$f":"CONCATENATE(selected_functions!$A$19,E1528,C1528)","v":"-13Gigabytes"},"Gigabytes",null,{"$f":"$E$16","v":-13},0,0,0,0,0,0]
[null,{"$f":"CONCATENATE(selected_functions!$A$19,E1529,C1529)","v":"-12Gigabytes"},"Gigabytes",null,{"$f":"$E$17","v":-12},0,0,0,0,0,0]
[null,{"$f":"CONCATENATE(selected_functions!$A$19,E1530,C1530)","v":"-11Gigabytes"},"Gigabytes",null,{"$f":"$E$18","v":-11},0,0,0,0,0,0]
[null,{"$f":"CONCATENATE(selected_functions!$A$19,E1531,C1531)","v":"-10Gigabytes"},"Gigabytes",null,{"$f":"$E$19","v":-10},0,0,0,0,0,0]
[null,{"$f":"CONCATENATE(selected_functions!$A$19,E1532,C1532)","v":"-9Gigabytes"},"Gigabytes",null,{"$f":"$E$20","v":-9},0,0,0,0,0,0]
[null,{"$f":"CONCATENATE(selected_functions!$A$19,E1533,C1533)","v":"-8Gigabytes"},"Gigabytes",null,{"$f":"$E$21","v":-8},{"$f":"F1512/1024","v":0},0,0,0,0,0]
[null,{"$f":"CONCATENATE(selected_functions!$A$19,E1534,C1534)","v":"-7Gigabytes"},"Gigabytes",null,{"$f":"$E$22","v":-7},0,0,0,0,0,0]
[null,{"$f":"CONCATENATE(selected_functions!$A$19,E1535,C1535)","v":"-6Gigabytes"},"Gigabytes",null,{"$f":"$E$23","v":-6},0,0,0,0,0,0]
[null,{"$f":"CONCATENATE(selected_functions!$A$19,E1536,C1536)","v":"-5Gigabytes"},"Gigabytes",null,{"$f":"$E$24","v":-5},0,0,0,0,0,0]
[null,{"$f":"CONCATENATE(selected_functions!$A$19,E1537,C1537)","v":"-4Gigabytes"},"Gigabytes",null,{"$f":"$E$25","v":-4},0,0,0,0,0,0]
[null,{"$f":"CONCATENATE(selected_functions!$A$19,E1538,C1538)","v":"-3Gigabytes"},"Gigabytes",null,{"$f":"$E$26","v":-3},0,0,0,0,0,0]
[null,{"$f":"CONCATENATE(selected_functions!$A$19,E1539,C1539)","v":"-2Gigabytes"},"Gigabytes",null,{"$f":"$E$27","v":-2},0,0,0,0,0,0]
[null,{"$f":"CONCATENATE(selected_functions!$A$19,E1540,C1540)","v":"-1Gigabytes"},"Gigabytes",null,{"$f":"$E$28","v":-1},0,0,0,0,0,0]
[null,{"$f":"CONCATENATE(selected_functions!$A$19,E1541,C1541)","v":"0Gigabytes"},"Gigabytes",null,{"$f":"$E$29","v":0},0,0,0,0,0,0]
[null,{"$f":"CONCATENATE(selected_functions!$A$19,E1542,C1542)","v":"1Gigabytes"},"Gigabytes",null,{"$f":"$E$30","v":1},0,0,0,0,0,0]
[null,{"$f":"CONCATENATE(selected_functions!$A$19,E1543,C1543)","v":"2Gigabytes"},"Gigabytes",null,{"$f":"$E$31","v":2},{"$f":"F1522/1024","v":0},0,0,0,0,0]
[null,{"$f":"CONCATENATE(selected_functions!$A$19,E1544,C1544)","v":"3Gigabytes"},"Gigabytes",null,{"$f":"$E$32","v":3},0,0,0,0,0,0]
[null,{"$f":"CONCATENATE(selected_functions!$A$19,E1545,C1545)","v":"-17Terabytes"},{"$f":"input_lists!$G$14","v":"Terabytes"},null,{"$f":"$E$12","v":-17},0,0,0,0,0,0]
[null,{"$f":"CONCATENATE(selected_functions!$A$19,E1546,C1546)","v":"-16Terabytes"},{"$f":"C1545","v":"Terabytes"},null,{"$f":"$E$13","v":-16},0,0,0,0,0,0]
[null,{"$f":"CONCATENATE(selected_functions!$A$19,E1547,C1547)","v":"-15Terabytes"},{"$f":"C1546","v":"Terabytes"},null,{"$f":"$E$14","v":-15},0,0,0,0,0,0]
[null,{"$f":"CONCATENATE(selected_functions!$A$19,E1548,C1548)","v":"-14Terabytes"},"Terabytes",null,{"$f":"$E$15","v":-14},0,0,0,0,0,0]
[null,{"$f":"CONCATENATE(selected_functions!$A$19,E1549,C1549)","v":"-13Terabytes"},"Terabytes",null,{"$f":"$E$16","v":-13},0,0,0,0,0,0]
[null,{"$f":"CONCATENATE(selected_functions!$A$19,E1550,C1550)","v":"-12Terabytes"},"Terabytes",null,{"$f":"$E$17","v":-12},0,0,0,0,0,0]
[null,{"$f":"CONCATENATE(selected_functions!$A$19,E1551,C1551)","v":"-11Terabytes"},"Terabytes",null,{"$f":"$E$18","v":-11},0,0,0,0,0,0]
[null,{"$f":"CONCATENATE(selected_functions!$A$19,E1552,C1552)","v":"-10Terabytes"},"Terabytes",null,{"$f":"$E$19","v":-10},0,0,0,0,0,0]
[null,{"$f":"CONCATENATE(selected_functions!$A$19,E1553,C1553)","v":"-9Terabytes"},"Terabytes",null,{"$f":"$E$20","v":-9},{"$f":"F1532/1024","v":0},0,0,0,0,0]
[null,{"$f":"CONCATENATE(selected_functions!$A$19,E1554,C1554)","v":"-8Terabytes"},"Terabytes",null,{"$f":"$E$21","v":-8},0,0,0,0,0,0]
[null,{"$f":"CONCATENATE(selected_functions!$A$19,E1555,C1555)","v":"-7Terabytes"},"Terabytes",null,{"$f":"$E$22","v":-7},0,0,0,0,0,0]
[null,{"$f":"CONCATENATE(selected_functions!$A$19,E1556,C1556)","v":"-6Terabytes"},"Terabytes",null,{"$f":"$E$23","v":-6},0,0,0,0,0,0]
[null,{"$f":"CONCATENATE(selected_functions!$A$19,E1557,C1557)","v":"-5Terabytes"},"Terabytes",null,{"$f":"$E$24","v":-5},0,0,0,0,0,0]
[null,{"$f":"CONCATENATE(selected_functions!$A$19,E1558,C1558)","v":"-4Terabytes"},"Terabytes",null,{"$f":"$E$25","v":-4},0,0,0,0,0,0]
[null,{"$f":"CONCATENATE(selected_functions!$A$19,E1559,C1559)","v":"-3Terabytes"},"Terabytes",null,{"$f":"$E$26","v":-3},0,0,0,0,0,0]
[null,{"$f":"CONCATENATE(selected_functions!$A$19,E1560,C1560)","v":"-2Terabytes"},"Terabytes",null,{"$f":"$E$27","v":-2},0,0,0,0,0,0]
[null,{"$f":"CONCATENATE(selected_functions!$A$19,E1561,C1561)","v":"-1Terabytes"},"Terabytes",null,{"$f":"$E$28","v":-1},0,0,0,0,0,0]
[null,{"$f":"CONCATENATE(selected_functions!$A$19,E1562,C1562)","v":"0Terabytes"},"Terabytes",null,{"$f":"$E$29","v":0},0,0,0,0,0,0]
[null,{"$f":"CONCATENATE(selected_functions!$A$19,E1563,C1563)","v":"1Terabytes"},"Terabytes",null,{"$f":"$E$30","v":1},{"$f":"F1542/1024","v":0},0,0,0,0,0]
[null,{"$f":"CONCATENATE(selected_functions!$A$19,E1564,C1564)","v":"2Terabytes"},"Terabytes",null,{"$f":"$E$31","v":2},0,0,0,0,0,0]
[null,{"$f":"CONCATENATE(selected_functions!$A$19,E1565,C1565)","v":"3Terabytes"},"Terabytes",null,{"$f":"$E$32","v":3},0,0,0,0,0,0]
[null,{"$f":"CONCATENATE(selected_functions!$A$19,E1566,C1566)","v":"-17Petabytes"},{"$f":"input_lists!$G$15","v":"Petabytes"},null,{"$f":"$E$12","v":-17},0,0,0,0,0,0]
[null,{"$f":"CONCATENATE(selected_functions!$A$19,E1567,C1567)","v":"-16Petabytes"},{"$f":"C1566","v":"Petabytes"},null,{"$f":"$E$13","v":-16},0,0,0,0,0,0]
[null,{"$f":"CONCATENATE(selected_functions!$A$19,E1568,C1568)","v":"-15Petabytes"},{"$f":"C1567","v":"Petabytes"},null,{"$f":"$E$14","v":-15},0,0,0,0,0,0]
[null,{"$f":"CONCATENATE(selected_functions!$A$19,E1569,C1569)","v":"-14Petabytes"},"Petabytes",null,{"$f":"$E$15","v":-14},0,0,0,0,0,0]
[null,{"$f":"CONCATENATE(selected_functions!$A$19,E1570,C1570)","v":"-13Petabytes"},"Petabytes",null,{"$f":"$E$16","v":-13},0,0,0,0,0,0]
[null,{"$f":"CONCATENATE(selected_functions!$A$19,E1571,C1571)","v":"-12Petabytes"},"Petabytes",null,{"$f":"$E$17","v":-12},0,0,0,0,0,0]
[null,{"$f":"CONCATENATE(selected_functions!$A$19,E1572,C1572)","v":"-11Petabytes"},"Petabytes",null,{"$f":"$E$18","v":-11},0,0,0,0,0,0]
[null,{"$f":"CONCATENATE(selected_functions!$A$19,E1573,C1573)","v":"-10Petabytes"},"Petabytes",null,{"$f":"$E$19","v":-10},{"$f":"F1552/1024","v":0},0,0,0,0,0]
[null,{"$f":"CONCATENATE(selected_functions!$A$19,E1574,C1574)","v":"-9Petabytes"},"Petabytes",null,{"$f":"$E$20","v":-9},0,0,0,0,0,0]
[null,{"$f":"CONCATENATE(selected_functions!$A$19,E1575,C1575)","v":"-8Petabytes"},"Petabytes",null,{"$f":"$E$21","v":-8},0,0,0,0,0,0]
[null,{"$f":"CONCATENATE(selected_functions!$A$19,E1576,C1576)","v":"-7Petabytes"},"Petabytes",null,{"$f":"$E$22","v":-7},0,0,0,0,0,0]
[null,{"$f":"CONCATENATE(selected_functions!$A$19,E1577,C1577)","v":"-6Petabytes"},"Petabytes",null,{"$f":"$E$23","v":-6},0,0,0,0,0,0]
[null,{"$f":"CONCATENATE(selected_functions!$A$19,E1578,C1578)","v":"-5Petabytes"},"Petabytes",null,{"$f":"$E$24","v":-5},0,0,0,0,0,0]
[null,{"$f":"CONCATENATE(selected_functions!$A$19,E1579,C1579)","v":"-4Petabytes"},"Petabytes",null,{"$f":"$E$25","v":-4},0,0,0,0,0,0]
[null,{"$f":"CONCATENATE(selected_functions!$A$19,E1580,C1580)","v":"-3Petabytes"},"Petabytes",null,{"$f":"$E$26","v":-3},0,0,0,0,0,0]
[null,{"$f":"CONCATENATE(selected_functions!$A$19,E1581,C1581)","v":"-2Petabytes"},"Petabytes",null,{"$f":"$E$27","v":-2},0,0,0,0,0,0]
[null,{"$f":"CONCATENATE(selected_functions!$A$19,E1582,C1582)","v":"-1Petabytes"},"Petabytes",null,{"$f":"$E$28","v":-1},0,0,0,0,0,0]
[null,{"$f":"CONCATENATE(selected_functions!$A$19,E1583,C1583)","v":"0Petabytes"},"Petabytes",null,{"$f":"$E$29","v":0},{"$f":"F1562/1024","v":0},0,0,0,0,0]
[null,{"$f":"CONCATENATE(selected_functions!$A$19,E1584,C1584)","v":"1Petabytes"},"Petabytes",null,{"$f":"$E$30","v":1},0,0,0,0,0,0]
[null,{"$f":"CONCATENATE(selected_functions!$A$19,E1585,C1585)","v":"2Petabytes"},"Petabytes",null,{"$f":"$E$31","v":2},0,0,0,0,0,0]
[null,{"$f":"CONCATENATE(selected_functions!$A$19,E1586,C1586)","v":"3Petabytes"},"Petabytes",null,{"$f":"$E$32","v":3},0,0,0,0,0,0]
[null,{"$f":"CONCATENATE(selected_functions!$A$20,E1587,C1587)","v":"-17Kilobytes"},{"$f":"input_lists!$G$11","v":"Kilobytes"},null,{"$f":"$E$12","v":-17},{"$f":"IF(AND(E1587>=input_database!$D$20,E1587<input_database!$C$20),input_database!$GC$20,\"0\")","v":"0"},{"$f":"IF(E1587<input_database!$C$20,input_database!$GE$20,\"0\")","v":0},{"$f":"IFERROR(input_database!$GH$20,\"0\")","v":0},{"$f":"IF(E1587=input_database!$C$20,input_database!$GG$20,\"0\")","v":"0"},{"$f":"IF(E1587>=input_database!$C$20,(input_database!$GF$20+input_database!$GD$20),0)","v":0},{"$f":"SUM(F1587:J1587)","v":0}]
[null,{"$f":"CONCATENATE(selected_functions!$A$20,E1588,C1588)","v":"-16Kilobytes"},{"$f":"input_lists!$G$11","v":"Kilobytes"},null,{"$f":"$E$13","v":-16},{"$f":"IF(AND(E1588>=input_database!$D$20,E1588<input_database!$C$20),input_database!$GC$20,\"0\")","v":"0"},{"$f":"IF(E1588<input_database!$C$20,input_database!$GE$20,\"0\")","v":0},{"$f":"IFERROR(input_database!$GH$20,\"0\")","v":0},{"$f":"IF(E1588=input_database!$C$20,input_database!$GG$20,\"0\")","v":"0"},{"$f":"IF(E1588>=input_database!$C$20,(input_database!$GF$20+input_database!$GD$20),0)","v":0},{"$f":"K1587+SUM(F1588:J1588)","v":0}]
[null,{"$f":"CONCATENATE(selected_functions!$A$20,E1589,C1589)","v":"-15Kilobytes"},{"$f":"input_lists!$G$11","v":"Kilobytes"},null,{"$f":"$E$14","v":-15},{"$f":"IF(AND(E1589>=input_database!$D$20,E1589<input_database!$C$20),input_database!$GC$20,\"0\")","v":"0"},{"$f":"IF(E1589<input_database!$C$20,input_database!$GE$20,\"0\")","v":0},{"$f":"IFERROR(input_database!$GH$20,\"0\")","v":0},{"$f":"IF(E1589=input_database!$C$20,input_database!$GG$20,\"0\")","v":"0"},{"$f":"IF(E1589>=input_database!$C$20,(input_database!$GF$20+input_database!$GD$20),0)","v":0},{"$f":"K1588+SUM(F1589:J1589)","v":0}]
[null,{"$f":"CONCATENATE(selected_functions!$A$20,E1590,C1590)","v":"-14Kilobytes"},{"$f":"input_lists!$G$11","v":"Kilobytes"},null,{"$f":"$E$15","v":-14},{"$f":"IF(AND(E1590>=input_database!$D$20,E1590<input_database!$C$20),input_database!$GC$20,\"0\")","v":"0"},{"$f":"IF(E1590<input_database!$C$20,input_database!$GE$20,\"0\")","v":0},{"$f":"IFERROR(input_database!$GH$20,\"0\")","v":0},{"$f":"IF(E1590=input_database!$C$20,input_database!$GG$20,\"0\")","v":"0"},{"$f":"IF(E1590>=input_database!$C$20,(input_database!$GF$20+input_database!$GD$20),0)","v":0},0]
[null,{"$f":"CONCATENATE(selected_functions!$A$20,E1591,C1591)","v":"-13Kilobytes"},{"$f":"input_lists!$G$11","v":"Kilobytes"},null,{"$f":"$E$16","v":-13},{"$f":"IF(AND(E1591>=input_database!$D$20,E1591<input_database!$C$20),input_database!$GC$20,\"0\")","v":"0"},{"$f":"IF(E1591<input_database!$C$20,input_database!$GE$20,\"0\")","v":0},{"$f":"IFERROR(input_database!$GH$20,\"0\")","v":0},{"$f":"IF(E1591=input_database!$C$20,input_database!$GG$20,\"0\")","v":"0"},{"$f":"IF(E1591>=input_database!$C$20,(input_database!$GF$20+input_database!$GD$20),0)","v":0},0]
[null,{"$f":"CONCATENATE(selected_functions!$A$20,E1592,C1592)","v":"-12Kilobytes"},{"$f":"input_lists!$G$11","v":"Kilobytes"},null,{"$f":"$E$17","v":-12},{"$f":"IF(AND(E1592>=input_database!$D$20,E1592<input_database!$C$20),input_database!$GC$20,\"0\")","v":"0"},{"$f":"IF(E1592<input_database!$C$20,input_database!$GE$20,\"0\")","v":0},{"$f":"IFERROR(input_database!$GH$20,\"0\")","v":0},{"$f":"IF(E1592=input_database!$C$20,input_database!$GG$20,\"0\")","v":"0"},{"$f":"IF(E1592>=input_database!$C$20,(input_database!$GF$20+input_database!$GD$20),0)","v":0},0]
[null,{"$f":"CONCATENATE(selected_functions!$A$20,E1593,C1593)","v":"-11Kilobytes"},{"$f":"input_lists!$G$11","v":"Kilobytes"},null,{"$f":"$E$18","v":-11},{"$f":"IF(AND(E1593>=input_database!$D$20,E1593<input_database!$C$20),input_database!$GC$20,\"0\")","v":"0"},{"$f":"IF(E1593<input_database!$C$20,input_database!$GE$20,\"0\")","v":0},{"$f":"IFERROR(input_database!$GH$20,\"0\")","v":0},{"$f":"IF(E1593=input_database!$C$20,input_database!$GG$20,\"0\")","v":"0"},{"$f":"IF(E1593>=input_database!$C$20,(input_database!$GF$20+input_database!$GD$20),0)","v":0},0]
[null,{"$f":"CONCATENATE(selected_functions!$A$20,E1594,C1594)","v":"-10Kilobytes"},{"$f":"input_lists!$G$11","v":"Kilobytes"},null,{"$f":"$E$19","v":-10},{"$f":"IF(AND(E1594>=input_database!$D$20,E1594<input_database!$C$20),input_database!$GC$20,\"0\")","v":"0"},{"$f":"IF(E1594<input_database!$C$20,input_database!$GE$20,\"0\")","v":0},{"$f":"IFERROR(input_database!$GH$20,\"0\")","v":0},{"$f":"IF(E1594=input_database!$C$20,input_database!$GG$20,\"0\")","v":"0"},{"$f":"IF(E1594>=input_database!$C$20,(input_database!$GF$20+input_database!$GD$20),0)","v":0},0]
[null,{"$f":"CONCATENATE(selected_functions!$A$20,E1595,C1595)","v":"-9Kilobytes"},{"$f":"input_lists!$G$11","v":"Kilobytes"},null,{"$f":"$E$20","v":-9},{"$f":"IF(AND(E1595>=input_database!$D$20,E1595<input_database!$C$20),input_database!$GC$20,\"0\")","v":"0"},{"$f":"IF(E1595<input_database!$C$20,input_database!$GE$20,\"0\")","v":0},{"$f":"IFERROR(input_database!$GH$20,\"0\")","v":0},{"$f":"IF(E1595=input_database!$C$20,input_database!$GG$20,\"0\")","v":"0"},{"$f":"IF(E1595>=input_database!$C$20,(input_database!$GF$20+input_database!$GD$20),0)","v":0},0]
[null,{"$f":"CONCATENATE(selected_functions!$A$20,E1596,C1596)","v":"-8Kilobytes"},{"$f":"input_lists!$G$11","v":"Kilobytes"},null,{"$f":"$E$21","v":-8},{"$f":"IF(AND(E1596>=input_database!$D$20,E1596<input_database!$C$20),input_database!$GC$20,\"0\")","v":"0"},{"$f":"IF(E1596<input_database!$C$20,input_database!$GE$20,\"0\")","v":0},{"$f":"IFERROR(input_database!$GH$20,\"0\")","v":0},{"$f":"IF(E1596=input_database!$C$20,input_database!$GG$20,\"0\")","v":"0"},{"$f":"IF(E1596>=input_database!$C$20,(input_database!$GF$20+input_database!$GD$20),0)","v":0},0]
[null,{"$f":"CONCATENATE(selected_functions!$A$20,E1597,C1597)","v":"-7Kilobytes"},{"$f":"input_lists!$G$11","v":"Kilobytes"},null,{"$f":"$E$22","v":-7},{"$f":"IF(AND(E1597>=input_database!$D$20,E1597<input_database!$C$20),input_database!$GC$20,\"0\")","v":"0"},{"$f":"IF(E1597<input_database!$C$20,input_database!$GE$20,\"0\")","v":0},{"$f":"IFERROR(input_database!$GH$20,\"0\")","v":0},{"$f":"IF(E1597=input_database!$C$20,input_database!$GG$20,\"0\")","v":"0"},{"$f":"IF(E1597>=input_database!$C$20,(input_database!$GF$20+input_database!$GD$20),0)","v":0},0]
[null,{"$f":"CONCATENATE(selected_functions!$A$20,E1598,C1598)","v":"-6Kilobytes"},{"$f":"input_lists!$G$11","v":"Kilobytes"},null,{"$f":"$E$23","v":-6},{"$f":"IF(AND(E1598>=input_database!$D$20,E1598<input_database!$C$20),input_database!$GC$20,\"0\")","v":"0"},{"$f":"IF(E1598<input_database!$C$20,input_database!$GE$20,\"0\")","v":0},{"$f":"IFERROR(input_database!$GH$20,\"0\")","v":0},{"$f":"IF(E1598=input_database!$C$20,input_database!$GG$20,\"0\")","v":"0"},{"$f":"IF(E1598>=input_database!$C$20,(input_database!$GF$20+input_database!$GD$20),0)","v":0},0]
[null,{"$f":"CONCATENATE(selected_functions!$A$20,E1599,C1599)","v":"-5Kilobytes"},{"$f":"input_lists!$G$11","v":"Kilobytes"},null,{"$f":"$E$24","v":-5},{"$f":"IF(AND(E1599>=input_database!$D$20,E1599<input_database!$C$20),input_database!$GC$20,\"0\")","v":"0"},{"$f":"IF(E1599<input_database!$C$20,input_database!$GE$20,\"0\")","v":0},{"$f":"IFERROR(input_database!$GH$20,\"0\")","v":0},{"$f":"IF(E1599=input_database!$C$20,input_database!$GG$20,\"0\")","v":"0"},{"$f":"IF(E1599>=input_database!$C$20,(input_database!$GF$20+input_database!$GD$20),0)","v":0},0]
[null,{"$f":"CONCATENATE(selected_functions!$A$20,E1600,C1600)","v":"-4Kilobytes"},{"$f":"input_lists!$G$11","v":"Kilobytes"},null,{"$f":"$E$25","v":-4},{"$f":"IF(AND(E1600>=input_database!$D$20,E1600<input_database!$C$20),input_database!$GC$20,\"0\")","v":"0"},{"$f":"IF(E1600<input_database!$C$20,input_database!$GE$20,\"0\")","v":0},{"$f":"IFERROR(input_database!$GH$20,\"0\")","v":0},{"$f":"IF(E1600=input_database!$C$20,input_database!$GG$20,\"0\")","v":"0"},{"$f":"IF(E1600>=input_database!$C$20,(input_database!$GF$20+input_database!$GD$20),0)","v":0},0]
[null,{"$f":"CONCATENATE(selected_functions!$A$20,E1601,C1601)","v":"-3Kilobytes"},{"$f":"input_lists!$G$11","v":"Kilobytes"},null,{"$f":"$E$26","v":-3},{"$f":"IF(AND(E1601>=input_database!$D$20,E1601<input_database!$C$20),input_database!$GC$20,\"0\")","v":"0"},{"$f":"IF(E1601<input_database!$C$20,input_database!$GE$20,\"0\")","v":0},{"$f":"IFERROR(input_database!$GH$20,\"0\")","v":0},{"$f":"IF(E1601=input_database!$C$20,input_database!$GG$20,\"0\")","v":"0"},{"$f":"IF(E1601>=input_database!$C$20,(input_database!$GF$20+input_database!$GD$20),0)","v":0},0]
[null,{"$f":"CONCATENATE(selected_functions!$A$20,E1602,C1602)","v":"-2Kilobytes"},{"$f":"input_lists!$G$11","v":"Kilobytes"},null,{"$f":"$E$27","v":-2},{"$f":"IF(AND(E1602>=input_database!$D$20,E1602<input_database!$C$20),input_database!$GC$20,\"0\")","v":"0"},{"$f":"IF(E1602<input_database!$C$20,input_database!$GE$20,\"0\")","v":0},{"$f":"IFERROR(input_database!$GH$20,\"0\")","v":0},{"$f":"IF(E1602=input_database!$C$20,input_database!$GG$20,\"0\")","v":"0"},{"$f":"IF(E1602>=input_database!$C$20,(input_database!$GF$20+input_database!$GD$20),0)","v":0},0]
[null,{"$f":"CONCATENATE(selected_functions!$A$20,E1603,C1603)","v":"-1Kilobytes"},{"$f":"input_lists!$G$11","v":"Kilobytes"},null,{"$f":"$E$28","v":-1},{"$f":"IF(AND(E1603>=input_database!$D$20,E1603<input_database!$C$20),input_database!$GC$20,\"0\")","v":"0"},{"$f":"IF(E1603<input_database!$C$20,input_database!$GE$20,\"0\")","v":0},{"$f":"IFERROR(input_database!$GH$20,\"0\")","v":0},{"$f":"IF(E1603=input_database!$C$20,input_database!$GG$20,\"0\")","v":"0"},{"$f":"IF(E1603>=input_database!$C$20,(input_database!$GF$20+input_database!$GD$20),0)","v":0},0]
[null,{"$f":"CONCATENATE(selected_functions!$A$20,E1604,C1604)","v":"0Kilobytes"},{"$f":"input_lists!$G$11","v":"Kilobytes"},null,{"$f":"$E$29","v":0},{"$f":"IF(AND(E1604>=input_database!$D$20,E1604<input_database!$C$20),input_database!$GC$20,\"0\")","v":"0"},{"$f":"IF(E1604<input_database!$C$20,input_database!$GE$20,\"0\")","v":"0"},{"$f":"IFERROR(input_database!$GH$20,\"0\")","v":0},{"$f":"IF(E1604=input_database!$C$20,input_database!$GG$20,\"0\")","v":0},{"$f":"IF(E1604>=input_database!$C$20,(input_database!$GF$20+input_database!$GD$20),0)","v":0},0]
[null,{"$f":"CONCATENATE(selected_functions!$A$20,E1605,C1605)","v":"1Kilobytes"},{"$f":"input_lists!$G$11","v":"Kilobytes"},null,{"$f":"$E$30","v":1},{"$f":"IF(AND(E1605>=input_database!$D$20,E1605<input_database!$C$20),input_database!$GC$20,\"0\")","v":"0"},{"$f":"IF(E1605<input_database!$C$20,input_database!$GE$20,\"0\")","v":"0"},{"$f":"IFERROR(input_database!$GH$20,\"0\")","v":0},{"$f":"IF(E1605=input_database!$C$20,input_database!$GG$20,\"0\")","v":"0"},{"$f":"IF(E1605>=input_database!$C$20,(input_database!$GF$20+input_database!$GD$20),0)","v":0},0]
[null,{"$f":"CONCATENATE(selected_functions!$A$20,E1606,C1606)","v":"2Kilobytes"},{"$f":"input_lists!$G$11","v":"Kilobytes"},null,{"$f":"$E$31","v":2},{"$f":"IF(AND(E1606>=input_database!$D$20,E1606<input_database!$C$20),input_database!$GC$20,\"0\")","v":"0"},{"$f":"IF(E1606<input_database!$C$20,input_database!$GE$20,\"0\")","v":"0"},{"$f":"IFERROR(input_database!$GH$20,\"0\")","v":0},{"$f":"IF(E1606=input_database!$C$20,input_database!$GG$20,\"0\")","v":"0"},{"$f":"IF(E1606>=input_database!$C$20,(input_database!$GF$20+input_database!$GD$20),0)","v":0},0]
[null,{"$f":"CONCATENATE(selected_functions!$A$20,E1607,C1607)","v":"3Kilobytes"},{"$f":"input_lists!$G$11","v":"Kilobytes"},null,{"$f":"$E$32","v":3},{"$f":"IF(AND(E1607>=input_database!$D$20,E1607<input_database!$C$20),input_database!$GC$20,\"0\")","v":"0"},{"$f":"IF(E1607<input_database!$C$20,input_database!$GE$20,\"0\")","v":"0"},{"$f":"IFERROR(input_database!$GH$20,\"0\")","v":0},{"$f":"IF(E1607=input_database!$C$20,input_database!$GG$20,\"0\")","v":"0"},{"$f":"IF(E1607>=input_database!$C$20,(input_database!$GF$20+input_database!$GD$20),0)","v":0},0]
[null,{"$f":"CONCATENATE(selected_functions!$A$20,E1608,C1608)","v":"-17Megabytes"},{"$f":"input_lists!$G$12","v":"Megabytes"},null,{"$f":"$E$12","v":-17},{"$f":"F1587/1024","v":0},0,0,0,0,0]
[null,{"$f":"CONCATENATE(selected_functions!$A$20,E1609,C1609)","v":"-16Megabytes"},{"$f":"C1608","v":"Megabytes"},null,{"$f":"$E$13","v":-16},0,0,0,0,0,0]
[null,{"$f":"CONCATENATE(selected_functions!$A$20,E1610,C1610)","v":"-15Megabytes"},{"$f":"C1609","v":"Megabytes"},null,{"$f":"$E$14","v":-15},0,0,0,0,0,0]
[null,{"$f":"CONCATENATE(selected_functions!$A$20,E1611,C1611)","v":"-14Megabytes"},"Megabytes",null,{"$f":"$E$15","v":-14},0,0,0,0,0,0]
[null,{"$f":"CONCATENATE(selected_functions!$A$20,E1612,C1612)","v":"-13Megabytes"},"Megabytes",null,{"$f":"$E$16","v":-13},0,0,0,0,0,0]
[null,{"$f":"CONCATENATE(selected_functions!$A$20,E1613,C1613)","v":"-12Megabytes"},"Megabytes",null,{"$f":"$E$17","v":-12},0,0,0,0,0,0]
[null,{"$f":"CONCATENATE(selected_functions!$A$20,E1614,C1614)","v":"-11Megabytes"},"Megabytes",null,{"$f":"$E$18","v":-11},0,0,0,0,0,0]
[null,{"$f":"CONCATENATE(selected_functions!$A$20,E1615,C1615)","v":"-10Megabytes"},"Megabytes",null,{"$f":"$E$19","v":-10},0,0,0,0,0,0]
[null,{"$f":"CONCATENATE(selected_functions!$A$20,E1616,C1616)","v":"-9Megabytes"},"Megabytes",null,{"$f":"$E$20","v":-9},0,0,0,0,0,0]
[null,{"$f":"CONCATENATE(selected_functions!$A$20,E1617,C1617)","v":"-8Megabytes"},"Megabytes",null,{"$f":"$E$21","v":-8},0,0,0,0,0,0]
[null,{"$f":"CONCATENATE(selected_functions!$A$20,E1618,C1618)","v":"-7Megabytes"},"Megabytes",null,{"$f":"$E$22","v":-7},{"$f":"F1597/1024","v":0},0,0,0,0,0]
[null,{"$f":"CONCATENATE(selected_functions!$A$20,E1619,C1619)","v":"-6Megabytes"},"Megabytes",null,{"$f":"$E$23","v":-6},0,0,0,0,0,0]
[null,{"$f":"CONCATENATE(selected_functions!$A$20,E1620,C1620)","v":"-5Megabytes"},"Megabytes",null,{"$f":"$E$24","v":-5},0,0,0,0,0,0]
[null,{"$f":"CONCATENATE(selected_functions!$A$20,E1621,C1621)","v":"-4Megabytes"},"Megabytes",null,{"$f":"$E$25","v":-4},0,0,0,0,0,0]
[null,{"$f":"CONCATENATE(selected_functions!$A$20,E1622,C1622)","v":"-3Megabytes"},"Megabytes",null,{"$f":"$E$26","v":-3},0,0,0,0,0,0]
[null,{"$f":"CONCATENATE(selected_functions!$A$20,E1623,C1623)","v":"-2Megabytes"},"Megabytes",null,{"$f":"$E$27","v":-2},0,0,0,0,0,0]
[null,{"$f":"CONCATENATE(selected_functions!$A$20,E1624,C1624)","v":"-1Megabytes"},"Megabytes",null,{"$f":"$E$28","v":-1},0,0,0,0,0,0]
[null,{"$f":"CONCATENATE(selected_functions!$A$20,E1625,C1625)","v":"0Megabytes"},"Megabytes",null,{"$f":"$E$29","v":0},0,0,0,0,0,0]
[null,{"$f":"CONCATENATE(selected_functions!$A$20,E1626,C1626)","v":"1Megabytes"},"Megabytes",null,{"$f":"$E$30","v":1},0,0,0,0,0,0]
[null,{"$f":"CONCATENATE(selected_functions!$A$20,E1627,C1627)","v":"2Megabytes"},"Megabytes",null,{"$f":"$E$31","v":2},0,0,0,0,0,0]
[null,{"$f":"CONCATENATE(selected_functions!$A$20,E1628,C1628)","v":"3Megabytes"},{"$f":"C1627","v":"Megabytes"},null,{"$f":"$E$32","v":3},{"$f":"F1607/1024","v":0},0,0,0,0,0]
[null,{"$f":"CONCATENATE(selected_functions!$A$20,E1629,C1629)","v":"-17Gigabytes"},{"$f":"input_lists!$G$13","v":"Gigabytes"},null,{"$f":"$E$12","v":-17},0,0,0,0,0,0]
[null,{"$f":"CONCATENATE(selected_functions!$A$20,E1630,C1630)","v":"-16Gigabytes"},{"$f":"C1629","v":"Gigabytes"},null,{"$f":"$E$13","v":-16},0,0,0,0,0,0]
[null,{"$f":"CONCATENATE(selected_functions!$A$20,E1631,C1631)","v":"-15Gigabytes"},{"$f":"C1630","v":"Gigabytes"},null,{"$f":"$E$14","v":-15},0,0,0,0,0,0]
[null,{"$f":"CONCATENATE(selected_functions!$A$20,E1632,C1632)","v":"-14Gigabytes"},"Gigabytes",null,{"$f":"$E$15","v":-14},0,0,0,0,0,0]
[null,{"$f":"CONCATENATE(selected_functions!$A$20,E1633,C1633)","v":"-13Gigabytes"},"Gigabytes",null,{"$f":"$E$16","v":-13},0,0,0,0,0,0]
[null,{"$f":"CONCATENATE(selected_functions!$A$20,E1634,C1634)","v":"-12Gigabytes"},"Gigabytes",null,{"$f":"$E$17","v":-12},0,0,0,0,0,0]
[null,{"$f":"CONCATENATE(selected_functions!$A$20,E1635,C1635)","v":"-11Gigabytes"},"Gigabytes",null,{"$f":"$E$18","v":-11},0,0,0,0,0,0]
[null,{"$f":"CONCATENATE(selected_functions!$A$20,E1636,C1636)","v":"-10Gigabytes"},"Gigabytes",null,{"$f":"$E$19","v":-10},0,0,0,0,0,0]
[null,{"$f":"CONCATENATE(selected_functions!$A$20,E1637,C1637)","v":"-9Gigabytes"},"Gigabytes",null,{"$f":"$E$20","v":-9},0,0,0,0,0,0]
[null,{"$f":"CONCATENATE(selected_functions!$A$20,E1638,C1638)","v":"-8Gigabytes"},"Gigabytes",null,{"$f":"$E$21","v":-8},{"$f":"F1617/1024","v":0},0,0,0,0,0]
[null,{"$f":"CONCATENATE(selected_functions!$A$20,E1639,C1639)","v":"-7Gigabytes"},"Gigabytes",null,{"$f":"$E$22","v":-7},0,0,0,0,0,0]
[null,{"$f":"CONCATENATE(selected_functions!$A$20,E1640,C1640)","v":"-6Gigabytes"},"Gigabytes",null,{"$f":"$E$23","v":-6},0,0,0,0,0,0]
[null,{"$f":"CONCATENATE(selected_functions!$A$20,E1641,C1641)","v":"-5Gigabytes"},"Gigabytes",null,{"$f":"$E$24","v":-5},0,0,0,0,0,0]
[null,{"$f":"CONCATENATE(selected_functions!$A$20,E1642,C1642)","v":"-4Gigabytes"},"Gigabytes",null,{"$f":"$E$25","v":-4},0,0,0,0,0,0]
[null,{"$f":"CONCATENATE(selected_functions!$A$20,E1643,C1643)","v":"-3Gigabytes"},"Gigabytes",null,{"$f":"$E$26","v":-3},0,0,0,0,0,0]
[null,{"$f":"CONCATENATE(selected_functions!$A$20,E1644,C1644)","v":"-2Gigabytes"},"Gigabytes",null,{"$f":"$E$27","v":-2},0,0,0,0,0,0]
[null,{"$f":"CONCATENATE(selected_functions!$A$20,E1645,C1645)","v":"-1Gigabytes"},"Gigabytes",null,{"$f":"$E$28","v":-1},0,0,0,0,0,0]
[null,{"$f":"CONCATENATE(selected_functions!$A$20,E1646,C1646)","v":"0Gigabytes"},"Gigabytes",null,{"$f":"$E$29","v":0},0,0,0,0,0,0]
[null,{"$f":"CONCATENATE(selected_functions!$A$20,E1647,C1647)","v":"1Gigabytes"},"Gigabytes",null,{"$f":"$E$30","v":1},0,0,0,0,0,0]
[null,{"$f":"CONCATENATE(selected_functions!$A$20,E1648,C1648)","v":"2Gigabytes"},"Gigabytes",null,{"$f":"$E$31","v":2},{"$f":"F1627/1024","v":0},0,0,0,0,0]
[null,{"$f":"CONCATENATE(selected_functions!$A$20,E1649,C1649)","v":"3Gigabytes"},"Gigabytes",null,{"$f":"$E$32","v":3},0,0,0,0,0,0]
[null,{"$f":"CONCATENATE(selected_functions!$A$20,E1650,C1650)","v":"-17Terabytes"},{"$f":"input_lists!$G$14","v":"Terabytes"},null,{"$f":"$E$12","v":-17},0,0,0,0,0,0]
[null,{"$f":"CONCATENATE(selected_functions!$A$20,E1651,C1651)","v":"-16Terabytes"},{"$f":"C1650","v":"Terabytes"},null,{"$f":"$E$13","v":-16},0,0,0,0,0,0]
[null,{"$f":"CONCATENATE(selected_functions!$A$20,E1652,C1652)","v":"-15Terabytes"},{"$f":"C1651","v":"Terabytes"},null,{"$f":"$E$14","v":-15},0,0,0,0,0,0]
[null,{"$f":"CONCATENATE(selected_functions!$A$20,E1653,C1653)","v":"-14Terabytes"},"Terabytes",null,{"$f":"$E$15","v":-14},0,0,0,0,0,0]
[null,{"$f":"CONCATENATE(selected_functions!$A$20,E1654,C1654)","v":"-13Terabytes"},"Terabytes",null,{"$f":"$E$16","v":-13},0,0,0,0,0,0]
[null,{"$f":"CONCATENATE(selected_functions!$A$20,E1655,C1655)","v":"-12Terabytes"},"Terabytes",null,{"$f":"$E$17","v":-12},0,0,0,0,0,0]
[null,{"$f":"CONCATENATE(selected_functions!$A$20,E1656,C1656)","v":"-11Terabytes"},"Terabytes",null,{"$f":"$E$18","v":-11},0,0,0,0,0,0]
[null,{"$f":"CONCATENATE(selected_functions!$A$20,E1657,C1657)","v":"-10Terabytes"},"Terabytes",null,{"$f":"$E$19","v":-10},0,0,0,0,0,0]
[null,{"$f":"CONCATENATE(selected_functions!$A$20,E1658,C1658)","v":"-9Terabytes"},"Terabytes",null,{"$f":"$E$20","v":-9},{"$f":"F1637/1024","v":0},0,0,0,0,0]
[null,{"$f":"CONCATENATE(selected_functions!$A$20,E1659,C1659)","v":"-8Terabytes"},"Terabytes",null,{"$f":"$E$21","v":-8},0,0,0,0,0,0]
[null,{"$f":"CONCATENATE(selected_functions!$A$20,E1660,C1660)","v":"-7Terabytes"},"Terabytes",null,{"$f":"$E$22","v":-7},0,0,0,0,0,0]
[null,{"$f":"CONCATENATE(selected_functions!$A$20,E1661,C1661)","v":"-6Terabytes"},"Terabytes",null,{"$f":"$E$23","v":-6},0,0,0,0,0,0]
[null,{"$f":"CONCATENATE(selected_functions!$A$20,E1662,C1662)","v":"-5Terabytes"},"Terabytes",null,{"$f":"$E$24","v":-5},0,0,0,0,0,0]
[null,{"$f":"CONCATENATE(selected_functions!$A$20,E1663,C1663)","v":"-4Terabytes"},"Terabytes",null,{"$f":"$E$25","v":-4},0,0,0,0,0,0]
[null,{"$f":"CONCATENATE(selected_functions!$A$20,E1664,C1664)","v":"-3Terabytes"},"Terabytes",null,{"$f":"$E$26","v":-3},0,0,0,0,0,0]
[null,{"$f":"CONCATENATE(selected_functions!$A$20,E1665,C1665)","v":"-2Terabytes"},"Terabytes",null,{"$f":"$E$27","v":-2},0,0,0,0,0,0]
[null,{"$f":"CONCATENATE(selected_functions!$A$20,E1666,C1666)","v":"-1Terabytes"},"Terabytes",null,{"$f":"$E$28","v":-1},0,0,0,0,0,0]
[null,{"$f":"CONCATENATE(selected_functions!$A$20,E1667,C1667)","v":"0Terabytes"},"Terabytes",null,{"$f":"$E$29","v":0},0,0,0,0,0,0]
[null,{"$f":"CONCATENATE(selected_functions!$A$20,E1668,C1668)","v":"1Terabytes"},"Terabytes",null,{"$f":"$E$30","v":1},{"$f":"F1647/1024","v":0},0,0,0,0,0]
[null,{"$f":"CONCATENATE(selected_functions!$A$20,E1669,C1669)","v":"2Terabytes"},"Terabytes",null,{"$f":"$E$31","v":2},0,0,0,0,0,0]
[null,{"$f":"CONCATENATE(selected_functions!$A$20,E1670,C1670)","v":"3Terabytes"},"Terabytes",null,{"$f":"$E$32","v":3},0,0,0,0,0,0]
[null,{"$f":"CONCATENATE(selected_functions!$A$20,E1671,C1671)","v":"-17Petabytes"},{"$f":"input_lists!$G$15","v":"Petabytes"},null,{"$f":"$E$12","v":-17},0,0,0,0,0,0]
[null,{"$f":"CONCATENATE(selected_functions!$A$20,E1672,C1672)","v":"-16Petabytes"},{"$f":"C1671","v":"Petabytes"},null,{"$f":"$E$13","v":-16},0,0,0,0,0,0]
[null,{"$f":"CONCATENATE(selected_functions!$A$20,E1673,C1673)","v":"-15Petabytes"},{"$f":"C1672","v":"Petabytes"},null,{"$f":"$E$14","v":-15},0,0,0,0,0,0]
[null,{"$f":"CONCATENATE(selected_functions!$A$20,E1674,C1674)","v":"-14Petabytes"},"Petabytes",null,{"$f":"$E$15","v":-14},0,0,0,0,0,0]
[null,{"$f":"CONCATENATE(selected_functions!$A$20,E1675,C1675)","v":"-13Petabytes"},"Petabytes",null,{"$f":"$E$16","v":-13},0,0,0,0,0,0]
[null,{"$f":"CONCATENATE(selected_functions!$A$20,E1676,C1676)","v":"-12Petabytes"},"Petabytes",null,{"$f":"$E$17","v":-12},0,0,0,0,0,0]
[null,{"$f":"CONCATENATE(selected_functions!$A$20,E1677,C1677)","v":"-11Petabytes"},"Petabytes",null,{"$f":"$E$18","v":-11},0,0,0,0,0,0]
[null,{"$f":"CONCATENATE(selected_functions!$A$20,E1678,C1678)","v":"-10Petabytes"},"Petabytes",null,{"$f":"$E$19","v":-10},{"$f":"F1657/1024","v":0},0,0,0,0,0]
[null,{"$f":"CONCATENATE(selected_functions!$A$20,E1679,C1679)","v":"-9Petabytes"},"Petabytes",null,{"$f":"$E$20","v":-9},0,0,0,0,0,0]
[null,{"$f":"CONCATENATE(selected_functions!$A$20,E1680,C1680)","v":"-8Petabytes"},"Petabytes",null,{"$f":"$E$21","v":-8},0,0,0,0,0,0]
[null,{"$f":"CONCATENATE(selected_functions!$A$20,E1681,C1681)","v":"-7Petabytes"},"Petabytes",null,{"$f":"$E$22","v":-7},0,0,0,0,0,0]
[null,{"$f":"CONCATENATE(selected_functions!$A$20,E1682,C1682)","v":"-6Petabytes"},"Petabytes",null,{"$f":"$E$23","v":-6},0,0,0,0,0,0]
[null,{"$f":"CONCATENATE(selected_functions!$A$20,E1683,C1683)","v":"-5Petabytes"},"Petabytes",null,{"$f":"$E$24","v":-5},0,0,0,0,0,0]
[null,{"$f":"CONCATENATE(selected_functions!$A$20,E1684,C1684)","v":"-4Petabytes"},"Petabytes",null,{"$f":"$E$25","v":-4},0,0,0,0,0,0]
[null,{"$f":"CONCATENATE(selected_functions!$A$20,E1685,C1685)","v":"-3Petabytes"},"Petabytes",null,{"$f":"$E$26","v":-3},0,0,0,0,0,0]
[null,{"$f":"CONCATENATE(selected_functions!$A$20,E1686,C1686)","v":"-2Petabytes"},"Petabytes",null,{"$f":"$E$27","v":-2},0,0,0,0,0,0]
[null,{"$f":"CONCATENATE(selected_functions!$A$20,E1687,C1687)","v":"-1Petabytes"},"Petabytes",null,{"$f":"$E$28","v":-1},0,0,0,0,0,0]
[null,{"$f":"CONCATENATE(selected_functions!$A$20,E1688,C1688)","v":"0Petabytes"},"Petabytes",null,{"$f":"$E$29","v":0},{"$f":"F1667/1024","v":0},0,0,0,0,0]
[null,{"$f":"CONCATENATE(selected_functions!$A$20,E1689,C1689)","v":"1Petabytes"},"Petabytes",null,{"$f":"$E$30","v":1},0,0,0,0,0,0]
[null,{"$f":"CONCATENATE(selected_functions!$A$20,E1690,C1690)","v":"2Petabytes"},"Petabytes",null,{"$f":"$E$31","v":2},0,0,0,0,0,0]
[null,{"$f":"CONCATENATE(selected_functions!$A$20,E1691,C1691)","v":"3Petabytes"},"Petabytes",null,{"$f":"$E$32","v":3},0,0,0,0,0,0]
[null,{"$f":"CONCATENATE(selected_functions!$A$21,E1692,C1692)","v":"-17Kilobytes"},{"$f":"input_lists!$G$11","v":"Kilobytes"},null,{"$f":"$E$12","v":-17},{"$f":"IF(AND(E1692>=input_database!$D$21,E1692<input_database!$C$21),input_database!$GC$21,\"0\")","v":"0"},{"$f":"IF(E1692<input_database!$C$21,input_database!$GE$21,\"0\")","v":0},{"$f":"IFERROR(input_database!$GH$21,\"0\")","v":0},{"$f":"IF(E1692=input_database!$C$21,input_database!$GG$21,\"0\")","v":"0"},{"$f":"IF(E1692>=input_database!$C$21,(input_database!$GF$21+input_database!$GD$21),0)","v":0},{"$f":"SUM(F1692:J1692)","v":0}]
[null,{"$f":"CONCATENATE(selected_functions!$A$21,E1693,C1693)","v":"-16Kilobytes"},{"$f":"input_lists!$G$11","v":"Kilobytes"},null,{"$f":"$E$13","v":-16},{"$f":"IF(AND(E1693>=input_database!$D$21,E1693<input_database!$C$21),input_database!$GC$21,\"0\")","v":"0"},{"$f":"IF(E1693<input_database!$C$21,input_database!$GE$21,\"0\")","v":0},{"$f":"IFERROR(input_database!$GH$21,\"0\")","v":0},{"$f":"IF(E1693=input_database!$C$21,input_database!$GG$21,\"0\")","v":"0"},{"$f":"IF(E1693>=input_database!$C$21,(input_database!$GF$21+input_database!$GD$21),0)","v":0},{"$f":"K1692+SUM(F1693:J1693)","v":0}]
[null,{"$f":"CONCATENATE(selected_functions!$A$21,E1694,C1694)","v":"-15Kilobytes"},{"$f":"input_lists!$G$11","v":"Kilobytes"},null,{"$f":"$E$14","v":-15},{"$f":"IF(AND(E1694>=input_database!$D$21,E1694<input_database!$C$21),input_database!$GC$21,\"0\")","v":"0"},{"$f":"IF(E1694<input_database!$C$21,input_database!$GE$21,\"0\")","v":0},{"$f":"IFERROR(input_database!$GH$21,\"0\")","v":0},{"$f":"IF(E1694=input_database!$C$21,input_database!$GG$21,\"0\")","v":"0"},{"$f":"IF(E1694>=input_database!$C$21,(input_database!$GF$21+input_database!$GD$21),0)","v":0},{"$f":"K1693+SUM(F1694:J1694)","v":0}]
[null,{"$f":"CONCATENATE(selected_functions!$A$21,E1695,C1695)","v":"-14Kilobytes"},{"$f":"input_lists!$G$11","v":"Kilobytes"},null,{"$f":"$E$15","v":-14},{"$f":"IF(AND(E1695>=input_database!$D$21,E1695<input_database!$C$21),input_database!$GC$21,\"0\")","v":"0"},{"$f":"IF(E1695<input_database!$C$21,input_database!$GE$21,\"0\")","v":0},{"$f":"IFERROR(input_database!$GH$21,\"0\")","v":0},{"$f":"IF(E1695=input_database!$C$21,input_database!$GG$21,\"0\")","v":"0"},{"$f":"IF(E1695>=input_database!$C$21,(input_database!$GF$21+input_database!$GD$21),0)","v":0},0]
[null,{"$f":"CONCATENATE(selected_functions!$A$21,E1696,C1696)","v":"-13Kilobytes"},{"$f":"input_lists!$G$11","v":"Kilobytes"},null,{"$f":"$E$16","v":-13},{"$f":"IF(AND(E1696>=input_database!$D$21,E1696<input_database!$C$21),input_database!$GC$21,\"0\")","v":"0"},{"$f":"IF(E1696<input_database!$C$21,input_database!$GE$21,\"0\")","v":0},{"$f":"IFERROR(input_database!$GH$21,\"0\")","v":0},{"$f":"IF(E1696=input_database!$C$21,input_database!$GG$21,\"0\")","v":"0"},{"$f":"IF(E1696>=input_database!$C$21,(input_database!$GF$21+input_database!$GD$21),0)","v":0},0]
[null,{"$f":"CONCATENATE(selected_functions!$A$21,E1697,C1697)","v":"-12Kilobytes"},{"$f":"input_lists!$G$11","v":"Kilobytes"},null,{"$f":"$E$17","v":-12},{"$f":"IF(AND(E1697>=input_database!$D$21,E1697<input_database!$C$21),input_database!$GC$21,\"0\")","v":"0"},{"$f":"IF(E1697<input_database!$C$21,input_database!$GE$21,\"0\")","v":0},{"$f":"IFERROR(input_database!$GH$21,\"0\")","v":0},{"$f":"IF(E1697=input_database!$C$21,input_database!$GG$21,\"0\")","v":"0"},{"$f":"IF(E1697>=input_database!$C$21,(input_database!$GF$21+input_database!$GD$21),0)","v":0},0]
[null,{"$f":"CONCATENATE(selected_functions!$A$21,E1698,C1698)","v":"-11Kilobytes"},{"$f":"input_lists!$G$11","v":"Kilobytes"},null,{"$f":"$E$18","v":-11},{"$f":"IF(AND(E1698>=input_database!$D$21,E1698<input_database!$C$21),input_database!$GC$21,\"0\")","v":"0"},{"$f":"IF(E1698<input_database!$C$21,input_database!$GE$21,\"0\")","v":0},{"$f":"IFERROR(input_database!$GH$21,\"0\")","v":0},{"$f":"IF(E1698=input_database!$C$21,input_database!$GG$21,\"0\")","v":"0"},{"$f":"IF(E1698>=input_database!$C$21,(input_database!$GF$21+input_database!$GD$21),0)","v":0},0]
[null,{"$f":"CONCATENATE(selected_functions!$A$21,E1699,C1699)","v":"-10Kilobytes"},{"$f":"input_lists!$G$11","v":"Kilobytes"},null,{"$f":"$E$19","v":-10},{"$f":"IF(AND(E1699>=input_database!$D$21,E1699<input_database!$C$21),input_database!$GC$21,\"0\")","v":"0"},{"$f":"IF(E1699<input_database!$C$21,input_database!$GE$21,\"0\")","v":0},{"$f":"IFERROR(input_database!$GH$21,\"0\")","v":0},{"$f":"IF(E1699=input_database!$C$21,input_database!$GG$21,\"0\")","v":"0"},{"$f":"IF(E1699>=input_database!$C$21,(input_database!$GF$21+input_database!$GD$21),0)","v":0},0]
[null,{"$f":"CONCATENATE(selected_functions!$A$21,E1700,C1700)","v":"-9Kilobytes"},{"$f":"input_lists!$G$11","v":"Kilobytes"},null,{"$f":"$E$20","v":-9},{"$f":"IF(AND(E1700>=input_database!$D$21,E1700<input_database!$C$21),input_database!$GC$21,\"0\")","v":"0"},{"$f":"IF(E1700<input_database!$C$21,input_database!$GE$21,\"0\")","v":0},{"$f":"IFERROR(input_database!$GH$21,\"0\")","v":0},{"$f":"IF(E1700=input_database!$C$21,input_database!$GG$21,\"0\")","v":"0"},{"$f":"IF(E1700>=input_database!$C$21,(input_database!$GF$21+input_database!$GD$21),0)","v":0},0]
[null,{"$f":"CONCATENATE(selected_functions!$A$21,E1701,C1701)","v":"-8Kilobytes"},{"$f":"input_lists!$G$11","v":"Kilobytes"},null,{"$f":"$E$21","v":-8},{"$f":"IF(AND(E1701>=input_database!$D$21,E1701<input_database!$C$21),input_database!$GC$21,\"0\")","v":"0"},{"$f":"IF(E1701<input_database!$C$21,input_database!$GE$21,\"0\")","v":0},{"$f":"IFERROR(input_database!$GH$21,\"0\")","v":0},{"$f":"IF(E1701=input_database!$C$21,input_database!$GG$21,\"0\")","v":"0"},{"$f":"IF(E1701>=input_database!$C$21,(input_database!$GF$21+input_database!$GD$21),0)","v":0},0]
[null,{"$f":"CONCATENATE(selected_functions!$A$21,E1702,C1702)","v":"-7Kilobytes"},{"$f":"input_lists!$G$11","v":"Kilobytes"},null,{"$f":"$E$22","v":-7},{"$f":"IF(AND(E1702>=input_database!$D$21,E1702<input_database!$C$21),input_database!$GC$21,\"0\")","v":"0"},{"$f":"IF(E1702<input_database!$C$21,input_database!$GE$21,\"0\")","v":0},{"$f":"IFERROR(input_database!$GH$21,\"0\")","v":0},{"$f":"IF(E1702=input_database!$C$21,input_database!$GG$21,\"0\")","v":"0"},{"$f":"IF(E1702>=input_database!$C$21,(input_database!$GF$21+input_database!$GD$21),0)","v":0},0]
[null,{"$f":"CONCATENATE(selected_functions!$A$21,E1703,C1703)","v":"-6Kilobytes"},{"$f":"input_lists!$G$11","v":"Kilobytes"},null,{"$f":"$E$23","v":-6},{"$f":"IF(AND(E1703>=input_database!$D$21,E1703<input_database!$C$21),input_database!$GC$21,\"0\")","v":"0"},{"$f":"IF(E1703<input_database!$C$21,input_database!$GE$21,\"0\")","v":0},{"$f":"IFERROR(input_database!$GH$21,\"0\")","v":0},{"$f":"IF(E1703=input_database!$C$21,input_database!$GG$21,\"0\")","v":"0"},{"$f":"IF(E1703>=input_database!$C$21,(input_database!$GF$21+input_database!$GD$21),0)","v":0},0]
[null,{"$f":"CONCATENATE(selected_functions!$A$21,E1704,C1704)","v":"-5Kilobytes"},{"$f":"input_lists!$G$11","v":"Kilobytes"},null,{"$f":"$E$24","v":-5},{"$f":"IF(AND(E1704>=input_database!$D$21,E1704<input_database!$C$21),input_database!$GC$21,\"0\")","v":"0"},{"$f":"IF(E1704<input_database!$C$21,input_database!$GE$21,\"0\")","v":0},{"$f":"IFERROR(input_database!$GH$21,\"0\")","v":0},{"$f":"IF(E1704=input_database!$C$21,input_database!$GG$21,\"0\")","v":"0"},{"$f":"IF(E1704>=input_database!$C$21,(input_database!$GF$21+input_database!$GD$21),0)","v":0},0]
[null,{"$f":"CONCATENATE(selected_functions!$A$21,E1705,C1705)","v":"-4Kilobytes"},{"$f":"input_lists!$G$11","v":"Kilobytes"},null,{"$f":"$E$25","v":-4},{"$f":"IF(AND(E1705>=input_database!$D$21,E1705<input_database!$C$21),input_database!$GC$21,\"0\")","v":"0"},{"$f":"IF(E1705<input_database!$C$21,input_database!$GE$21,\"0\")","v":0},{"$f":"IFERROR(input_database!$GH$21,\"0\")","v":0},{"$f":"IF(E1705=input_database!$C$21,input_database!$GG$21,\"0\")","v":"0"},{"$f":"IF(E1705>=input_database!$C$21,(input_database!$GF$21+input_database!$GD$21),0)","v":0},0]
[null,{"$f":"CONCATENATE(selected_functions!$A$21,E1706,C1706)","v":"-3Kilobytes"},{"$f":"input_lists!$G$11","v":"Kilobytes"},null,{"$f":"$E$26","v":-3},{"$f":"IF(AND(E1706>=input_database!$D$21,E1706<input_database!$C$21),input_database!$GC$21,\"0\")","v":"0"},{"$f":"IF(E1706<input_database!$C$21,input_database!$GE$21,\"0\")","v":0},{"$f":"IFERROR(input_database!$GH$21,\"0\")","v":0},{"$f":"IF(E1706=input_database!$C$21,input_database!$GG$21,\"0\")","v":"0"},{"$f":"IF(E1706>=input_database!$C$21,(input_database!$GF$21+input_database!$GD$21),0)","v":0},0]
[null,{"$f":"CONCATENATE(selected_functions!$A$21,E1707,C1707)","v":"-2Kilobytes"},{"$f":"input_lists!$G$11","v":"Kilobytes"},null,{"$f":"$E$27","v":-2},{"$f":"IF(AND(E1707>=input_database!$D$21,E1707<input_database!$C$21),input_database!$GC$21,\"0\")","v":"0"},{"$f":"IF(E1707<input_database!$C$21,input_database!$GE$21,\"0\")","v":0},{"$f":"IFERROR(input_database!$GH$21,\"0\")","v":0},{"$f":"IF(E1707=input_database!$C$21,input_database!$GG$21,\"0\")","v":"0"},{"$f":"IF(E1707>=input_database!$C$21,(input_database!$GF$21+input_database!$GD$21),0)","v":0},0]
[null,{"$f":"CONCATENATE(selected_functions!$A$21,E1708,C1708)","v":"-1Kilobytes"},{"$f":"input_lists!$G$11","v":"Kilobytes"},null,{"$f":"$E$28","v":-1},{"$f":"IF(AND(E1708>=input_database!$D$21,E1708<input_database!$C$21),input_database!$GC$21,\"0\")","v":"0"},{"$f":"IF(E1708<input_database!$C$21,input_database!$GE$21,\"0\")","v":0},{"$f":"IFERROR(input_database!$GH$21,\"0\")","v":0},{"$f":"IF(E1708=input_database!$C$21,input_database!$GG$21,\"0\")","v":"0"},{"$f":"IF(E1708>=input_database!$C$21,(input_database!$GF$21+input_database!$GD$21),0)","v":0},0]
[null,{"$f":"CONCATENATE(selected_functions!$A$21,E1709,C1709)","v":"0Kilobytes"},{"$f":"input_lists!$G$11","v":"Kilobytes"},null,{"$f":"$E$29","v":0},{"$f":"IF(AND(E1709>=input_database!$D$21,E1709<input_database!$C$21),input_database!$GC$21,\"0\")","v":"0"},{"$f":"IF(E1709<input_database!$C$21,input_database!$GE$21,\"0\")","v":"0"},{"$f":"IFERROR(input_database!$GH$21,\"0\")","v":0},{"$f":"IF(E1709=input_database!$C$21,input_database!$GG$21,\"0\")","v":0},{"$f":"IF(E1709>=input_database!$C$21,(input_database!$GF$21+input_database!$GD$21),0)","v":0},0]
[null,{"$f":"CONCATENATE(selected_functions!$A$21,E1710,C1710)","v":"1Kilobytes"},{"$f":"input_lists!$G$11","v":"Kilobytes"},null,{"$f":"$E$30","v":1},{"$f":"IF(AND(E1710>=input_database!$D$21,E1710<input_database!$C$21),input_database!$GC$21,\"0\")","v":"0"},{"$f":"IF(E1710<input_database!$C$21,input_database!$GE$21,\"0\")","v":"0"},{"$f":"IFERROR(input_database!$GH$21,\"0\")","v":0},{"$f":"IF(E1710=input_database!$C$21,input_database!$GG$21,\"0\")","v":"0"},{"$f":"IF(E1710>=input_database!$C$21,(input_database!$GF$21+input_database!$GD$21),0)","v":0},0]
[null,{"$f":"CONCATENATE(selected_functions!$A$21,E1711,C1711)","v":"2Kilobytes"},{"$f":"input_lists!$G$11","v":"Kilobytes"},null,{"$f":"$E$31","v":2},{"$f":"IF(AND(E1711>=input_database!$D$21,E1711<input_database!$C$21),input_database!$GC$21,\"0\")","v":"0"},{"$f":"IF(E1711<input_database!$C$21,input_database!$GE$21,\"0\")","v":"0"},{"$f":"IFERROR(input_database!$GH$21,\"0\")","v":0},{"$f":"IF(E1711=input_database!$C$21,input_database!$GG$21,\"0\")","v":"0"},{"$f":"IF(E1711>=input_database!$C$21,(input_database!$GF$21+input_database!$GD$21),0)","v":0},0]
[null,{"$f":"CONCATENATE(selected_functions!$A$21,E1712,C1712)","v":"3Kilobytes"},{"$f":"input_lists!$G$11","v":"Kilobytes"},null,{"$f":"$E$32","v":3},{"$f":"IF(AND(E1712>=input_database!$D$21,E1712<input_database!$C$21),input_database!$GC$21,\"0\")","v":"0"},{"$f":"IF(E1712<input_database!$C$21,input_database!$GE$21,\"0\")","v":"0"},{"$f":"IFERROR(input_database!$GH$21,\"0\")","v":0},{"$f":"IF(E1712=input_database!$C$21,input_database!$GG$21,\"0\")","v":"0"},{"$f":"IF(E1712>=input_database!$C$21,(input_database!$GF$21+input_database!$GD$21),0)","v":0},0]
[null,{"$f":"CONCATENATE(selected_functions!$A$21,E1713,C1713)","v":"-17Megabytes"},{"$f":"input_lists!$G$12","v":"Megabytes"},null,{"$f":"$E$12","v":-17},{"$f":"F1692/1024","v":0},0,0,0,0,0]
[null,{"$f":"CONCATENATE(selected_functions!$A$21,E1714,C1714)","v":"-16Megabytes"},{"$f":"C1713","v":"Megabytes"},null,{"$f":"$E$13","v":-16},0,0,0,0,0,0]
[null,{"$f":"CONCATENATE(selected_functions!$A$21,E1715,C1715)","v":"-15Megabytes"},{"$f":"C1714","v":"Megabytes"},null,{"$f":"$E$14","v":-15},0,0,0,0,0,0]
[null,{"$f":"CONCATENATE(selected_functions!$A$21,E1716,C1716)","v":"-14Megabytes"},"Megabytes",null,{"$f":"$E$15","v":-14},0,0,0,0,0,0]
[null,{"$f":"CONCATENATE(selected_functions!$A$21,E1717,C1717)","v":"-13Megabytes"},"Megabytes",null,{"$f":"$E$16","v":-13},0,0,0,0,0,0]
[null,{"$f":"CONCATENATE(selected_functions!$A$21,E1718,C1718)","v":"-12Megabytes"},"Megabytes",null,{"$f":"$E$17","v":-12},0,0,0,0,0,0]
[null,{"$f":"CONCATENATE(selected_functions!$A$21,E1719,C1719)","v":"-11Megabytes"},"Megabytes",null,{"$f":"$E$18","v":-11},0,0,0,0,0,0]
[null,{"$f":"CONCATENATE(selected_functions!$A$21,E1720,C1720)","v":"-10Megabytes"},"Megabytes",null,{"$f":"$E$19","v":-10},0,0,0,0,0,0]
[null,{"$f":"CONCATENATE(selected_functions!$A$21,E1721,C1721)","v":"-9Megabytes"},"Megabytes",null,{"$f":"$E$20","v":-9},0,0,0,0,0,0]
[null,{"$f":"CONCATENATE(selected_functions!$A$21,E1722,C1722)","v":"-8Megabytes"},"Megabytes",null,{"$f":"$E$21","v":-8},0,0,0,0,0,0]
[null,{"$f":"CONCATENATE(selected_functions!$A$21,E1723,C1723)","v":"-7Megabytes"},"Megabytes",null,{"$f":"$E$22","v":-7},{"$f":"F1702/1024","v":0},0,0,0,0,0]
[null,{"$f":"CONCATENATE(selected_functions!$A$21,E1724,C1724)","v":"-6Megabytes"},"Megabytes",null,{"$f":"$E$23","v":-6},0,0,0,0,0,0]
[null,{"$f":"CONCATENATE(selected_functions!$A$21,E1725,C1725)","v":"-5Megabytes"},"Megabytes",null,{"$f":"$E$24","v":-5},0,0,0,0,0,0]
[null,{"$f":"CONCATENATE(selected_functions!$A$21,E1726,C1726)","v":"-4Megabytes"},"Megabytes",null,{"$f":"$E$25","v":-4},0,0,0,0,0,0]
[null,{"$f":"CONCATENATE(selected_functions!$A$21,E1727,C1727)","v":"-3Megabytes"},"Megabytes",null,{"$f":"$E$26","v":-3},0,0,0,0,0,0]
[null,{"$f":"CONCATENATE(selected_functions!$A$21,E1728,C1728)","v":"-2Megabytes"},"Megabytes",null,{"$f":"$E$27","v":-2},0,0,0,0,0,0]
[null,{"$f":"CONCATENATE(selected_functions!$A$21,E1729,C1729)","v":"-1Megabytes"},"Megabytes",null,{"$f":"$E$28","v":-1},0,0,0,0,0,0]
[null,{"$f":"CONCATENATE(selected_functions!$A$21,E1730,C1730)","v":"0Megabytes"},"Megabytes",null,{"$f":"$E$29","v":0},0,0,0,0,0,0]
[null,{"$f":"CONCATENATE(selected_functions!$A$21,E1731,C1731)","v":"1Megabytes"},"Megabytes",null,{"$f":"$E$30","v":1},0,0,0,0,0,0]
[null,{"$f":"CONCATENATE(selected_functions!$A$21,E1732,C1732)","v":"2Megabytes"},"Megabytes",null,{"$f":"$E$31","v":2},0,0,0,0,0,0]
[null,{"$f":"CONCATENATE(selected_functions!$A$21,E1733,C1733)","v":"3Megabytes"},{"$f":"C1732","v":"Megabytes"},null,{"$f":"$E$32","v":3},{"$f":"F1712/1024","v":0},0,0,0,0,0]
[null,{"$f":"CONCATENATE(selected_functions!$A$21,E1734,C1734)","v":"-17Gigabytes"},{"$f":"input_lists!$G$13","v":"Gigabytes"},null,{"$f":"$E$12","v":-17},0,0,0,0,0,0]
[null,{"$f":"CONCATENATE(selected_functions!$A$21,E1735,C1735)","v":"-16Gigabytes"},{"$f":"C1734","v":"Gigabytes"},null,{"$f":"$E$13","v":-16},0,0,0,0,0,0]
[null,{"$f":"CONCATENATE(selected_functions!$A$21,E1736,C1736)","v":"-15Gigabytes"},{"$f":"C1735","v":"Gigabytes"},null,{"$f":"$E$14","v":-15},0,0,0,0,0,0]
[null,{"$f":"CONCATENATE(selected_functions!$A$21,E1737,C1737)","v":"-14Gigabytes"},"Gigabytes",null,{"$f":"$E$15","v":-14},0,0,0,0,0,0]
[null,{"$f":"CONCATENATE(selected_functions!$A$21,E1738,C1738)","v":"-13Gigabytes"},"Gigabytes",null,{"$f":"$E$16","v":-13},0,0,0,0,0,0]
[null,{"$f":"CONCATENATE(selected_functions!$A$21,E1739,C1739)","v":"-12Gigabytes"},"Gigabytes",null,{"$f":"$E$17","v":-12},0,0,0,0,0,0]
[null,{"$f":"CONCATENATE(selected_functions!$A$21,E1740,C1740)","v":"-11Gigabytes"},"Gigabytes",null,{"$f":"$E$18","v":-11},0,0,0,0,0,0]
[null,{"$f":"CONCATENATE(selected_functions!$A$21,E1741,C1741)","v":"-10Gigabytes"},"Gigabytes",null,{"$f":"$E$19","v":-10},0,0,0,0,0,0]
[null,{"$f":"CONCATENATE(selected_functions!$A$21,E1742,C1742)","v":"-9Gigabytes"},"Gigabytes",null,{"$f":"$E$20","v":-9},0,0,0,0,0,0]
[null,{"$f":"CONCATENATE(selected_functions!$A$21,E1743,C1743)","v":"-8Gigabytes"},"Gigabytes",null,{"$f":"$E$21","v":-8},{"$f":"F1722/1024","v":0},0,0,0,0,0]
[null,{"$f":"CONCATENATE(selected_functions!$A$21,E1744,C1744)","v":"-7Gigabytes"},"Gigabytes",null,{"$f":"$E$22","v":-7},0,0,0,0,0,0]
[null,{"$f":"CONCATENATE(selected_functions!$A$21,E1745,C1745)","v":"-6Gigabytes"},"Gigabytes",null,{"$f":"$E$23","v":-6},0,0,0,0,0,0]
[null,{"$f":"CONCATENATE(selected_functions!$A$21,E1746,C1746)","v":"-5Gigabytes"},"Gigabytes",null,{"$f":"$E$24","v":-5},0,0,0,0,0,0]
[null,{"$f":"CONCATENATE(selected_functions!$A$21,E1747,C1747)","v":"-4Gigabytes"},"Gigabytes",null,{"$f":"$E$25","v":-4},0,0,0,0,0,0]
[null,{"$f":"CONCATENATE(selected_functions!$A$21,E1748,C1748)","v":"-3Gigabytes"},"Gigabytes",null,{"$f":"$E$26","v":-3},0,0,0,0,0,0]
[null,{"$f":"CONCATENATE(selected_functions!$A$21,E1749,C1749)","v":"-2Gigabytes"},"Gigabytes",null,{"$f":"$E$27","v":-2},0,0,0,0,0,0]
[null,{"$f":"CONCATENATE(selected_functions!$A$21,E1750,C1750)","v":"-1Gigabytes"},"Gigabytes",null,{"$f":"$E$28","v":-1},0,0,0,0,0,0]
[null,{"$f":"CONCATENATE(selected_functions!$A$21,E1751,C1751)","v":"0Gigabytes"},"Gigabytes",null,{"$f":"$E$29","v":0},0,0,0,0,0,0]
[null,{"$f":"CONCATENATE(selected_functions!$A$21,E1752,C1752)","v":"1Gigabytes"},"Gigabytes",null,{"$f":"$E$30","v":1},0,0,0,0,0,0]
[null,{"$f":"CONCATENATE(selected_functions!$A$21,E1753,C1753)","v":"2Gigabytes"},"Gigabytes",null,{"$f":"$E$31","v":2},{"$f":"F1732/1024","v":0},0,0,0,0,0]
[null,{"$f":"CONCATENATE(selected_functions!$A$21,E1754,C1754)","v":"3Gigabytes"},"Gigabytes",null,{"$f":"$E$32","v":3},0,0,0,0,0,0]
[null,{"$f":"CONCATENATE(selected_functions!$A$21,E1755,C1755)","v":"-17Terabytes"},{"$f":"input_lists!$G$14","v":"Terabytes"},null,{"$f":"$E$12","v":-17},0,0,0,0,0,0]
[null,{"$f":"CONCATENATE(selected_functions!$A$21,E1756,C1756)","v":"-16Terabytes"},{"$f":"C1755","v":"Terabytes"},null,{"$f":"$E$13","v":-16},0,0,0,0,0,0]
[null,{"$f":"CONCATENATE(selected_functions!$A$21,E1757,C1757)","v":"-15Terabytes"},{"$f":"C1756","v":"Terabytes"},null,{"$f":"$E$14","v":-15},0,0,0,0,0,0]
[null,{"$f":"CONCATENATE(selected_functions!$A$21,E1758,C1758)","v":"-14Terabytes"},"Terabytes",null,{"$f":"$E$15","v":-14},0,0,0,0,0,0]
[null,{"$f":"CONCATENATE(selected_functions!$A$21,E1759,C1759)","v":"-13Terabytes"},"Terabytes",null,{"$f":"$E$16","v":-13},0,0,0,0,0,0]
[null,{"$f":"CONCATENATE(selected_functions!$A$21,E1760,C1760)","v":"-12Terabytes"},"Terabytes",null,{"$f":"$E$17","v":-12},0,0,0,0,0,0]
[null,{"$f":"CONCATENATE(selected_functions!$A$21,E1761,C1761)","v":"-11Terabytes"},"Terabytes",null,{"$f":"$E$18","v":-11},0,0,0,0,0,0]
[null,{"$f":"CONCATENATE(selected_functions!$A$21,E1762,C1762)","v":"-10Terabytes"},"Terabytes",null,{"$f":"$E$19","v":-10},0,0,0,0,0,0]
[null,{"$f":"CONCATENATE(selected_functions!$A$21,E1763,C1763)","v":"-9Terabytes"},"Terabytes",null,{"$f":"$E$20","v":-9},{"$f":"F1742/1024","v":0},0,0,0,0,0]
[null,{"$f":"CONCATENATE(selected_functions!$A$21,E1764,C1764)","v":"-8Terabytes"},"Terabytes",null,{"$f":"$E$21","v":-8},0,0,0,0,0,0]
[null,{"$f":"CONCATENATE(selected_functions!$A$21,E1765,C1765)","v":"-7Terabytes"},"Terabytes",null,{"$f":"$E$22","v":-7},0,0,0,0,0,0]
[null,{"$f":"CONCATENATE(selected_functions!$A$21,E1766,C1766)","v":"-6Terabytes"},"Terabytes",null,{"$f":"$E$23","v":-6},0,0,0,0,0,0]
[null,{"$f":"CONCATENATE(selected_functions!$A$21,E1767,C1767)","v":"-5Terabytes"},"Terabytes",null,{"$f":"$E$24","v":-5},0,0,0,0,0,0]
[null,{"$f":"CONCATENATE(selected_functions!$A$21,E1768,C1768)","v":"-4Terabytes"},"Terabytes",null,{"$f":"$E$25","v":-4},0,0,0,0,0,0]
[null,{"$f":"CONCATENATE(selected_functions!$A$21,E1769,C1769)","v":"-3Terabytes"},"Terabytes",null,{"$f":"$E$26","v":-3},0,0,0,0,0,0]
[null,{"$f":"CONCATENATE(selected_functions!$A$21,E1770,C1770)","v":"-2Terabytes"},"Terabytes",null,{"$f":"$E$27","v":-2},0,0,0,0,0,0]
[null,{"$f":"CONCATENATE(selected_functions!$A$21,E1771,C1771)","v":"-1Terabytes"},"Terabytes",null,{"$f":"$E$28","v":-1},0,0,0,0,0,0]
[null,{"$f":"CONCATENATE(selected_functions!$A$21,E1772,C1772)","v":"0Terabytes"},"Terabytes",null,{"$f":"$E$29","v":0},0,0,0,0,0,0]
[null,{"$f":"CONCATENATE(selected_functions!$A$21,E1773,C1773)","v":"1Terabytes"},"Terabytes",null,{"$f":"$E$30","v":1},{"$f":"F1752/1024","v":0},0,0,0,0,0]
[null,{"$f":"CONCATENATE(selected_functions!$A$21,E1774,C1774)","v":"2Terabytes"},"Terabytes",null,{"$f":"$E$31","v":2},0,0,0,0,0,0]
[null,{"$f":"CONCATENATE(selected_functions!$A$21,E1775,C1775)","v":"3Terabytes"},"Terabytes",null,{"$f":"$E$32","v":3},0,0,0,0,0,0]
[null,{"$f":"CONCATENATE(selected_functions!$A$21,E1776,C1776)","v":"-17Petabytes"},{"$f":"input_lists!$G$15","v":"Petabytes"},null,{"$f":"$E$12","v":-17},0,0,0,0,0,0]
[null,{"$f":"CONCATENATE(selected_functions!$A$21,E1777,C1777)","v":"-16Petabytes"},{"$f":"C1776","v":"Petabytes"},null,{"$f":"$E$13","v":-16},0,0,0,0,0,0]
[null,{"$f":"CONCATENATE(selected_functions!$A$21,E1778,C1778)","v":"-15Petabytes"},{"$f":"C1777","v":"Petabytes"},null,{"$f":"$E$14","v":-15},0,0,0,0,0,0]
[null,{"$f":"CONCATENATE(selected_functions!$A$21,E1779,C1779)","v":"-14Petabytes"},"Petabytes",null,{"$f":"$E$15","v":-14},0,0,0,0,0,0]
[null,{"$f":"CONCATENATE(selected_functions!$A$21,E1780,C1780)","v":"-13Petabytes"},"Petabytes",null,{"$f":"$E$16","v":-13},0,0,0,0,0,0]
[null,{"$f":"CONCATENATE(selected_functions!$A$21,E1781,C1781)","v":"-12Petabytes"},"Petabytes",null,{"$f":"$E$17","v":-12},0,0,0,0,0,0]
[null,{"$f":"CONCATENATE(selected_functions!$A$21,E1782,C1782)","v":"-11Petabytes"},"Petabytes",null,{"$f":"$E$18","v":-11},0,0,0,0,0,0]
[null,{"$f":"CONCATENATE(selected_functions!$A$21,E1783,C1783)","v":"-10Petabytes"},"Petabytes",null,{"$f":"$E$19","v":-10},{"$f":"F1762/1024","v":0},0,0,0,0,0]
[null,{"$f":"CONCATENATE(selected_functions!$A$21,E1784,C1784)","v":"-9Petabytes"},"Petabytes",null,{"$f":"$E$20","v":-9},0,0,0,0,0,0]
[null,{"$f":"CONCATENATE(selected_functions!$A$21,E1785,C1785)","v":"-8Petabytes"},"Petabytes",null,{"$f":"$E$21","v":-8},0,0,0,0,0,0]
[null,{"$f":"CONCATENATE(selected_functions!$A$21,E1786,C1786)","v":"-7Petabytes"},"Petabytes",null,{"$f":"$E$22","v":-7},0,0,0,0,0,0]
[null,{"$f":"CONCATENATE(selected_functions!$A$21,E1787,C1787)","v":"-6Petabytes"},"Petabytes",null,{"$f":"$E$23","v":-6},0,0,0,0,0,0]
[null,{"$f":"CONCATENATE(selected_functions!$A$21,E1788,C1788)","v":"-5Petabytes"},"Petabytes",null,{"$f":"$E$24","v":-5},0,0,0,0,0,0]
[null,{"$f":"CONCATENATE(selected_functions!$A$21,E1789,C1789)","v":"-4Petabytes"},"Petabytes",null,{"$f":"$E$25","v":-4},0,0,0,0,0,0]
[null,{"$f":"CONCATENATE(selected_functions!$A$21,E1790,C1790)","v":"-3Petabytes"},"Petabytes",null,{"$f":"$E$26","v":-3},0,0,0,0,0,0]
[null,{"$f":"CONCATENATE(selected_functions!$A$21,E1791,C1791)","v":"-2Petabytes"},"Petabytes",null,{"$f":"$E$27","v":-2},0,0,0,0,0,0]
[null,{"$f":"CONCATENATE(selected_functions!$A$21,E1792,C1792)","v":"-1Petabytes"},"Petabytes",null,{"$f":"$E$28","v":-1},0,0,0,0,0,0]
[null,{"$f":"CONCATENATE(selected_functions!$A$21,E1793,C1793)","v":"0Petabytes"},"Petabytes",null,{"$f":"$E$29","v":0},{"$f":"F1772/1024","v":0},0,0,0,0,0]
[null,{"$f":"CONCATENATE(selected_functions!$A$21,E1794,C1794)","v":"1Petabytes"},"Petabytes",null,{"$f":"$E$30","v":1},0,0,0,0,0,0]
[null,{"$f":"CONCATENATE(selected_functions!$A$21,E1795,C1795)","v":"2Petabytes"},"Petabytes",null,{"$f":"$E$31","v":2},0,0,0,0,0,0]
[null,{"$f":"CONCATENATE(selected_functions!$A$21,E1796,C1796)","v":"3Petabytes"},"Petabytes",null,{"$f":"$E$32","v":3},0,0,0,0,0,0]
[null,{"$f":"CONCATENATE(selected_functions!$A$22,E1797,C1797)","v":"-17Kilobytes"},{"$f":"input_lists!$G$11","v":"Kilobytes"},null,{"$f":"$E$12","v":-17},{"$f":"IF(AND(E1797>=input_database!$D$22,E1797<input_database!$C$22),input_database!$GC$22,\"0\")","v":"0"},{"$f":"IF(E1797<input_database!$C$22,input_database!$GE$22,\"0\")","v":0},{"$f":"IFERROR(input_database!$GH$22,\"0\")","v":0},{"$f":"IF(E1797=input_database!$C$22,input_database!$GG$22,\"0\")","v":"0"},{"$f":"IF(E1797>=input_database!$C$22,(input_database!$GF$22+input_database!$GD$22),0)","v":0},{"$f":"SUM(F1797:J1797)","v":0}]
[null,{"$f":"CONCATENATE(selected_functions!$A$22,E1798,C1798)","v":"-16Kilobytes"},{"$f":"input_lists!$G$11","v":"Kilobytes"},null,{"$f":"$E$13","v":-16},{"$f":"IF(AND(E1798>=input_database!$D$22,E1798<input_database!$C$22),input_database!$GC$22,\"0\")","v":"0"},{"$f":"IF(E1798<input_database!$C$22,input_database!$GE$22,\"0\")","v":0},{"$f":"IFERROR(input_database!$GH$22,\"0\")","v":0},{"$f":"IF(E1798=input_database!$C$22,input_database!$GG$22,\"0\")","v":"0"},{"$f":"IF(E1798>=input_database!$C$22,(input_database!$GF$22+input_database!$GD$22),0)","v":0},{"$f":"K1797+SUM(F1798:J1798)","v":0}]
[null,{"$f":"CONCATENATE(selected_functions!$A$22,E1799,C1799)","v":"-15Kilobytes"},{"$f":"input_lists!$G$11","v":"Kilobytes"},null,{"$f":"$E$14","v":-15},{"$f":"IF(AND(E1799>=input_database!$D$22,E1799<input_database!$C$22),input_database!$GC$22,\"0\")","v":"0"},{"$f":"IF(E1799<input_database!$C$22,input_database!$GE$22,\"0\")","v":0},{"$f":"IFERROR(input_database!$GH$22,\"0\")","v":0},{"$f":"IF(E1799=input_database!$C$22,input_database!$GG$22,\"0\")","v":"0"},{"$f":"IF(E1799>=input_database!$C$22,(input_database!$GF$22+input_database!$GD$22),0)","v":0},{"$f":"K1798+SUM(F1799:J1799)","v":0}]
[null,{"$f":"CONCATENATE(selected_functions!$A$22,E1800,C1800)","v":"-14Kilobytes"},{"$f":"input_lists!$G$11","v":"Kilobytes"},null,{"$f":"$E$15","v":-14},{"$f":"IF(AND(E1800>=input_database!$D$22,E1800<input_database!$C$22),input_database!$GC$22,\"0\")","v":"0"},{"$f":"IF(E1800<input_database!$C$22,input_database!$GE$22,\"0\")","v":0},{"$f":"IFERROR(input_database!$GH$22,\"0\")","v":0},{"$f":"IF(E1800=input_database!$C$22,input_database!$GG$22,\"0\")","v":"0"},{"$f":"IF(E1800>=input_database!$C$22,(input_database!$GF$22+input_database!$GD$22),0)","v":0},0]
[null,{"$f":"CONCATENATE(selected_functions!$A$22,E1801,C1801)","v":"-13Kilobytes"},{"$f":"input_lists!$G$11","v":"Kilobytes"},null,{"$f":"$E$16","v":-13},{"$f":"IF(AND(E1801>=input_database!$D$22,E1801<input_database!$C$22),input_database!$GC$22,\"0\")","v":"0"},{"$f":"IF(E1801<input_database!$C$22,input_database!$GE$22,\"0\")","v":0},{"$f":"IFERROR(input_database!$GH$22,\"0\")","v":0},{"$f":"IF(E1801=input_database!$C$22,input_database!$GG$22,\"0\")","v":"0"},{"$f":"IF(E1801>=input_database!$C$22,(input_database!$GF$22+input_database!$GD$22),0)","v":0},0]
[null,{"$f":"CONCATENATE(selected_functions!$A$22,E1802,C1802)","v":"-12Kilobytes"},{"$f":"input_lists!$G$11","v":"Kilobytes"},null,{"$f":"$E$17","v":-12},{"$f":"IF(AND(E1802>=input_database!$D$22,E1802<input_database!$C$22),input_database!$GC$22,\"0\")","v":"0"},{"$f":"IF(E1802<input_database!$C$22,input_database!$GE$22,\"0\")","v":0},{"$f":"IFERROR(input_database!$GH$22,\"0\")","v":0},{"$f":"IF(E1802=input_database!$C$22,input_database!$GG$22,\"0\")","v":"0"},{"$f":"IF(E1802>=input_database!$C$22,(input_database!$GF$22+input_database!$GD$22),0)","v":0},0]
[null,{"$f":"CONCATENATE(selected_functions!$A$22,E1803,C1803)","v":"-11Kilobytes"},{"$f":"input_lists!$G$11","v":"Kilobytes"},null,{"$f":"$E$18","v":-11},{"$f":"IF(AND(E1803>=input_database!$D$22,E1803<input_database!$C$22),input_database!$GC$22,\"0\")","v":"0"},{"$f":"IF(E1803<input_database!$C$22,input_database!$GE$22,\"0\")","v":0},{"$f":"IFERROR(input_database!$GH$22,\"0\")","v":0},{"$f":"IF(E1803=input_database!$C$22,input_database!$GG$22,\"0\")","v":"0"},{"$f":"IF(E1803>=input_database!$C$22,(input_database!$GF$22+input_database!$GD$22),0)","v":0},0]
[null,{"$f":"CONCATENATE(selected_functions!$A$22,E1804,C1804)","v":"-10Kilobytes"},{"$f":"input_lists!$G$11","v":"Kilobytes"},null,{"$f":"$E$19","v":-10},{"$f":"IF(AND(E1804>=input_database!$D$22,E1804<input_database!$C$22),input_database!$GC$22,\"0\")","v":"0"},{"$f":"IF(E1804<input_database!$C$22,input_database!$GE$22,\"0\")","v":0},{"$f":"IFERROR(input_database!$GH$22,\"0\")","v":0},{"$f":"IF(E1804=input_database!$C$22,input_database!$GG$22,\"0\")","v":"0"},{"$f":"IF(E1804>=input_database!$C$22,(input_database!$GF$22+input_database!$GD$22),0)","v":0},0]
[null,{"$f":"CONCATENATE(selected_functions!$A$22,E1805,C1805)","v":"-9Kilobytes"},{"$f":"input_lists!$G$11","v":"Kilobytes"},null,{"$f":"$E$20","v":-9},{"$f":"IF(AND(E1805>=input_database!$D$22,E1805<input_database!$C$22),input_database!$GC$22,\"0\")","v":"0"},{"$f":"IF(E1805<input_database!$C$22,input_database!$GE$22,\"0\")","v":0},{"$f":"IFERROR(input_database!$GH$22,\"0\")","v":0},{"$f":"IF(E1805=input_database!$C$22,input_database!$GG$22,\"0\")","v":"0"},{"$f":"IF(E1805>=input_database!$C$22,(input_database!$GF$22+input_database!$GD$22),0)","v":0},0]
[null,{"$f":"CONCATENATE(selected_functions!$A$22,E1806,C1806)","v":"-8Kilobytes"},{"$f":"input_lists!$G$11","v":"Kilobytes"},null,{"$f":"$E$21","v":-8},{"$f":"IF(AND(E1806>=input_database!$D$22,E1806<input_database!$C$22),input_database!$GC$22,\"0\")","v":"0"},{"$f":"IF(E1806<input_database!$C$22,input_database!$GE$22,\"0\")","v":0},{"$f":"IFERROR(input_database!$GH$22,\"0\")","v":0},{"$f":"IF(E1806=input_database!$C$22,input_database!$GG$22,\"0\")","v":"0"},{"$f":"IF(E1806>=input_database!$C$22,(input_database!$GF$22+input_database!$GD$22),0)","v":0},0]
[null,{"$f":"CONCATENATE(selected_functions!$A$22,E1807,C1807)","v":"-7Kilobytes"},{"$f":"input_lists!$G$11","v":"Kilobytes"},null,{"$f":"$E$22","v":-7},{"$f":"IF(AND(E1807>=input_database!$D$22,E1807<input_database!$C$22),input_database!$GC$22,\"0\")","v":"0"},{"$f":"IF(E1807<input_database!$C$22,input_database!$GE$22,\"0\")","v":0},{"$f":"IFERROR(input_database!$GH$22,\"0\")","v":0},{"$f":"IF(E1807=input_database!$C$22,input_database!$GG$22,\"0\")","v":"0"},{"$f":"IF(E1807>=input_database!$C$22,(input_database!$GF$22+input_database!$GD$22),0)","v":0},0]
[null,{"$f":"CONCATENATE(selected_functions!$A$22,E1808,C1808)","v":"-6Kilobytes"},{"$f":"input_lists!$G$11","v":"Kilobytes"},null,{"$f":"$E$23","v":-6},{"$f":"IF(AND(E1808>=input_database!$D$22,E1808<input_database!$C$22),input_database!$GC$22,\"0\")","v":"0"},{"$f":"IF(E1808<input_database!$C$22,input_database!$GE$22,\"0\")","v":0},{"$f":"IFERROR(input_database!$GH$22,\"0\")","v":0},{"$f":"IF(E1808=input_database!$C$22,input_database!$GG$22,\"0\")","v":"0"},{"$f":"IF(E1808>=input_database!$C$22,(input_database!$GF$22+input_database!$GD$22),0)","v":0},0]
[null,{"$f":"CONCATENATE(selected_functions!$A$22,E1809,C1809)","v":"-5Kilobytes"},{"$f":"input_lists!$G$11","v":"Kilobytes"},null,{"$f":"$E$24","v":-5},{"$f":"IF(AND(E1809>=input_database!$D$22,E1809<input_database!$C$22),input_database!$GC$22,\"0\")","v":"0"},{"$f":"IF(E1809<input_database!$C$22,input_database!$GE$22,\"0\")","v":0},{"$f":"IFERROR(input_database!$GH$22,\"0\")","v":0},{"$f":"IF(E1809=input_database!$C$22,input_database!$GG$22,\"0\")","v":"0"},{"$f":"IF(E1809>=input_database!$C$22,(input_database!$GF$22+input_database!$GD$22),0)","v":0},0]
[null,{"$f":"CONCATENATE(selected_functions!$A$22,E1810,C1810)","v":"-4Kilobytes"},{"$f":"input_lists!$G$11","v":"Kilobytes"},null,{"$f":"$E$25","v":-4},{"$f":"IF(AND(E1810>=input_database!$D$22,E1810<input_database!$C$22),input_database!$GC$22,\"0\")","v":"0"},{"$f":"IF(E1810<input_database!$C$22,input_database!$GE$22,\"0\")","v":0},{"$f":"IFERROR(input_database!$GH$22,\"0\")","v":0},{"$f":"IF(E1810=input_database!$C$22,input_database!$GG$22,\"0\")","v":"0"},{"$f":"IF(E1810>=input_database!$C$22,(input_database!$GF$22+input_database!$GD$22),0)","v":0},0]
[null,{"$f":"CONCATENATE(selected_functions!$A$22,E1811,C1811)","v":"-3Kilobytes"},{"$f":"input_lists!$G$11","v":"Kilobytes"},null,{"$f":"$E$26","v":-3},{"$f":"IF(AND(E1811>=input_database!$D$22,E1811<input_database!$C$22),input_database!$GC$22,\"0\")","v":"0"},{"$f":"IF(E1811<input_database!$C$22,input_database!$GE$22,\"0\")","v":0},{"$f":"IFERROR(input_database!$GH$22,\"0\")","v":0},{"$f":"IF(E1811=input_database!$C$22,input_database!$GG$22,\"0\")","v":"0"},{"$f":"IF(E1811>=input_database!$C$22,(input_database!$GF$22+input_database!$GD$22),0)","v":0},0]
[null,{"$f":"CONCATENATE(selected_functions!$A$22,E1812,C1812)","v":"-2Kilobytes"},{"$f":"input_lists!$G$11","v":"Kilobytes"},null,{"$f":"$E$27","v":-2},{"$f":"IF(AND(E1812>=input_database!$D$22,E1812<input_database!$C$22),input_database!$GC$22,\"0\")","v":"0"},{"$f":"IF(E1812<input_database!$C$22,input_database!$GE$22,\"0\")","v":0},{"$f":"IFERROR(input_database!$GH$22,\"0\")","v":0},{"$f":"IF(E1812=input_database!$C$22,input_database!$GG$22,\"0\")","v":"0"},{"$f":"IF(E1812>=input_database!$C$22,(input_database!$GF$22+input_database!$GD$22),0)","v":0},0]
[null,{"$f":"CONCATENATE(selected_functions!$A$22,E1813,C1813)","v":"-1Kilobytes"},{"$f":"input_lists!$G$11","v":"Kilobytes"},null,{"$f":"$E$28","v":-1},{"$f":"IF(AND(E1813>=input_database!$D$22,E1813<input_database!$C$22),input_database!$GC$22,\"0\")","v":"0"},{"$f":"IF(E1813<input_database!$C$22,input_database!$GE$22,\"0\")","v":0},{"$f":"IFERROR(input_database!$GH$22,\"0\")","v":0},{"$f":"IF(E1813=input_database!$C$22,input_database!$GG$22,\"0\")","v":"0"},{"$f":"IF(E1813>=input_database!$C$22,(input_database!$GF$22+input_database!$GD$22),0)","v":0},0]
[null,{"$f":"CONCATENATE(selected_functions!$A$22,E1814,C1814)","v":"0Kilobytes"},{"$f":"input_lists!$G$11","v":"Kilobytes"},null,{"$f":"$E$29","v":0},{"$f":"IF(AND(E1814>=input_database!$D$22,E1814<input_database!$C$22),input_database!$GC$22,\"0\")","v":"0"},{"$f":"IF(E1814<input_database!$C$22,input_database!$GE$22,\"0\")","v":"0"},{"$f":"IFERROR(input_database!$GH$22,\"0\")","v":0},{"$f":"IF(E1814=input_database!$C$22,input_database!$GG$22,\"0\")","v":0},{"$f":"IF(E1814>=input_database!$C$22,(input_database!$GF$22+input_database!$GD$22),0)","v":0},0]
[null,{"$f":"CONCATENATE(selected_functions!$A$22,E1815,C1815)","v":"1Kilobytes"},{"$f":"input_lists!$G$11","v":"Kilobytes"},null,{"$f":"$E$30","v":1},{"$f":"IF(AND(E1815>=input_database!$D$22,E1815<input_database!$C$22),input_database!$GC$22,\"0\")","v":"0"},{"$f":"IF(E1815<input_database!$C$22,input_database!$GE$22,\"0\")","v":"0"},{"$f":"IFERROR(input_database!$GH$22,\"0\")","v":0},{"$f":"IF(E1815=input_database!$C$22,input_database!$GG$22,\"0\")","v":"0"},{"$f":"IF(E1815>=input_database!$C$22,(input_database!$GF$22+input_database!$GD$22),0)","v":0},0]
[null,{"$f":"CONCATENATE(selected_functions!$A$22,E1816,C1816)","v":"2Kilobytes"},{"$f":"input_lists!$G$11","v":"Kilobytes"},null,{"$f":"$E$31","v":2},{"$f":"IF(AND(E1816>=input_database!$D$22,E1816<input_database!$C$22),input_database!$GC$22,\"0\")","v":"0"},{"$f":"IF(E1816<input_database!$C$22,input_database!$GE$22,\"0\")","v":"0"},{"$f":"IFERROR(input_database!$GH$22,\"0\")","v":0},{"$f":"IF(E1816=input_database!$C$22,input_database!$GG$22,\"0\")","v":"0"},{"$f":"IF(E1816>=input_database!$C$22,(input_database!$GF$22+input_database!$GD$22),0)","v":0},0]
[null,{"$f":"CONCATENATE(selected_functions!$A$22,E1817,C1817)","v":"3Kilobytes"},{"$f":"input_lists!$G$11","v":"Kilobytes"},null,{"$f":"$E$32","v":3},{"$f":"IF(AND(E1817>=input_database!$D$22,E1817<input_database!$C$22),input_database!$GC$22,\"0\")","v":"0"},{"$f":"IF(E1817<input_database!$C$22,input_database!$GE$22,\"0\")","v":"0"},{"$f":"IFERROR(input_database!$GH$22,\"0\")","v":0},{"$f":"IF(E1817=input_database!$C$22,input_database!$GG$22,\"0\")","v":"0"},{"$f":"IF(E1817>=input_database!$C$22,(input_database!$GF$22+input_database!$GD$22),0)","v":0},0]
[null,{"$f":"CONCATENATE(selected_functions!$A$22,E1818,C1818)","v":"-17Megabytes"},{"$f":"input_lists!$G$12","v":"Megabytes"},null,{"$f":"$E$12","v":-17},{"$f":"F1797/1024","v":0},0,0,0,0,0]
[null,{"$f":"CONCATENATE(selected_functions!$A$22,E1819,C1819)","v":"-16Megabytes"},{"$f":"C1818","v":"Megabytes"},null,{"$f":"$E$13","v":-16},0,0,0,0,0,0]
[null,{"$f":"CONCATENATE(selected_functions!$A$22,E1820,C1820)","v":"-15Megabytes"},{"$f":"C1819","v":"Megabytes"},null,{"$f":"$E$14","v":-15},0,0,0,0,0,0]
[null,{"$f":"CONCATENATE(selected_functions!$A$22,E1821,C1821)","v":"-14Megabytes"},"Megabytes",null,{"$f":"$E$15","v":-14},0,0,0,0,0,0]
[null,{"$f":"CONCATENATE(selected_functions!$A$22,E1822,C1822)","v":"-13Megabytes"},"Megabytes",null,{"$f":"$E$16","v":-13},0,0,0,0,0,0]
[null,{"$f":"CONCATENATE(selected_functions!$A$22,E1823,C1823)","v":"-12Megabytes"},"Megabytes",null,{"$f":"$E$17","v":-12},0,0,0,0,0,0]
[null,{"$f":"CONCATENATE(selected_functions!$A$22,E1824,C1824)","v":"-11Megabytes"},"Megabytes",null,{"$f":"$E$18","v":-11},0,0,0,0,0,0]
[null,{"$f":"CONCATENATE(selected_functions!$A$22,E1825,C1825)","v":"-10Megabytes"},"Megabytes",null,{"$f":"$E$19","v":-10},0,0,0,0,0,0]
[null,{"$f":"CONCATENATE(selected_functions!$A$22,E1826,C1826)","v":"-9Megabytes"},"Megabytes",null,{"$f":"$E$20","v":-9},0,0,0,0,0,0]
[null,{"$f":"CONCATENATE(selected_functions!$A$22,E1827,C1827)","v":"-8Megabytes"},"Megabytes",null,{"$f":"$E$21","v":-8},0,0,0,0,0,0]
[null,{"$f":"CONCATENATE(selected_functions!$A$22,E1828,C1828)","v":"-7Megabytes"},"Megabytes",null,{"$f":"$E$22","v":-7},{"$f":"F1807/1024","v":0},0,0,0,0,0]
[null,{"$f":"CONCATENATE(selected_functions!$A$22,E1829,C1829)","v":"-6Megabytes"},"Megabytes",null,{"$f":"$E$23","v":-6},0,0,0,0,0,0]
[null,{"$f":"CONCATENATE(selected_functions!$A$22,E1830,C1830)","v":"-5Megabytes"},"Megabytes",null,{"$f":"$E$24","v":-5},0,0,0,0,0,0]
[null,{"$f":"CONCATENATE(selected_functions!$A$22,E1831,C1831)","v":"-4Megabytes"},"Megabytes",null,{"$f":"$E$25","v":-4},0,0,0,0,0,0]
[null,{"$f":"CONCATENATE(selected_functions!$A$22,E1832,C1832)","v":"-3Megabytes"},"Megabytes",null,{"$f":"$E$26","v":-3},0,0,0,0,0,0]
[null,{"$f":"CONCATENATE(selected_functions!$A$22,E1833,C1833)","v":"-2Megabytes"},"Megabytes",null,{"$f":"$E$27","v":-2},0,0,0,0,0,0]
[null,{"$f":"CONCATENATE(selected_functions!$A$22,E1834,C1834)","v":"-1Megabytes"},"Megabytes",null,{"$f":"$E$28","v":-1},0,0,0,0,0,0]
[null,{"$f":"CONCATENATE(selected_functions!$A$22,E1835,C1835)","v":"0Megabytes"},"Megabytes",null,{"$f":"$E$29","v":0},0,0,0,0,0,0]
[null,{"$f":"CONCATENATE(selected_functions!$A$22,E1836,C1836)","v":"1Megabytes"},"Megabytes",null,{"$f":"$E$30","v":1},0,0,0,0,0,0]
[null,{"$f":"CONCATENATE(selected_functions!$A$22,E1837,C1837)","v":"2Megabytes"},"Megabytes",null,{"$f":"$E$31","v":2},0,0,0,0,0,0]
[null,{"$f":"CONCATENATE(selected_functions!$A$22,E1838,C1838)","v":"3Megabytes"},{"$f":"C1837","v":"Megabytes"},null,{"$f":"$E$32","v":3},{"$f":"F1817/1024","v":0},0,0,0,0,0]
[null,{"$f":"CONCATENATE(selected_functions!$A$22,E1839,C1839)","v":"-17Gigabytes"},{"$f":"input_lists!$G$13","v":"Gigabytes"},null,{"$f":"$E$12","v":-17},0,0,0,0,0,0]
[null,{"$f":"CONCATENATE(selected_functions!$A$22,E1840,C1840)","v":"-16Gigabytes"},{"$f":"C1839","v":"Gigabytes"},null,{"$f":"$E$13","v":-16},0,0,0,0,0,0]
[null,{"$f":"CONCATENATE(selected_functions!$A$22,E1841,C1841)","v":"-15Gigabytes"},{"$f":"C1840","v":"Gigabytes"},null,{"$f":"$E$14","v":-15},0,0,0,0,0,0]
[null,{"$f":"CONCATENATE(selected_functions!$A$22,E1842,C1842)","v":"-14Gigabytes"},"Gigabytes",null,{"$f":"$E$15","v":-14},0,0,0,0,0,0]
[null,{"$f":"CONCATENATE(selected_functions!$A$22,E1843,C1843)","v":"-13Gigabytes"},"Gigabytes",null,{"$f":"$E$16","v":-13},0,0,0,0,0,0]
[null,{"$f":"CONCATENATE(selected_functions!$A$22,E1844,C1844)","v":"-12Gigabytes"},"Gigabytes",null,{"$f":"$E$17","v":-12},0,0,0,0,0,0]
[null,{"$f":"CONCATENATE(selected_functions!$A$22,E1845,C1845)","v":"-11Gigabytes"},"Gigabytes",null,{"$f":"$E$18","v":-11},0,0,0,0,0,0]
[null,{"$f":"CONCATENATE(selected_functions!$A$22,E1846,C1846)","v":"-10Gigabytes"},"Gigabytes",null,{"$f":"$E$19","v":-10},0,0,0,0,0,0]
[null,{"$f":"CONCATENATE(selected_functions!$A$22,E1847,C1847)","v":"-9Gigabytes"},"Gigabytes",null,{"$f":"$E$20","v":-9},0,0,0,0,0,0]
[null,{"$f":"CONCATENATE(selected_functions!$A$22,E1848,C1848)","v":"-8Gigabytes"},"Gigabytes",null,{"$f":"$E$21","v":-8},{"$f":"F1827/1024","v":0},0,0,0,0,0]
[null,{"$f":"CONCATENATE(selected_functions!$A$22,E1849,C1849)","v":"-7Gigabytes"},"Gigabytes",null,{"$f":"$E$22","v":-7},0,0,0,0,0,0]
[null,{"$f":"CONCATENATE(selected_functions!$A$22,E1850,C1850)","v":"-6Gigabytes"},"Gigabytes",null,{"$f":"$E$23","v":-6},0,0,0,0,0,0]
[null,{"$f":"CONCATENATE(selected_functions!$A$22,E1851,C1851)","v":"-5Gigabytes"},"Gigabytes",null,{"$f":"$E$24","v":-5},0,0,0,0,0,0]
[null,{"$f":"CONCATENATE(selected_functions!$A$22,E1852,C1852)","v":"-4Gigabytes"},"Gigabytes",null,{"$f":"$E$25","v":-4},0,0,0,0,0,0]
[null,{"$f":"CONCATENATE(selected_functions!$A$22,E1853,C1853)","v":"-3Gigabytes"},"Gigabytes",null,{"$f":"$E$26","v":-3},0,0,0,0,0,0]
[null,{"$f":"CONCATENATE(selected_functions!$A$22,E1854,C1854)","v":"-2Gigabytes"},"Gigabytes",null,{"$f":"$E$27","v":-2},0,0,0,0,0,0]
[null,{"$f":"CONCATENATE(selected_functions!$A$22,E1855,C1855)","v":"-1Gigabytes"},"Gigabytes",null,{"$f":"$E$28","v":-1},0,0,0,0,0,0]
[null,{"$f":"CONCATENATE(selected_functions!$A$22,E1856,C1856)","v":"0Gigabytes"},"Gigabytes",null,{"$f":"$E$29","v":0},0,0,0,0,0,0]
[null,{"$f":"CONCATENATE(selected_functions!$A$22,E1857,C1857)","v":"1Gigabytes"},"Gigabytes",null,{"$f":"$E$30","v":1},0,0,0,0,0,0]
[null,{"$f":"CONCATENATE(selected_functions!$A$22,E1858,C1858)","v":"2Gigabytes"},"Gigabytes",null,{"$f":"$E$31","v":2},{"$f":"F1837/1024","v":0},0,0,0,0,0]
[null,{"$f":"CONCATENATE(selected_functions!$A$22,E1859,C1859)","v":"3Gigabytes"},"Gigabytes",null,{"$f":"$E$32","v":3},0,0,0,0,0,0]
[null,{"$f":"CONCATENATE(selected_functions!$A$22,E1860,C1860)","v":"-17Terabytes"},{"$f":"input_lists!$G$14","v":"Terabytes"},null,{"$f":"$E$12","v":-17},0,0,0,0,0,0]
[null,{"$f":"CONCATENATE(selected_functions!$A$22,E1861,C1861)","v":"-16Terabytes"},{"$f":"C1860","v":"Terabytes"},null,{"$f":"$E$13","v":-16},0,0,0,0,0,0]
[null,{"$f":"CONCATENATE(selected_functions!$A$22,E1862,C1862)","v":"-15Terabytes"},{"$f":"C1861","v":"Terabytes"},null,{"$f":"$E$14","v":-15},0,0,0,0,0,0]
[null,{"$f":"CONCATENATE(selected_functions!$A$22,E1863,C1863)","v":"-14Terabytes"},"Terabytes",null,{"$f":"$E$15","v":-14},0,0,0,0,0,0]
[null,{"$f":"CONCATENATE(selected_functions!$A$22,E1864,C1864)","v":"-13Terabytes"},"Terabytes",null,{"$f":"$E$16","v":-13},0,0,0,0,0,0]
[null,{"$f":"CONCATENATE(selected_functions!$A$22,E1865,C1865)","v":"-12Terabytes"},"Terabytes",null,{"$f":"$E$17","v":-12},0,0,0,0,0,0]
[null,{"$f":"CONCATENATE(selected_functions!$A$22,E1866,C1866)","v":"-11Terabytes"},"Terabytes",null,{"$f":"$E$18","v":-11},0,0,0,0,0,0]
[null,{"$f":"CONCATENATE(selected_functions!$A$22,E1867,C1867)","v":"-10Terabytes"},"Terabytes",null,{"$f":"$E$19","v":-10},0,0,0,0,0,0]
[null,{"$f":"CONCATENATE(selected_functions!$A$22,E1868,C1868)","v":"-9Terabytes"},"Terabytes",null,{"$f":"$E$20","v":-9},{"$f":"F1847/1024","v":0},0,0,0,0,0]
[null,{"$f":"CONCATENATE(selected_functions!$A$22,E1869,C1869)","v":"-8Terabytes"},"Terabytes",null,{"$f":"$E$21","v":-8},0,0,0,0,0,0]
[null,{"$f":"CONCATENATE(selected_functions!$A$22,E1870,C1870)","v":"-7Terabytes"},"Terabytes",null,{"$f":"$E$22","v":-7},0,0,0,0,0,0]
[null,{"$f":"CONCATENATE(selected_functions!$A$22,E1871,C1871)","v":"-6Terabytes"},"Terabytes",null,{"$f":"$E$23","v":-6},0,0,0,0,0,0]
[null,{"$f":"CONCATENATE(selected_functions!$A$22,E1872,C1872)","v":"-5Terabytes"},"Terabytes",null,{"$f":"$E$24","v":-5},0,0,0,0,0,0]
[null,{"$f":"CONCATENATE(selected_functions!$A$22,E1873,C1873)","v":"-4Terabytes"},"Terabytes",null,{"$f":"$E$25","v":-4},0,0,0,0,0,0]
[null,{"$f":"CONCATENATE(selected_functions!$A$22,E1874,C1874)","v":"-3Terabytes"},"Terabytes",null,{"$f":"$E$26","v":-3},0,0,0,0,0,0]
[null,{"$f":"CONCATENATE(selected_functions!$A$22,E1875,C1875)","v":"-2Terabytes"},"Terabytes",null,{"$f":"$E$27","v":-2},0,0,0,0,0,0]
[null,{"$f":"CONCATENATE(selected_functions!$A$22,E1876,C1876)","v":"-1Terabytes"},"Terabytes",null,{"$f":"$E$28","v":-1},0,0,0,0,0,0]
[null,{"$f":"CONCATENATE(selected_functions!$A$22,E1877,C1877)","v":"0Terabytes"},"Terabytes",null,{"$f":"$E$29","v":0},0,0,0,0,0,0]
[null,{"$f":"CONCATENATE(selected_functions!$A$22,E1878,C1878)","v":"1Terabytes"},"Terabytes",null,{"$f":"$E$30","v":1},{"$f":"F1857/1024","v":0},0,0,0,0,0]
[null,{"$f":"CONCATENATE(selected_functions!$A$22,E1879,C1879)","v":"2Terabytes"},"Terabytes",null,{"$f":"$E$31","v":2},0,0,0,0,0,0]
[null,{"$f":"CONCATENATE(selected_functions!$A$22,E1880,C1880)","v":"3Terabytes"},"Terabytes",null,{"$f":"$E$32","v":3},0,0,0,0,0,0]
[null,{"$f":"CONCATENATE(selected_functions!$A$22,E1881,C1881)","v":"-17Petabytes"},{"$f":"input_lists!$G$15","v":"Petabytes"},null,{"$f":"$E$12","v":-17},0,0,0,0,0,0]
[null,{"$f":"CONCATENATE(selected_functions!$A$22,E1882,C1882)","v":"-16Petabytes"},{"$f":"C1881","v":"Petabytes"},null,{"$f":"$E$13","v":-16},0,0,0,0,0,0]
[null,{"$f":"CONCATENATE(selected_functions!$A$22,E1883,C1883)","v":"-15Petabytes"},{"$f":"C1882","v":"Petabytes"},null,{"$f":"$E$14","v":-15},0,0,0,0,0,0]
[null,{"$f":"CONCATENATE(selected_functions!$A$22,E1884,C1884)","v":"-14Petabytes"},"Petabytes",null,{"$f":"$E$15","v":-14},0,0,0,0,0,0]
[null,{"$f":"CONCATENATE(selected_functions!$A$22,E1885,C1885)","v":"-13Petabytes"},"Petabytes",null,{"$f":"$E$16","v":-13},0,0,0,0,0,0]
[null,{"$f":"CONCATENATE(selected_functions!$A$22,E1886,C1886)","v":"-12Petabytes"},"Petabytes",null,{"$f":"$E$17","v":-12},0,0,0,0,0,0]
[null,{"$f":"CONCATENATE(selected_functions!$A$22,E1887,C1887)","v":"-11Petabytes"},"Petabytes",null,{"$f":"$E$18","v":-11},0,0,0,0,0,0]
[null,{"$f":"CONCATENATE(selected_functions!$A$22,E1888,C1888)","v":"-10Petabytes"},"Petabytes",null,{"$f":"$E$19","v":-10},{"$f":"F1867/1024","v":0},0,0,0,0,0]
[null,{"$f":"CONCATENATE(selected_functions!$A$22,E1889,C1889)","v":"-9Petabytes"},"Petabytes",null,{"$f":"$E$20","v":-9},0,0,0,0,0,0]
[null,{"$f":"CONCATENATE(selected_functions!$A$22,E1890,C1890)","v":"-8Petabytes"},"Petabytes",null,{"$f":"$E$21","v":-8},0,0,0,0,0,0]
[null,{"$f":"CONCATENATE(selected_functions!$A$22,E1891,C1891)","v":"-7Petabytes"},"Petabytes",null,{"$f":"$E$22","v":-7},0,0,0,0,0,0]
[null,{"$f":"CONCATENATE(selected_functions!$A$22,E1892,C1892)","v":"-6Petabytes"},"Petabytes",null,{"$f":"$E$23","v":-6},0,0,0,0,0,0]
[null,{"$f":"CONCATENATE(selected_functions!$A$22,E1893,C1893)","v":"-5Petabytes"},"Petabytes",null,{"$f":"$E$24","v":-5},0,0,0,0,0,0]
[null,{"$f":"CONCATENATE(selected_functions!$A$22,E1894,C1894)","v":"-4Petabytes"},"Petabytes",null,{"$f":"$E$25","v":-4},0,0,0,0,0,0]
[null,{"$f":"CONCATENATE(selected_functions!$A$22,E1895,C1895)","v":"-3Petabytes"},"Petabytes",null,{"$f":"$E$26","v":-3},0,0,0,0,0,0]
[null,{"$f":"CONCATENATE(selected_functions!$A$22,E1896,C1896)","v":"-2Petabytes"},"Petabytes",null,{"$f":"$E$27","v":-2},0,0,0,0,0,0]
[null,{"$f":"CONCATENATE(selected_functions!$A$22,E1897,C1897)","v":"-1Petabytes"},"Petabytes",null,{"$f":"$E$28","v":-1},0,0,0,0,0,0]
[null,{"$f":"CONCATENATE(selected_functions!$A$22,E1898,C1898)","v":"0Petabytes"},"Petabytes",null,{"$f":"$E$29","v":0},{"$f":"F1877/1024","v":0},0,0,0,0,0]
[null,{"$f":"CONCATENATE(selected_functions!$A$22,E1899,C1899)","v":"1Petabytes"},"Petabytes",null,{"$f":"$E$30","v":1},0,0,0,0,0,0]
[null,{"$f":"CONCATENATE(selected_functions!$A$22,E1900,C1900)","v":"2Petabytes"},"Petabytes",null,{"$f":"$E$31","v":2},0,0,0,0,0,0]
[null,{"$f":"CONCATENATE(selected_functions!$A$22,E1901,C1901)","v":"3Petabytes"},"Petabytes",null,{"$f":"$E$32","v":3},0,0,0,0,0,0]
[null,{"$f":"CONCATENATE(selected_functions!$A$23,E1902,C1902)","v":"-17Kilobytes"},{"$f":"input_lists!$G$11","v":"Kilobytes"},null,{"$f":"$E$12","v":-17},{"$f":"IF(AND(E1902>=input_database!$D$23,E1902<input_database!$C$23),input_database!$GC$23,\"0\")","v":"0"},{"$f":"IF(E1902<input_database!$C$23,input_database!$GE$23,\"0\")","v":0},{"$f":"IFERROR(input_database!$GH$23,\"0\")","v":0},{"$f":"IF(E1902=input_database!$C$23,input_database!$GG$23,\"0\")","v":"0"},{"$f":"IF(E1902>=input_database!$C$23,(input_database!$GF$23+input_database!$GD$23),0)","v":0},{"$f":"SUM(F1902:J1902)","v":0}]
[null,{"$f":"CONCATENATE(selected_functions!$A$23,E1903,C1903)","v":"-16Kilobytes"},{"$f":"input_lists!$G$11","v":"Kilobytes"},null,{"$f":"$E$13","v":-16},{"$f":"IF(AND(E1903>=input_database!$D$23,E1903<input_database!$C$23),input_database!$GC$23,\"0\")","v":"0"},{"$f":"IF(E1903<input_database!$C$23,input_database!$GE$23,\"0\")","v":0},{"$f":"IFERROR(input_database!$GH$23,\"0\")","v":0},{"$f":"IF(E1903=input_database!$C$23,input_database!$GG$23,\"0\")","v":"0"},{"$f":"IF(E1903>=input_database!$C$23,(input_database!$GF$23+input_database!$GD$23),0)","v":0},{"$f":"K1902+SUM(F1903:J1903)","v":0}]
[null,{"$f":"CONCATENATE(selected_functions!$A$23,E1904,C1904)","v":"-15Kilobytes"},{"$f":"input_lists!$G$11","v":"Kilobytes"},null,{"$f":"$E$14","v":-15},{"$f":"IF(AND(E1904>=input_database!$D$23,E1904<input_database!$C$23),input_database!$GC$23,\"0\")","v":"0"},{"$f":"IF(E1904<input_database!$C$23,input_database!$GE$23,\"0\")","v":0},{"$f":"IFERROR(input_database!$GH$23,\"0\")","v":0},{"$f":"IF(E1904=input_database!$C$23,input_database!$GG$23,\"0\")","v":"0"},{"$f":"IF(E1904>=input_database!$C$23,(input_database!$GF$23+input_database!$GD$23),0)","v":0},{"$f":"K1903+SUM(F1904:J1904)","v":0}]
[null,{"$f":"CONCATENATE(selected_functions!$A$23,E1905,C1905)","v":"-14Kilobytes"},{"$f":"input_lists!$G$11","v":"Kilobytes"},null,{"$f":"$E$15","v":-14},{"$f":"IF(AND(E1905>=input_database!$D$23,E1905<input_database!$C$23),input_database!$GC$23,\"0\")","v":"0"},{"$f":"IF(E1905<input_database!$C$23,input_database!$GE$23,\"0\")","v":0},{"$f":"IFERROR(input_database!$GH$23,\"0\")","v":0},{"$f":"IF(E1905=input_database!$C$23,input_database!$GG$23,\"0\")","v":"0"},{"$f":"IF(E1905>=input_database!$C$23,(input_database!$GF$23+input_database!$GD$23),0)","v":0},0]
[null,{"$f":"CONCATENATE(selected_functions!$A$23,E1906,C1906)","v":"-13Kilobytes"},{"$f":"input_lists!$G$11","v":"Kilobytes"},null,{"$f":"$E$16","v":-13},{"$f":"IF(AND(E1906>=input_database!$D$23,E1906<input_database!$C$23),input_database!$GC$23,\"0\")","v":"0"},{"$f":"IF(E1906<input_database!$C$23,input_database!$GE$23,\"0\")","v":0},{"$f":"IFERROR(input_database!$GH$23,\"0\")","v":0},{"$f":"IF(E1906=input_database!$C$23,input_database!$GG$23,\"0\")","v":"0"},{"$f":"IF(E1906>=input_database!$C$23,(input_database!$GF$23+input_database!$GD$23),0)","v":0},0]
[null,{"$f":"CONCATENATE(selected_functions!$A$23,E1907,C1907)","v":"-12Kilobytes"},{"$f":"input_lists!$G$11","v":"Kilobytes"},null,{"$f":"$E$17","v":-12},{"$f":"IF(AND(E1907>=input_database!$D$23,E1907<input_database!$C$23),input_database!$GC$23,\"0\")","v":"0"},{"$f":"IF(E1907<input_database!$C$23,input_database!$GE$23,\"0\")","v":0},{"$f":"IFERROR(input_database!$GH$23,\"0\")","v":0},{"$f":"IF(E1907=input_database!$C$23,input_database!$GG$23,\"0\")","v":"0"},{"$f":"IF(E1907>=input_database!$C$23,(input_database!$GF$23+input_database!$GD$23),0)","v":0},0]
[null,{"$f":"CONCATENATE(selected_functions!$A$23,E1908,C1908)","v":"-11Kilobytes"},{"$f":"input_lists!$G$11","v":"Kilobytes"},null,{"$f":"$E$18","v":-11},{"$f":"IF(AND(E1908>=input_database!$D$23,E1908<input_database!$C$23),input_database!$GC$23,\"0\")","v":"0"},{"$f":"IF(E1908<input_database!$C$23,input_database!$GE$23,\"0\")","v":0},{"$f":"IFERROR(input_database!$GH$23,\"0\")","v":0},{"$f":"IF(E1908=input_database!$C$23,input_database!$GG$23,\"0\")","v":"0"},{"$f":"IF(E1908>=input_database!$C$23,(input_database!$GF$23+input_database!$GD$23),0)","v":0},0]
[null,{"$f":"CONCATENATE(selected_functions!$A$23,E1909,C1909)","v":"-10Kilobytes"},{"$f":"input_lists!$G$11","v":"Kilobytes"},null,{"$f":"$E$19","v":-10},{"$f":"IF(AND(E1909>=input_database!$D$23,E1909<input_database!$C$23),input_database!$GC$23,\"0\")","v":"0"},{"$f":"IF(E1909<input_database!$C$23,input_database!$GE$23,\"0\")","v":0},{"$f":"IFERROR(input_database!$GH$23,\"0\")","v":0},{"$f":"IF(E1909=input_database!$C$23,input_database!$GG$23,\"0\")","v":"0"},{"$f":"IF(E1909>=input_database!$C$23,(input_database!$GF$23+input_database!$GD$23),0)","v":0},0]
[null,{"$f":"CONCATENATE(selected_functions!$A$23,E1910,C1910)","v":"-9Kilobytes"},{"$f":"input_lists!$G$11","v":"Kilobytes"},null,{"$f":"$E$20","v":-9},{"$f":"IF(AND(E1910>=input_database!$D$23,E1910<input_database!$C$23),input_database!$GC$23,\"0\")","v":"0"},{"$f":"IF(E1910<input_database!$C$23,input_database!$GE$23,\"0\")","v":0},{"$f":"IFERROR(input_database!$GH$23,\"0\")","v":0},{"$f":"IF(E1910=input_database!$C$23,input_database!$GG$23,\"0\")","v":"0"},{"$f":"IF(E1910>=input_database!$C$23,(input_database!$GF$23+input_database!$GD$23),0)","v":0},0]
[null,{"$f":"CONCATENATE(selected_functions!$A$23,E1911,C1911)","v":"-8Kilobytes"},{"$f":"input_lists!$G$11","v":"Kilobytes"},null,{"$f":"$E$21","v":-8},{"$f":"IF(AND(E1911>=input_database!$D$23,E1911<input_database!$C$23),input_database!$GC$23,\"0\")","v":"0"},{"$f":"IF(E1911<input_database!$C$23,input_database!$GE$23,\"0\")","v":0},{"$f":"IFERROR(input_database!$GH$23,\"0\")","v":0},{"$f":"IF(E1911=input_database!$C$23,input_database!$GG$23,\"0\")","v":"0"},{"$f":"IF(E1911>=input_database!$C$23,(input_database!$GF$23+input_database!$GD$23),0)","v":0},0]
[null,{"$f":"CONCATENATE(selected_functions!$A$23,E1912,C1912)","v":"-7Kilobytes"},{"$f":"input_lists!$G$11","v":"Kilobytes"},null,{"$f":"$E$22","v":-7},{"$f":"IF(AND(E1912>=input_database!$D$23,E1912<input_database!$C$23),input_database!$GC$23,\"0\")","v":"0"},{"$f":"IF(E1912<input_database!$C$23,input_database!$GE$23,\"0\")","v":0},{"$f":"IFERROR(input_database!$GH$23,\"0\")","v":0},{"$f":"IF(E1912=input_database!$C$23,input_database!$GG$23,\"0\")","v":"0"},{"$f":"IF(E1912>=input_database!$C$23,(input_database!$GF$23+input_database!$GD$23),0)","v":0},0]
[null,{"$f":"CONCATENATE(selected_functions!$A$23,E1913,C1913)","v":"-6Kilobytes"},{"$f":"input_lists!$G$11","v":"Kilobytes"},null,{"$f":"$E$23","v":-6},{"$f":"IF(AND(E1913>=input_database!$D$23,E1913<input_database!$C$23),input_database!$GC$23,\"0\")","v":"0"},{"$f":"IF(E1913<input_database!$C$23,input_database!$GE$23,\"0\")","v":0},{"$f":"IFERROR(input_database!$GH$23,\"0\")","v":0},{"$f":"IF(E1913=input_database!$C$23,input_database!$GG$23,\"0\")","v":"0"},{"$f":"IF(E1913>=input_database!$C$23,(input_database!$GF$23+input_database!$GD$23),0)","v":0},0]
[null,{"$f":"CONCATENATE(selected_functions!$A$23,E1914,C1914)","v":"-5Kilobytes"},{"$f":"input_lists!$G$11","v":"Kilobytes"},null,{"$f":"$E$24","v":-5},{"$f":"IF(AND(E1914>=input_database!$D$23,E1914<input_database!$C$23),input_database!$GC$23,\"0\")","v":"0"},{"$f":"IF(E1914<input_database!$C$23,input_database!$GE$23,\"0\")","v":0},{"$f":"IFERROR(input_database!$GH$23,\"0\")","v":0},{"$f":"IF(E1914=input_database!$C$23,input_database!$GG$23,\"0\")","v":"0"},{"$f":"IF(E1914>=input_database!$C$23,(input_database!$GF$23+input_database!$GD$23),0)","v":0},0]
[null,{"$f":"CONCATENATE(selected_functions!$A$23,E1915,C1915)","v":"-4Kilobytes"},{"$f":"input_lists!$G$11","v":"Kilobytes"},null,{"$f":"$E$25","v":-4},{"$f":"IF(AND(E1915>=input_database!$D$23,E1915<input_database!$C$23),input_database!$GC$23,\"0\")","v":"0"},{"$f":"IF(E1915<input_database!$C$23,input_database!$GE$23,\"0\")","v":0},{"$f":"IFERROR(input_database!$GH$23,\"0\")","v":0},{"$f":"IF(E1915=input_database!$C$23,input_database!$GG$23,\"0\")","v":"0"},{"$f":"IF(E1915>=input_database!$C$23,(input_database!$GF$23+input_database!$GD$23),0)","v":0},0]
[null,{"$f":"CONCATENATE(selected_functions!$A$23,E1916,C1916)","v":"-3Kilobytes"},{"$f":"input_lists!$G$11","v":"Kilobytes"},null,{"$f":"$E$26","v":-3},{"$f":"IF(AND(E1916>=input_database!$D$23,E1916<input_database!$C$23),input_database!$GC$23,\"0\")","v":"0"},{"$f":"IF(E1916<input_database!$C$23,input_database!$GE$23,\"0\")","v":0},{"$f":"IFERROR(input_database!$GH$23,\"0\")","v":0},{"$f":"IF(E1916=input_database!$C$23,input_database!$GG$23,\"0\")","v":"0"},{"$f":"IF(E1916>=input_database!$C$23,(input_database!$GF$23+input_database!$GD$23),0)","v":0},0]
[null,{"$f":"CONCATENATE(selected_functions!$A$23,E1917,C1917)","v":"-2Kilobytes"},{"$f":"input_lists!$G$11","v":"Kilobytes"},null,{"$f":"$E$27","v":-2},{"$f":"IF(AND(E1917>=input_database!$D$23,E1917<input_database!$C$23),input_database!$GC$23,\"0\")","v":"0"},{"$f":"IF(E1917<input_database!$C$23,input_database!$GE$23,\"0\")","v":0},{"$f":"IFERROR(input_database!$GH$23,\"0\")","v":0},{"$f":"IF(E1917=input_database!$C$23,input_database!$GG$23,\"0\")","v":"0"},{"$f":"IF(E1917>=input_database!$C$23,(input_database!$GF$23+input_database!$GD$23),0)","v":0},0]
[null,{"$f":"CONCATENATE(selected_functions!$A$23,E1918,C1918)","v":"-1Kilobytes"},{"$f":"input_lists!$G$11","v":"Kilobytes"},null,{"$f":"$E$28","v":-1},{"$f":"IF(AND(E1918>=input_database!$D$23,E1918<input_database!$C$23),input_database!$GC$23,\"0\")","v":"0"},{"$f":"IF(E1918<input_database!$C$23,input_database!$GE$23,\"0\")","v":0},{"$f":"IFERROR(input_database!$GH$23,\"0\")","v":0},{"$f":"IF(E1918=input_database!$C$23,input_database!$GG$23,\"0\")","v":"0"},{"$f":"IF(E1918>=input_database!$C$23,(input_database!$GF$23+input_database!$GD$23),0)","v":0},0]
[null,{"$f":"CONCATENATE(selected_functions!$A$23,E1919,C1919)","v":"0Kilobytes"},{"$f":"input_lists!$G$11","v":"Kilobytes"},null,{"$f":"$E$29","v":0},{"$f":"IF(AND(E1919>=input_database!$D$23,E1919<input_database!$C$23),input_database!$GC$23,\"0\")","v":"0"},{"$f":"IF(E1919<input_database!$C$23,input_database!$GE$23,\"0\")","v":"0"},{"$f":"IFERROR(input_database!$GH$23,\"0\")","v":0},{"$f":"IF(E1919=input_database!$C$23,input_database!$GG$23,\"0\")","v":0},{"$f":"IF(E1919>=input_database!$C$23,(input_database!$GF$23+input_database!$GD$23),0)","v":0},0]
[null,{"$f":"CONCATENATE(selected_functions!$A$23,E1920,C1920)","v":"1Kilobytes"},{"$f":"input_lists!$G$11","v":"Kilobytes"},null,{"$f":"$E$30","v":1},{"$f":"IF(AND(E1920>=input_database!$D$23,E1920<input_database!$C$23),input_database!$GC$23,\"0\")","v":"0"},{"$f":"IF(E1920<input_database!$C$23,input_database!$GE$23,\"0\")","v":"0"},{"$f":"IFERROR(input_database!$GH$23,\"0\")","v":0},{"$f":"IF(E1920=input_database!$C$23,input_database!$GG$23,\"0\")","v":"0"},{"$f":"IF(E1920>=input_database!$C$23,(input_database!$GF$23+input_database!$GD$23),0)","v":0},0]
[null,{"$f":"CONCATENATE(selected_functions!$A$23,E1921,C1921)","v":"2Kilobytes"},{"$f":"input_lists!$G$11","v":"Kilobytes"},null,{"$f":"$E$31","v":2},{"$f":"IF(AND(E1921>=input_database!$D$23,E1921<input_database!$C$23),input_database!$GC$23,\"0\")","v":"0"},{"$f":"IF(E1921<input_database!$C$23,input_database!$GE$23,\"0\")","v":"0"},{"$f":"IFERROR(input_database!$GH$23,\"0\")","v":0},{"$f":"IF(E1921=input_database!$C$23,input_database!$GG$23,\"0\")","v":"0"},{"$f":"IF(E1921>=input_database!$C$23,(input_database!$GF$23+input_database!$GD$23),0)","v":0},0]
[null,{"$f":"CONCATENATE(selected_functions!$A$23,E1922,C1922)","v":"3Kilobytes"},{"$f":"input_lists!$G$11","v":"Kilobytes"},null,{"$f":"$E$32","v":3},{"$f":"IF(AND(E1922>=input_database!$D$23,E1922<input_database!$C$23),input_database!$GC$23,\"0\")","v":"0"},{"$f":"IF(E1922<input_database!$C$23,input_database!$GE$23,\"0\")","v":"0"},{"$f":"IFERROR(input_database!$GH$23,\"0\")","v":0},{"$f":"IF(E1922=input_database!$C$23,input_database!$GG$23,\"0\")","v":"0"},{"$f":"IF(E1922>=input_database!$C$23,(input_database!$GF$23+input_database!$GD$23),0)","v":0},0]
[null,{"$f":"CONCATENATE(selected_functions!$A$23,E1923,C1923)","v":"-17Megabytes"},{"$f":"input_lists!$G$12","v":"Megabytes"},null,{"$f":"$E$12","v":-17},{"$f":"F1902/1024","v":0},0,0,0,0,0]
[null,{"$f":"CONCATENATE(selected_functions!$A$23,E1924,C1924)","v":"-16Megabytes"},{"$f":"C1923","v":"Megabytes"},null,{"$f":"$E$13","v":-16},0,0,0,0,0,0]
[null,{"$f":"CONCATENATE(selected_functions!$A$23,E1925,C1925)","v":"-15Megabytes"},{"$f":"C1924","v":"Megabytes"},null,{"$f":"$E$14","v":-15},0,0,0,0,0,0]
[null,{"$f":"CONCATENATE(selected_functions!$A$23,E1926,C1926)","v":"-14Megabytes"},"Megabytes",null,{"$f":"$E$15","v":-14},0,0,0,0,0,0]
[null,{"$f":"CONCATENATE(selected_functions!$A$23,E1927,C1927)","v":"-13Megabytes"},"Megabytes",null,{"$f":"$E$16","v":-13},0,0,0,0,0,0]
[null,{"$f":"CONCATENATE(selected_functions!$A$23,E1928,C1928)","v":"-12Megabytes"},"Megabytes",null,{"$f":"$E$17","v":-12},0,0,0,0,0,0]
[null,{"$f":"CONCATENATE(selected_functions!$A$23,E1929,C1929)","v":"-11Megabytes"},"Megabytes",null,{"$f":"$E$18","v":-11},0,0,0,0,0,0]
[null,{"$f":"CONCATENATE(selected_functions!$A$23,E1930,C1930)","v":"-10Megabytes"},"Megabytes",null,{"$f":"$E$19","v":-10},0,0,0,0,0,0]
[null,{"$f":"CONCATENATE(selected_functions!$A$23,E1931,C1931)","v":"-9Megabytes"},"Megabytes",null,{"$f":"$E$20","v":-9},0,0,0,0,0,0]
[null,{"$f":"CONCATENATE(selected_functions!$A$23,E1932,C1932)","v":"-8Megabytes"},"Megabytes",null,{"$f":"$E$21","v":-8},0,0,0,0,0,0]
[null,{"$f":"CONCATENATE(selected_functions!$A$23,E1933,C1933)","v":"-7Megabytes"},"Megabytes",null,{"$f":"$E$22","v":-7},{"$f":"F1912/1024","v":0},0,0,0,0,0]
[null,{"$f":"CONCATENATE(selected_functions!$A$23,E1934,C1934)","v":"-6Megabytes"},"Megabytes",null,{"$f":"$E$23","v":-6},0,0,0,0,0,0]
[null,{"$f":"CONCATENATE(selected_functions!$A$23,E1935,C1935)","v":"-5Megabytes"},"Megabytes",null,{"$f":"$E$24","v":-5},0,0,0,0,0,0]
[null,{"$f":"CONCATENATE(selected_functions!$A$23,E1936,C1936)","v":"-4Megabytes"},"Megabytes",null,{"$f":"$E$25","v":-4},0,0,0,0,0,0]
[null,{"$f":"CONCATENATE(selected_functions!$A$23,E1937,C1937)","v":"-3Megabytes"},"Megabytes",null,{"$f":"$E$26","v":-3},0,0,0,0,0,0]
[null,{"$f":"CONCATENATE(selected_functions!$A$23,E1938,C1938)","v":"-2Megabytes"},"Megabytes",null,{"$f":"$E$27","v":-2},0,0,0,0,0,0]
[null,{"$f":"CONCATENATE(selected_functions!$A$23,E1939,C1939)","v":"-1Megabytes"},"Megabytes",null,{"$f":"$E$28","v":-1},0,0,0,0,0,0]
[null,{"$f":"CONCATENATE(selected_functions!$A$23,E1940,C1940)","v":"0Megabytes"},"Megabytes",null,{"$f":"$E$29","v":0},0,0,0,0,0,0]
[null,{"$f":"CONCATENATE(selected_functions!$A$23,E1941,C1941)","v":"1Megabytes"},"Megabytes",null,{"$f":"$E$30","v":1},0,0,0,0,0,0]
[null,{"$f":"CONCATENATE(selected_functions!$A$23,E1942,C1942)","v":"2Megabytes"},"Megabytes",null,{"$f":"$E$31","v":2},0,0,0,0,0,0]
[null,{"$f":"CONCATENATE(selected_functions!$A$23,E1943,C1943)","v":"3Megabytes"},{"$f":"C1942","v":"Megabytes"},null,{"$f":"$E$32","v":3},{"$f":"F1922/1024","v":0},0,0,0,0,0]
[null,{"$f":"CONCATENATE(selected_functions!$A$23,E1944,C1944)","v":"-17Gigabytes"},{"$f":"input_lists!$G$13","v":"Gigabytes"},null,{"$f":"$E$12","v":-17},0,0,0,0,0,0]
[null,{"$f":"CONCATENATE(selected_functions!$A$23,E1945,C1945)","v":"-16Gigabytes"},{"$f":"C1944","v":"Gigabytes"},null,{"$f":"$E$13","v":-16},0,0,0,0,0,0]
[null,{"$f":"CONCATENATE(selected_functions!$A$23,E1946,C1946)","v":"-15Gigabytes"},{"$f":"C1945","v":"Gigabytes"},null,{"$f":"$E$14","v":-15},0,0,0,0,0,0]
[null,{"$f":"CONCATENATE(selected_functions!$A$23,E1947,C1947)","v":"-14Gigabytes"},"Gigabytes",null,{"$f":"$E$15","v":-14},0,0,0,0,0,0]
[null,{"$f":"CONCATENATE(selected_functions!$A$23,E1948,C1948)","v":"-13Gigabytes"},"Gigabytes",null,{"$f":"$E$16","v":-13},0,0,0,0,0,0]
[null,{"$f":"CONCATENATE(selected_functions!$A$23,E1949,C1949)","v":"-12Gigabytes"},"Gigabytes",null,{"$f":"$E$17","v":-12},0,0,0,0,0,0]
[null,{"$f":"CONCATENATE(selected_functions!$A$23,E1950,C1950)","v":"-11Gigabytes"},"Gigabytes",null,{"$f":"$E$18","v":-11},0,0,0,0,0,0]
[null,{"$f":"CONCATENATE(selected_functions!$A$23,E1951,C1951)","v":"-10Gigabytes"},"Gigabytes",null,{"$f":"$E$19","v":-10},0,0,0,0,0,0]
[null,{"$f":"CONCATENATE(selected_functions!$A$23,E1952,C1952)","v":"-9Gigabytes"},"Gigabytes",null,{"$f":"$E$20","v":-9},0,0,0,0,0,0]
[null,{"$f":"CONCATENATE(selected_functions!$A$23,E1953,C1953)","v":"-8Gigabytes"},"Gigabytes",null,{"$f":"$E$21","v":-8},{"$f":"F1932/1024","v":0},0,0,0,0,0]
[null,{"$f":"CONCATENATE(selected_functions!$A$23,E1954,C1954)","v":"-7Gigabytes"},"Gigabytes",null,{"$f":"$E$22","v":-7},0,0,0,0,0,0]
[null,{"$f":"CONCATENATE(selected_functions!$A$23,E1955,C1955)","v":"-6Gigabytes"},"Gigabytes",null,{"$f":"$E$23","v":-6},0,0,0,0,0,0]
[null,{"$f":"CONCATENATE(selected_functions!$A$23,E1956,C1956)","v":"-5Gigabytes"},"Gigabytes",null,{"$f":"$E$24","v":-5},0,0,0,0,0,0]
[null,{"$f":"CONCATENATE(selected_functions!$A$23,E1957,C1957)","v":"-4Gigabytes"},"Gigabytes",null,{"$f":"$E$25","v":-4},0,0,0,0,0,0]
[null,{"$f":"CONCATENATE(selected_functions!$A$23,E1958,C1958)","v":"-3Gigabytes"},"Gigabytes",null,{"$f":"$E$26","v":-3},0,0,0,0,0,0]
[null,{"$f":"CONCATENATE(selected_functions!$A$23,E1959,C1959)","v":"-2Gigabytes"},"Gigabytes",null,{"$f":"$E$27","v":-2},0,0,0,0,0,0]
[null,{"$f":"CONCATENATE(selected_functions!$A$23,E1960,C1960)","v":"-1Gigabytes"},"Gigabytes",null,{"$f":"$E$28","v":-1},0,0,0,0,0,0]
[null,{"$f":"CONCATENATE(selected_functions!$A$23,E1961,C1961)","v":"0Gigabytes"},"Gigabytes",null,{"$f":"$E$29","v":0},0,0,0,0,0,0]
[null,{"$f":"CONCATENATE(selected_functions!$A$23,E1962,C1962)","v":"1Gigabytes"},"Gigabytes",null,{"$f":"$E$30","v":1},0,0,0,0,0,0]
[null,{"$f":"CONCATENATE(selected_functions!$A$23,E1963,C1963)","v":"2Gigabytes"},"Gigabytes",null,{"$f":"$E$31","v":2},{"$f":"F1942/1024","v":0},0,0,0,0,0]
[null,{"$f":"CONCATENATE(selected_functions!$A$23,E1964,C1964)","v":"3Gigabytes"},"Gigabytes",null,{"$f":"$E$32","v":3},0,0,0,0,0,0]
[null,{"$f":"CONCATENATE(selected_functions!$A$23,E1965,C1965)","v":"-17Terabytes"},{"$f":"input_lists!$G$14","v":"Terabytes"},null,{"$f":"$E$12","v":-17},0,0,0,0,0,0]
[null,{"$f":"CONCATENATE(selected_functions!$A$23,E1966,C1966)","v":"-16Terabytes"},{"$f":"C1965","v":"Terabytes"},null,{"$f":"$E$13","v":-16},0,0,0,0,0,0]
[null,{"$f":"CONCATENATE(selected_functions!$A$23,E1967,C1967)","v":"-15Terabytes"},{"$f":"C1966","v":"Terabytes"},null,{"$f":"$E$14","v":-15},0,0,0,0,0,0]
[null,{"$f":"CONCATENATE(selected_functions!$A$23,E1968,C1968)","v":"-14Terabytes"},"Terabytes",null,{"$f":"$E$15","v":-14},0,0,0,0,0,0]
[null,{"$f":"CONCATENATE(selected_functions!$A$23,E1969,C1969)","v":"-13Terabytes"},"Terabytes",null,{"$f":"$E$16","v":-13},0,0,0,0,0,0]
[null,{"$f":"CONCATENATE(selected_functions!$A$23,E1970,C1970)","v":"-12Terabytes"},"Terabytes",null,{"$f":"$E$17","v":-12},0,0,0,0,0,0]
[null,{"$f":"CONCATENATE(selected_functions!$A$23,E1971,C1971)","v":"-11Terabytes"},"Terabytes",null,{"$f":"$E$18","v":-11},0,0,0,0,0,0]
[null,{"$f":"CONCATENATE(selected_functions!$A$23,E1972,C1972)","v":"-10Terabytes"},"Terabytes",null,{"$f":"$E$19","v":-10},0,0,0,0,0,0]
[null,{"$f":"CONCATENATE(selected_functions!$A$23,E1973,C1973)","v":"-9Terabytes"},"Terabytes",null,{"$f":"$E$20","v":-9},{"$f":"F1952/1024","v":0},0,0,0,0,0]
[null,{"$f":"CONCATENATE(selected_functions!$A$23,E1974,C1974)","v":"-8Terabytes"},"Terabytes",null,{"$f":"$E$21","v":-8},0,0,0,0,0,0]
[null,{"$f":"CONCATENATE(selected_functions!$A$23,E1975,C1975)","v":"-7Terabytes"},"Terabytes",null,{"$f":"$E$22","v":-7},0,0,0,0,0,0]
[null,{"$f":"CONCATENATE(selected_functions!$A$23,E1976,C1976)","v":"-6Terabytes"},"Terabytes",null,{"$f":"$E$23","v":-6},0,0,0,0,0,0]
[null,{"$f":"CONCATENATE(selected_functions!$A$23,E1977,C1977)","v":"-5Terabytes"},"Terabytes",null,{"$f":"$E$24","v":-5},0,0,0,0,0,0]
[null,{"$f":"CONCATENATE(selected_functions!$A$23,E1978,C1978)","v":"-4Terabytes"},"Terabytes",null,{"$f":"$E$25","v":-4},0,0,0,0,0,0]
[null,{"$f":"CONCATENATE(selected_functions!$A$23,E1979,C1979)","v":"-3Terabytes"},"Terabytes",null,{"$f":"$E$26","v":-3},0,0,0,0,0,0]
[null,{"$f":"CONCATENATE(selected_functions!$A$23,E1980,C1980)","v":"-2Terabytes"},"Terabytes",null,{"$f":"$E$27","v":-2},0,0,0,0,0,0]
[null,{"$f":"CONCATENATE(selected_functions!$A$23,E1981,C1981)","v":"-1Terabytes"},"Terabytes",null,{"$f":"$E$28","v":-1},0,0,0,0,0,0]
[null,{"$f":"CONCATENATE(selected_functions!$A$23,E1982,C1982)","v":"0Terabytes"},"Terabytes",null,{"$f":"$E$29","v":0},0,0,0,0,0,0]
[null,{"$f":"CONCATENATE(selected_functions!$A$23,E1983,C1983)","v":"1Terabytes"},"Terabytes",null,{"$f":"$E$30","v":1},{"$f":"F1962/1024","v":0},0,0,0,0,0]
[null,{"$f":"CONCATENATE(selected_functions!$A$23,E1984,C1984)","v":"2Terabytes"},"Terabytes",null,{"$f":"$E$31","v":2},0,0,0,0,0,0]
[null,{"$f":"CONCATENATE(selected_functions!$A$23,E1985,C1985)","v":"3Terabytes"},"Terabytes",null,{"$f":"$E$32","v":3},0,0,0,0,0,0]
[null,{"$f":"CONCATENATE(selected_functions!$A$23,E1986,C1986)","v":"-17Petabytes"},{"$f":"input_lists!$G$15","v":"Petabytes"},null,{"$f":"$E$12","v":-17},0,0,0,0,0,0]
[null,{"$f":"CONCATENATE(selected_functions!$A$23,E1987,C1987)","v":"-16Petabytes"},{"$f":"C1986","v":"Petabytes"},null,{"$f":"$E$13","v":-16},0,0,0,0,0,0]
[null,{"$f":"CONCATENATE(selected_functions!$A$23,E1988,C1988)","v":"-15Petabytes"},{"$f":"C1987","v":"Petabytes"},null,{"$f":"$E$14","v":-15},0,0,0,0,0,0]
[null,{"$f":"CONCATENATE(selected_functions!$A$23,E1989,C1989)","v":"-14Petabytes"},"Petabytes",null,{"$f":"$E$15","v":-14},0,0,0,0,0,0]
[null,{"$f":"CONCATENATE(selected_functions!$A$23,E1990,C1990)","v":"-13Petabytes"},"Petabytes",null,{"$f":"$E$16","v":-13},0,0,0,0,0,0]
[null,{"$f":"CONCATENATE(selected_functions!$A$23,E1991,C1991)","v":"-12Petabytes"},"Petabytes",null,{"$f":"$E$17","v":-12},0,0,0,0,0,0]
[null,{"$f":"CONCATENATE(selected_functions!$A$23,E1992,C1992)","v":"-11Petabytes"},"Petabytes",null,{"$f":"$E$18","v":-11},0,0,0,0,0,0]
[null,{"$f":"CONCATENATE(selected_functions!$A$23,E1993,C1993)","v":"-10Petabytes"},"Petabytes",null,{"$f":"$E$19","v":-10},{"$f":"F1972/1024","v":0},0,0,0,0,0]
[null,{"$f":"CONCATENATE(selected_functions!$A$23,E1994,C1994)","v":"-9Petabytes"},"Petabytes",null,{"$f":"$E$20","v":-9},0,0,0,0,0,0]
[null,{"$f":"CONCATENATE(selected_functions!$A$23,E1995,C1995)","v":"-8Petabytes"},"Petabytes",null,{"$f":"$E$21","v":-8},0,0,0,0,0,0]
[null,{"$f":"CONCATENATE(selected_functions!$A$23,E1996,C1996)","v":"-7Petabytes"},"Petabytes",null,{"$f":"$E$22","v":-7},0,0,0,0,0,0]
[null,{"$f":"CONCATENATE(selected_functions!$A$23,E1997,C1997)","v":"-6Petabytes"},"Petabytes",null,{"$f":"$E$23","v":-6},0,0,0,0,0,0]
[null,{"$f":"CONCATENATE(selected_functions!$A$23,E1998,C1998)","v":"-5Petabytes"},"Petabytes",null,{"$f":"$E$24","v":-5},0,0,0,0,0,0]
[null,{"$f":"CONCATENATE(selected_functions!$A$23,E1999,C1999)","v":"-4Petabytes"},"Petabytes",null,{"$f":"$E$25","v":-4},0,0,0,0,0,0]
[null,{"$f":"CONCATENATE(selected_functions!$A$23,E2000,C2000)","v":"-3Petabytes"},"Petabytes",null,{"$f":"$E$26","v":-3},0,0,0,0,0,0]
[null,{"$f":"CONCATENATE(selected_functions!$A$23,E2001,C2001)","v":"-2Petabytes"},"Petabytes",null,{"$f":"$E$27","v":-2},0,0,0,0,0,0]
[null,{"$f":"CONCATENATE(selected_functions!$A$23,E2002,C2002)","v":"-1Petabytes"},"Petabytes",null,{"$f":"$E$28","v":-1},0,0,0,0,0,0]
[null,{"$f":"CONCATENATE(selected_functions!$A$23,E2003,C2003)","v":"0Petabytes"},"Petabytes",null,{"$f":"$E$29","v":0},{"$f":"F1982/1024","v":0},0,0,0,0,0]
[null,{"$f":"CONCATENATE(selected_functions!$A$23,E2004,C2004)","v":"1Petabytes"},"Petabytes",null,{"$f":"$E$30","v":1},0,0,0,0,0,0]
[null,{"$f":"CONCATENATE(selected_functions!$A$23,E2005,C2005)","v":"2Petabytes"},"Petabytes",null,{"$f":"$E$31","v":2},0,0,0,0,0,0]
[null,{"$f":"CONCATENATE(selected_functions!$A$23,E2006,C2006)","v":"3Petabytes"},"Petabytes",null,{"$f":"$E$32","v":3},0,0,0,0,0,0]
[null,{"$f":"CONCATENATE(selected_functions!$A$24,E2007,C2007)","v":"-17Kilobytes"},{"$f":"input_lists!$G$11","v":"Kilobytes"},null,{"$f":"$E$12","v":-17},{"$f":"IF(AND(E2007>=input_database!$D$24,E2007<input_database!$C$24),input_database!$GC$24,\"0\")","v":"0"},{"$f":"IF(E2007<input_database!$C$24,input_database!$GE$24,\"0\")","v":0},{"$f":"IFERROR(input_database!$GH$24,\"0\")","v":0},{"$f":"IF(E2007=input_database!$C$24,input_database!$GG$24,\"0\")","v":"0"},{"$f":"IF(E2007>=input_database!$C$24,(input_database!$GF$24+input_database!$GD$24),0)","v":0},{"$f":"SUM(F2007:J2007)","v":0}]
[null,{"$f":"CONCATENATE(selected_functions!$A$24,E2008,C2008)","v":"-16Kilobytes"},{"$f":"input_lists!$G$11","v":"Kilobytes"},null,{"$f":"$E$13","v":-16},{"$f":"IF(AND(E2008>=input_database!$D$24,E2008<input_database!$C$24),input_database!$GC$24,\"0\")","v":"0"},{"$f":"IF(E2008<input_database!$C$24,input_database!$GE$24,\"0\")","v":0},{"$f":"IFERROR(input_database!$GH$24,\"0\")","v":0},{"$f":"IF(E2008=input_database!$C$24,input_database!$GG$24,\"0\")","v":"0"},{"$f":"IF(E2008>=input_database!$C$24,(input_database!$GF$24+input_database!$GD$24),0)","v":0},{"$f":"K2007+SUM(F2008:J2008)","v":0}]
[null,{"$f":"CONCATENATE(selected_functions!$A$24,E2009,C2009)","v":"-15Kilobytes"},{"$f":"input_lists!$G$11","v":"Kilobytes"},null,{"$f":"$E$14","v":-15},{"$f":"IF(AND(E2009>=input_database!$D$24,E2009<input_database!$C$24),input_database!$GC$24,\"0\")","v":"0"},{"$f":"IF(E2009<input_database!$C$24,input_database!$GE$24,\"0\")","v":0},{"$f":"IFERROR(input_database!$GH$24,\"0\")","v":0},{"$f":"IF(E2009=input_database!$C$24,input_database!$GG$24,\"0\")","v":"0"},{"$f":"IF(E2009>=input_database!$C$24,(input_database!$GF$24+input_database!$GD$24),0)","v":0},{"$f":"K2008+SUM(F2009:J2009)","v":0}]
[null,{"$f":"CONCATENATE(selected_functions!$A$24,E2010,C2010)","v":"-14Kilobytes"},{"$f":"input_lists!$G$11","v":"Kilobytes"},null,{"$f":"$E$15","v":-14},{"$f":"IF(AND(E2010>=input_database!$D$24,E2010<input_database!$C$24),input_database!$GC$24,\"0\")","v":"0"},{"$f":"IF(E2010<input_database!$C$24,input_database!$GE$24,\"0\")","v":0},{"$f":"IFERROR(input_database!$GH$24,\"0\")","v":0},{"$f":"IF(E2010=input_database!$C$24,input_database!$GG$24,\"0\")","v":"0"},{"$f":"IF(E2010>=input_database!$C$24,(input_database!$GF$24+input_database!$GD$24),0)","v":0},0]
[null,{"$f":"CONCATENATE(selected_functions!$A$24,E2011,C2011)","v":"-13Kilobytes"},{"$f":"input_lists!$G$11","v":"Kilobytes"},null,{"$f":"$E$16","v":-13},{"$f":"IF(AND(E2011>=input_database!$D$24,E2011<input_database!$C$24),input_database!$GC$24,\"0\")","v":"0"},{"$f":"IF(E2011<input_database!$C$24,input_database!$GE$24,\"0\")","v":0},{"$f":"IFERROR(input_database!$GH$24,\"0\")","v":0},{"$f":"IF(E2011=input_database!$C$24,input_database!$GG$24,\"0\")","v":"0"},{"$f":"IF(E2011>=input_database!$C$24,(input_database!$GF$24+input_database!$GD$24),0)","v":0},0]
[null,{"$f":"CONCATENATE(selected_functions!$A$24,E2012,C2012)","v":"-12Kilobytes"},{"$f":"input_lists!$G$11","v":"Kilobytes"},null,{"$f":"$E$17","v":-12},{"$f":"IF(AND(E2012>=input_database!$D$24,E2012<input_database!$C$24),input_database!$GC$24,\"0\")","v":"0"},{"$f":"IF(E2012<input_database!$C$24,input_database!$GE$24,\"0\")","v":0},{"$f":"IFERROR(input_database!$GH$24,\"0\")","v":0},{"$f":"IF(E2012=input_database!$C$24,input_database!$GG$24,\"0\")","v":"0"},{"$f":"IF(E2012>=input_database!$C$24,(input_database!$GF$24+input_database!$GD$24),0)","v":0},0]
[null,{"$f":"CONCATENATE(selected_functions!$A$24,E2013,C2013)","v":"-11Kilobytes"},{"$f":"input_lists!$G$11","v":"Kilobytes"},null,{"$f":"$E$18","v":-11},{"$f":"IF(AND(E2013>=input_database!$D$24,E2013<input_database!$C$24),input_database!$GC$24,\"0\")","v":"0"},{"$f":"IF(E2013<input_database!$C$24,input_database!$GE$24,\"0\")","v":0},{"$f":"IFERROR(input_database!$GH$24,\"0\")","v":0},{"$f":"IF(E2013=input_database!$C$24,input_database!$GG$24,\"0\")","v":"0"},{"$f":"IF(E2013>=input_database!$C$24,(input_database!$GF$24+input_database!$GD$24),0)","v":0},0]
[null,{"$f":"CONCATENATE(selected_functions!$A$24,E2014,C2014)","v":"-10Kilobytes"},{"$f":"input_lists!$G$11","v":"Kilobytes"},null,{"$f":"$E$19","v":-10},{"$f":"IF(AND(E2014>=input_database!$D$24,E2014<input_database!$C$24),input_database!$GC$24,\"0\")","v":"0"},{"$f":"IF(E2014<input_database!$C$24,input_database!$GE$24,\"0\")","v":0},{"$f":"IFERROR(input_database!$GH$24,\"0\")","v":0},{"$f":"IF(E2014=input_database!$C$24,input_database!$GG$24,\"0\")","v":"0"},{"$f":"IF(E2014>=input_database!$C$24,(input_database!$GF$24+input_database!$GD$24),0)","v":0},0]
[null,{"$f":"CONCATENATE(selected_functions!$A$24,E2015,C2015)","v":"-9Kilobytes"},{"$f":"input_lists!$G$11","v":"Kilobytes"},null,{"$f":"$E$20","v":-9},{"$f":"IF(AND(E2015>=input_database!$D$24,E2015<input_database!$C$24),input_database!$GC$24,\"0\")","v":"0"},{"$f":"IF(E2015<input_database!$C$24,input_database!$GE$24,\"0\")","v":0},{"$f":"IFERROR(input_database!$GH$24,\"0\")","v":0},{"$f":"IF(E2015=input_database!$C$24,input_database!$GG$24,\"0\")","v":"0"},{"$f":"IF(E2015>=input_database!$C$24,(input_database!$GF$24+input_database!$GD$24),0)","v":0},0]
[null,{"$f":"CONCATENATE(selected_functions!$A$24,E2016,C2016)","v":"-8Kilobytes"},{"$f":"input_lists!$G$11","v":"Kilobytes"},null,{"$f":"$E$21","v":-8},{"$f":"IF(AND(E2016>=input_database!$D$24,E2016<input_database!$C$24),input_database!$GC$24,\"0\")","v":"0"},{"$f":"IF(E2016<input_database!$C$24,input_database!$GE$24,\"0\")","v":0},{"$f":"IFERROR(input_database!$GH$24,\"0\")","v":0},{"$f":"IF(E2016=input_database!$C$24,input_database!$GG$24,\"0\")","v":"0"},{"$f":"IF(E2016>=input_database!$C$24,(input_database!$GF$24+input_database!$GD$24),0)","v":0},0]
[null,{"$f":"CONCATENATE(selected_functions!$A$24,E2017,C2017)","v":"-7Kilobytes"},{"$f":"input_lists!$G$11","v":"Kilobytes"},null,{"$f":"$E$22","v":-7},{"$f":"IF(AND(E2017>=input_database!$D$24,E2017<input_database!$C$24),input_database!$GC$24,\"0\")","v":"0"},{"$f":"IF(E2017<input_database!$C$24,input_database!$GE$24,\"0\")","v":0},{"$f":"IFERROR(input_database!$GH$24,\"0\")","v":0},{"$f":"IF(E2017=input_database!$C$24,input_database!$GG$24,\"0\")","v":"0"},{"$f":"IF(E2017>=input_database!$C$24,(input_database!$GF$24+input_database!$GD$24),0)","v":0},0]
[null,{"$f":"CONCATENATE(selected_functions!$A$24,E2018,C2018)","v":"-6Kilobytes"},{"$f":"input_lists!$G$11","v":"Kilobytes"},null,{"$f":"$E$23","v":-6},{"$f":"IF(AND(E2018>=input_database!$D$24,E2018<input_database!$C$24),input_database!$GC$24,\"0\")","v":"0"},{"$f":"IF(E2018<input_database!$C$24,input_database!$GE$24,\"0\")","v":0},{"$f":"IFERROR(input_database!$GH$24,\"0\")","v":0},{"$f":"IF(E2018=input_database!$C$24,input_database!$GG$24,\"0\")","v":"0"},{"$f":"IF(E2018>=input_database!$C$24,(input_database!$GF$24+input_database!$GD$24),0)","v":0},0]
[null,{"$f":"CONCATENATE(selected_functions!$A$24,E2019,C2019)","v":"-5Kilobytes"},{"$f":"input_lists!$G$11","v":"Kilobytes"},null,{"$f":"$E$24","v":-5},{"$f":"IF(AND(E2019>=input_database!$D$24,E2019<input_database!$C$24),input_database!$GC$24,\"0\")","v":"0"},{"$f":"IF(E2019<input_database!$C$24,input_database!$GE$24,\"0\")","v":0},{"$f":"IFERROR(input_database!$GH$24,\"0\")","v":0},{"$f":"IF(E2019=input_database!$C$24,input_database!$GG$24,\"0\")","v":"0"},{"$f":"IF(E2019>=input_database!$C$24,(input_database!$GF$24+input_database!$GD$24),0)","v":0},0]
[null,{"$f":"CONCATENATE(selected_functions!$A$24,E2020,C2020)","v":"-4Kilobytes"},{"$f":"input_lists!$G$11","v":"Kilobytes"},null,{"$f":"$E$25","v":-4},{"$f":"IF(AND(E2020>=input_database!$D$24,E2020<input_database!$C$24),input_database!$GC$24,\"0\")","v":"0"},{"$f":"IF(E2020<input_database!$C$24,input_database!$GE$24,\"0\")","v":0},{"$f":"IFERROR(input_database!$GH$24,\"0\")","v":0},{"$f":"IF(E2020=input_database!$C$24,input_database!$GG$24,\"0\")","v":"0"},{"$f":"IF(E2020>=input_database!$C$24,(input_database!$GF$24+input_database!$GD$24),0)","v":0},0]
[null,{"$f":"CONCATENATE(selected_functions!$A$24,E2021,C2021)","v":"-3Kilobytes"},{"$f":"input_lists!$G$11","v":"Kilobytes"},null,{"$f":"$E$26","v":-3},{"$f":"IF(AND(E2021>=input_database!$D$24,E2021<input_database!$C$24),input_database!$GC$24,\"0\")","v":"0"},{"$f":"IF(E2021<input_database!$C$24,input_database!$GE$24,\"0\")","v":0},{"$f":"IFERROR(input_database!$GH$24,\"0\")","v":0},{"$f":"IF(E2021=input_database!$C$24,input_database!$GG$24,\"0\")","v":"0"},{"$f":"IF(E2021>=input_database!$C$24,(input_database!$GF$24+input_database!$GD$24),0)","v":0},0]
[null,{"$f":"CONCATENATE(selected_functions!$A$24,E2022,C2022)","v":"-2Kilobytes"},{"$f":"input_lists!$G$11","v":"Kilobytes"},null,{"$f":"$E$27","v":-2},{"$f":"IF(AND(E2022>=input_database!$D$24,E2022<input_database!$C$24),input_database!$GC$24,\"0\")","v":"0"},{"$f":"IF(E2022<input_database!$C$24,input_database!$GE$24,\"0\")","v":0},{"$f":"IFERROR(input_database!$GH$24,\"0\")","v":0},{"$f":"IF(E2022=input_database!$C$24,input_database!$GG$24,\"0\")","v":"0"},{"$f":"IF(E2022>=input_database!$C$24,(input_database!$GF$24+input_database!$GD$24),0)","v":0},0]
[null,{"$f":"CONCATENATE(selected_functions!$A$24,E2023,C2023)","v":"-1Kilobytes"},{"$f":"input_lists!$G$11","v":"Kilobytes"},null,{"$f":"$E$28","v":-1},{"$f":"IF(AND(E2023>=input_database!$D$24,E2023<input_database!$C$24),input_database!$GC$24,\"0\")","v":"0"},{"$f":"IF(E2023<input_database!$C$24,input_database!$GE$24,\"0\")","v":0},{"$f":"IFERROR(input_database!$GH$24,\"0\")","v":0},{"$f":"IF(E2023=input_database!$C$24,input_database!$GG$24,\"0\")","v":"0"},{"$f":"IF(E2023>=input_database!$C$24,(input_database!$GF$24+input_database!$GD$24),0)","v":0},0]
[null,{"$f":"CONCATENATE(selected_functions!$A$24,E2024,C2024)","v":"0Kilobytes"},{"$f":"input_lists!$G$11","v":"Kilobytes"},null,{"$f":"$E$29","v":0},{"$f":"IF(AND(E2024>=input_database!$D$24,E2024<input_database!$C$24),input_database!$GC$24,\"0\")","v":"0"},{"$f":"IF(E2024<input_database!$C$24,input_database!$GE$24,\"0\")","v":"0"},{"$f":"IFERROR(input_database!$GH$24,\"0\")","v":0},{"$f":"IF(E2024=input_database!$C$24,input_database!$GG$24,\"0\")","v":0},{"$f":"IF(E2024>=input_database!$C$24,(input_database!$GF$24+input_database!$GD$24),0)","v":0},0]
[null,{"$f":"CONCATENATE(selected_functions!$A$24,E2025,C2025)","v":"1Kilobytes"},{"$f":"input_lists!$G$11","v":"Kilobytes"},null,{"$f":"$E$30","v":1},{"$f":"IF(AND(E2025>=input_database!$D$24,E2025<input_database!$C$24),input_database!$GC$24,\"0\")","v":"0"},{"$f":"IF(E2025<input_database!$C$24,input_database!$GE$24,\"0\")","v":"0"},{"$f":"IFERROR(input_database!$GH$24,\"0\")","v":0},{"$f":"IF(E2025=input_database!$C$24,input_database!$GG$24,\"0\")","v":"0"},{"$f":"IF(E2025>=input_database!$C$24,(input_database!$GF$24+input_database!$GD$24),0)","v":0},0]
[null,{"$f":"CONCATENATE(selected_functions!$A$24,E2026,C2026)","v":"2Kilobytes"},{"$f":"input_lists!$G$11","v":"Kilobytes"},null,{"$f":"$E$31","v":2},{"$f":"IF(AND(E2026>=input_database!$D$24,E2026<input_database!$C$24),input_database!$GC$24,\"0\")","v":"0"},{"$f":"IF(E2026<input_database!$C$24,input_database!$GE$24,\"0\")","v":"0"},{"$f":"IFERROR(input_database!$GH$24,\"0\")","v":0},{"$f":"IF(E2026=input_database!$C$24,input_database!$GG$24,\"0\")","v":"0"},{"$f":"IF(E2026>=input_database!$C$24,(input_database!$GF$24+input_database!$GD$24),0)","v":0},0]
[null,{"$f":"CONCATENATE(selected_functions!$A$24,E2027,C2027)","v":"3Kilobytes"},{"$f":"input_lists!$G$11","v":"Kilobytes"},null,{"$f":"$E$32","v":3},{"$f":"IF(AND(E2027>=input_database!$D$24,E2027<input_database!$C$24),input_database!$GC$24,\"0\")","v":"0"},{"$f":"IF(E2027<input_database!$C$24,input_database!$GE$24,\"0\")","v":"0"},{"$f":"IFERROR(input_database!$GH$24,\"0\")","v":0},{"$f":"IF(E2027=input_database!$C$24,input_database!$GG$24,\"0\")","v":"0"},{"$f":"IF(E2027>=input_database!$C$24,(input_database!$GF$24+input_database!$GD$24),0)","v":0},0]
[null,{"$f":"CONCATENATE(selected_functions!$A$24,E2028,C2028)","v":"-17Megabytes"},{"$f":"input_lists!$G$12","v":"Megabytes"},null,{"$f":"$E$12","v":-17},{"$f":"F2007/1024","v":0},0,0,0,0,0]
[null,{"$f":"CONCATENATE(selected_functions!$A$24,E2029,C2029)","v":"-16Megabytes"},{"$f":"C2028","v":"Megabytes"},null,{"$f":"$E$13","v":-16},0,0,0,0,0,0]
[null,{"$f":"CONCATENATE(selected_functions!$A$24,E2030,C2030)","v":"-15Megabytes"},{"$f":"C2029","v":"Megabytes"},null,{"$f":"$E$14","v":-15},0,0,0,0,0,0]
[null,{"$f":"CONCATENATE(selected_functions!$A$24,E2031,C2031)","v":"-14Megabytes"},"Megabytes",null,{"$f":"$E$15","v":-14},0,0,0,0,0,0]
[null,{"$f":"CONCATENATE(selected_functions!$A$24,E2032,C2032)","v":"-13Megabytes"},"Megabytes",null,{"$f":"$E$16","v":-13},0,0,0,0,0,0]
[null,{"$f":"CONCATENATE(selected_functions!$A$24,E2033,C2033)","v":"-12Megabytes"},"Megabytes",null,{"$f":"$E$17","v":-12},0,0,0,0,0,0]
[null,{"$f":"CONCATENATE(selected_functions!$A$24,E2034,C2034)","v":"-11Megabytes"},"Megabytes",null,{"$f":"$E$18","v":-11},0,0,0,0,0,0]
[null,{"$f":"CONCATENATE(selected_functions!$A$24,E2035,C2035)","v":"-10Megabytes"},"Megabytes",null,{"$f":"$E$19","v":-10},0,0,0,0,0,0]
[null,{"$f":"CONCATENATE(selected_functions!$A$24,E2036,C2036)","v":"-9Megabytes"},"Megabytes",null,{"$f":"$E$20","v":-9},0,0,0,0,0,0]
[null,{"$f":"CONCATENATE(selected_functions!$A$24,E2037,C2037)","v":"-8Megabytes"},"Megabytes",null,{"$f":"$E$21","v":-8},0,0,0,0,0,0]
[null,{"$f":"CONCATENATE(selected_functions!$A$24,E2038,C2038)","v":"-7Megabytes"},"Megabytes",null,{"$f":"$E$22","v":-7},{"$f":"F2017/1024","v":0},0,0,0,0,0]
[null,{"$f":"CONCATENATE(selected_functions!$A$24,E2039,C2039)","v":"-6Megabytes"},"Megabytes",null,{"$f":"$E$23","v":-6},0,0,0,0,0,0]
[null,{"$f":"CONCATENATE(selected_functions!$A$24,E2040,C2040)","v":"-5Megabytes"},"Megabytes",null,{"$f":"$E$24","v":-5},0,0,0,0,0,0]
[null,{"$f":"CONCATENATE(selected_functions!$A$24,E2041,C2041)","v":"-4Megabytes"},"Megabytes",null,{"$f":"$E$25","v":-4},0,0,0,0,0,0]
[null,{"$f":"CONCATENATE(selected_functions!$A$24,E2042,C2042)","v":"-3Megabytes"},"Megabytes",null,{"$f":"$E$26","v":-3},0,0,0,0,0,0]
[null,{"$f":"CONCATENATE(selected_functions!$A$24,E2043,C2043)","v":"-2Megabytes"},"Megabytes",null,{"$f":"$E$27","v":-2},0,0,0,0,0,0]
[null,{"$f":"CONCATENATE(selected_functions!$A$24,E2044,C2044)","v":"-1Megabytes"},"Megabytes",null,{"$f":"$E$28","v":-1},0,0,0,0,0,0]
[null,{"$f":"CONCATENATE(selected_functions!$A$24,E2045,C2045)","v":"0Megabytes"},"Megabytes",null,{"$f":"$E$29","v":0},0,0,0,0,0,0]
[null,{"$f":"CONCATENATE(selected_functions!$A$24,E2046,C2046)","v":"1Megabytes"},"Megabytes",null,{"$f":"$E$30","v":1},0,0,0,0,0,0]
[null,{"$f":"CONCATENATE(selected_functions!$A$24,E2047,C2047)","v":"2Megabytes"},"Megabytes",null,{"$f":"$E$31","v":2},0,0,0,0,0,0]
[null,{"$f":"CONCATENATE(selected_functions!$A$24,E2048,C2048)","v":"3Megabytes"},{"$f":"C2047","v":"Megabytes"},null,{"$f":"$E$32","v":3},{"$f":"F2027/1024","v":0},0,0,0,0,0]
[null,{"$f":"CONCATENATE(selected_functions!$A$24,E2049,C2049)","v":"-17Gigabytes"},{"$f":"input_lists!$G$13","v":"Gigabytes"},null,{"$f":"$E$12","v":-17},0,0,0,0,0,0]
[null,{"$f":"CONCATENATE(selected_functions!$A$24,E2050,C2050)","v":"-16Gigabytes"},{"$f":"C2049","v":"Gigabytes"},null,{"$f":"$E$13","v":-16},0,0,0,0,0,0]
[null,{"$f":"CONCATENATE(selected_functions!$A$24,E2051,C2051)","v":"-15Gigabytes"},{"$f":"C2050","v":"Gigabytes"},null,{"$f":"$E$14","v":-15},0,0,0,0,0,0]
[null,{"$f":"CONCATENATE(selected_functions!$A$24,E2052,C2052)","v":"-14Gigabytes"},"Gigabytes",null,{"$f":"$E$15","v":-14},0,0,0,0,0,0]
[null,{"$f":"CONCATENATE(selected_functions!$A$24,E2053,C2053)","v":"-13Gigabytes"},"Gigabytes",null,{"$f":"$E$16","v":-13},0,0,0,0,0,0]
[null,{"$f":"CONCATENATE(selected_functions!$A$24,E2054,C2054)","v":"-12Gigabytes"},"Gigabytes",null,{"$f":"$E$17","v":-12},0,0,0,0,0,0]
[null,{"$f":"CONCATENATE(selected_functions!$A$24,E2055,C2055)","v":"-11Gigabytes"},"Gigabytes",null,{"$f":"$E$18","v":-11},0,0,0,0,0,0]
[null,{"$f":"CONCATENATE(selected_functions!$A$24,E2056,C2056)","v":"-10Gigabytes"},"Gigabytes",null,{"$f":"$E$19","v":-10},0,0,0,0,0,0]
[null,{"$f":"CONCATENATE(selected_functions!$A$24,E2057,C2057)","v":"-9Gigabytes"},"Gigabytes",null,{"$f":"$E$20","v":-9},0,0,0,0,0,0]
[null,{"$f":"CONCATENATE(selected_functions!$A$24,E2058,C2058)","v":"-8Gigabytes"},"Gigabytes",null,{"$f":"$E$21","v":-8},{"$f":"F2037/1024","v":0},0,0,0,0,0]
[null,{"$f":"CONCATENATE(selected_functions!$A$24,E2059,C2059)","v":"-7Gigabytes"},"Gigabytes",null,{"$f":"$E$22","v":-7},0,0,0,0,0,0]
[null,{"$f":"CONCATENATE(selected_functions!$A$24,E2060,C2060)","v":"-6Gigabytes"},"Gigabytes",null,{"$f":"$E$23","v":-6},0,0,0,0,0,0]
[null,{"$f":"CONCATENATE(selected_functions!$A$24,E2061,C2061)","v":"-5Gigabytes"},"Gigabytes",null,{"$f":"$E$24","v":-5},0,0,0,0,0,0]
[null,{"$f":"CONCATENATE(selected_functions!$A$24,E2062,C2062)","v":"-4Gigabytes"},"Gigabytes",null,{"$f":"$E$25","v":-4},0,0,0,0,0,0]
[null,{"$f":"CONCATENATE(selected_functions!$A$24,E2063,C2063)","v":"-3Gigabytes"},"Gigabytes",null,{"$f":"$E$26","v":-3},0,0,0,0,0,0]
[null,{"$f":"CONCATENATE(selected_functions!$A$24,E2064,C2064)","v":"-2Gigabytes"},"Gigabytes",null,{"$f":"$E$27","v":-2},0,0,0,0,0,0]
[null,{"$f":"CONCATENATE(selected_functions!$A$24,E2065,C2065)","v":"-1Gigabytes"},"Gigabytes",null,{"$f":"$E$28","v":-1},0,0,0,0,0,0]
[null,{"$f":"CONCATENATE(selected_functions!$A$24,E2066,C2066)","v":"0Gigabytes"},"Gigabytes",null,{"$f":"$E$29","v":0},0,0,0,0,0,0]
[null,{"$f":"CONCATENATE(selected_functions!$A$24,E2067,C2067)","v":"1Gigabytes"},"Gigabytes",null,{"$f":"$E$30","v":1},0,0,0,0,0,0]
[null,{"$f":"CONCATENATE(selected_functions!$A$24,E2068,C2068)","v":"2Gigabytes"},"Gigabytes",null,{"$f":"$E$31","v":2},{"$f":"F2047/1024","v":0},0,0,0,0,0]
[null,{"$f":"CONCATENATE(selected_functions!$A$24,E2069,C2069)","v":"3Gigabytes"},"Gigabytes",null,{"$f":"$E$32","v":3},0,0,0,0,0,0]
[null,{"$f":"CONCATENATE(selected_functions!$A$24,E2070,C2070)","v":"-17Terabytes"},{"$f":"input_lists!$G$14","v":"Terabytes"},null,{"$f":"$E$12","v":-17},0,0,0,0,0,0]
[null,{"$f":"CONCATENATE(selected_functions!$A$24,E2071,C2071)","v":"-16Terabytes"},{"$f":"C2070","v":"Terabytes"},null,{"$f":"$E$13","v":-16},0,0,0,0,0,0]
[null,{"$f":"CONCATENATE(selected_functions!$A$24,E2072,C2072)","v":"-15Terabytes"},{"$f":"C2071","v":"Terabytes"},null,{"$f":"$E$14","v":-15},0,0,0,0,0,0]
[null,{"$f":"CONCATENATE(selected_functions!$A$24,E2073,C2073)","v":"-14Terabytes"},"Terabytes",null,{"$f":"$E$15","v":-14},0,0,0,0,0,0]
[null,{"$f":"CONCATENATE(selected_functions!$A$24,E2074,C2074)","v":"-13Terabytes"},"Terabytes",null,{"$f":"$E$16","v":-13},0,0,0,0,0,0]
[null,{"$f":"CONCATENATE(selected_functions!$A$24,E2075,C2075)","v":"-12Terabytes"},"Terabytes",null,{"$f":"$E$17","v":-12},0,0,0,0,0,0]
[null,{"$f":"CONCATENATE(selected_functions!$A$24,E2076,C2076)","v":"-11Terabytes"},"Terabytes",null,{"$f":"$E$18","v":-11},0,0,0,0,0,0]
[null,{"$f":"CONCATENATE(selected_functions!$A$24,E2077,C2077)","v":"-10Terabytes"},"Terabytes",null,{"$f":"$E$19","v":-10},0,0,0,0,0,0]
[null,{"$f":"CONCATENATE(selected_functions!$A$24,E2078,C2078)","v":"-9Terabytes"},"Terabytes",null,{"$f":"$E$20","v":-9},{"$f":"F2057/1024","v":0},0,0,0,0,0]
[null,{"$f":"CONCATENATE(selected_functions!$A$24,E2079,C2079)","v":"-8Terabytes"},"Terabytes",null,{"$f":"$E$21","v":-8},0,0,0,0,0,0]
[null,{"$f":"CONCATENATE(selected_functions!$A$24,E2080,C2080)","v":"-7Terabytes"},"Terabytes",null,{"$f":"$E$22","v":-7},0,0,0,0,0,0]
[null,{"$f":"CONCATENATE(selected_functions!$A$24,E2081,C2081)","v":"-6Terabytes"},"Terabytes",null,{"$f":"$E$23","v":-6},0,0,0,0,0,0]
[null,{"$f":"CONCATENATE(selected_functions!$A$24,E2082,C2082)","v":"-5Terabytes"},"Terabytes",null,{"$f":"$E$24","v":-5},0,0,0,0,0,0]
[null,{"$f":"CONCATENATE(selected_functions!$A$24,E2083,C2083)","v":"-4Terabytes"},"Terabytes",null,{"$f":"$E$25","v":-4},0,0,0,0,0,0]
[null,{"$f":"CONCATENATE(selected_functions!$A$24,E2084,C2084)","v":"-3Terabytes"},"Terabytes",null,{"$f":"$E$26","v":-3},0,0,0,0,0,0]
[null,{"$f":"CONCATENATE(selected_functions!$A$24,E2085,C2085)","v":"-2Terabytes"},"Terabytes",null,{"$f":"$E$27","v":-2},0,0,0,0,0,0]
[null,{"$f":"CONCATENATE(selected_functions!$A$24,E2086,C2086)","v":"-1Terabytes"},"Terabytes",null,{"$f":"$E$28","v":-1},0,0,0,0,0,0]
[null,{"$f":"CONCATENATE(selected_functions!$A$24,E2087,C2087)","v":"0Terabytes"},"Terabytes",null,{"$f":"$E$29","v":0},0,0,0,0,0,0]
[null,{"$f":"CONCATENATE(selected_functions!$A$24,E2088,C2088)","v":"1Terabytes"},"Terabytes",null,{"$f":"$E$30","v":1},{"$f":"F2067/1024","v":0},0,0,0,0,0]
[null,{"$f":"CONCATENATE(selected_functions!$A$24,E2089,C2089)","v":"2Terabytes"},"Terabytes",null,{"$f":"$E$31","v":2},0,0,0,0,0,0]
[null,{"$f":"CONCATENATE(selected_functions!$A$24,E2090,C2090)","v":"3Terabytes"},"Terabytes",null,{"$f":"$E$32","v":3},0,0,0,0,0,0]
[null,{"$f":"CONCATENATE(selected_functions!$A$24,E2091,C2091)","v":"-17Petabytes"},{"$f":"input_lists!$G$15","v":"Petabytes"},null,{"$f":"$E$12","v":-17},0,0,0,0,0,0]
[null,{"$f":"CONCATENATE(selected_functions!$A$24,E2092,C2092)","v":"-16Petabytes"},{"$f":"C2091","v":"Petabytes"},null,{"$f":"$E$13","v":-16},0,0,0,0,0,0]
[null,{"$f":"CONCATENATE(selected_functions!$A$24,E2093,C2093)","v":"-15Petabytes"},{"$f":"C2092","v":"Petabytes"},null,{"$f":"$E$14","v":-15},0,0,0,0,0,0]
[null,{"$f":"CONCATENATE(selected_functions!$A$24,E2094,C2094)","v":"-14Petabytes"},"Petabytes",null,{"$f":"$E$15","v":-14},0,0,0,0,0,0]
[null,{"$f":"CONCATENATE(selected_functions!$A$24,E2095,C2095)","v":"-13Petabytes"},"Petabytes",null,{"$f":"$E$16","v":-13},0,0,0,0,0,0]
[null,{"$f":"CONCATENATE(selected_functions!$A$24,E2096,C2096)","v":"-12Petabytes"},"Petabytes",null,{"$f":"$E$17","v":-12},0,0,0,0,0,0]
[null,{"$f":"CONCATENATE(selected_functions!$A$24,E2097,C2097)","v":"-11Petabytes"},"Petabytes",null,{"$f":"$E$18","v":-11},0,0,0,0,0,0]
[null,{"$f":"CONCATENATE(selected_functions!$A$24,E2098,C2098)","v":"-10Petabytes"},"Petabytes",null,{"$f":"$E$19","v":-10},{"$f":"F2077/1024","v":0},0,0,0,0,0]
[null,{"$f":"CONCATENATE(selected_functions!$A$24,E2099,C2099)","v":"-9Petabytes"},"Petabytes",null,{"$f":"$E$20","v":-9},0,0,0,0,0,0]
[null,{"$f":"CONCATENATE(selected_functions!$A$24,E2100,C2100)","v":"-8Petabytes"},"Petabytes",null,{"$f":"$E$21","v":-8},0,0,0,0,0,0]
[null,{"$f":"CONCATENATE(selected_functions!$A$24,E2101,C2101)","v":"-7Petabytes"},"Petabytes",null,{"$f":"$E$22","v":-7},0,0,0,0,0,0]
[null,{"$f":"CONCATENATE(selected_functions!$A$24,E2102,C2102)","v":"-6Petabytes"},"Petabytes",null,{"$f":"$E$23","v":-6},0,0,0,0,0,0]
[null,{"$f":"CONCATENATE(selected_functions!$A$24,E2103,C2103)","v":"-5Petabytes"},"Petabytes",null,{"$f":"$E$24","v":-5},0,0,0,0,0,0]
[null,{"$f":"CONCATENATE(selected_functions!$A$24,E2104,C2104)","v":"-4Petabytes"},"Petabytes",null,{"$f":"$E$25","v":-4},0,0,0,0,0,0]
[null,{"$f":"CONCATENATE(selected_functions!$A$24,E2105,C2105)","v":"-3Petabytes"},"Petabytes",null,{"$f":"$E$26","v":-3},0,0,0,0,0,0]
[null,{"$f":"CONCATENATE(selected_functions!$A$24,E2106,C2106)","v":"-2Petabytes"},"Petabytes",null,{"$f":"$E$27","v":-2},0,0,0,0,0,0]
[null,{"$f":"CONCATENATE(selected_functions!$A$24,E2107,C2107)","v":"-1Petabytes"},"Petabytes",null,{"$f":"$E$28","v":-1},0,0,0,0,0,0]
[null,{"$f":"CONCATENATE(selected_functions!$A$24,E2108,C2108)","v":"0Petabytes"},"Petabytes",null,{"$f":"$E$29","v":0},{"$f":"F2087/1024","v":0},0,0,0,0,0]
[null,{"$f":"CONCATENATE(selected_functions!$A$24,E2109,C2109)","v":"1Petabytes"},"Petabytes",null,{"$f":"$E$30","v":1},0,0,0,0,0,0]
[null,{"$f":"CONCATENATE(selected_functions!$A$24,E2110,C2110)","v":"2Petabytes"},"Petabytes",null,{"$f":"$E$31","v":2},0,0,0,0,0,0]
[null,{"$f":"CONCATENATE(selected_functions!$A$24,E2111,C2111)","v":"3Petabytes"},"Petabytes",null,{"$f":"$E$32","v":3},0,0,0,0,0,0]
[null,{"$f":"CONCATENATE(selected_functions!$A$25,E2112,C2112)","v":"-17Kilobytes"},{"$f":"input_lists!$G$11","v":"Kilobytes"},null,{"$f":"$E$12","v":-17},{"$f":"IF(AND(E2112>=input_database!$D$25,E2112<input_database!$C$25),input_database!$GC$25,\"0\")","v":"0"},{"$f":"IF(E2112<input_database!$C$25,input_database!$GE$25,\"0\")","v":0},{"$f":"IFERROR(input_database!$GH$25,\"0\")","v":0},{"$f":"IF(E2112=input_database!$C$25,input_database!$GG$25,\"0\")","v":"0"},{"$f":"IF(E2112>=input_database!$C$25,(input_database!$GF$25+input_database!$GD$25),0)","v":0},{"$f":"SUM(F2112:J2112)","v":0}]
[null,{"$f":"CONCATENATE(selected_functions!$A$25,E2113,C2113)","v":"-16Kilobytes"},{"$f":"input_lists!$G$11","v":"Kilobytes"},null,{"$f":"$E$13","v":-16},{"$f":"IF(AND(E2113>=input_database!$D$25,E2113<input_database!$C$25),input_database!$GC$25,\"0\")","v":"0"},{"$f":"IF(E2113<input_database!$C$25,input_database!$GE$25,\"0\")","v":0},{"$f":"IFERROR(input_database!$GH$25,\"0\")","v":0},{"$f":"IF(E2113=input_database!$C$25,input_database!$GG$25,\"0\")","v":"0"},{"$f":"IF(E2113>=input_database!$C$25,(input_database!$GF$25+input_database!$GD$25),0)","v":0},{"$f":"K2112+SUM(F2113:J2113)","v":0}]
[null,{"$f":"CONCATENATE(selected_functions!$A$25,E2114,C2114)","v":"-15Kilobytes"},{"$f":"input_lists!$G$11","v":"Kilobytes"},null,{"$f":"$E$14","v":-15},{"$f":"IF(AND(E2114>=input_database!$D$25,E2114<input_database!$C$25),input_database!$GC$25,\"0\")","v":"0"},{"$f":"IF(E2114<input_database!$C$25,input_database!$GE$25,\"0\")","v":0},{"$f":"IFERROR(input_database!$GH$25,\"0\")","v":0},{"$f":"IF(E2114=input_database!$C$25,input_database!$GG$25,\"0\")","v":"0"},{"$f":"IF(E2114>=input_database!$C$25,(input_database!$GF$25+input_database!$GD$25),0)","v":0},{"$f":"K2113+SUM(F2114:J2114)","v":0}]
[null,{"$f":"CONCATENATE(selected_functions!$A$25,E2115,C2115)","v":"-14Kilobytes"},{"$f":"input_lists!$G$11","v":"Kilobytes"},null,{"$f":"$E$15","v":-14},{"$f":"IF(AND(E2115>=input_database!$D$25,E2115<input_database!$C$25),input_database!$GC$25,\"0\")","v":"0"},{"$f":"IF(E2115<input_database!$C$25,input_database!$GE$25,\"0\")","v":0},{"$f":"IFERROR(input_database!$GH$25,\"0\")","v":0},{"$f":"IF(E2115=input_database!$C$25,input_database!$GG$25,\"0\")","v":"0"},{"$f":"IF(E2115>=input_database!$C$25,(input_database!$GF$25+input_database!$GD$25),0)","v":0},0]
[null,{"$f":"CONCATENATE(selected_functions!$A$25,E2116,C2116)","v":"-13Kilobytes"},{"$f":"input_lists!$G$11","v":"Kilobytes"},null,{"$f":"$E$16","v":-13},{"$f":"IF(AND(E2116>=input_database!$D$25,E2116<input_database!$C$25),input_database!$GC$25,\"0\")","v":"0"},{"$f":"IF(E2116<input_database!$C$25,input_database!$GE$25,\"0\")","v":0},{"$f":"IFERROR(input_database!$GH$25,\"0\")","v":0},{"$f":"IF(E2116=input_database!$C$25,input_database!$GG$25,\"0\")","v":"0"},{"$f":"IF(E2116>=input_database!$C$25,(input_database!$GF$25+input_database!$GD$25),0)","v":0},0]
[null,{"$f":"CONCATENATE(selected_functions!$A$25,E2117,C2117)","v":"-12Kilobytes"},{"$f":"input_lists!$G$11","v":"Kilobytes"},null,{"$f":"$E$17","v":-12},{"$f":"IF(AND(E2117>=input_database!$D$25,E2117<input_database!$C$25),input_database!$GC$25,\"0\")","v":"0"},{"$f":"IF(E2117<input_database!$C$25,input_database!$GE$25,\"0\")","v":0},{"$f":"IFERROR(input_database!$GH$25,\"0\")","v":0},{"$f":"IF(E2117=input_database!$C$25,input_database!$GG$25,\"0\")","v":"0"},{"$f":"IF(E2117>=input_database!$C$25,(input_database!$GF$25+input_database!$GD$25),0)","v":0},0]
[null,{"$f":"CONCATENATE(selected_functions!$A$25,E2118,C2118)","v":"-11Kilobytes"},{"$f":"input_lists!$G$11","v":"Kilobytes"},null,{"$f":"$E$18","v":-11},{"$f":"IF(AND(E2118>=input_database!$D$25,E2118<input_database!$C$25),input_database!$GC$25,\"0\")","v":"0"},{"$f":"IF(E2118<input_database!$C$25,input_database!$GE$25,\"0\")","v":0},{"$f":"IFERROR(input_database!$GH$25,\"0\")","v":0},{"$f":"IF(E2118=input_database!$C$25,input_database!$GG$25,\"0\")","v":"0"},{"$f":"IF(E2118>=input_database!$C$25,(input_database!$GF$25+input_database!$GD$25),0)","v":0},0]
[null,{"$f":"CONCATENATE(selected_functions!$A$25,E2119,C2119)","v":"-10Kilobytes"},{"$f":"input_lists!$G$11","v":"Kilobytes"},null,{"$f":"$E$19","v":-10},{"$f":"IF(AND(E2119>=input_database!$D$25,E2119<input_database!$C$25),input_database!$GC$25,\"0\")","v":"0"},{"$f":"IF(E2119<input_database!$C$25,input_database!$GE$25,\"0\")","v":0},{"$f":"IFERROR(input_database!$GH$25,\"0\")","v":0},{"$f":"IF(E2119=input_database!$C$25,input_database!$GG$25,\"0\")","v":"0"},{"$f":"IF(E2119>=input_database!$C$25,(input_database!$GF$25+input_database!$GD$25),0)","v":0},0]
[null,{"$f":"CONCATENATE(selected_functions!$A$25,E2120,C2120)","v":"-9Kilobytes"},{"$f":"input_lists!$G$11","v":"Kilobytes"},null,{"$f":"$E$20","v":-9},{"$f":"IF(AND(E2120>=input_database!$D$25,E2120<input_database!$C$25),input_database!$GC$25,\"0\")","v":"0"},{"$f":"IF(E2120<input_database!$C$25,input_database!$GE$25,\"0\")","v":0},{"$f":"IFERROR(input_database!$GH$25,\"0\")","v":0},{"$f":"IF(E2120=input_database!$C$25,input_database!$GG$25,\"0\")","v":"0"},{"$f":"IF(E2120>=input_database!$C$25,(input_database!$GF$25+input_database!$GD$25),0)","v":0},0]
[null,{"$f":"CONCATENATE(selected_functions!$A$25,E2121,C2121)","v":"-8Kilobytes"},{"$f":"input_lists!$G$11","v":"Kilobytes"},null,{"$f":"$E$21","v":-8},{"$f":"IF(AND(E2121>=input_database!$D$25,E2121<input_database!$C$25),input_database!$GC$25,\"0\")","v":"0"},{"$f":"IF(E2121<input_database!$C$25,input_database!$GE$25,\"0\")","v":0},{"$f":"IFERROR(input_database!$GH$25,\"0\")","v":0},{"$f":"IF(E2121=input_database!$C$25,input_database!$GG$25,\"0\")","v":"0"},{"$f":"IF(E2121>=input_database!$C$25,(input_database!$GF$25+input_database!$GD$25),0)","v":0},0]
[null,{"$f":"CONCATENATE(selected_functions!$A$25,E2122,C2122)","v":"-7Kilobytes"},{"$f":"input_lists!$G$11","v":"Kilobytes"},null,{"$f":"$E$22","v":-7},{"$f":"IF(AND(E2122>=input_database!$D$25,E2122<input_database!$C$25),input_database!$GC$25,\"0\")","v":"0"},{"$f":"IF(E2122<input_database!$C$25,input_database!$GE$25,\"0\")","v":0},{"$f":"IFERROR(input_database!$GH$25,\"0\")","v":0},{"$f":"IF(E2122=input_database!$C$25,input_database!$GG$25,\"0\")","v":"0"},{"$f":"IF(E2122>=input_database!$C$25,(input_database!$GF$25+input_database!$GD$25),0)","v":0},0]
[null,{"$f":"CONCATENATE(selected_functions!$A$25,E2123,C2123)","v":"-6Kilobytes"},{"$f":"input_lists!$G$11","v":"Kilobytes"},null,{"$f":"$E$23","v":-6},{"$f":"IF(AND(E2123>=input_database!$D$25,E2123<input_database!$C$25),input_database!$GC$25,\"0\")","v":"0"},{"$f":"IF(E2123<input_database!$C$25,input_database!$GE$25,\"0\")","v":0},{"$f":"IFERROR(input_database!$GH$25,\"0\")","v":0},{"$f":"IF(E2123=input_database!$C$25,input_database!$GG$25,\"0\")","v":"0"},{"$f":"IF(E2123>=input_database!$C$25,(input_database!$GF$25+input_database!$GD$25),0)","v":0},0]
[null,{"$f":"CONCATENATE(selected_functions!$A$25,E2124,C2124)","v":"-5Kilobytes"},{"$f":"input_lists!$G$11","v":"Kilobytes"},null,{"$f":"$E$24","v":-5},{"$f":"IF(AND(E2124>=input_database!$D$25,E2124<input_database!$C$25),input_database!$GC$25,\"0\")","v":"0"},{"$f":"IF(E2124<input_database!$C$25,input_database!$GE$25,\"0\")","v":0},{"$f":"IFERROR(input_database!$GH$25,\"0\")","v":0},{"$f":"IF(E2124=input_database!$C$25,input_database!$GG$25,\"0\")","v":"0"},{"$f":"IF(E2124>=input_database!$C$25,(input_database!$GF$25+input_database!$GD$25),0)","v":0},0]
[null,{"$f":"CONCATENATE(selected_functions!$A$25,E2125,C2125)","v":"-4Kilobytes"},{"$f":"input_lists!$G$11","v":"Kilobytes"},null,{"$f":"$E$25","v":-4},{"$f":"IF(AND(E2125>=input_database!$D$25,E2125<input_database!$C$25),input_database!$GC$25,\"0\")","v":"0"},{"$f":"IF(E2125<input_database!$C$25,input_database!$GE$25,\"0\")","v":0},{"$f":"IFERROR(input_database!$GH$25,\"0\")","v":0},{"$f":"IF(E2125=input_database!$C$25,input_database!$GG$25,\"0\")","v":"0"},{"$f":"IF(E2125>=input_database!$C$25,(input_database!$GF$25+input_database!$GD$25),0)","v":0},0]
[null,{"$f":"CONCATENATE(selected_functions!$A$25,E2126,C2126)","v":"-3Kilobytes"},{"$f":"input_lists!$G$11","v":"Kilobytes"},null,{"$f":"$E$26","v":-3},{"$f":"IF(AND(E2126>=input_database!$D$25,E2126<input_database!$C$25),input_database!$GC$25,\"0\")","v":"0"},{"$f":"IF(E2126<input_database!$C$25,input_database!$GE$25,\"0\")","v":0},{"$f":"IFERROR(input_database!$GH$25,\"0\")","v":0},{"$f":"IF(E2126=input_database!$C$25,input_database!$GG$25,\"0\")","v":"0"},{"$f":"IF(E2126>=input_database!$C$25,(input_database!$GF$25+input_database!$GD$25),0)","v":0},0]
[null,{"$f":"CONCATENATE(selected_functions!$A$25,E2127,C2127)","v":"-2Kilobytes"},{"$f":"input_lists!$G$11","v":"Kilobytes"},null,{"$f":"$E$27","v":-2},{"$f":"IF(AND(E2127>=input_database!$D$25,E2127<input_database!$C$25),input_database!$GC$25,\"0\")","v":"0"},{"$f":"IF(E2127<input_database!$C$25,input_database!$GE$25,\"0\")","v":0},{"$f":"IFERROR(input_database!$GH$25,\"0\")","v":0},{"$f":"IF(E2127=input_database!$C$25,input_database!$GG$25,\"0\")","v":"0"},{"$f":"IF(E2127>=input_database!$C$25,(input_database!$GF$25+input_database!$GD$25),0)","v":0},0]
[null,{"$f":"CONCATENATE(selected_functions!$A$25,E2128,C2128)","v":"-1Kilobytes"},{"$f":"input_lists!$G$11","v":"Kilobytes"},null,{"$f":"$E$28","v":-1},{"$f":"IF(AND(E2128>=input_database!$D$25,E2128<input_database!$C$25),input_database!$GC$25,\"0\")","v":"0"},{"$f":"IF(E2128<input_database!$C$25,input_database!$GE$25,\"0\")","v":0},{"$f":"IFERROR(input_database!$GH$25,\"0\")","v":0},{"$f":"IF(E2128=input_database!$C$25,input_database!$GG$25,\"0\")","v":"0"},{"$f":"IF(E2128>=input_database!$C$25,(input_database!$GF$25+input_database!$GD$25),0)","v":0},0]
[null,{"$f":"CONCATENATE(selected_functions!$A$25,E2129,C2129)","v":"0Kilobytes"},{"$f":"input_lists!$G$11","v":"Kilobytes"},null,{"$f":"$E$29","v":0},{"$f":"IF(AND(E2129>=input_database!$D$25,E2129<input_database!$C$25),input_database!$GC$25,\"0\")","v":"0"},{"$f":"IF(E2129<input_database!$C$25,input_database!$GE$25,\"0\")","v":"0"},{"$f":"IFERROR(input_database!$GH$25,\"0\")","v":0},{"$f":"IF(E2129=input_database!$C$25,input_database!$GG$25,\"0\")","v":0},{"$f":"IF(E2129>=input_database!$C$25,(input_database!$GF$25+input_database!$GD$25),0)","v":0},0]
[null,{"$f":"CONCATENATE(selected_functions!$A$25,E2130,C2130)","v":"1Kilobytes"},{"$f":"input_lists!$G$11","v":"Kilobytes"},null,{"$f":"$E$30","v":1},{"$f":"IF(AND(E2130>=input_database!$D$25,E2130<input_database!$C$25),input_database!$GC$25,\"0\")","v":"0"},{"$f":"IF(E2130<input_database!$C$25,input_database!$GE$25,\"0\")","v":"0"},{"$f":"IFERROR(input_database!$GH$25,\"0\")","v":0},{"$f":"IF(E2130=input_database!$C$25,input_database!$GG$25,\"0\")","v":"0"},{"$f":"IF(E2130>=input_database!$C$25,(input_database!$GF$25+input_database!$GD$25),0)","v":0},0]
[null,{"$f":"CONCATENATE(selected_functions!$A$25,E2131,C2131)","v":"2Kilobytes"},{"$f":"input_lists!$G$11","v":"Kilobytes"},null,{"$f":"$E$31","v":2},{"$f":"IF(AND(E2131>=input_database!$D$25,E2131<input_database!$C$25),input_database!$GC$25,\"0\")","v":"0"},{"$f":"IF(E2131<input_database!$C$25,input_database!$GE$25,\"0\")","v":"0"},{"$f":"IFERROR(input_database!$GH$25,\"0\")","v":0},{"$f":"IF(E2131=input_database!$C$25,input_database!$GG$25,\"0\")","v":"0"},{"$f":"IF(E2131>=input_database!$C$25,(input_database!$GF$25+input_database!$GD$25),0)","v":0},0]
[null,{"$f":"CONCATENATE(selected_functions!$A$25,E2132,C2132)","v":"3Kilobytes"},{"$f":"input_lists!$G$11","v":"Kilobytes"},null,{"$f":"$E$32","v":3},{"$f":"IF(AND(E2132>=input_database!$D$25,E2132<input_database!$C$25),input_database!$GC$25,\"0\")","v":"0"},{"$f":"IF(E2132<input_database!$C$25,input_database!$GE$25,\"0\")","v":"0"},{"$f":"IFERROR(input_database!$GH$25,\"0\")","v":0},{"$f":"IF(E2132=input_database!$C$25,input_database!$GG$25,\"0\")","v":"0"},{"$f":"IF(E2132>=input_database!$C$25,(input_database!$GF$25+input_database!$GD$25),0)","v":0},0]
[null,{"$f":"CONCATENATE(selected_functions!$A$25,E2133,C2133)","v":"-17Megabytes"},{"$f":"input_lists!$G$12","v":"Megabytes"},null,{"$f":"$E$12","v":-17},{"$f":"F2112/1024","v":0},0,0,0,0,0]
[null,{"$f":"CONCATENATE(selected_functions!$A$25,E2134,C2134)","v":"-16Megabytes"},{"$f":"C2133","v":"Megabytes"},null,{"$f":"$E$13","v":-16},0,0,0,0,0,0]
[null,{"$f":"CONCATENATE(selected_functions!$A$25,E2135,C2135)","v":"-15Megabytes"},{"$f":"C2134","v":"Megabytes"},null,{"$f":"$E$14","v":-15},0,0,0,0,0,0]
[null,{"$f":"CONCATENATE(selected_functions!$A$25,E2136,C2136)","v":"-14Megabytes"},"Megabytes",null,{"$f":"$E$15","v":-14},0,0,0,0,0,0]
[null,{"$f":"CONCATENATE(selected_functions!$A$25,E2137,C2137)","v":"-13Megabytes"},"Megabytes",null,{"$f":"$E$16","v":-13},0,0,0,0,0,0]
[null,{"$f":"CONCATENATE(selected_functions!$A$25,E2138,C2138)","v":"-12Megabytes"},"Megabytes",null,{"$f":"$E$17","v":-12},0,0,0,0,0,0]
[null,{"$f":"CONCATENATE(selected_functions!$A$25,E2139,C2139)","v":"-11Megabytes"},"Megabytes",null,{"$f":"$E$18","v":-11},0,0,0,0,0,0]
[null,{"$f":"CONCATENATE(selected_functions!$A$25,E2140,C2140)","v":"-10Megabytes"},"Megabytes",null,{"$f":"$E$19","v":-10},0,0,0,0,0,0]
[null,{"$f":"CONCATENATE(selected_functions!$A$25,E2141,C2141)","v":"-9Megabytes"},"Megabytes",null,{"$f":"$E$20","v":-9},0,0,0,0,0,0]
[null,{"$f":"CONCATENATE(selected_functions!$A$25,E2142,C2142)","v":"-8Megabytes"},"Megabytes",null,{"$f":"$E$21","v":-8},0,0,0,0,0,0]
[null,{"$f":"CONCATENATE(selected_functions!$A$25,E2143,C2143)","v":"-7Megabytes"},"Megabytes",null,{"$f":"$E$22","v":-7},{"$f":"F2122/1024","v":0},0,0,0,0,0]
[null,{"$f":"CONCATENATE(selected_functions!$A$25,E2144,C2144)","v":"-6Megabytes"},"Megabytes",null,{"$f":"$E$23","v":-6},0,0,0,0,0,0]
[null,{"$f":"CONCATENATE(selected_functions!$A$25,E2145,C2145)","v":"-5Megabytes"},"Megabytes",null,{"$f":"$E$24","v":-5},0,0,0,0,0,0]
[null,{"$f":"CONCATENATE(selected_functions!$A$25,E2146,C2146)","v":"-4Megabytes"},"Megabytes",null,{"$f":"$E$25","v":-4},0,0,0,0,0,0]
[null,{"$f":"CONCATENATE(selected_functions!$A$25,E2147,C2147)","v":"-3Megabytes"},"Megabytes",null,{"$f":"$E$26","v":-3},0,0,0,0,0,0]
[null,{"$f":"CONCATENATE(selected_functions!$A$25,E2148,C2148)","v":"-2Megabytes"},"Megabytes",null,{"$f":"$E$27","v":-2},0,0,0,0,0,0]
[null,{"$f":"CONCATENATE(selected_functions!$A$25,E2149,C2149)","v":"-1Megabytes"},"Megabytes",null,{"$f":"$E$28","v":-1},0,0,0,0,0,0]
[null,{"$f":"CONCATENATE(selected_functions!$A$25,E2150,C2150)","v":"0Megabytes"},"Megabytes",null,{"$f":"$E$29","v":0},0,0,0,0,0,0]
[null,{"$f":"CONCATENATE(selected_functions!$A$25,E2151,C2151)","v":"1Megabytes"},"Megabytes",null,{"$f":"$E$30","v":1},0,0,0,0,0,0]
[null,{"$f":"CONCATENATE(selected_functions!$A$25,E2152,C2152)","v":"2Megabytes"},"Megabytes",null,{"$f":"$E$31","v":2},0,0,0,0,0,0]
[null,{"$f":"CONCATENATE(selected_functions!$A$25,E2153,C2153)","v":"3Megabytes"},{"$f":"C2152","v":"Megabytes"},null,{"$f":"$E$32","v":3},{"$f":"F2132/1024","v":0},0,0,0,0,0]
[null,{"$f":"CONCATENATE(selected_functions!$A$25,E2154,C2154)","v":"-17Gigabytes"},{"$f":"input_lists!$G$13","v":"Gigabytes"},null,{"$f":"$E$12","v":-17},0,0,0,0,0,0]
[null,{"$f":"CONCATENATE(selected_functions!$A$25,E2155,C2155)","v":"-16Gigabytes"},{"$f":"C2154","v":"Gigabytes"},null,{"$f":"$E$13","v":-16},0,0,0,0,0,0]
[null,{"$f":"CONCATENATE(selected_functions!$A$25,E2156,C2156)","v":"-15Gigabytes"},{"$f":"C2155","v":"Gigabytes"},null,{"$f":"$E$14","v":-15},0,0,0,0,0,0]
[null,{"$f":"CONCATENATE(selected_functions!$A$25,E2157,C2157)","v":"-14Gigabytes"},"Gigabytes",null,{"$f":"$E$15","v":-14},0,0,0,0,0,0]
[null,{"$f":"CONCATENATE(selected_functions!$A$25,E2158,C2158)","v":"-13Gigabytes"},"Gigabytes",null,{"$f":"$E$16","v":-13},0,0,0,0,0,0]
[null,{"$f":"CONCATENATE(selected_functions!$A$25,E2159,C2159)","v":"-12Gigabytes"},"Gigabytes",null,{"$f":"$E$17","v":-12},0,0,0,0,0,0]
[null,{"$f":"CONCATENATE(selected_functions!$A$25,E2160,C2160)","v":"-11Gigabytes"},"Gigabytes",null,{"$f":"$E$18","v":-11},0,0,0,0,0,0]
[null,{"$f":"CONCATENATE(selected_functions!$A$25,E2161,C2161)","v":"-10Gigabytes"},"Gigabytes",null,{"$f":"$E$19","v":-10},0,0,0,0,0,0]
[null,{"$f":"CONCATENATE(selected_functions!$A$25,E2162,C2162)","v":"-9Gigabytes"},"Gigabytes",null,{"$f":"$E$20","v":-9},0,0,0,0,0,0]
[null,{"$f":"CONCATENATE(selected_functions!$A$25,E2163,C2163)","v":"-8Gigabytes"},"Gigabytes",null,{"$f":"$E$21","v":-8},{"$f":"F2142/1024","v":0},0,0,0,0,0]
[null,{"$f":"CONCATENATE(selected_functions!$A$25,E2164,C2164)","v":"-7Gigabytes"},"Gigabytes",null,{"$f":"$E$22","v":-7},0,0,0,0,0,0]
[null,{"$f":"CONCATENATE(selected_functions!$A$25,E2165,C2165)","v":"-6Gigabytes"},"Gigabytes",null,{"$f":"$E$23","v":-6},0,0,0,0,0,0]
[null,{"$f":"CONCATENATE(selected_functions!$A$25,E2166,C2166)","v":"-5Gigabytes"},"Gigabytes",null,{"$f":"$E$24","v":-5},0,0,0,0,0,0]
[null,{"$f":"CONCATENATE(selected_functions!$A$25,E2167,C2167)","v":"-4Gigabytes"},"Gigabytes",null,{"$f":"$E$25","v":-4},0,0,0,0,0,0]
[null,{"$f":"CONCATENATE(selected_functions!$A$25,E2168,C2168)","v":"-3Gigabytes"},"Gigabytes",null,{"$f":"$E$26","v":-3},0,0,0,0,0,0]
[null,{"$f":"CONCATENATE(selected_functions!$A$25,E2169,C2169)","v":"-2Gigabytes"},"Gigabytes",null,{"$f":"$E$27","v":-2},0,0,0,0,0,0]
[null,{"$f":"CONCATENATE(selected_functions!$A$25,E2170,C2170)","v":"-1Gigabytes"},"Gigabytes",null,{"$f":"$E$28","v":-1},0,0,0,0,0,0]
[null,{"$f":"CONCATENATE(selected_functions!$A$25,E2171,C2171)","v":"0Gigabytes"},"Gigabytes",null,{"$f":"$E$29","v":0},0,0,0,0,0,0]
[null,{"$f":"CONCATENATE(selected_functions!$A$25,E2172,C2172)","v":"1Gigabytes"},"Gigabytes",null,{"$f":"$E$30","v":1},0,0,0,0,0,0]
[null,{"$f":"CONCATENATE(selected_functions!$A$25,E2173,C2173)","v":"2Gigabytes"},"Gigabytes",null,{"$f":"$E$31","v":2},{"$f":"F2152/1024","v":0},0,0,0,0,0]
[null,{"$f":"CONCATENATE(selected_functions!$A$25,E2174,C2174)","v":"3Gigabytes"},"Gigabytes",null,{"$f":"$E$32","v":3},0,0,0,0,0,0]
[null,{"$f":"CONCATENATE(selected_functions!$A$25,E2175,C2175)","v":"-17Terabytes"},{"$f":"input_lists!$G$14","v":"Terabytes"},null,{"$f":"$E$12","v":-17},0,0,0,0,0,0]
[null,{"$f":"CONCATENATE(selected_functions!$A$25,E2176,C2176)","v":"-16Terabytes"},{"$f":"C2175","v":"Terabytes"},null,{"$f":"$E$13","v":-16},0,0,0,0,0,0]
[null,{"$f":"CONCATENATE(selected_functions!$A$25,E2177,C2177)","v":"-15Terabytes"},{"$f":"C2176","v":"Terabytes"},null,{"$f":"$E$14","v":-15},0,0,0,0,0,0]
[null,{"$f":"CONCATENATE(selected_functions!$A$25,E2178,C2178)","v":"-14Terabytes"},"Terabytes",null,{"$f":"$E$15","v":-14},0,0,0,0,0,0]
[null,{"$f":"CONCATENATE(selected_functions!$A$25,E2179,C2179)","v":"-13Terabytes"},"Terabytes",null,{"$f":"$E$16","v":-13},0,0,0,0,0,0]
[null,{"$f":"CONCATENATE(selected_functions!$A$25,E2180,C2180)","v":"-12Terabytes"},"Terabytes",null,{"$f":"$E$17","v":-12},0,0,0,0,0,0]
[null,{"$f":"CONCATENATE(selected_functions!$A$25,E2181,C2181)","v":"-11Terabytes"},"Terabytes",null,{"$f":"$E$18","v":-11},0,0,0,0,0,0]
[null,{"$f":"CONCATENATE(selected_functions!$A$25,E2182,C2182)","v":"-10Terabytes"},"Terabytes",null,{"$f":"$E$19","v":-10},0,0,0,0,0,0]
[null,{"$f":"CONCATENATE(selected_functions!$A$25,E2183,C2183)","v":"-9Terabytes"},"Terabytes",null,{"$f":"$E$20","v":-9},{"$f":"F2162/1024","v":0},0,0,0,0,0]
[null,{"$f":"CONCATENATE(selected_functions!$A$25,E2184,C2184)","v":"-8Terabytes"},"Terabytes",null,{"$f":"$E$21","v":-8},0,0,0,0,0,0]
[null,{"$f":"CONCATENATE(selected_functions!$A$25,E2185,C2185)","v":"-7Terabytes"},"Terabytes",null,{"$f":"$E$22","v":-7},0,0,0,0,0,0]
[null,{"$f":"CONCATENATE(selected_functions!$A$25,E2186,C2186)","v":"-6Terabytes"},"Terabytes",null,{"$f":"$E$23","v":-6},0,0,0,0,0,0]
[null,{"$f":"CONCATENATE(selected_functions!$A$25,E2187,C2187)","v":"-5Terabytes"},"Terabytes",null,{"$f":"$E$24","v":-5},0,0,0,0,0,0]
[null,{"$f":"CONCATENATE(selected_functions!$A$25,E2188,C2188)","v":"-4Terabytes"},"Terabytes",null,{"$f":"$E$25","v":-4},0,0,0,0,0,0]
[null,{"$f":"CONCATENATE(selected_functions!$A$25,E2189,C2189)","v":"-3Terabytes"},"Terabytes",null,{"$f":"$E$26","v":-3},0,0,0,0,0,0]
[null,{"$f":"CONCATENATE(selected_functions!$A$25,E2190,C2190)","v":"-2Terabytes"},"Terabytes",null,{"$f":"$E$27","v":-2},0,0,0,0,0,0]
[null,{"$f":"CONCATENATE(selected_functions!$A$25,E2191,C2191)","v":"-1Terabytes"},"Terabytes",null,{"$f":"$E$28","v":-1},0,0,0,0,0,0]
[null,{"$f":"CONCATENATE(selected_functions!$A$25,E2192,C2192)","v":"0Terabytes"},"Terabytes",null,{"$f":"$E$29","v":0},0,0,0,0,0,0]
[null,{"$f":"CONCATENATE(selected_functions!$A$25,E2193,C2193)","v":"1Terabytes"},"Terabytes",null,{"$f":"$E$30","v":1},{"$f":"F2172/1024","v":0},0,0,0,0,0]
[null,{"$f":"CONCATENATE(selected_functions!$A$25,E2194,C2194)","v":"2Terabytes"},"Terabytes",null,{"$f":"$E$31","v":2},0,0,0,0,0,0]
[null,{"$f":"CONCATENATE(selected_functions!$A$25,E2195,C2195)","v":"3Terabytes"},"Terabytes",null,{"$f":"$E$32","v":3},0,0,0,0,0,0]
[null,{"$f":"CONCATENATE(selected_functions!$A$25,E2196,C2196)","v":"-17Petabytes"},{"$f":"input_lists!$G$15","v":"Petabytes"},null,{"$f":"$E$12","v":-17},0,0,0,0,0,0]
[null,{"$f":"CONCATENATE(selected_functions!$A$25,E2197,C2197)","v":"-16Petabytes"},{"$f":"C2196","v":"Petabytes"},null,{"$f":"$E$13","v":-16},0,0,0,0,0,0]
[null,{"$f":"CONCATENATE(selected_functions!$A$25,E2198,C2198)","v":"-15Petabytes"},{"$f":"C2197","v":"Petabytes"},null,{"$f":"$E$14","v":-15},0,0,0,0,0,0]
[null,{"$f":"CONCATENATE(selected_functions!$A$25,E2199,C2199)","v":"-14Petabytes"},"Petabytes",null,{"$f":"$E$15","v":-14},0,0,0,0,0,0]
[null,{"$f":"CONCATENATE(selected_functions!$A$25,E2200,C2200)","v":"-13Petabytes"},"Petabytes",null,{"$f":"$E$16","v":-13},0,0,0,0,0,0]
[null,{"$f":"CONCATENATE(selected_functions!$A$25,E2201,C2201)","v":"-12Petabytes"},"Petabytes",null,{"$f":"$E$17","v":-12},0,0,0,0,0,0]
[null,{"$f":"CONCATENATE(selected_functions!$A$25,E2202,C2202)","v":"-11Petabytes"},"Petabytes",null,{"$f":"$E$18","v":-11},0,0,0,0,0,0]
[null,{"$f":"CONCATENATE(selected_functions!$A$25,E2203,C2203)","v":"-10Petabytes"},"Petabytes",null,{"$f":"$E$19","v":-10},{"$f":"F2182/1024","v":0},0,0,0,0,0]
[null,{"$f":"CONCATENATE(selected_functions!$A$25,E2204,C2204)","v":"-9Petabytes"},"Petabytes",null,{"$f":"$E$20","v":-9},0,0,0,0,0,0]
[null,{"$f":"CONCATENATE(selected_functions!$A$25,E2205,C2205)","v":"-8Petabytes"},"Petabytes",null,{"$f":"$E$21","v":-8},0,0,0,0,0,0]
[null,{"$f":"CONCATENATE(selected_functions!$A$25,E2206,C2206)","v":"-7Petabytes"},"Petabytes",null,{"$f":"$E$22","v":-7},0,0,0,0,0,0]
[null,{"$f":"CONCATENATE(selected_functions!$A$25,E2207,C2207)","v":"-6Petabytes"},"Petabytes",null,{"$f":"$E$23","v":-6},0,0,0,0,0,0]
[null,{"$f":"CONCATENATE(selected_functions!$A$25,E2208,C2208)","v":"-5Petabytes"},"Petabytes",null,{"$f":"$E$24","v":-5},0,0,0,0,0,0]
[null,{"$f":"CONCATENATE(selected_functions!$A$25,E2209,C2209)","v":"-4Petabytes"},"Petabytes",null,{"$f":"$E$25","v":-4},0,0,0,0,0,0]
[null,{"$f":"CONCATENATE(selected_functions!$A$25,E2210,C2210)","v":"-3Petabytes"},"Petabytes",null,{"$f":"$E$26","v":-3},0,0,0,0,0,0]
[null,{"$f":"CONCATENATE(selected_functions!$A$25,E2211,C2211)","v":"-2Petabytes"},"Petabytes",null,{"$f":"$E$27","v":-2},0,0,0,0,0,0]
[null,{"$f":"CONCATENATE(selected_functions!$A$25,E2212,C2212)","v":"-1Petabytes"},"Petabytes",null,{"$f":"$E$28","v":-1},0,0,0,0,0,0]
[null,{"$f":"CONCATENATE(selected_functions!$A$25,E2213,C2213)","v":"0Petabytes"},"Petabytes",null,{"$f":"$E$29","v":0},{"$f":"F2192/1024","v":0},0,0,0,0,0]
[null,{"$f":"CONCATENATE(selected_functions!$A$25,E2214,C2214)","v":"1Petabytes"},"Petabytes",null,{"$f":"$E$30","v":1},0,0,0,0,0,0]
[null,{"$f":"CONCATENATE(selected_functions!$A$25,E2215,C2215)","v":"2Petabytes"},"Petabytes",null,{"$f":"$E$31","v":2},0,0,0,0,0,0]
[null,{"$f":"CONCATENATE(selected_functions!$A$25,E2216,C2216)","v":"3Petabytes"},"Petabytes",null,{"$f":"$E$32","v":3},0,0,0,0,0,0]
[null,{"$f":"CONCATENATE(selected_functions!$A$26,E2217,C2217)","v":"-17Kilobytes"},{"$f":"input_lists!$G$11","v":"Kilobytes"},null,{"$f":"$E$12","v":-17},{"$f":"IF(AND(E2217>=input_database!$D$26,E2217<input_database!$C$26),input_database!$GC$26,\"0\")","v":"0"},{"$f":"IF(E2217<input_database!$C$26,input_database!$GE$26,\"0\")","v":0},{"$f":"IFERROR(input_database!$GH$26,\"0\")","v":0},{"$f":"IF(E2217=input_database!$C$26,input_database!$GG$26,\"0\")","v":"0"},{"$f":"IF(E2217>=input_database!$C$26,(input_database!$GF$26+input_database!$GD$26),0)","v":0},{"$f":"SUM(F2217:J2217)","v":0}]
[null,{"$f":"CONCATENATE(selected_functions!$A$26,E2218,C2218)","v":"-16Kilobytes"},{"$f":"input_lists!$G$11","v":"Kilobytes"},null,{"$f":"$E$13","v":-16},{"$f":"IF(AND(E2218>=input_database!$D$26,E2218<input_database!$C$26),input_database!$GC$26,\"0\")","v":"0"},{"$f":"IF(E2218<input_database!$C$26,input_database!$GE$26,\"0\")","v":0},{"$f":"IFERROR(input_database!$GH$26,\"0\")","v":0},{"$f":"IF(E2218=input_database!$C$26,input_database!$GG$26,\"0\")","v":"0"},{"$f":"IF(E2218>=input_database!$C$26,(input_database!$GF$26+input_database!$GD$26),0)","v":0},{"$f":"K2217+SUM(F2218:J2218)","v":0}]
[null,{"$f":"CONCATENATE(selected_functions!$A$26,E2219,C2219)","v":"-15Kilobytes"},{"$f":"input_lists!$G$11","v":"Kilobytes"},null,{"$f":"$E$14","v":-15},{"$f":"IF(AND(E2219>=input_database!$D$26,E2219<input_database!$C$26),input_database!$GC$26,\"0\")","v":"0"},{"$f":"IF(E2219<input_database!$C$26,input_database!$GE$26,\"0\")","v":0},{"$f":"IFERROR(input_database!$GH$26,\"0\")","v":0},{"$f":"IF(E2219=input_database!$C$26,input_database!$GG$26,\"0\")","v":"0"},{"$f":"IF(E2219>=input_database!$C$26,(input_database!$GF$26+input_database!$GD$26),0)","v":0},{"$f":"K2218+SUM(F2219:J2219)","v":0}]
[null,{"$f":"CONCATENATE(selected_functions!$A$26,E2220,C2220)","v":"-14Kilobytes"},{"$f":"input_lists!$G$11","v":"Kilobytes"},null,{"$f":"$E$15","v":-14},{"$f":"IF(AND(E2220>=input_database!$D$26,E2220<input_database!$C$26),input_database!$GC$26,\"0\")","v":"0"},{"$f":"IF(E2220<input_database!$C$26,input_database!$GE$26,\"0\")","v":0},{"$f":"IFERROR(input_database!$GH$26,\"0\")","v":0},{"$f":"IF(E2220=input_database!$C$26,input_database!$GG$26,\"0\")","v":"0"},{"$f":"IF(E2220>=input_database!$C$26,(input_database!$GF$26+input_database!$GD$26),0)","v":0},0]
[null,{"$f":"CONCATENATE(selected_functions!$A$26,E2221,C2221)","v":"-13Kilobytes"},{"$f":"input_lists!$G$11","v":"Kilobytes"},null,{"$f":"$E$16","v":-13},{"$f":"IF(AND(E2221>=input_database!$D$26,E2221<input_database!$C$26),input_database!$GC$26,\"0\")","v":"0"},{"$f":"IF(E2221<input_database!$C$26,input_database!$GE$26,\"0\")","v":0},{"$f":"IFERROR(input_database!$GH$26,\"0\")","v":0},{"$f":"IF(E2221=input_database!$C$26,input_database!$GG$26,\"0\")","v":"0"},{"$f":"IF(E2221>=input_database!$C$26,(input_database!$GF$26+input_database!$GD$26),0)","v":0},0]
[null,{"$f":"CONCATENATE(selected_functions!$A$26,E2222,C2222)","v":"-12Kilobytes"},{"$f":"input_lists!$G$11","v":"Kilobytes"},null,{"$f":"$E$17","v":-12},{"$f":"IF(AND(E2222>=input_database!$D$26,E2222<input_database!$C$26),input_database!$GC$26,\"0\")","v":"0"},{"$f":"IF(E2222<input_database!$C$26,input_database!$GE$26,\"0\")","v":0},{"$f":"IFERROR(input_database!$GH$26,\"0\")","v":0},{"$f":"IF(E2222=input_database!$C$26,input_database!$GG$26,\"0\")","v":"0"},{"$f":"IF(E2222>=input_database!$C$26,(input_database!$GF$26+input_database!$GD$26),0)","v":0},0]
[null,{"$f":"CONCATENATE(selected_functions!$A$26,E2223,C2223)","v":"-11Kilobytes"},{"$f":"input_lists!$G$11","v":"Kilobytes"},null,{"$f":"$E$18","v":-11},{"$f":"IF(AND(E2223>=input_database!$D$26,E2223<input_database!$C$26),input_database!$GC$26,\"0\")","v":"0"},{"$f":"IF(E2223<input_database!$C$26,input_database!$GE$26,\"0\")","v":0},{"$f":"IFERROR(input_database!$GH$26,\"0\")","v":0},{"$f":"IF(E2223=input_database!$C$26,input_database!$GG$26,\"0\")","v":"0"},{"$f":"IF(E2223>=input_database!$C$26,(input_database!$GF$26+input_database!$GD$26),0)","v":0},0]
[null,{"$f":"CONCATENATE(selected_functions!$A$26,E2224,C2224)","v":"-10Kilobytes"},{"$f":"input_lists!$G$11","v":"Kilobytes"},null,{"$f":"$E$19","v":-10},{"$f":"IF(AND(E2224>=input_database!$D$26,E2224<input_database!$C$26),input_database!$GC$26,\"0\")","v":"0"},{"$f":"IF(E2224<input_database!$C$26,input_database!$GE$26,\"0\")","v":0},{"$f":"IFERROR(input_database!$GH$26,\"0\")","v":0},{"$f":"IF(E2224=input_database!$C$26,input_database!$GG$26,\"0\")","v":"0"},{"$f":"IF(E2224>=input_database!$C$26,(input_database!$GF$26+input_database!$GD$26),0)","v":0},0]
[null,{"$f":"CONCATENATE(selected_functions!$A$26,E2225,C2225)","v":"-9Kilobytes"},{"$f":"input_lists!$G$11","v":"Kilobytes"},null,{"$f":"$E$20","v":-9},{"$f":"IF(AND(E2225>=input_database!$D$26,E2225<input_database!$C$26),input_database!$GC$26,\"0\")","v":"0"},{"$f":"IF(E2225<input_database!$C$26,input_database!$GE$26,\"0\")","v":0},{"$f":"IFERROR(input_database!$GH$26,\"0\")","v":0},{"$f":"IF(E2225=input_database!$C$26,input_database!$GG$26,\"0\")","v":"0"},{"$f":"IF(E2225>=input_database!$C$26,(input_database!$GF$26+input_database!$GD$26),0)","v":0},0]
[null,{"$f":"CONCATENATE(selected_functions!$A$26,E2226,C2226)","v":"-8Kilobytes"},{"$f":"input_lists!$G$11","v":"Kilobytes"},null,{"$f":"$E$21","v":-8},{"$f":"IF(AND(E2226>=input_database!$D$26,E2226<input_database!$C$26),input_database!$GC$26,\"0\")","v":"0"},{"$f":"IF(E2226<input_database!$C$26,input_database!$GE$26,\"0\")","v":0},{"$f":"IFERROR(input_database!$GH$26,\"0\")","v":0},{"$f":"IF(E2226=input_database!$C$26,input_database!$GG$26,\"0\")","v":"0"},{"$f":"IF(E2226>=input_database!$C$26,(input_database!$GF$26+input_database!$GD$26),0)","v":0},0]
[null,{"$f":"CONCATENATE(selected_functions!$A$26,E2227,C2227)","v":"-7Kilobytes"},{"$f":"input_lists!$G$11","v":"Kilobytes"},null,{"$f":"$E$22","v":-7},{"$f":"IF(AND(E2227>=input_database!$D$26,E2227<input_database!$C$26),input_database!$GC$26,\"0\")","v":"0"},{"$f":"IF(E2227<input_database!$C$26,input_database!$GE$26,\"0\")","v":0},{"$f":"IFERROR(input_database!$GH$26,\"0\")","v":0},{"$f":"IF(E2227=input_database!$C$26,input_database!$GG$26,\"0\")","v":"0"},{"$f":"IF(E2227>=input_database!$C$26,(input_database!$GF$26+input_database!$GD$26),0)","v":0},0]
[null,{"$f":"CONCATENATE(selected_functions!$A$26,E2228,C2228)","v":"-6Kilobytes"},{"$f":"input_lists!$G$11","v":"Kilobytes"},null,{"$f":"$E$23","v":-6},{"$f":"IF(AND(E2228>=input_database!$D$26,E2228<input_database!$C$26),input_database!$GC$26,\"0\")","v":"0"},{"$f":"IF(E2228<input_database!$C$26,input_database!$GE$26,\"0\")","v":0},{"$f":"IFERROR(input_database!$GH$26,\"0\")","v":0},{"$f":"IF(E2228=input_database!$C$26,input_database!$GG$26,\"0\")","v":"0"},{"$f":"IF(E2228>=input_database!$C$26,(input_database!$GF$26+input_database!$GD$26),0)","v":0},0]
[null,{"$f":"CONCATENATE(selected_functions!$A$26,E2229,C2229)","v":"-5Kilobytes"},{"$f":"input_lists!$G$11","v":"Kilobytes"},null,{"$f":"$E$24","v":-5},{"$f":"IF(AND(E2229>=input_database!$D$26,E2229<input_database!$C$26),input_database!$GC$26,\"0\")","v":"0"},{"$f":"IF(E2229<input_database!$C$26,input_database!$GE$26,\"0\")","v":0},{"$f":"IFERROR(input_database!$GH$26,\"0\")","v":0},{"$f":"IF(E2229=input_database!$C$26,input_database!$GG$26,\"0\")","v":"0"},{"$f":"IF(E2229>=input_database!$C$26,(input_database!$GF$26+input_database!$GD$26),0)","v":0},0]
[null,{"$f":"CONCATENATE(selected_functions!$A$26,E2230,C2230)","v":"-4Kilobytes"},{"$f":"input_lists!$G$11","v":"Kilobytes"},null,{"$f":"$E$25","v":-4},{"$f":"IF(AND(E2230>=input_database!$D$26,E2230<input_database!$C$26),input_database!$GC$26,\"0\")","v":"0"},{"$f":"IF(E2230<input_database!$C$26,input_database!$GE$26,\"0\")","v":0},{"$f":"IFERROR(input_database!$GH$26,\"0\")","v":0},{"$f":"IF(E2230=input_database!$C$26,input_database!$GG$26,\"0\")","v":"0"},{"$f":"IF(E2230>=input_database!$C$26,(input_database!$GF$26+input_database!$GD$26),0)","v":0},0]
[null,{"$f":"CONCATENATE(selected_functions!$A$26,E2231,C2231)","v":"-3Kilobytes"},{"$f":"input_lists!$G$11","v":"Kilobytes"},null,{"$f":"$E$26","v":-3},{"$f":"IF(AND(E2231>=input_database!$D$26,E2231<input_database!$C$26),input_database!$GC$26,\"0\")","v":"0"},{"$f":"IF(E2231<input_database!$C$26,input_database!$GE$26,\"0\")","v":0},{"$f":"IFERROR(input_database!$GH$26,\"0\")","v":0},{"$f":"IF(E2231=input_database!$C$26,input_database!$GG$26,\"0\")","v":"0"},{"$f":"IF(E2231>=input_database!$C$26,(input_database!$GF$26+input_database!$GD$26),0)","v":0},0]
[null,{"$f":"CONCATENATE(selected_functions!$A$26,E2232,C2232)","v":"-2Kilobytes"},{"$f":"input_lists!$G$11","v":"Kilobytes"},null,{"$f":"$E$27","v":-2},{"$f":"IF(AND(E2232>=input_database!$D$26,E2232<input_database!$C$26),input_database!$GC$26,\"0\")","v":"0"},{"$f":"IF(E2232<input_database!$C$26,input_database!$GE$26,\"0\")","v":0},{"$f":"IFERROR(input_database!$GH$26,\"0\")","v":0},{"$f":"IF(E2232=input_database!$C$26,input_database!$GG$26,\"0\")","v":"0"},{"$f":"IF(E2232>=input_database!$C$26,(input_database!$GF$26+input_database!$GD$26),0)","v":0},0]
[null,{"$f":"CONCATENATE(selected_functions!$A$26,E2233,C2233)","v":"-1Kilobytes"},{"$f":"input_lists!$G$11","v":"Kilobytes"},null,{"$f":"$E$28","v":-1},{"$f":"IF(AND(E2233>=input_database!$D$26,E2233<input_database!$C$26),input_database!$GC$26,\"0\")","v":"0"},{"$f":"IF(E2233<input_database!$C$26,input_database!$GE$26,\"0\")","v":0},{"$f":"IFERROR(input_database!$GH$26,\"0\")","v":0},{"$f":"IF(E2233=input_database!$C$26,input_database!$GG$26,\"0\")","v":"0"},{"$f":"IF(E2233>=input_database!$C$26,(input_database!$GF$26+input_database!$GD$26),0)","v":0},0]
[null,{"$f":"CONCATENATE(selected_functions!$A$26,E2234,C2234)","v":"0Kilobytes"},{"$f":"input_lists!$G$11","v":"Kilobytes"},null,{"$f":"$E$29","v":0},{"$f":"IF(AND(E2234>=input_database!$D$26,E2234<input_database!$C$26),input_database!$GC$26,\"0\")","v":"0"},{"$f":"IF(E2234<input_database!$C$26,input_database!$GE$26,\"0\")","v":"0"},{"$f":"IFERROR(input_database!$GH$26,\"0\")","v":0},{"$f":"IF(E2234=input_database!$C$26,input_database!$GG$26,\"0\")","v":0},{"$f":"IF(E2234>=input_database!$C$26,(input_database!$GF$26+input_database!$GD$26),0)","v":0},0]
[null,{"$f":"CONCATENATE(selected_functions!$A$26,E2235,C2235)","v":"1Kilobytes"},{"$f":"input_lists!$G$11","v":"Kilobytes"},null,{"$f":"$E$30","v":1},{"$f":"IF(AND(E2235>=input_database!$D$26,E2235<input_database!$C$26),input_database!$GC$26,\"0\")","v":"0"},{"$f":"IF(E2235<input_database!$C$26,input_database!$GE$26,\"0\")","v":"0"},{"$f":"IFERROR(input_database!$GH$26,\"0\")","v":0},{"$f":"IF(E2235=input_database!$C$26,input_database!$GG$26,\"0\")","v":"0"},{"$f":"IF(E2235>=input_database!$C$26,(input_database!$GF$26+input_database!$GD$26),0)","v":0},0]
[null,{"$f":"CONCATENATE(selected_functions!$A$26,E2236,C2236)","v":"2Kilobytes"},{"$f":"input_lists!$G$11","v":"Kilobytes"},null,{"$f":"$E$31","v":2},{"$f":"IF(AND(E2236>=input_database!$D$26,E2236<input_database!$C$26),input_database!$GC$26,\"0\")","v":"0"},{"$f":"IF(E2236<input_database!$C$26,input_database!$GE$26,\"0\")","v":"0"},{"$f":"IFERROR(input_database!$GH$26,\"0\")","v":0},{"$f":"IF(E2236=input_database!$C$26,input_database!$GG$26,\"0\")","v":"0"},{"$f":"IF(E2236>=input_database!$C$26,(input_database!$GF$26+input_database!$GD$26),0)","v":0},0]
[null,{"$f":"CONCATENATE(selected_functions!$A$26,E2237,C2237)","v":"3Kilobytes"},{"$f":"input_lists!$G$11","v":"Kilobytes"},null,{"$f":"$E$32","v":3},{"$f":"IF(AND(E2237>=input_database!$D$26,E2237<input_database!$C$26),input_database!$GC$26,\"0\")","v":"0"},{"$f":"IF(E2237<input_database!$C$26,input_database!$GE$26,\"0\")","v":"0"},{"$f":"IFERROR(input_database!$GH$26,\"0\")","v":0},{"$f":"IF(E2237=input_database!$C$26,input_database!$GG$26,\"0\")","v":"0"},{"$f":"IF(E2237>=input_database!$C$26,(input_database!$GF$26+input_database!$GD$26),0)","v":0},0]
[null,{"$f":"CONCATENATE(selected_functions!$A$26,E2238,C2238)","v":"-17Megabytes"},{"$f":"input_lists!$G$12","v":"Megabytes"},null,{"$f":"$E$12","v":-17},{"$f":"F2217/1024","v":0},0,0,0,0,0]
[null,{"$f":"CONCATENATE(selected_functions!$A$26,E2239,C2239)","v":"-16Megabytes"},{"$f":"C2238","v":"Megabytes"},null,{"$f":"$E$13","v":-16},0,0,0,0,0,0]
[null,{"$f":"CONCATENATE(selected_functions!$A$26,E2240,C2240)","v":"-15Megabytes"},{"$f":"C2239","v":"Megabytes"},null,{"$f":"$E$14","v":-15},0,0,0,0,0,0]
[null,{"$f":"CONCATENATE(selected_functions!$A$26,E2241,C2241)","v":"-14Megabytes"},"Megabytes",null,{"$f":"$E$15","v":-14},0,0,0,0,0,0]
[null,{"$f":"CONCATENATE(selected_functions!$A$26,E2242,C2242)","v":"-13Megabytes"},"Megabytes",null,{"$f":"$E$16","v":-13},0,0,0,0,0,0]
[null,{"$f":"CONCATENATE(selected_functions!$A$26,E2243,C2243)","v":"-12Megabytes"},"Megabytes",null,{"$f":"$E$17","v":-12},0,0,0,0,0,0]
[null,{"$f":"CONCATENATE(selected_functions!$A$26,E2244,C2244)","v":"-11Megabytes"},"Megabytes",null,{"$f":"$E$18","v":-11},0,0,0,0,0,0]
[null,{"$f":"CONCATENATE(selected_functions!$A$26,E2245,C2245)","v":"-10Megabytes"},"Megabytes",null,{"$f":"$E$19","v":-10},0,0,0,0,0,0]
[null,{"$f":"CONCATENATE(selected_functions!$A$26,E2246,C2246)","v":"-9Megabytes"},"Megabytes",null,{"$f":"$E$20","v":-9},0,0,0,0,0,0]
[null,{"$f":"CONCATENATE(selected_functions!$A$26,E2247,C2247)","v":"-8Megabytes"},"Megabytes",null,{"$f":"$E$21","v":-8},0,0,0,0,0,0]
[null,{"$f":"CONCATENATE(selected_functions!$A$26,E2248,C2248)","v":"-7Megabytes"},"Megabytes",null,{"$f":"$E$22","v":-7},{"$f":"F2227/1024","v":0},0,0,0,0,0]
[null,{"$f":"CONCATENATE(selected_functions!$A$26,E2249,C2249)","v":"-6Megabytes"},"Megabytes",null,{"$f":"$E$23","v":-6},0,0,0,0,0,0]
[null,{"$f":"CONCATENATE(selected_functions!$A$26,E2250,C2250)","v":"-5Megabytes"},"Megabytes",null,{"$f":"$E$24","v":-5},0,0,0,0,0,0]
[null,{"$f":"CONCATENATE(selected_functions!$A$26,E2251,C2251)","v":"-4Megabytes"},"Megabytes",null,{"$f":"$E$25","v":-4},0,0,0,0,0,0]
[null,{"$f":"CONCATENATE(selected_functions!$A$26,E2252,C2252)","v":"-3Megabytes"},"Megabytes",null,{"$f":"$E$26","v":-3},0,0,0,0,0,0]
[null,{"$f":"CONCATENATE(selected_functions!$A$26,E2253,C2253)","v":"-2Megabytes"},"Megabytes",null,{"$f":"$E$27","v":-2},0,0,0,0,0,0]
[null,{"$f":"CONCATENATE(selected_functions!$A$26,E2254,C2254)","v":"-1Megabytes"},"Megabytes",null,{"$f":"$E$28","v":-1},0,0,0,0,0,0]
[null,{"$f":"CONCATENATE(selected_functions!$A$26,E2255,C2255)","v":"0Megabytes"},"Megabytes",null,{"$f":"$E$29","v":0},0,0,0,0,0,0]
[null,{"$f":"CONCATENATE(selected_functions!$A$26,E2256,C2256)","v":"1Megabytes"},"Megabytes",null,{"$f":"$E$30","v":1},0,0,0,0,0,0]
[null,{"$f":"CONCATENATE(selected_functions!$A$26,E2257,C2257)","v":"2Megabytes"},"Megabytes",null,{"$f":"$E$31","v":2},0,0,0,0,0,0]
[null,{"$f":"CONCATENATE(selected_functions!$A$26,E2258,C2258)","v":"3Megabytes"},{"$f":"C2257","v":"Megabytes"},null,{"$f":"$E$32","v":3},{"$f":"F2237/1024","v":0},0,0,0,0,0]
[null,{"$f":"CONCATENATE(selected_functions!$A$26,E2259,C2259)","v":"-17Gigabytes"},{"$f":"input_lists!$G$13","v":"Gigabytes"},null,{"$f":"$E$12","v":-17},0,0,0,0,0,0]
[null,{"$f":"CONCATENATE(selected_functions!$A$26,E2260,C2260)","v":"-16Gigabytes"},{"$f":"C2259","v":"Gigabytes"},null,{"$f":"$E$13","v":-16},0,0,0,0,0,0]
[null,{"$f":"CONCATENATE(selected_functions!$A$26,E2261,C2261)","v":"-15Gigabytes"},{"$f":"C2260","v":"Gigabytes"},null,{"$f":"$E$14","v":-15},0,0,0,0,0,0]
[null,{"$f":"CONCATENATE(selected_functions!$A$26,E2262,C2262)","v":"-14Gigabytes"},"Gigabytes",null,{"$f":"$E$15","v":-14},0,0,0,0,0,0]
[null,{"$f":"CONCATENATE(selected_functions!$A$26,E2263,C2263)","v":"-13Gigabytes"},"Gigabytes",null,{"$f":"$E$16","v":-13},0,0,0,0,0,0]
[null,{"$f":"CONCATENATE(selected_functions!$A$26,E2264,C2264)","v":"-12Gigabytes"},"Gigabytes",null,{"$f":"$E$17","v":-12},0,0,0,0,0,0]
[null,{"$f":"CONCATENATE(selected_functions!$A$26,E2265,C2265)","v":"-11Gigabytes"},"Gigabytes",null,{"$f":"$E$18","v":-11},0,0,0,0,0,0]
[null,{"$f":"CONCATENATE(selected_functions!$A$26,E2266,C2266)","v":"-10Gigabytes"},"Gigabytes",null,{"$f":"$E$19","v":-10},0,0,0,0,0,0]
[null,{"$f":"CONCATENATE(selected_functions!$A$26,E2267,C2267)","v":"-9Gigabytes"},"Gigabytes",null,{"$f":"$E$20","v":-9},0,0,0,0,0,0]
[null,{"$f":"CONCATENATE(selected_functions!$A$26,E2268,C2268)","v":"-8Gigabytes"},"Gigabytes",null,{"$f":"$E$21","v":-8},{"$f":"F2247/1024","v":0},0,0,0,0,0]
[null,{"$f":"CONCATENATE(selected_functions!$A$26,E2269,C2269)","v":"-7Gigabytes"},"Gigabytes",null,{"$f":"$E$22","v":-7},0,0,0,0,0,0]
[null,{"$f":"CONCATENATE(selected_functions!$A$26,E2270,C2270)","v":"-6Gigabytes"},"Gigabytes",null,{"$f":"$E$23","v":-6},0,0,0,0,0,0]
[null,{"$f":"CONCATENATE(selected_functions!$A$26,E2271,C2271)","v":"-5Gigabytes"},"Gigabytes",null,{"$f":"$E$24","v":-5},0,0,0,0,0,0]
[null,{"$f":"CONCATENATE(selected_functions!$A$26,E2272,C2272)","v":"-4Gigabytes"},"Gigabytes",null,{"$f":"$E$25","v":-4},0,0,0,0,0,0]
[null,{"$f":"CONCATENATE(selected_functions!$A$26,E2273,C2273)","v":"-3Gigabytes"},"Gigabytes",null,{"$f":"$E$26","v":-3},0,0,0,0,0,0]
[null,{"$f":"CONCATENATE(selected_functions!$A$26,E2274,C2274)","v":"-2Gigabytes"},"Gigabytes",null,{"$f":"$E$27","v":-2},0,0,0,0,0,0]
[null,{"$f":"CONCATENATE(selected_functions!$A$26,E2275,C2275)","v":"-1Gigabytes"},"Gigabytes",null,{"$f":"$E$28","v":-1},0,0,0,0,0,0]
[null,{"$f":"CONCATENATE(selected_functions!$A$26,E2276,C2276)","v":"0Gigabytes"},"Gigabytes",null,{"$f":"$E$29","v":0},0,0,0,0,0,0]
[null,{"$f":"CONCATENATE(selected_functions!$A$26,E2277,C2277)","v":"1Gigabytes"},"Gigabytes",null,{"$f":"$E$30","v":1},0,0,0,0,0,0]
[null,{"$f":"CONCATENATE(selected_functions!$A$26,E2278,C2278)","v":"2Gigabytes"},"Gigabytes",null,{"$f":"$E$31","v":2},{"$f":"F2257/1024","v":0},0,0,0,0,0]
[null,{"$f":"CONCATENATE(selected_functions!$A$26,E2279,C2279)","v":"3Gigabytes"},"Gigabytes",null,{"$f":"$E$32","v":3},0,0,0,0,0,0]
[null,{"$f":"CONCATENATE(selected_functions!$A$26,E2280,C2280)","v":"-17Terabytes"},{"$f":"input_lists!$G$14","v":"Terabytes"},null,{"$f":"$E$12","v":-17},0,0,0,0,0,0]
[null,{"$f":"CONCATENATE(selected_functions!$A$26,E2281,C2281)","v":"-16Terabytes"},{"$f":"C2280","v":"Terabytes"},null,{"$f":"$E$13","v":-16},0,0,0,0,0,0]
[null,{"$f":"CONCATENATE(selected_functions!$A$26,E2282,C2282)","v":"-15Terabytes"},{"$f":"C2281","v":"Terabytes"},null,{"$f":"$E$14","v":-15},0,0,0,0,0,0]
[null,{"$f":"CONCATENATE(selected_functions!$A$26,E2283,C2283)","v":"-14Terabytes"},"Terabytes",null,{"$f":"$E$15","v":-14},0,0,0,0,0,0]
[null,{"$f":"CONCATENATE(selected_functions!$A$26,E2284,C2284)","v":"-13Terabytes"},"Terabytes",null,{"$f":"$E$16","v":-13},0,0,0,0,0,0]
[null,{"$f":"CONCATENATE(selected_functions!$A$26,E2285,C2285)","v":"-12Terabytes"},"Terabytes",null,{"$f":"$E$17","v":-12},0,0,0,0,0,0]
[null,{"$f":"CONCATENATE(selected_functions!$A$26,E2286,C2286)","v":"-11Terabytes"},"Terabytes",null,{"$f":"$E$18","v":-11},0,0,0,0,0,0]
[null,{"$f":"CONCATENATE(selected_functions!$A$26,E2287,C2287)","v":"-10Terabytes"},"Terabytes",null,{"$f":"$E$19","v":-10},0,0,0,0,0,0]
[null,{"$f":"CONCATENATE(selected_functions!$A$26,E2288,C2288)","v":"-9Terabytes"},"Terabytes",null,{"$f":"$E$20","v":-9},{"$f":"F2267/1024","v":0},0,0,0,0,0]
[null,{"$f":"CONCATENATE(selected_functions!$A$26,E2289,C2289)","v":"-8Terabytes"},"Terabytes",null,{"$f":"$E$21","v":-8},0,0,0,0,0,0]
[null,{"$f":"CONCATENATE(selected_functions!$A$26,E2290,C2290)","v":"-7Terabytes"},"Terabytes",null,{"$f":"$E$22","v":-7},0,0,0,0,0,0]
[null,{"$f":"CONCATENATE(selected_functions!$A$26,E2291,C2291)","v":"-6Terabytes"},"Terabytes",null,{"$f":"$E$23","v":-6},0,0,0,0,0,0]
[null,{"$f":"CONCATENATE(selected_functions!$A$26,E2292,C2292)","v":"-5Terabytes"},"Terabytes",null,{"$f":"$E$24","v":-5},0,0,0,0,0,0]
[null,{"$f":"CONCATENATE(selected_functions!$A$26,E2293,C2293)","v":"-4Terabytes"},"Terabytes",null,{"$f":"$E$25","v":-4},0,0,0,0,0,0]
[null,{"$f":"CONCATENATE(selected_functions!$A$26,E2294,C2294)","v":"-3Terabytes"},"Terabytes",null,{"$f":"$E$26","v":-3},0,0,0,0,0,0]
[null,{"$f":"CONCATENATE(selected_functions!$A$26,E2295,C2295)","v":"-2Terabytes"},"Terabytes",null,{"$f":"$E$27","v":-2},0,0,0,0,0,0]
[null,{"$f":"CONCATENATE(selected_functions!$A$26,E2296,C2296)","v":"-1Terabytes"},"Terabytes",null,{"$f":"$E$28","v":-1},0,0,0,0,0,0]
[null,{"$f":"CONCATENATE(selected_functions!$A$26,E2297,C2297)","v":"0Terabytes"},"Terabytes",null,{"$f":"$E$29","v":0},0,0,0,0,0,0]
[null,{"$f":"CONCATENATE(selected_functions!$A$26,E2298,C2298)","v":"1Terabytes"},"Terabytes",null,{"$f":"$E$30","v":1},{"$f":"F2277/1024","v":0},0,0,0,0,0]
[null,{"$f":"CONCATENATE(selected_functions!$A$26,E2299,C2299)","v":"2Terabytes"},"Terabytes",null,{"$f":"$E$31","v":2},0,0,0,0,0,0]
[null,{"$f":"CONCATENATE(selected_functions!$A$26,E2300,C2300)","v":"3Terabytes"},"Terabytes",null,{"$f":"$E$32","v":3},0,0,0,0,0,0]
[null,{"$f":"CONCATENATE(selected_functions!$A$26,E2301,C2301)","v":"-17Petabytes"},{"$f":"input_lists!$G$15","v":"Petabytes"},null,{"$f":"$E$12","v":-17},0,0,0,0,0,0]
[null,{"$f":"CONCATENATE(selected_functions!$A$26,E2302,C2302)","v":"-16Petabytes"},{"$f":"C2301","v":"Petabytes"},null,{"$f":"$E$13","v":-16},0,0,0,0,0,0]
[null,{"$f":"CONCATENATE(selected_functions!$A$26,E2303,C2303)","v":"-15Petabytes"},{"$f":"C2302","v":"Petabytes"},null,{"$f":"$E$14","v":-15},0,0,0,0,0,0]
[null,{"$f":"CONCATENATE(selected_functions!$A$26,E2304,C2304)","v":"-14Petabytes"},"Petabytes",null,{"$f":"$E$15","v":-14},0,0,0,0,0,0]
[null,{"$f":"CONCATENATE(selected_functions!$A$26,E2305,C2305)","v":"-13Petabytes"},"Petabytes",null,{"$f":"$E$16","v":-13},0,0,0,0,0,0]
[null,{"$f":"CONCATENATE(selected_functions!$A$26,E2306,C2306)","v":"-12Petabytes"},"Petabytes",null,{"$f":"$E$17","v":-12},0,0,0,0,0,0]
[null,{"$f":"CONCATENATE(selected_functions!$A$26,E2307,C2307)","v":"-11Petabytes"},"Petabytes",null,{"$f":"$E$18","v":-11},0,0,0,0,0,0]
[null,{"$f":"CONCATENATE(selected_functions!$A$26,E2308,C2308)","v":"-10Petabytes"},"Petabytes",null,{"$f":"$E$19","v":-10},{"$f":"F2287/1024","v":0},0,0,0,0,0]
[null,{"$f":"CONCATENATE(selected_functions!$A$26,E2309,C2309)","v":"-9Petabytes"},"Petabytes",null,{"$f":"$E$20","v":-9},0,0,0,0,0,0]
[null,{"$f":"CONCATENATE(selected_functions!$A$26,E2310,C2310)","v":"-8Petabytes"},"Petabytes",null,{"$f":"$E$21","v":-8},0,0,0,0,0,0]
[null,{"$f":"CONCATENATE(selected_functions!$A$26,E2311,C2311)","v":"-7Petabytes"},"Petabytes",null,{"$f":"$E$22","v":-7},0,0,0,0,0,0]
[null,{"$f":"CONCATENATE(selected_functions!$A$26,E2312,C2312)","v":"-6Petabytes"},"Petabytes",null,{"$f":"$E$23","v":-6},0,0,0,0,0,0]
[null,{"$f":"CONCATENATE(selected_functions!$A$26,E2313,C2313)","v":"-5Petabytes"},"Petabytes",null,{"$f":"$E$24","v":-5},0,0,0,0,0,0]
[null,{"$f":"CONCATENATE(selected_functions!$A$26,E2314,C2314)","v":"-4Petabytes"},"Petabytes",null,{"$f":"$E$25","v":-4},0,0,0,0,0,0]
[null,{"$f":"CONCATENATE(selected_functions!$A$26,E2315,C2315)","v":"-3Petabytes"},"Petabytes",null,{"$f":"$E$26","v":-3},0,0,0,0,0,0]
[null,{"$f":"CONCATENATE(selected_functions!$A$26,E2316,C2316)","v":"-2Petabytes"},"Petabytes",null,{"$f":"$E$27","v":-2},0,0,0,0,0,0]
[null,{"$f":"CONCATENATE(selected_functions!$A$26,E2317,C2317)","v":"-1Petabytes"},"Petabytes",null,{"$f":"$E$28","v":-1},0,0,0,0,0,0]
[null,{"$f":"CONCATENATE(selected_functions!$A$26,E2318,C2318)","v":"0Petabytes"},"Petabytes",null,{"$f":"$E$29","v":0},{"$f":"F2297/1024","v":0},0,0,0,0,0]
[null,{"$f":"CONCATENATE(selected_functions!$A$26,E2319,C2319)","v":"1Petabytes"},"Petabytes",null,{"$f":"$E$30","v":1},0,0,0,0,0,0]
[null,{"$f":"CONCATENATE(selected_functions!$A$26,E2320,C2320)","v":"2Petabytes"},"Petabytes",null,{"$f":"$E$31","v":2},0,0,0,0,0,0]
[null,{"$f":"CONCATENATE(selected_functions!$A$26,E2321,C2321)","v":"3Petabytes"},"Petabytes",null,{"$f":"$E$32","v":3},0,0,0,0,0,0]
[null,{"$f":"CONCATENATE(selected_functions!$A$27,E2322,C2322)","v":"-17Kilobytes"},{"$f":"input_lists!$G$11","v":"Kilobytes"},null,{"$f":"$E$12","v":-17},{"$f":"IF(AND(E2322>=input_database!$D$27,E2322<input_database!$C$27),input_database!$GC$27,\"0\")","v":"0"},{"$f":"IF(E2322<input_database!$C$27,input_database!$GE$27,\"0\")","v":0},{"$f":"IFERROR(input_database!$GH$27,\"0\")","v":0},{"$f":"IF(E2322=input_database!$C$27,input_database!$GG$27,\"0\")","v":"0"},{"$f":"IF(E2322>=input_database!$C$27,(input_database!$GF$27+input_database!$GD$27),0)","v":0},{"$f":"SUM(F2322:J2322)","v":0}]
[null,{"$f":"CONCATENATE(selected_functions!$A$27,E2323,C2323)","v":"-16Kilobytes"},{"$f":"input_lists!$G$11","v":"Kilobytes"},null,{"$f":"$E$13","v":-16},{"$f":"IF(AND(E2323>=input_database!$D$27,E2323<input_database!$C$27),input_database!$GC$27,\"0\")","v":"0"},{"$f":"IF(E2323<input_database!$C$27,input_database!$GE$27,\"0\")","v":0},{"$f":"IFERROR(input_database!$GH$27,\"0\")","v":0},{"$f":"IF(E2323=input_database!$C$27,input_database!$GG$27,\"0\")","v":"0"},{"$f":"IF(E2323>=input_database!$C$27,(input_database!$GF$27+input_database!$GD$27),0)","v":0},{"$f":"K2322+SUM(F2323:J2323)","v":0}]
[null,{"$f":"CONCATENATE(selected_functions!$A$27,E2324,C2324)","v":"-15Kilobytes"},{"$f":"input_lists!$G$11","v":"Kilobytes"},null,{"$f":"$E$14","v":-15},{"$f":"IF(AND(E2324>=input_database!$D$27,E2324<input_database!$C$27),input_database!$GC$27,\"0\")","v":"0"},{"$f":"IF(E2324<input_database!$C$27,input_database!$GE$27,\"0\")","v":0},{"$f":"IFERROR(input_database!$GH$27,\"0\")","v":0},{"$f":"IF(E2324=input_database!$C$27,input_database!$GG$27,\"0\")","v":"0"},{"$f":"IF(E2324>=input_database!$C$27,(input_database!$GF$27+input_database!$GD$27),0)","v":0},{"$f":"K2323+SUM(F2324:J2324)","v":0}]
[null,{"$f":"CONCATENATE(selected_functions!$A$27,E2325,C2325)","v":"-14Kilobytes"},{"$f":"input_lists!$G$11","v":"Kilobytes"},null,{"$f":"$E$15","v":-14},{"$f":"IF(AND(E2325>=input_database!$D$27,E2325<input_database!$C$27),input_database!$GC$27,\"0\")","v":"0"},{"$f":"IF(E2325<input_database!$C$27,input_database!$GE$27,\"0\")","v":0},{"$f":"IFERROR(input_database!$GH$27,\"0\")","v":0},{"$f":"IF(E2325=input_database!$C$27,input_database!$GG$27,\"0\")","v":"0"},{"$f":"IF(E2325>=input_database!$C$27,(input_database!$GF$27+input_database!$GD$27),0)","v":0},0]
[null,{"$f":"CONCATENATE(selected_functions!$A$27,E2326,C2326)","v":"-13Kilobytes"},{"$f":"input_lists!$G$11","v":"Kilobytes"},null,{"$f":"$E$16","v":-13},{"$f":"IF(AND(E2326>=input_database!$D$27,E2326<input_database!$C$27),input_database!$GC$27,\"0\")","v":"0"},{"$f":"IF(E2326<input_database!$C$27,input_database!$GE$27,\"0\")","v":0},{"$f":"IFERROR(input_database!$GH$27,\"0\")","v":0},{"$f":"IF(E2326=input_database!$C$27,input_database!$GG$27,\"0\")","v":"0"},{"$f":"IF(E2326>=input_database!$C$27,(input_database!$GF$27+input_database!$GD$27),0)","v":0},0]
[null,{"$f":"CONCATENATE(selected_functions!$A$27,E2327,C2327)","v":"-12Kilobytes"},{"$f":"input_lists!$G$11","v":"Kilobytes"},null,{"$f":"$E$17","v":-12},{"$f":"IF(AND(E2327>=input_database!$D$27,E2327<input_database!$C$27),input_database!$GC$27,\"0\")","v":"0"},{"$f":"IF(E2327<input_database!$C$27,input_database!$GE$27,\"0\")","v":0},{"$f":"IFERROR(input_database!$GH$27,\"0\")","v":0},{"$f":"IF(E2327=input_database!$C$27,input_database!$GG$27,\"0\")","v":"0"},{"$f":"IF(E2327>=input_database!$C$27,(input_database!$GF$27+input_database!$GD$27),0)","v":0},0]
[null,{"$f":"CONCATENATE(selected_functions!$A$27,E2328,C2328)","v":"-11Kilobytes"},{"$f":"input_lists!$G$11","v":"Kilobytes"},null,{"$f":"$E$18","v":-11},{"$f":"IF(AND(E2328>=input_database!$D$27,E2328<input_database!$C$27),input_database!$GC$27,\"0\")","v":"0"},{"$f":"IF(E2328<input_database!$C$27,input_database!$GE$27,\"0\")","v":0},{"$f":"IFERROR(input_database!$GH$27,\"0\")","v":0},{"$f":"IF(E2328=input_database!$C$27,input_database!$GG$27,\"0\")","v":"0"},{"$f":"IF(E2328>=input_database!$C$27,(input_database!$GF$27+input_database!$GD$27),0)","v":0},0]
[null,{"$f":"CONCATENATE(selected_functions!$A$27,E2329,C2329)","v":"-10Kilobytes"},{"$f":"input_lists!$G$11","v":"Kilobytes"},null,{"$f":"$E$19","v":-10},{"$f":"IF(AND(E2329>=input_database!$D$27,E2329<input_database!$C$27),input_database!$GC$27,\"0\")","v":"0"},{"$f":"IF(E2329<input_database!$C$27,input_database!$GE$27,\"0\")","v":0},{"$f":"IFERROR(input_database!$GH$27,\"0\")","v":0},{"$f":"IF(E2329=input_database!$C$27,input_database!$GG$27,\"0\")","v":"0"},{"$f":"IF(E2329>=input_database!$C$27,(input_database!$GF$27+input_database!$GD$27),0)","v":0},0]
[null,{"$f":"CONCATENATE(selected_functions!$A$27,E2330,C2330)","v":"-9Kilobytes"},{"$f":"input_lists!$G$11","v":"Kilobytes"},null,{"$f":"$E$20","v":-9},{"$f":"IF(AND(E2330>=input_database!$D$27,E2330<input_database!$C$27),input_database!$GC$27,\"0\")","v":"0"},{"$f":"IF(E2330<input_database!$C$27,input_database!$GE$27,\"0\")","v":0},{"$f":"IFERROR(input_database!$GH$27,\"0\")","v":0},{"$f":"IF(E2330=input_database!$C$27,input_database!$GG$27,\"0\")","v":"0"},{"$f":"IF(E2330>=input_database!$C$27,(input_database!$GF$27+input_database!$GD$27),0)","v":0},0]
[null,{"$f":"CONCATENATE(selected_functions!$A$27,E2331,C2331)","v":"-8Kilobytes"},{"$f":"input_lists!$G$11","v":"Kilobytes"},null,{"$f":"$E$21","v":-8},{"$f":"IF(AND(E2331>=input_database!$D$27,E2331<input_database!$C$27),input_database!$GC$27,\"0\")","v":"0"},{"$f":"IF(E2331<input_database!$C$27,input_database!$GE$27,\"0\")","v":0},{"$f":"IFERROR(input_database!$GH$27,\"0\")","v":0},{"$f":"IF(E2331=input_database!$C$27,input_database!$GG$27,\"0\")","v":"0"},{"$f":"IF(E2331>=input_database!$C$27,(input_database!$GF$27+input_database!$GD$27),0)","v":0},0]
[null,{"$f":"CONCATENATE(selected_functions!$A$27,E2332,C2332)","v":"-7Kilobytes"},{"$f":"input_lists!$G$11","v":"Kilobytes"},null,{"$f":"$E$22","v":-7},{"$f":"IF(AND(E2332>=input_database!$D$27,E2332<input_database!$C$27),input_database!$GC$27,\"0\")","v":"0"},{"$f":"IF(E2332<input_database!$C$27,input_database!$GE$27,\"0\")","v":0},{"$f":"IFERROR(input_database!$GH$27,\"0\")","v":0},{"$f":"IF(E2332=input_database!$C$27,input_database!$GG$27,\"0\")","v":"0"},{"$f":"IF(E2332>=input_database!$C$27,(input_database!$GF$27+input_database!$GD$27),0)","v":0},0]
[null,{"$f":"CONCATENATE(selected_functions!$A$27,E2333,C2333)","v":"-6Kilobytes"},{"$f":"input_lists!$G$11","v":"Kilobytes"},null,{"$f":"$E$23","v":-6},{"$f":"IF(AND(E2333>=input_database!$D$27,E2333<input_database!$C$27),input_database!$GC$27,\"0\")","v":"0"},{"$f":"IF(E2333<input_database!$C$27,input_database!$GE$27,\"0\")","v":0},{"$f":"IFERROR(input_database!$GH$27,\"0\")","v":0},{"$f":"IF(E2333=input_database!$C$27,input_database!$GG$27,\"0\")","v":"0"},{"$f":"IF(E2333>=input_database!$C$27,(input_database!$GF$27+input_database!$GD$27),0)","v":0},0]
[null,{"$f":"CONCATENATE(selected_functions!$A$27,E2334,C2334)","v":"-5Kilobytes"},{"$f":"input_lists!$G$11","v":"Kilobytes"},null,{"$f":"$E$24","v":-5},{"$f":"IF(AND(E2334>=input_database!$D$27,E2334<input_database!$C$27),input_database!$GC$27,\"0\")","v":"0"},{"$f":"IF(E2334<input_database!$C$27,input_database!$GE$27,\"0\")","v":0},{"$f":"IFERROR(input_database!$GH$27,\"0\")","v":0},{"$f":"IF(E2334=input_database!$C$27,input_database!$GG$27,\"0\")","v":"0"},{"$f":"IF(E2334>=input_database!$C$27,(input_database!$GF$27+input_database!$GD$27),0)","v":0},0]
[null,{"$f":"CONCATENATE(selected_functions!$A$27,E2335,C2335)","v":"-4Kilobytes"},{"$f":"input_lists!$G$11","v":"Kilobytes"},null,{"$f":"$E$25","v":-4},{"$f":"IF(AND(E2335>=input_database!$D$27,E2335<input_database!$C$27),input_database!$GC$27,\"0\")","v":"0"},{"$f":"IF(E2335<input_database!$C$27,input_database!$GE$27,\"0\")","v":0},{"$f":"IFERROR(input_database!$GH$27,\"0\")","v":0},{"$f":"IF(E2335=input_database!$C$27,input_database!$GG$27,\"0\")","v":"0"},{"$f":"IF(E2335>=input_database!$C$27,(input_database!$GF$27+input_database!$GD$27),0)","v":0},0]
[null,{"$f":"CONCATENATE(selected_functions!$A$27,E2336,C2336)","v":"-3Kilobytes"},{"$f":"input_lists!$G$11","v":"Kilobytes"},null,{"$f":"$E$26","v":-3},{"$f":"IF(AND(E2336>=input_database!$D$27,E2336<input_database!$C$27),input_database!$GC$27,\"0\")","v":"0"},{"$f":"IF(E2336<input_database!$C$27,input_database!$GE$27,\"0\")","v":0},{"$f":"IFERROR(input_database!$GH$27,\"0\")","v":0},{"$f":"IF(E2336=input_database!$C$27,input_database!$GG$27,\"0\")","v":"0"},{"$f":"IF(E2336>=input_database!$C$27,(input_database!$GF$27+input_database!$GD$27),0)","v":0},0]
[null,{"$f":"CONCATENATE(selected_functions!$A$27,E2337,C2337)","v":"-2Kilobytes"},{"$f":"input_lists!$G$11","v":"Kilobytes"},null,{"$f":"$E$27","v":-2},{"$f":"IF(AND(E2337>=input_database!$D$27,E2337<input_database!$C$27),input_database!$GC$27,\"0\")","v":"0"},{"$f":"IF(E2337<input_database!$C$27,input_database!$GE$27,\"0\")","v":0},{"$f":"IFERROR(input_database!$GH$27,\"0\")","v":0},{"$f":"IF(E2337=input_database!$C$27,input_database!$GG$27,\"0\")","v":"0"},{"$f":"IF(E2337>=input_database!$C$27,(input_database!$GF$27+input_database!$GD$27),0)","v":0},0]
[null,{"$f":"CONCATENATE(selected_functions!$A$27,E2338,C2338)","v":"-1Kilobytes"},{"$f":"input_lists!$G$11","v":"Kilobytes"},null,{"$f":"$E$28","v":-1},{"$f":"IF(AND(E2338>=input_database!$D$27,E2338<input_database!$C$27),input_database!$GC$27,\"0\")","v":"0"},{"$f":"IF(E2338<input_database!$C$27,input_database!$GE$27,\"0\")","v":0},{"$f":"IFERROR(input_database!$GH$27,\"0\")","v":0},{"$f":"IF(E2338=input_database!$C$27,input_database!$GG$27,\"0\")","v":"0"},{"$f":"IF(E2338>=input_database!$C$27,(input_database!$GF$27+input_database!$GD$27),0)","v":0},0]
[null,{"$f":"CONCATENATE(selected_functions!$A$27,E2339,C2339)","v":"0Kilobytes"},{"$f":"input_lists!$G$11","v":"Kilobytes"},null,{"$f":"$E$29","v":0},{"$f":"IF(AND(E2339>=input_database!$D$27,E2339<input_database!$C$27),input_database!$GC$27,\"0\")","v":"0"},{"$f":"IF(E2339<input_database!$C$27,input_database!$GE$27,\"0\")","v":"0"},{"$f":"IFERROR(input_database!$GH$27,\"0\")","v":0},{"$f":"IF(E2339=input_database!$C$27,input_database!$GG$27,\"0\")","v":0},{"$f":"IF(E2339>=input_database!$C$27,(input_database!$GF$27+input_database!$GD$27),0)","v":0},0]
[null,{"$f":"CONCATENATE(selected_functions!$A$27,E2340,C2340)","v":"1Kilobytes"},{"$f":"input_lists!$G$11","v":"Kilobytes"},null,{"$f":"$E$30","v":1},{"$f":"IF(AND(E2340>=input_database!$D$27,E2340<input_database!$C$27),input_database!$GC$27,\"0\")","v":"0"},{"$f":"IF(E2340<input_database!$C$27,input_database!$GE$27,\"0\")","v":"0"},{"$f":"IFERROR(input_database!$GH$27,\"0\")","v":0},{"$f":"IF(E2340=input_database!$C$27,input_database!$GG$27,\"0\")","v":"0"},{"$f":"IF(E2340>=input_database!$C$27,(input_database!$GF$27+input_database!$GD$27),0)","v":0},0]
[null,{"$f":"CONCATENATE(selected_functions!$A$27,E2341,C2341)","v":"2Kilobytes"},{"$f":"input_lists!$G$11","v":"Kilobytes"},null,{"$f":"$E$31","v":2},{"$f":"IF(AND(E2341>=input_database!$D$27,E2341<input_database!$C$27),input_database!$GC$27,\"0\")","v":"0"},{"$f":"IF(E2341<input_database!$C$27,input_database!$GE$27,\"0\")","v":"0"},{"$f":"IFERROR(input_database!$GH$27,\"0\")","v":0},{"$f":"IF(E2341=input_database!$C$27,input_database!$GG$27,\"0\")","v":"0"},{"$f":"IF(E2341>=input_database!$C$27,(input_database!$GF$27+input_database!$GD$27),0)","v":0},0]
[null,{"$f":"CONCATENATE(selected_functions!$A$27,E2342,C2342)","v":"3Kilobytes"},{"$f":"input_lists!$G$11","v":"Kilobytes"},null,{"$f":"$E$32","v":3},{"$f":"IF(AND(E2342>=input_database!$D$27,E2342<input_database!$C$27),input_database!$GC$27,\"0\")","v":"0"},{"$f":"IF(E2342<input_database!$C$27,input_database!$GE$27,\"0\")","v":"0"},{"$f":"IFERROR(input_database!$GH$27,\"0\")","v":0},{"$f":"IF(E2342=input_database!$C$27,input_database!$GG$27,\"0\")","v":"0"},{"$f":"IF(E2342>=input_database!$C$27,(input_database!$GF$27+input_database!$GD$27),0)","v":0},0]
[null,{"$f":"CONCATENATE(selected_functions!$A$27,E2343,C2343)","v":"-17Megabytes"},{"$f":"input_lists!$G$12","v":"Megabytes"},null,{"$f":"$E$12","v":-17},{"$f":"F2322/1024","v":0},0,0,0,0,0]
[null,{"$f":"CONCATENATE(selected_functions!$A$27,E2344,C2344)","v":"-16Megabytes"},{"$f":"C2343","v":"Megabytes"},null,{"$f":"$E$13","v":-16},0,0,0,0,0,0]
[null,{"$f":"CONCATENATE(selected_functions!$A$27,E2345,C2345)","v":"-15Megabytes"},{"$f":"C2344","v":"Megabytes"},null,{"$f":"$E$14","v":-15},0,0,0,0,0,0]
[null,{"$f":"CONCATENATE(selected_functions!$A$27,E2346,C2346)","v":"-14Megabytes"},"Megabytes",null,{"$f":"$E$15","v":-14},0,0,0,0,0,0]
[null,{"$f":"CONCATENATE(selected_functions!$A$27,E2347,C2347)","v":"-13Megabytes"},"Megabytes",null,{"$f":"$E$16","v":-13},0,0,0,0,0,0]
[null,{"$f":"CONCATENATE(selected_functions!$A$27,E2348,C2348)","v":"-12Megabytes"},"Megabytes",null,{"$f":"$E$17","v":-12},0,0,0,0,0,0]
[null,{"$f":"CONCATENATE(selected_functions!$A$27,E2349,C2349)","v":"-11Megabytes"},"Megabytes",null,{"$f":"$E$18","v":-11},0,0,0,0,0,0]
[null,{"$f":"CONCATENATE(selected_functions!$A$27,E2350,C2350)","v":"-10Megabytes"},"Megabytes",null,{"$f":"$E$19","v":-10},0,0,0,0,0,0]
[null,{"$f":"CONCATENATE(selected_functions!$A$27,E2351,C2351)","v":"-9Megabytes"},"Megabytes",null,{"$f":"$E$20","v":-9},0,0,0,0,0,0]
[null,{"$f":"CONCATENATE(selected_functions!$A$27,E2352,C2352)","v":"-8Megabytes"},"Megabytes",null,{"$f":"$E$21","v":-8},0,0,0,0,0,0]
[null,{"$f":"CONCATENATE(selected_functions!$A$27,E2353,C2353)","v":"-7Megabytes"},"Megabytes",null,{"$f":"$E$22","v":-7},{"$f":"F2332/1024","v":0},0,0,0,0,0]
[null,{"$f":"CONCATENATE(selected_functions!$A$27,E2354,C2354)","v":"-6Megabytes"},"Megabytes",null,{"$f":"$E$23","v":-6},0,0,0,0,0,0]
[null,{"$f":"CONCATENATE(selected_functions!$A$27,E2355,C2355)","v":"-5Megabytes"},"Megabytes",null,{"$f":"$E$24","v":-5},0,0,0,0,0,0]
[null,{"$f":"CONCATENATE(selected_functions!$A$27,E2356,C2356)","v":"-4Megabytes"},"Megabytes",null,{"$f":"$E$25","v":-4},0,0,0,0,0,0]
[null,{"$f":"CONCATENATE(selected_functions!$A$27,E2357,C2357)","v":"-3Megabytes"},"Megabytes",null,{"$f":"$E$26","v":-3},0,0,0,0,0,0]
[null,{"$f":"CONCATENATE(selected_functions!$A$27,E2358,C2358)","v":"-2Megabytes"},"Megabytes",null,{"$f":"$E$27","v":-2},0,0,0,0,0,0]
[null,{"$f":"CONCATENATE(selected_functions!$A$27,E2359,C2359)","v":"-1Megabytes"},"Megabytes",null,{"$f":"$E$28","v":-1},0,0,0,0,0,0]
[null,{"$f":"CONCATENATE(selected_functions!$A$27,E2360,C2360)","v":"0Megabytes"},"Megabytes",null,{"$f":"$E$29","v":0},0,0,0,0,0,0]
[null,{"$f":"CONCATENATE(selected_functions!$A$27,E2361,C2361)","v":"1Megabytes"},"Megabytes",null,{"$f":"$E$30","v":1},0,0,0,0,0,0]
[null,{"$f":"CONCATENATE(selected_functions!$A$27,E2362,C2362)","v":"2Megabytes"},"Megabytes",null,{"$f":"$E$31","v":2},0,0,0,0,0,0]
[null,{"$f":"CONCATENATE(selected_functions!$A$27,E2363,C2363)","v":"3Megabytes"},{"$f":"C2362","v":"Megabytes"},null,{"$f":"$E$32","v":3},{"$f":"F2342/1024","v":0},0,0,0,0,0]
[null,{"$f":"CONCATENATE(selected_functions!$A$27,E2364,C2364)","v":"-17Gigabytes"},{"$f":"input_lists!$G$13","v":"Gigabytes"},null,{"$f":"$E$12","v":-17},0,0,0,0,0,0]
[null,{"$f":"CONCATENATE(selected_functions!$A$27,E2365,C2365)","v":"-16Gigabytes"},{"$f":"C2364","v":"Gigabytes"},null,{"$f":"$E$13","v":-16},0,0,0,0,0,0]
[null,{"$f":"CONCATENATE(selected_functions!$A$27,E2366,C2366)","v":"-15Gigabytes"},{"$f":"C2365","v":"Gigabytes"},null,{"$f":"$E$14","v":-15},0,0,0,0,0,0]
[null,{"$f":"CONCATENATE(selected_functions!$A$27,E2367,C2367)","v":"-14Gigabytes"},"Gigabytes",null,{"$f":"$E$15","v":-14},0,0,0,0,0,0]
[null,{"$f":"CONCATENATE(selected_functions!$A$27,E2368,C2368)","v":"-13Gigabytes"},"Gigabytes",null,{"$f":"$E$16","v":-13},0,0,0,0,0,0]
[null,{"$f":"CONCATENATE(selected_functions!$A$27,E2369,C2369)","v":"-12Gigabytes"},"Gigabytes",null,{"$f":"$E$17","v":-12},0,0,0,0,0,0]
[null,{"$f":"CONCATENATE(selected_functions!$A$27,E2370,C2370)","v":"-11Gigabytes"},"Gigabytes",null,{"$f":"$E$18","v":-11},0,0,0,0,0,0]
[null,{"$f":"CONCATENATE(selected_functions!$A$27,E2371,C2371)","v":"-10Gigabytes"},"Gigabytes",null,{"$f":"$E$19","v":-10},0,0,0,0,0,0]
[null,{"$f":"CONCATENATE(selected_functions!$A$27,E2372,C2372)","v":"-9Gigabytes"},"Gigabytes",null,{"$f":"$E$20","v":-9},0,0,0,0,0,0]
[null,{"$f":"CONCATENATE(selected_functions!$A$27,E2373,C2373)","v":"-8Gigabytes"},"Gigabytes",null,{"$f":"$E$21","v":-8},{"$f":"F2352/1024","v":0},0,0,0,0,0]
[null,{"$f":"CONCATENATE(selected_functions!$A$27,E2374,C2374)","v":"-7Gigabytes"},"Gigabytes",null,{"$f":"$E$22","v":-7},0,0,0,0,0,0]
[null,{"$f":"CONCATENATE(selected_functions!$A$27,E2375,C2375)","v":"-6Gigabytes"},"Gigabytes",null,{"$f":"$E$23","v":-6},0,0,0,0,0,0]
[null,{"$f":"CONCATENATE(selected_functions!$A$27,E2376,C2376)","v":"-5Gigabytes"},"Gigabytes",null,{"$f":"$E$24","v":-5},0,0,0,0,0,0]
[null,{"$f":"CONCATENATE(selected_functions!$A$27,E2377,C2377)","v":"-4Gigabytes"},"Gigabytes",null,{"$f":"$E$25","v":-4},0,0,0,0,0,0]
[null,{"$f":"CONCATENATE(selected_functions!$A$27,E2378,C2378)","v":"-3Gigabytes"},"Gigabytes",null,{"$f":"$E$26","v":-3},0,0,0,0,0,0]
[null,{"$f":"CONCATENATE(selected_functions!$A$27,E2379,C2379)","v":"-2Gigabytes"},"Gigabytes",null,{"$f":"$E$27","v":-2},0,0,0,0,0,0]
[null,{"$f":"CONCATENATE(selected_functions!$A$27,E2380,C2380)","v":"-1Gigabytes"},"Gigabytes",null,{"$f":"$E$28","v":-1},0,0,0,0,0,0]
[null,{"$f":"CONCATENATE(selected_functions!$A$27,E2381,C2381)","v":"0Gigabytes"},"Gigabytes",null,{"$f":"$E$29","v":0},0,0,0,0,0,0]
[null,{"$f":"CONCATENATE(selected_functions!$A$27,E2382,C2382)","v":"1Gigabytes"},"Gigabytes",null,{"$f":"$E$30","v":1},0,0,0,0,0,0]
[null,{"$f":"CONCATENATE(selected_functions!$A$27,E2383,C2383)","v":"2Gigabytes"},"Gigabytes",null,{"$f":"$E$31","v":2},{"$f":"F2362/1024","v":0},0,0,0,0,0]
[null,{"$f":"CONCATENATE(selected_functions!$A$27,E2384,C2384)","v":"3Gigabytes"},"Gigabytes",null,{"$f":"$E$32","v":3},0,0,0,0,0,0]
[null,{"$f":"CONCATENATE(selected_functions!$A$27,E2385,C2385)","v":"-17Terabytes"},{"$f":"input_lists!$G$14","v":"Terabytes"},null,{"$f":"$E$12","v":-17},0,0,0,0,0,0]
[null,{"$f":"CONCATENATE(selected_functions!$A$27,E2386,C2386)","v":"-16Terabytes"},{"$f":"C2385","v":"Terabytes"},null,{"$f":"$E$13","v":-16},0,0,0,0,0,0]
[null,{"$f":"CONCATENATE(selected_functions!$A$27,E2387,C2387)","v":"-15Terabytes"},{"$f":"C2386","v":"Terabytes"},null,{"$f":"$E$14","v":-15},0,0,0,0,0,0]
[null,{"$f":"CONCATENATE(selected_functions!$A$27,E2388,C2388)","v":"-14Terabytes"},"Terabytes",null,{"$f":"$E$15","v":-14},0,0,0,0,0,0]
[null,{"$f":"CONCATENATE(selected_functions!$A$27,E2389,C2389)","v":"-13Terabytes"},"Terabytes",null,{"$f":"$E$16","v":-13},0,0,0,0,0,0]
[null,{"$f":"CONCATENATE(selected_functions!$A$27,E2390,C2390)","v":"-12Terabytes"},"Terabytes",null,{"$f":"$E$17","v":-12},0,0,0,0,0,0]
[null,{"$f":"CONCATENATE(selected_functions!$A$27,E2391,C2391)","v":"-11Terabytes"},"Terabytes",null,{"$f":"$E$18","v":-11},0,0,0,0,0,0]
[null,{"$f":"CONCATENATE(selected_functions!$A$27,E2392,C2392)","v":"-10Terabytes"},"Terabytes",null,{"$f":"$E$19","v":-10},0,0,0,0,0,0]
[null,{"$f":"CONCATENATE(selected_functions!$A$27,E2393,C2393)","v":"-9Terabytes"},"Terabytes",null,{"$f":"$E$20","v":-9},{"$f":"F2372/1024","v":0},0,0,0,0,0]
[null,{"$f":"CONCATENATE(selected_functions!$A$27,E2394,C2394)","v":"-8Terabytes"},"Terabytes",null,{"$f":"$E$21","v":-8},0,0,0,0,0,0]
[null,{"$f":"CONCATENATE(selected_functions!$A$27,E2395,C2395)","v":"-7Terabytes"},"Terabytes",null,{"$f":"$E$22","v":-7},0,0,0,0,0,0]
[null,{"$f":"CONCATENATE(selected_functions!$A$27,E2396,C2396)","v":"-6Terabytes"},"Terabytes",null,{"$f":"$E$23","v":-6},0,0,0,0,0,0]
[null,{"$f":"CONCATENATE(selected_functions!$A$27,E2397,C2397)","v":"-5Terabytes"},"Terabytes",null,{"$f":"$E$24","v":-5},0,0,0,0,0,0]
[null,{"$f":"CONCATENATE(selected_functions!$A$27,E2398,C2398)","v":"-4Terabytes"},"Terabytes",null,{"$f":"$E$25","v":-4},0,0,0,0,0,0]
[null,{"$f":"CONCATENATE(selected_functions!$A$27,E2399,C2399)","v":"-3Terabytes"},"Terabytes",null,{"$f":"$E$26","v":-3},0,0,0,0,0,0]
[null,{"$f":"CONCATENATE(selected_functions!$A$27,E2400,C2400)","v":"-2Terabytes"},"Terabytes",null,{"$f":"$E$27","v":-2},0,0,0,0,0,0]
[null,{"$f":"CONCATENATE(selected_functions!$A$27,E2401,C2401)","v":"-1Terabytes"},"Terabytes",null,{"$f":"$E$28","v":-1},0,0,0,0,0,0]
[null,{"$f":"CONCATENATE(selected_functions!$A$27,E2402,C2402)","v":"0Terabytes"},"Terabytes",null,{"$f":"$E$29","v":0},0,0,0,0,0,0]
[null,{"$f":"CONCATENATE(selected_functions!$A$27,E2403,C2403)","v":"1Terabytes"},"Terabytes",null,{"$f":"$E$30","v":1},{"$f":"F2382/1024","v":0},0,0,0,0,0]
[null,{"$f":"CONCATENATE(selected_functions!$A$27,E2404,C2404)","v":"2Terabytes"},"Terabytes",null,{"$f":"$E$31","v":2},0,0,0,0,0,0]
[null,{"$f":"CONCATENATE(selected_functions!$A$27,E2405,C2405)","v":"3Terabytes"},"Terabytes",null,{"$f":"$E$32","v":3},0,0,0,0,0,0]
[null,{"$f":"CONCATENATE(selected_functions!$A$27,E2406,C2406)","v":"-17Petabytes"},{"$f":"input_lists!$G$15","v":"Petabytes"},null,{"$f":"$E$12","v":-17},0,0,0,0,0,0]
[null,{"$f":"CONCATENATE(selected_functions!$A$27,E2407,C2407)","v":"-16Petabytes"},{"$f":"C2406","v":"Petabytes"},null,{"$f":"$E$13","v":-16},0,0,0,0,0,0]
[null,{"$f":"CONCATENATE(selected_functions!$A$27,E2408,C2408)","v":"-15Petabytes"},{"$f":"C2407","v":"Petabytes"},null,{"$f":"$E$14","v":-15},0,0,0,0,0,0]
[null,{"$f":"CONCATENATE(selected_functions!$A$27,E2409,C2409)","v":"-14Petabytes"},"Petabytes",null,{"$f":"$E$15","v":-14},0,0,0,0,0,0]
[null,{"$f":"CONCATENATE(selected_functions!$A$27,E2410,C2410)","v":"-13Petabytes"},"Petabytes",null,{"$f":"$E$16","v":-13},0,0,0,0,0,0]
[null,{"$f":"CONCATENATE(selected_functions!$A$27,E2411,C2411)","v":"-12Petabytes"},"Petabytes",null,{"$f":"$E$17","v":-12},0,0,0,0,0,0]
[null,{"$f":"CONCATENATE(selected_functions!$A$27,E2412,C2412)","v":"-11Petabytes"},"Petabytes",null,{"$f":"$E$18","v":-11},0,0,0,0,0,0]
[null,{"$f":"CONCATENATE(selected_functions!$A$27,E2413,C2413)","v":"-10Petabytes"},"Petabytes",null,{"$f":"$E$19","v":-10},{"$f":"F2392/1024","v":0},0,0,0,0,0]
[null,{"$f":"CONCATENATE(selected_functions!$A$27,E2414,C2414)","v":"-9Petabytes"},"Petabytes",null,{"$f":"$E$20","v":-9},0,0,0,0,0,0]
[null,{"$f":"CONCATENATE(selected_functions!$A$27,E2415,C2415)","v":"-8Petabytes"},"Petabytes",null,{"$f":"$E$21","v":-8},0,0,0,0,0,0]
[null,{"$f":"CONCATENATE(selected_functions!$A$27,E2416,C2416)","v":"-7Petabytes"},"Petabytes",null,{"$f":"$E$22","v":-7},0,0,0,0,0,0]
[null,{"$f":"CONCATENATE(selected_functions!$A$27,E2417,C2417)","v":"-6Petabytes"},"Petabytes",null,{"$f":"$E$23","v":-6},0,0,0,0,0,0]
[null,{"$f":"CONCATENATE(selected_functions!$A$27,E2418,C2418)","v":"-5Petabytes"},"Petabytes",null,{"$f":"$E$24","v":-5},0,0,0,0,0,0]
[null,{"$f":"CONCATENATE(selected_functions!$A$27,E2419,C2419)","v":"-4Petabytes"},"Petabytes",null,{"$f":"$E$25","v":-4},0,0,0,0,0,0]
[null,{"$f":"CONCATENATE(selected_functions!$A$27,E2420,C2420)","v":"-3Petabytes"},"Petabytes",null,{"$f":"$E$26","v":-3},0,0,0,0,0,0]
[null,{"$f":"CONCATENATE(selected_functions!$A$27,E2421,C2421)","v":"-2Petabytes"},"Petabytes",null,{"$f":"$E$27","v":-2},0,0,0,0,0,0]
[null,{"$f":"CONCATENATE(selected_functions!$A$27,E2422,C2422)","v":"-1Petabytes"},"Petabytes",null,{"$f":"$E$28","v":-1},0,0,0,0,0,0]
[null,{"$f":"CONCATENATE(selected_functions!$A$27,E2423,C2423)","v":"0Petabytes"},"Petabytes",null,{"$f":"$E$29","v":0},{"$f":"F2402/1024","v":0},0,0,0,0,0]
[null,{"$f":"CONCATENATE(selected_functions!$A$27,E2424,C2424)","v":"1Petabytes"},"Petabytes",null,{"$f":"$E$30","v":1},0,0,0,0,0,0]
[null,{"$f":"CONCATENATE(selected_functions!$A$27,E2425,C2425)","v":"2Petabytes"},"Petabytes",null,{"$f":"$E$31","v":2},0,0,0,0,0,0]
[null,{"$f":"CONCATENATE(selected_functions!$A$27,E2426,C2426)","v":"3Petabytes"},"Petabytes",null,{"$f":"$E$32","v":3},0,0,0,0,0,0]
[null,{"$f":"CONCATENATE(selected_functions!$A$28,E2427,C2427)","v":"-17Kilobytes"},{"$f":"input_lists!$G$11","v":"Kilobytes"},null,{"$f":"$E$12","v":-17},{"$f":"IF(AND(E2427>=input_database!$D$28,E2427<input_database!$C$28),input_database!$GC$28,\"0\")","v":"0"},{"$f":"IF(E2427<input_database!$C$28,input_database!$GE$28,\"0\")","v":0},{"$f":"IFERROR(input_database!$GH$28,\"0\")","v":0},{"$f":"IF(E2427=input_database!$C$28,input_database!$GG$28,\"0\")","v":"0"},{"$f":"IF(E2427>=input_database!$C$28,(input_database!$GF$28+input_database!$GD$28),0)","v":0},{"$f":"SUM(F2427:J2427)","v":0}]
[null,{"$f":"CONCATENATE(selected_functions!$A$28,E2428,C2428)","v":"-16Kilobytes"},{"$f":"input_lists!$G$11","v":"Kilobytes"},null,{"$f":"$E$13","v":-16},{"$f":"IF(AND(E2428>=input_database!$D$28,E2428<input_database!$C$28),input_database!$GC$28,\"0\")","v":"0"},{"$f":"IF(E2428<input_database!$C$28,input_database!$GE$28,\"0\")","v":0},{"$f":"IFERROR(input_database!$GH$28,\"0\")","v":0},{"$f":"IF(E2428=input_database!$C$28,input_database!$GG$28,\"0\")","v":"0"},{"$f":"IF(E2428>=input_database!$C$28,(input_database!$GF$28+input_database!$GD$28),0)","v":0},{"$f":"K2427+SUM(F2428:J2428)","v":0}]
[null,{"$f":"CONCATENATE(selected_functions!$A$28,E2429,C2429)","v":"-15Kilobytes"},{"$f":"input_lists!$G$11","v":"Kilobytes"},null,{"$f":"$E$14","v":-15},{"$f":"IF(AND(E2429>=input_database!$D$28,E2429<input_database!$C$28),input_database!$GC$28,\"0\")","v":"0"},{"$f":"IF(E2429<input_database!$C$28,input_database!$GE$28,\"0\")","v":0},{"$f":"IFERROR(input_database!$GH$28,\"0\")","v":0},{"$f":"IF(E2429=input_database!$C$28,input_database!$GG$28,\"0\")","v":"0"},{"$f":"IF(E2429>=input_database!$C$28,(input_database!$GF$28+input_database!$GD$28),0)","v":0},{"$f":"K2428+SUM(F2429:J2429)","v":0}]
[null,{"$f":"CONCATENATE(selected_functions!$A$28,E2430,C2430)","v":"-14Kilobytes"},{"$f":"input_lists!$G$11","v":"Kilobytes"},null,{"$f":"$E$15","v":-14},{"$f":"IF(AND(E2430>=input_database!$D$28,E2430<input_database!$C$28),input_database!$GC$28,\"0\")","v":"0"},{"$f":"IF(E2430<input_database!$C$28,input_database!$GE$28,\"0\")","v":0},{"$f":"IFERROR(input_database!$GH$28,\"0\")","v":0},{"$f":"IF(E2430=input_database!$C$28,input_database!$GG$28,\"0\")","v":"0"},{"$f":"IF(E2430>=input_database!$C$28,(input_database!$GF$28+input_database!$GD$28),0)","v":0},0]
[null,{"$f":"CONCATENATE(selected_functions!$A$28,E2431,C2431)","v":"-13Kilobytes"},{"$f":"input_lists!$G$11","v":"Kilobytes"},null,{"$f":"$E$16","v":-13},{"$f":"IF(AND(E2431>=input_database!$D$28,E2431<input_database!$C$28),input_database!$GC$28,\"0\")","v":"0"},{"$f":"IF(E2431<input_database!$C$28,input_database!$GE$28,\"0\")","v":0},{"$f":"IFERROR(input_database!$GH$28,\"0\")","v":0},{"$f":"IF(E2431=input_database!$C$28,input_database!$GG$28,\"0\")","v":"0"},{"$f":"IF(E2431>=input_database!$C$28,(input_database!$GF$28+input_database!$GD$28),0)","v":0},0]
[null,{"$f":"CONCATENATE(selected_functions!$A$28,E2432,C2432)","v":"-12Kilobytes"},{"$f":"input_lists!$G$11","v":"Kilobytes"},null,{"$f":"$E$17","v":-12},{"$f":"IF(AND(E2432>=input_database!$D$28,E2432<input_database!$C$28),input_database!$GC$28,\"0\")","v":"0"},{"$f":"IF(E2432<input_database!$C$28,input_database!$GE$28,\"0\")","v":0},{"$f":"IFERROR(input_database!$GH$28,\"0\")","v":0},{"$f":"IF(E2432=input_database!$C$28,input_database!$GG$28,\"0\")","v":"0"},{"$f":"IF(E2432>=input_database!$C$28,(input_database!$GF$28+input_database!$GD$28),0)","v":0},0]
[null,{"$f":"CONCATENATE(selected_functions!$A$28,E2433,C2433)","v":"-11Kilobytes"},{"$f":"input_lists!$G$11","v":"Kilobytes"},null,{"$f":"$E$18","v":-11},{"$f":"IF(AND(E2433>=input_database!$D$28,E2433<input_database!$C$28),input_database!$GC$28,\"0\")","v":"0"},{"$f":"IF(E2433<input_database!$C$28,input_database!$GE$28,\"0\")","v":0},{"$f":"IFERROR(input_database!$GH$28,\"0\")","v":0},{"$f":"IF(E2433=input_database!$C$28,input_database!$GG$28,\"0\")","v":"0"},{"$f":"IF(E2433>=input_database!$C$28,(input_database!$GF$28+input_database!$GD$28),0)","v":0},0]
[null,{"$f":"CONCATENATE(selected_functions!$A$28,E2434,C2434)","v":"-10Kilobytes"},{"$f":"input_lists!$G$11","v":"Kilobytes"},null,{"$f":"$E$19","v":-10},{"$f":"IF(AND(E2434>=input_database!$D$28,E2434<input_database!$C$28),input_database!$GC$28,\"0\")","v":"0"},{"$f":"IF(E2434<input_database!$C$28,input_database!$GE$28,\"0\")","v":0},{"$f":"IFERROR(input_database!$GH$28,\"0\")","v":0},{"$f":"IF(E2434=input_database!$C$28,input_database!$GG$28,\"0\")","v":"0"},{"$f":"IF(E2434>=input_database!$C$28,(input_database!$GF$28+input_database!$GD$28),0)","v":0},0]
[null,{"$f":"CONCATENATE(selected_functions!$A$28,E2435,C2435)","v":"-9Kilobytes"},{"$f":"input_lists!$G$11","v":"Kilobytes"},null,{"$f":"$E$20","v":-9},{"$f":"IF(AND(E2435>=input_database!$D$28,E2435<input_database!$C$28),input_database!$GC$28,\"0\")","v":"0"},{"$f":"IF(E2435<input_database!$C$28,input_database!$GE$28,\"0\")","v":0},{"$f":"IFERROR(input_database!$GH$28,\"0\")","v":0},{"$f":"IF(E2435=input_database!$C$28,input_database!$GG$28,\"0\")","v":"0"},{"$f":"IF(E2435>=input_database!$C$28,(input_database!$GF$28+input_database!$GD$28),0)","v":0},0]
[null,{"$f":"CONCATENATE(selected_functions!$A$28,E2436,C2436)","v":"-8Kilobytes"},{"$f":"input_lists!$G$11","v":"Kilobytes"},null,{"$f":"$E$21","v":-8},{"$f":"IF(AND(E2436>=input_database!$D$28,E2436<input_database!$C$28),input_database!$GC$28,\"0\")","v":"0"},{"$f":"IF(E2436<input_database!$C$28,input_database!$GE$28,\"0\")","v":0},{"$f":"IFERROR(input_database!$GH$28,\"0\")","v":0},{"$f":"IF(E2436=input_database!$C$28,input_database!$GG$28,\"0\")","v":"0"},{"$f":"IF(E2436>=input_database!$C$28,(input_database!$GF$28+input_database!$GD$28),0)","v":0},0]
[null,{"$f":"CONCATENATE(selected_functions!$A$28,E2437,C2437)","v":"-7Kilobytes"},{"$f":"input_lists!$G$11","v":"Kilobytes"},null,{"$f":"$E$22","v":-7},{"$f":"IF(AND(E2437>=input_database!$D$28,E2437<input_database!$C$28),input_database!$GC$28,\"0\")","v":"0"},{"$f":"IF(E2437<input_database!$C$28,input_database!$GE$28,\"0\")","v":0},{"$f":"IFERROR(input_database!$GH$28,\"0\")","v":0},{"$f":"IF(E2437=input_database!$C$28,input_database!$GG$28,\"0\")","v":"0"},{"$f":"IF(E2437>=input_database!$C$28,(input_database!$GF$28+input_database!$GD$28),0)","v":0},0]
[null,{"$f":"CONCATENATE(selected_functions!$A$28,E2438,C2438)","v":"-6Kilobytes"},{"$f":"input_lists!$G$11","v":"Kilobytes"},null,{"$f":"$E$23","v":-6},{"$f":"IF(AND(E2438>=input_database!$D$28,E2438<input_database!$C$28),input_database!$GC$28,\"0\")","v":"0"},{"$f":"IF(E2438<input_database!$C$28,input_database!$GE$28,\"0\")","v":0},{"$f":"IFERROR(input_database!$GH$28,\"0\")","v":0},{"$f":"IF(E2438=input_database!$C$28,input_database!$GG$28,\"0\")","v":"0"},{"$f":"IF(E2438>=input_database!$C$28,(input_database!$GF$28+input_database!$GD$28),0)","v":0},0]
[null,{"$f":"CONCATENATE(selected_functions!$A$28,E2439,C2439)","v":"-5Kilobytes"},{"$f":"input_lists!$G$11","v":"Kilobytes"},null,{"$f":"$E$24","v":-5},{"$f":"IF(AND(E2439>=input_database!$D$28,E2439<input_database!$C$28),input_database!$GC$28,\"0\")","v":"0"},{"$f":"IF(E2439<input_database!$C$28,input_database!$GE$28,\"0\")","v":0},{"$f":"IFERROR(input_database!$GH$28,\"0\")","v":0},{"$f":"IF(E2439=input_database!$C$28,input_database!$GG$28,\"0\")","v":"0"},{"$f":"IF(E2439>=input_database!$C$28,(input_database!$GF$28+input_database!$GD$28),0)","v":0},0]
[null,{"$f":"CONCATENATE(selected_functions!$A$28,E2440,C2440)","v":"-4Kilobytes"},{"$f":"input_lists!$G$11","v":"Kilobytes"},null,{"$f":"$E$25","v":-4},{"$f":"IF(AND(E2440>=input_database!$D$28,E2440<input_database!$C$28),input_database!$GC$28,\"0\")","v":"0"},{"$f":"IF(E2440<input_database!$C$28,input_database!$GE$28,\"0\")","v":0},{"$f":"IFERROR(input_database!$GH$28,\"0\")","v":0},{"$f":"IF(E2440=input_database!$C$28,input_database!$GG$28,\"0\")","v":"0"},{"$f":"IF(E2440>=input_database!$C$28,(input_database!$GF$28+input_database!$GD$28),0)","v":0},0]
[null,{"$f":"CONCATENATE(selected_functions!$A$28,E2441,C2441)","v":"-3Kilobytes"},{"$f":"input_lists!$G$11","v":"Kilobytes"},null,{"$f":"$E$26","v":-3},{"$f":"IF(AND(E2441>=input_database!$D$28,E2441<input_database!$C$28),input_database!$GC$28,\"0\")","v":"0"},{"$f":"IF(E2441<input_database!$C$28,input_database!$GE$28,\"0\")","v":0},{"$f":"IFERROR(input_database!$GH$28,\"0\")","v":0},{"$f":"IF(E2441=input_database!$C$28,input_database!$GG$28,\"0\")","v":"0"},{"$f":"IF(E2441>=input_database!$C$28,(input_database!$GF$28+input_database!$GD$28),0)","v":0},0]
[null,{"$f":"CONCATENATE(selected_functions!$A$28,E2442,C2442)","v":"-2Kilobytes"},{"$f":"input_lists!$G$11","v":"Kilobytes"},null,{"$f":"$E$27","v":-2},{"$f":"IF(AND(E2442>=input_database!$D$28,E2442<input_database!$C$28),input_database!$GC$28,\"0\")","v":"0"},{"$f":"IF(E2442<input_database!$C$28,input_database!$GE$28,\"0\")","v":0},{"$f":"IFERROR(input_database!$GH$28,\"0\")","v":0},{"$f":"IF(E2442=input_database!$C$28,input_database!$GG$28,\"0\")","v":"0"},{"$f":"IF(E2442>=input_database!$C$28,(input_database!$GF$28+input_database!$GD$28),0)","v":0},0]
[null,{"$f":"CONCATENATE(selected_functions!$A$28,E2443,C2443)","v":"-1Kilobytes"},{"$f":"input_lists!$G$11","v":"Kilobytes"},null,{"$f":"$E$28","v":-1},{"$f":"IF(AND(E2443>=input_database!$D$28,E2443<input_database!$C$28),input_database!$GC$28,\"0\")","v":"0"},{"$f":"IF(E2443<input_database!$C$28,input_database!$GE$28,\"0\")","v":0},{"$f":"IFERROR(input_database!$GH$28,\"0\")","v":0},{"$f":"IF(E2443=input_database!$C$28,input_database!$GG$28,\"0\")","v":"0"},{"$f":"IF(E2443>=input_database!$C$28,(input_database!$GF$28+input_database!$GD$28),0)","v":0},0]
[null,{"$f":"CONCATENATE(selected_functions!$A$28,E2444,C2444)","v":"0Kilobytes"},{"$f":"input_lists!$G$11","v":"Kilobytes"},null,{"$f":"$E$29","v":0},{"$f":"IF(AND(E2444>=input_database!$D$28,E2444<input_database!$C$28),input_database!$GC$28,\"0\")","v":"0"},{"$f":"IF(E2444<input_database!$C$28,input_database!$GE$28,\"0\")","v":"0"},{"$f":"IFERROR(input_database!$GH$28,\"0\")","v":0},{"$f":"IF(E2444=input_database!$C$28,input_database!$GG$28,\"0\")","v":0},{"$f":"IF(E2444>=input_database!$C$28,(input_database!$GF$28+input_database!$GD$28),0)","v":0},0]
[null,{"$f":"CONCATENATE(selected_functions!$A$28,E2445,C2445)","v":"1Kilobytes"},{"$f":"input_lists!$G$11","v":"Kilobytes"},null,{"$f":"$E$30","v":1},{"$f":"IF(AND(E2445>=input_database!$D$28,E2445<input_database!$C$28),input_database!$GC$28,\"0\")","v":"0"},{"$f":"IF(E2445<input_database!$C$28,input_database!$GE$28,\"0\")","v":"0"},{"$f":"IFERROR(input_database!$GH$28,\"0\")","v":0},{"$f":"IF(E2445=input_database!$C$28,input_database!$GG$28,\"0\")","v":"0"},{"$f":"IF(E2445>=input_database!$C$28,(input_database!$GF$28+input_database!$GD$28),0)","v":0},0]
[null,{"$f":"CONCATENATE(selected_functions!$A$28,E2446,C2446)","v":"2Kilobytes"},{"$f":"input_lists!$G$11","v":"Kilobytes"},null,{"$f":"$E$31","v":2},{"$f":"IF(AND(E2446>=input_database!$D$28,E2446<input_database!$C$28),input_database!$GC$28,\"0\")","v":"0"},{"$f":"IF(E2446<input_database!$C$28,input_database!$GE$28,\"0\")","v":"0"},{"$f":"IFERROR(input_database!$GH$28,\"0\")","v":0},{"$f":"IF(E2446=input_database!$C$28,input_database!$GG$28,\"0\")","v":"0"},{"$f":"IF(E2446>=input_database!$C$28,(input_database!$GF$28+input_database!$GD$28),0)","v":0},0]
[null,{"$f":"CONCATENATE(selected_functions!$A$28,E2447,C2447)","v":"3Kilobytes"},{"$f":"input_lists!$G$11","v":"Kilobytes"},null,{"$f":"$E$32","v":3},{"$f":"IF(AND(E2447>=input_database!$D$28,E2447<input_database!$C$28),input_database!$GC$28,\"0\")","v":"0"},{"$f":"IF(E2447<input_database!$C$28,input_database!$GE$28,\"0\")","v":"0"},{"$f":"IFERROR(input_database!$GH$28,\"0\")","v":0},{"$f":"IF(E2447=input_database!$C$28,input_database!$GG$28,\"0\")","v":"0"},{"$f":"IF(E2447>=input_database!$C$28,(input_database!$GF$28+input_database!$GD$28),0)","v":0},0]
[null,{"$f":"CONCATENATE(selected_functions!$A$28,E2448,C2448)","v":"-17Megabytes"},{"$f":"input_lists!$G$12","v":"Megabytes"},null,{"$f":"$E$12","v":-17},{"$f":"F2427/1024","v":0},0,0,0,0,0]
[null,{"$f":"CONCATENATE(selected_functions!$A$28,E2449,C2449)","v":"-16Megabytes"},{"$f":"C2448","v":"Megabytes"},null,{"$f":"$E$13","v":-16},0,0,0,0,0,0]
[null,{"$f":"CONCATENATE(selected_functions!$A$28,E2450,C2450)","v":"-15Megabytes"},{"$f":"C2449","v":"Megabytes"},null,{"$f":"$E$14","v":-15},0,0,0,0,0,0]
[null,{"$f":"CONCATENATE(selected_functions!$A$28,E2451,C2451)","v":"-14Megabytes"},"Megabytes",null,{"$f":"$E$15","v":-14},0,0,0,0,0,0]
[null,{"$f":"CONCATENATE(selected_functions!$A$28,E2452,C2452)","v":"-13Megabytes"},"Megabytes",null,{"$f":"$E$16","v":-13},0,0,0,0,0,0]
[null,{"$f":"CONCATENATE(selected_functions!$A$28,E2453,C2453)","v":"-12Megabytes"},"Megabytes",null,{"$f":"$E$17","v":-12},0,0,0,0,0,0]
[null,{"$f":"CONCATENATE(selected_functions!$A$28,E2454,C2454)","v":"-11Megabytes"},"Megabytes",null,{"$f":"$E$18","v":-11},0,0,0,0,0,0]
[null,{"$f":"CONCATENATE(selected_functions!$A$28,E2455,C2455)","v":"-10Megabytes"},"Megabytes",null,{"$f":"$E$19","v":-10},0,0,0,0,0,0]
[null,{"$f":"CONCATENATE(selected_functions!$A$28,E2456,C2456)","v":"-9Megabytes"},"Megabytes",null,{"$f":"$E$20","v":-9},0,0,0,0,0,0]
[null,{"$f":"CONCATENATE(selected_functions!$A$28,E2457,C2457)","v":"-8Megabytes"},"Megabytes",null,{"$f":"$E$21","v":-8},0,0,0,0,0,0]
[null,{"$f":"CONCATENATE(selected_functions!$A$28,E2458,C2458)","v":"-7Megabytes"},"Megabytes",null,{"$f":"$E$22","v":-7},{"$f":"F2437/1024","v":0},0,0,0,0,0]
[null,{"$f":"CONCATENATE(selected_functions!$A$28,E2459,C2459)","v":"-6Megabytes"},"Megabytes",null,{"$f":"$E$23","v":-6},0,0,0,0,0,0]
[null,{"$f":"CONCATENATE(selected_functions!$A$28,E2460,C2460)","v":"-5Megabytes"},"Megabytes",null,{"$f":"$E$24","v":-5},0,0,0,0,0,0]
[null,{"$f":"CONCATENATE(selected_functions!$A$28,E2461,C2461)","v":"-4Megabytes"},"Megabytes",null,{"$f":"$E$25","v":-4},0,0,0,0,0,0]
[null,{"$f":"CONCATENATE(selected_functions!$A$28,E2462,C2462)","v":"-3Megabytes"},"Megabytes",null,{"$f":"$E$26","v":-3},0,0,0,0,0,0]
[null,{"$f":"CONCATENATE(selected_functions!$A$28,E2463,C2463)","v":"-2Megabytes"},"Megabytes",null,{"$f":"$E$27","v":-2},0,0,0,0,0,0]
[null,{"$f":"CONCATENATE(selected_functions!$A$28,E2464,C2464)","v":"-1Megabytes"},"Megabytes",null,{"$f":"$E$28","v":-1},0,0,0,0,0,0]
[null,{"$f":"CONCATENATE(selected_functions!$A$28,E2465,C2465)","v":"0Megabytes"},"Megabytes",null,{"$f":"$E$29","v":0},0,0,0,0,0,0]
[null,{"$f":"CONCATENATE(selected_functions!$A$28,E2466,C2466)","v":"1Megabytes"},"Megabytes",null,{"$f":"$E$30","v":1},0,0,0,0,0,0]
[null,{"$f":"CONCATENATE(selected_functions!$A$28,E2467,C2467)","v":"2Megabytes"},"Megabytes",null,{"$f":"$E$31","v":2},0,0,0,0,0,0]
[null,{"$f":"CONCATENATE(selected_functions!$A$28,E2468,C2468)","v":"3Megabytes"},{"$f":"C2467","v":"Megabytes"},null,{"$f":"$E$32","v":3},{"$f":"F2447/1024","v":0},0,0,0,0,0]
[null,{"$f":"CONCATENATE(selected_functions!$A$28,E2469,C2469)","v":"-17Gigabytes"},{"$f":"input_lists!$G$13","v":"Gigabytes"},null,{"$f":"$E$12","v":-17},0,0,0,0,0,0]
[null,{"$f":"CONCATENATE(selected_functions!$A$28,E2470,C2470)","v":"-16Gigabytes"},{"$f":"C2469","v":"Gigabytes"},null,{"$f":"$E$13","v":-16},0,0,0,0,0,0]
[null,{"$f":"CONCATENATE(selected_functions!$A$28,E2471,C2471)","v":"-15Gigabytes"},{"$f":"C2470","v":"Gigabytes"},null,{"$f":"$E$14","v":-15},0,0,0,0,0,0]
[null,{"$f":"CONCATENATE(selected_functions!$A$28,E2472,C2472)","v":"-14Gigabytes"},"Gigabytes",null,{"$f":"$E$15","v":-14},0,0,0,0,0,0]
[null,{"$f":"CONCATENATE(selected_functions!$A$28,E2473,C2473)","v":"-13Gigabytes"},"Gigabytes",null,{"$f":"$E$16","v":-13},0,0,0,0,0,0]
[null,{"$f":"CONCATENATE(selected_functions!$A$28,E2474,C2474)","v":"-12Gigabytes"},"Gigabytes",null,{"$f":"$E$17","v":-12},0,0,0,0,0,0]
[null,{"$f":"CONCATENATE(selected_functions!$A$28,E2475,C2475)","v":"-11Gigabytes"},"Gigabytes",null,{"$f":"$E$18","v":-11},0,0,0,0,0,0]
[null,{"$f":"CONCATENATE(selected_functions!$A$28,E2476,C2476)","v":"-10Gigabytes"},"Gigabytes",null,{"$f":"$E$19","v":-10},0,0,0,0,0,0]
[null,{"$f":"CONCATENATE(selected_functions!$A$28,E2477,C2477)","v":"-9Gigabytes"},"Gigabytes",null,{"$f":"$E$20","v":-9},0,0,0,0,0,0]
[null,{"$f":"CONCATENATE(selected_functions!$A$28,E2478,C2478)","v":"-8Gigabytes"},"Gigabytes",null,{"$f":"$E$21","v":-8},{"$f":"F2457/1024","v":0},0,0,0,0,0]
[null,{"$f":"CONCATENATE(selected_functions!$A$28,E2479,C2479)","v":"-7Gigabytes"},"Gigabytes",null,{"$f":"$E$22","v":-7},0,0,0,0,0,0]
[null,{"$f":"CONCATENATE(selected_functions!$A$28,E2480,C2480)","v":"-6Gigabytes"},"Gigabytes",null,{"$f":"$E$23","v":-6},0,0,0,0,0,0]
[null,{"$f":"CONCATENATE(selected_functions!$A$28,E2481,C2481)","v":"-5Gigabytes"},"Gigabytes",null,{"$f":"$E$24","v":-5},0,0,0,0,0,0]
[null,{"$f":"CONCATENATE(selected_functions!$A$28,E2482,C2482)","v":"-4Gigabytes"},"Gigabytes",null,{"$f":"$E$25","v":-4},0,0,0,0,0,0]
[null,{"$f":"CONCATENATE(selected_functions!$A$28,E2483,C2483)","v":"-3Gigabytes"},"Gigabytes",null,{"$f":"$E$26","v":-3},0,0,0,0,0,0]
[null,{"$f":"CONCATENATE(selected_functions!$A$28,E2484,C2484)","v":"-2Gigabytes"},"Gigabytes",null,{"$f":"$E$27","v":-2},0,0,0,0,0,0]
[null,{"$f":"CONCATENATE(selected_functions!$A$28,E2485,C2485)","v":"-1Gigabytes"},"Gigabytes",null,{"$f":"$E$28","v":-1},0,0,0,0,0,0]
[null,{"$f":"CONCATENATE(selected_functions!$A$28,E2486,C2486)","v":"0Gigabytes"},"Gigabytes",null,{"$f":"$E$29","v":0},0,0,0,0,0,0]
[null,{"$f":"CONCATENATE(selected_functions!$A$28,E2487,C2487)","v":"1Gigabytes"},"Gigabytes",null,{"$f":"$E$30","v":1},0,0,0,0,0,0]
[null,{"$f":"CONCATENATE(selected_functions!$A$28,E2488,C2488)","v":"2Gigabytes"},"Gigabytes",null,{"$f":"$E$31","v":2},{"$f":"F2467/1024","v":0},0,0,0,0,0]
[null,{"$f":"CONCATENATE(selected_functions!$A$28,E2489,C2489)","v":"3Gigabytes"},"Gigabytes",null,{"$f":"$E$32","v":3},0,0,0,0,0,0]
[null,{"$f":"CONCATENATE(selected_functions!$A$28,E2490,C2490)","v":"-17Terabytes"},{"$f":"input_lists!$G$14","v":"Terabytes"},null,{"$f":"$E$12","v":-17},0,0,0,0,0,0]
[null,{"$f":"CONCATENATE(selected_functions!$A$28,E2491,C2491)","v":"-16Terabytes"},{"$f":"C2490","v":"Terabytes"},null,{"$f":"$E$13","v":-16},0,0,0,0,0,0]
[null,{"$f":"CONCATENATE(selected_functions!$A$28,E2492,C2492)","v":"-15Terabytes"},{"$f":"C2491","v":"Terabytes"},null,{"$f":"$E$14","v":-15},0,0,0,0,0,0]
[null,{"$f":"CONCATENATE(selected_functions!$A$28,E2493,C2493)","v":"-14Terabytes"},"Terabytes",null,{"$f":"$E$15","v":-14},0,0,0,0,0,0]
[null,{"$f":"CONCATENATE(selected_functions!$A$28,E2494,C2494)","v":"-13Terabytes"},"Terabytes",null,{"$f":"$E$16","v":-13},0,0,0,0,0,0]
[null,{"$f":"CONCATENATE(selected_functions!$A$28,E2495,C2495)","v":"-12Terabytes"},"Terabytes",null,{"$f":"$E$17","v":-12},0,0,0,0,0,0]
[null,{"$f":"CONCATENATE(selected_functions!$A$28,E2496,C2496)","v":"-11Terabytes"},"Terabytes",null,{"$f":"$E$18","v":-11},0,0,0,0,0,0]
[null,{"$f":"CONCATENATE(selected_functions!$A$28,E2497,C2497)","v":"-10Terabytes"},"Terabytes",null,{"$f":"$E$19","v":-10},0,0,0,0,0,0]
[null,{"$f":"CONCATENATE(selected_functions!$A$28,E2498,C2498)","v":"-9Terabytes"},"Terabytes",null,{"$f":"$E$20","v":-9},{"$f":"F2477/1024","v":0},0,0,0,0,0]
[null,{"$f":"CONCATENATE(selected_functions!$A$28,E2499,C2499)","v":"-8Terabytes"},"Terabytes",null,{"$f":"$E$21","v":-8},0,0,0,0,0,0]
[null,{"$f":"CONCATENATE(selected_functions!$A$28,E2500,C2500)","v":"-7Terabytes"},"Terabytes",null,{"$f":"$E$22","v":-7},0,0,0,0,0,0]
[null,{"$f":"CONCATENATE(selected_functions!$A$28,E2501,C2501)","v":"-6Terabytes"},"Terabytes",null,{"$f":"$E$23","v":-6},0,0,0,0,0,0]
[null,{"$f":"CONCATENATE(selected_functions!$A$28,E2502,C2502)","v":"-5Terabytes"},"Terabytes",null,{"$f":"$E$24","v":-5},0,0,0,0,0,0]
[null,{"$f":"CONCATENATE(selected_functions!$A$28,E2503,C2503)","v":"-4Terabytes"},"Terabytes",null,{"$f":"$E$25","v":-4},0,0,0,0,0,0]
[null,{"$f":"CONCATENATE(selected_functions!$A$28,E2504,C2504)","v":"-3Terabytes"},"Terabytes",null,{"$f":"$E$26","v":-3},0,0,0,0,0,0]
[null,{"$f":"CONCATENATE(selected_functions!$A$28,E2505,C2505)","v":"-2Terabytes"},"Terabytes",null,{"$f":"$E$27","v":-2},0,0,0,0,0,0]
[null,{"$f":"CONCATENATE(selected_functions!$A$28,E2506,C2506)","v":"-1Terabytes"},"Terabytes",null,{"$f":"$E$28","v":-1},0,0,0,0,0,0]
[null,{"$f":"CONCATENATE(selected_functions!$A$28,E2507,C2507)","v":"0Terabytes"},"Terabytes",null,{"$f":"$E$29","v":0},0,0,0,0,0,0]
[null,{"$f":"CONCATENATE(selected_functions!$A$28,E2508,C2508)","v":"1Terabytes"},"Terabytes",null,{"$f":"$E$30","v":1},{"$f":"F2487/1024","v":0},0,0,0,0,0]
[null,{"$f":"CONCATENATE(selected_functions!$A$28,E2509,C2509)","v":"2Terabytes"},"Terabytes",null,{"$f":"$E$31","v":2},0,0,0,0,0,0]
[null,{"$f":"CONCATENATE(selected_functions!$A$28,E2510,C2510)","v":"3Terabytes"},"Terabytes",null,{"$f":"$E$32","v":3},0,0,0,0,0,0]
[null,{"$f":"CONCATENATE(selected_functions!$A$28,E2511,C2511)","v":"-17Petabytes"},{"$f":"input_lists!$G$15","v":"Petabytes"},null,{"$f":"$E$12","v":-17},0,0,0,0,0,0]
[null,{"$f":"CONCATENATE(selected_functions!$A$28,E2512,C2512)","v":"-16Petabytes"},{"$f":"C2511","v":"Petabytes"},null,{"$f":"$E$13","v":-16},0,0,0,0,0,0]
[null,{"$f":"CONCATENATE(selected_functions!$A$28,E2513,C2513)","v":"-15Petabytes"},{"$f":"C2512","v":"Petabytes"},null,{"$f":"$E$14","v":-15},0,0,0,0,0,0]
[null,{"$f":"CONCATENATE(selected_functions!$A$28,E2514,C2514)","v":"-14Petabytes"},"Petabytes",null,{"$f":"$E$15","v":-14},0,0,0,0,0,0]
[null,{"$f":"CONCATENATE(selected_functions!$A$28,E2515,C2515)","v":"-13Petabytes"},"Petabytes",null,{"$f":"$E$16","v":-13},0,0,0,0,0,0]
[null,{"$f":"CONCATENATE(selected_functions!$A$28,E2516,C2516)","v":"-12Petabytes"},"Petabytes",null,{"$f":"$E$17","v":-12},0,0,0,0,0,0]
[null,{"$f":"CONCATENATE(selected_functions!$A$28,E2517,C2517)","v":"-11Petabytes"},"Petabytes",null,{"$f":"$E$18","v":-11},0,0,0,0,0,0]
[null,{"$f":"CONCATENATE(selected_functions!$A$28,E2518,C2518)","v":"-10Petabytes"},"Petabytes",null,{"$f":"$E$19","v":-10},{"$f":"F2497/1024","v":0},0,0,0,0,0]
[null,{"$f":"CONCATENATE(selected_functions!$A$28,E2519,C2519)","v":"-9Petabytes"},"Petabytes",null,{"$f":"$E$20","v":-9},0,0,0,0,0,0]
[null,{"$f":"CONCATENATE(selected_functions!$A$28,E2520,C2520)","v":"-8Petabytes"},"Petabytes",null,{"$f":"$E$21","v":-8},0,0,0,0,0,0]
[null,{"$f":"CONCATENATE(selected_functions!$A$28,E2521,C2521)","v":"-7Petabytes"},"Petabytes",null,{"$f":"$E$22","v":-7},0,0,0,0,0,0]
[null,{"$f":"CONCATENATE(selected_functions!$A$28,E2522,C2522)","v":"-6Petabytes"},"Petabytes",null,{"$f":"$E$23","v":-6},0,0,0,0,0,0]
[null,{"$f":"CONCATENATE(selected_functions!$A$28,E2523,C2523)","v":"-5Petabytes"},"Petabytes",null,{"$f":"$E$24","v":-5},0,0,0,0,0,0]
[null,{"$f":"CONCATENATE(selected_functions!$A$28,E2524,C2524)","v":"-4Petabytes"},"Petabytes",null,{"$f":"$E$25","v":-4},0,0,0,0,0,0]
[null,{"$f":"CONCATENATE(selected_functions!$A$28,E2525,C2525)","v":"-3Petabytes"},"Petabytes",null,{"$f":"$E$26","v":-3},0,0,0,0,0,0]
[null,{"$f":"CONCATENATE(selected_functions!$A$28,E2526,C2526)","v":"-2Petabytes"},"Petabytes",null,{"$f":"$E$27","v":-2},0,0,0,0,0,0]
[null,{"$f":"CONCATENATE(selected_functions!$A$28,E2527,C2527)","v":"-1Petabytes"},"Petabytes",null,{"$f":"$E$28","v":-1},0,0,0,0,0,0]
[null,{"$f":"CONCATENATE(selected_functions!$A$28,E2528,C2528)","v":"0Petabytes"},"Petabytes",null,{"$f":"$E$29","v":0},{"$f":"F2507/1024","v":0},0,0,0,0,0]
[null,{"$f":"CONCATENATE(selected_functions!$A$28,E2529,C2529)","v":"1Petabytes"},"Petabytes",null,{"$f":"$E$30","v":1},0,0,0,0,0,0]
[null,{"$f":"CONCATENATE(selected_functions!$A$28,E2530,C2530)","v":"2Petabytes"},"Petabytes",null,{"$f":"$E$31","v":2},0,0,0,0,0,0]
[null,{"$f":"CONCATENATE(selected_functions!$A$28,E2531,C2531)","v":"3Petabytes"},"Petabytes",null,{"$f":"$E$32","v":3},0,0,0,0,0,0]
[null,{"$f":"CONCATENATE(selected_functions!$A$29,E2532,C2532)","v":"-17Kilobytes"},{"$f":"input_lists!$G$11","v":"Kilobytes"},null,{"$f":"$E$12","v":-17},{"$f":"IF(AND(E2532>=input_database!$D$29,E2532<input_database!$C$29),input_database!$GC$29,\"0\")","v":"0"},{"$f":"IF(E2532<input_database!$C$29,input_database!$GE$29,\"0\")","v":0},{"$f":"IFERROR(input_database!$GH$29,\"0\")","v":0},{"$f":"IF(E2532=input_database!$C$29,input_database!$GG$29,\"0\")","v":"0"},{"$f":"IF(E2532>=input_database!$C$29,(input_database!$GF$29+input_database!$GD$29),0)","v":0},{"$f":"SUM(F2532:J2532)","v":0}]
[null,{"$f":"CONCATENATE(selected_functions!$A$29,E2533,C2533)","v":"-16Kilobytes"},{"$f":"input_lists!$G$11","v":"Kilobytes"},null,{"$f":"$E$13","v":-16},{"$f":"IF(AND(E2533>=input_database!$D$29,E2533<input_database!$C$29),input_database!$GC$29,\"0\")","v":"0"},{"$f":"IF(E2533<input_database!$C$29,input_database!$GE$29,\"0\")","v":0},{"$f":"IFERROR(input_database!$GH$29,\"0\")","v":0},{"$f":"IF(E2533=input_database!$C$29,input_database!$GG$29,\"0\")","v":"0"},{"$f":"IF(E2533>=input_database!$C$29,(input_database!$GF$29+input_database!$GD$29),0)","v":0},{"$f":"K2532+SUM(F2533:J2533)","v":0}]
[null,{"$f":"CONCATENATE(selected_functions!$A$29,E2534,C2534)","v":"-15Kilobytes"},{"$f":"input_lists!$G$11","v":"Kilobytes"},null,{"$f":"$E$14","v":-15},{"$f":"IF(AND(E2534>=input_database!$D$29,E2534<input_database!$C$29),input_database!$GC$29,\"0\")","v":"0"},{"$f":"IF(E2534<input_database!$C$29,input_database!$GE$29,\"0\")","v":0},{"$f":"IFERROR(input_database!$GH$29,\"0\")","v":0},{"$f":"IF(E2534=input_database!$C$29,input_database!$GG$29,\"0\")","v":"0"},{"$f":"IF(E2534>=input_database!$C$29,(input_database!$GF$29+input_database!$GD$29),0)","v":0},{"$f":"K2533+SUM(F2534:J2534)","v":0}]
[null,{"$f":"CONCATENATE(selected_functions!$A$29,E2535,C2535)","v":"-14Kilobytes"},{"$f":"input_lists!$G$11","v":"Kilobytes"},null,{"$f":"$E$15","v":-14},{"$f":"IF(AND(E2535>=input_database!$D$29,E2535<input_database!$C$29),input_database!$GC$29,\"0\")","v":"0"},{"$f":"IF(E2535<input_database!$C$29,input_database!$GE$29,\"0\")","v":0},{"$f":"IFERROR(input_database!$GH$29,\"0\")","v":0},{"$f":"IF(E2535=input_database!$C$29,input_database!$GG$29,\"0\")","v":"0"},{"$f":"IF(E2535>=input_database!$C$29,(input_database!$GF$29+input_database!$GD$29),0)","v":0},0]
[null,{"$f":"CONCATENATE(selected_functions!$A$29,E2536,C2536)","v":"-13Kilobytes"},{"$f":"input_lists!$G$11","v":"Kilobytes"},null,{"$f":"$E$16","v":-13},{"$f":"IF(AND(E2536>=input_database!$D$29,E2536<input_database!$C$29),input_database!$GC$29,\"0\")","v":"0"},{"$f":"IF(E2536<input_database!$C$29,input_database!$GE$29,\"0\")","v":0},{"$f":"IFERROR(input_database!$GH$29,\"0\")","v":0},{"$f":"IF(E2536=input_database!$C$29,input_database!$GG$29,\"0\")","v":"0"},{"$f":"IF(E2536>=input_database!$C$29,(input_database!$GF$29+input_database!$GD$29),0)","v":0},0]
[null,{"$f":"CONCATENATE(selected_functions!$A$29,E2537,C2537)","v":"-12Kilobytes"},{"$f":"input_lists!$G$11","v":"Kilobytes"},null,{"$f":"$E$17","v":-12},{"$f":"IF(AND(E2537>=input_database!$D$29,E2537<input_database!$C$29),input_database!$GC$29,\"0\")","v":"0"},{"$f":"IF(E2537<input_database!$C$29,input_database!$GE$29,\"0\")","v":0},{"$f":"IFERROR(input_database!$GH$29,\"0\")","v":0},{"$f":"IF(E2537=input_database!$C$29,input_database!$GG$29,\"0\")","v":"0"},{"$f":"IF(E2537>=input_database!$C$29,(input_database!$GF$29+input_database!$GD$29),0)","v":0},0]
[null,{"$f":"CONCATENATE(selected_functions!$A$29,E2538,C2538)","v":"-11Kilobytes"},{"$f":"input_lists!$G$11","v":"Kilobytes"},null,{"$f":"$E$18","v":-11},{"$f":"IF(AND(E2538>=input_database!$D$29,E2538<input_database!$C$29),input_database!$GC$29,\"0\")","v":"0"},{"$f":"IF(E2538<input_database!$C$29,input_database!$GE$29,\"0\")","v":0},{"$f":"IFERROR(input_database!$GH$29,\"0\")","v":0},{"$f":"IF(E2538=input_database!$C$29,input_database!$GG$29,\"0\")","v":"0"},{"$f":"IF(E2538>=input_database!$C$29,(input_database!$GF$29+input_database!$GD$29),0)","v":0},0]
[null,{"$f":"CONCATENATE(selected_functions!$A$29,E2539,C2539)","v":"-10Kilobytes"},{"$f":"input_lists!$G$11","v":"Kilobytes"},null,{"$f":"$E$19","v":-10},{"$f":"IF(AND(E2539>=input_database!$D$29,E2539<input_database!$C$29),input_database!$GC$29,\"0\")","v":"0"},{"$f":"IF(E2539<input_database!$C$29,input_database!$GE$29,\"0\")","v":0},{"$f":"IFERROR(input_database!$GH$29,\"0\")","v":0},{"$f":"IF(E2539=input_database!$C$29,input_database!$GG$29,\"0\")","v":"0"},{"$f":"IF(E2539>=input_database!$C$29,(input_database!$GF$29+input_database!$GD$29),0)","v":0},0]
[null,{"$f":"CONCATENATE(selected_functions!$A$29,E2540,C2540)","v":"-9Kilobytes"},{"$f":"input_lists!$G$11","v":"Kilobytes"},null,{"$f":"$E$20","v":-9},{"$f":"IF(AND(E2540>=input_database!$D$29,E2540<input_database!$C$29),input_database!$GC$29,\"0\")","v":"0"},{"$f":"IF(E2540<input_database!$C$29,input_database!$GE$29,\"0\")","v":0},{"$f":"IFERROR(input_database!$GH$29,\"0\")","v":0},{"$f":"IF(E2540=input_database!$C$29,input_database!$GG$29,\"0\")","v":"0"},{"$f":"IF(E2540>=input_database!$C$29,(input_database!$GF$29+input_database!$GD$29),0)","v":0},0]
[null,{"$f":"CONCATENATE(selected_functions!$A$29,E2541,C2541)","v":"-8Kilobytes"},{"$f":"input_lists!$G$11","v":"Kilobytes"},null,{"$f":"$E$21","v":-8},{"$f":"IF(AND(E2541>=input_database!$D$29,E2541<input_database!$C$29),input_database!$GC$29,\"0\")","v":"0"},{"$f":"IF(E2541<input_database!$C$29,input_database!$GE$29,\"0\")","v":0},{"$f":"IFERROR(input_database!$GH$29,\"0\")","v":0},{"$f":"IF(E2541=input_database!$C$29,input_database!$GG$29,\"0\")","v":"0"},{"$f":"IF(E2541>=input_database!$C$29,(input_database!$GF$29+input_database!$GD$29),0)","v":0},0]
[null,{"$f":"CONCATENATE(selected_functions!$A$29,E2542,C2542)","v":"-7Kilobytes"},{"$f":"input_lists!$G$11","v":"Kilobytes"},null,{"$f":"$E$22","v":-7},{"$f":"IF(AND(E2542>=input_database!$D$29,E2542<input_database!$C$29),input_database!$GC$29,\"0\")","v":"0"},{"$f":"IF(E2542<input_database!$C$29,input_database!$GE$29,\"0\")","v":0},{"$f":"IFERROR(input_database!$GH$29,\"0\")","v":0},{"$f":"IF(E2542=input_database!$C$29,input_database!$GG$29,\"0\")","v":"0"},{"$f":"IF(E2542>=input_database!$C$29,(input_database!$GF$29+input_database!$GD$29),0)","v":0},0]
[null,{"$f":"CONCATENATE(selected_functions!$A$29,E2543,C2543)","v":"-6Kilobytes"},{"$f":"input_lists!$G$11","v":"Kilobytes"},null,{"$f":"$E$23","v":-6},{"$f":"IF(AND(E2543>=input_database!$D$29,E2543<input_database!$C$29),input_database!$GC$29,\"0\")","v":"0"},{"$f":"IF(E2543<input_database!$C$29,input_database!$GE$29,\"0\")","v":0},{"$f":"IFERROR(input_database!$GH$29,\"0\")","v":0},{"$f":"IF(E2543=input_database!$C$29,input_database!$GG$29,\"0\")","v":"0"},{"$f":"IF(E2543>=input_database!$C$29,(input_database!$GF$29+input_database!$GD$29),0)","v":0},0]
[null,{"$f":"CONCATENATE(selected_functions!$A$29,E2544,C2544)","v":"-5Kilobytes"},{"$f":"input_lists!$G$11","v":"Kilobytes"},null,{"$f":"$E$24","v":-5},{"$f":"IF(AND(E2544>=input_database!$D$29,E2544<input_database!$C$29),input_database!$GC$29,\"0\")","v":"0"},{"$f":"IF(E2544<input_database!$C$29,input_database!$GE$29,\"0\")","v":0},{"$f":"IFERROR(input_database!$GH$29,\"0\")","v":0},{"$f":"IF(E2544=input_database!$C$29,input_database!$GG$29,\"0\")","v":"0"},{"$f":"IF(E2544>=input_database!$C$29,(input_database!$GF$29+input_database!$GD$29),0)","v":0},0]
[null,{"$f":"CONCATENATE(selected_functions!$A$29,E2545,C2545)","v":"-4Kilobytes"},{"$f":"input_lists!$G$11","v":"Kilobytes"},null,{"$f":"$E$25","v":-4},{"$f":"IF(AND(E2545>=input_database!$D$29,E2545<input_database!$C$29),input_database!$GC$29,\"0\")","v":"0"},{"$f":"IF(E2545<input_database!$C$29,input_database!$GE$29,\"0\")","v":0},{"$f":"IFERROR(input_database!$GH$29,\"0\")","v":0},{"$f":"IF(E2545=input_database!$C$29,input_database!$GG$29,\"0\")","v":"0"},{"$f":"IF(E2545>=input_database!$C$29,(input_database!$GF$29+input_database!$GD$29),0)","v":0},0]
[null,{"$f":"CONCATENATE(selected_functions!$A$29,E2546,C2546)","v":"-3Kilobytes"},{"$f":"input_lists!$G$11","v":"Kilobytes"},null,{"$f":"$E$26","v":-3},{"$f":"IF(AND(E2546>=input_database!$D$29,E2546<input_database!$C$29),input_database!$GC$29,\"0\")","v":"0"},{"$f":"IF(E2546<input_database!$C$29,input_database!$GE$29,\"0\")","v":0},{"$f":"IFERROR(input_database!$GH$29,\"0\")","v":0},{"$f":"IF(E2546=input_database!$C$29,input_database!$GG$29,\"0\")","v":"0"},{"$f":"IF(E2546>=input_database!$C$29,(input_database!$GF$29+input_database!$GD$29),0)","v":0},0]
[null,{"$f":"CONCATENATE(selected_functions!$A$29,E2547,C2547)","v":"-2Kilobytes"},{"$f":"input_lists!$G$11","v":"Kilobytes"},null,{"$f":"$E$27","v":-2},{"$f":"IF(AND(E2547>=input_database!$D$29,E2547<input_database!$C$29),input_database!$GC$29,\"0\")","v":"0"},{"$f":"IF(E2547<input_database!$C$29,input_database!$GE$29,\"0\")","v":0},{"$f":"IFERROR(input_database!$GH$29,\"0\")","v":0},{"$f":"IF(E2547=input_database!$C$29,input_database!$GG$29,\"0\")","v":"0"},{"$f":"IF(E2547>=input_database!$C$29,(input_database!$GF$29+input_database!$GD$29),0)","v":0},0]
[null,{"$f":"CONCATENATE(selected_functions!$A$29,E2548,C2548)","v":"-1Kilobytes"},{"$f":"input_lists!$G$11","v":"Kilobytes"},null,{"$f":"$E$28","v":-1},{"$f":"IF(AND(E2548>=input_database!$D$29,E2548<input_database!$C$29),input_database!$GC$29,\"0\")","v":"0"},{"$f":"IF(E2548<input_database!$C$29,input_database!$GE$29,\"0\")","v":0},{"$f":"IFERROR(input_database!$GH$29,\"0\")","v":0},{"$f":"IF(E2548=input_database!$C$29,input_database!$GG$29,\"0\")","v":"0"},{"$f":"IF(E2548>=input_database!$C$29,(input_database!$GF$29+input_database!$GD$29),0)","v":0},0]
[null,{"$f":"CONCATENATE(selected_functions!$A$29,E2549,C2549)","v":"0Kilobytes"},{"$f":"input_lists!$G$11","v":"Kilobytes"},null,{"$f":"$E$29","v":0},{"$f":"IF(AND(E2549>=input_database!$D$29,E2549<input_database!$C$29),input_database!$GC$29,\"0\")","v":"0"},{"$f":"IF(E2549<input_database!$C$29,input_database!$GE$29,\"0\")","v":"0"},{"$f":"IFERROR(input_database!$GH$29,\"0\")","v":0},{"$f":"IF(E2549=input_database!$C$29,input_database!$GG$29,\"0\")","v":0},{"$f":"IF(E2549>=input_database!$C$29,(input_database!$GF$29+input_database!$GD$29),0)","v":0},0]
[null,{"$f":"CONCATENATE(selected_functions!$A$29,E2550,C2550)","v":"1Kilobytes"},{"$f":"input_lists!$G$11","v":"Kilobytes"},null,{"$f":"$E$30","v":1},{"$f":"IF(AND(E2550>=input_database!$D$29,E2550<input_database!$C$29),input_database!$GC$29,\"0\")","v":"0"},{"$f":"IF(E2550<input_database!$C$29,input_database!$GE$29,\"0\")","v":"0"},{"$f":"IFERROR(input_database!$GH$29,\"0\")","v":0},{"$f":"IF(E2550=input_database!$C$29,input_database!$GG$29,\"0\")","v":"0"},{"$f":"IF(E2550>=input_database!$C$29,(input_database!$GF$29+input_database!$GD$29),0)","v":0},0]
[null,{"$f":"CONCATENATE(selected_functions!$A$29,E2551,C2551)","v":"2Kilobytes"},{"$f":"input_lists!$G$11","v":"Kilobytes"},null,{"$f":"$E$31","v":2},{"$f":"IF(AND(E2551>=input_database!$D$29,E2551<input_database!$C$29),input_database!$GC$29,\"0\")","v":"0"},{"$f":"IF(E2551<input_database!$C$29,input_database!$GE$29,\"0\")","v":"0"},{"$f":"IFERROR(input_database!$GH$29,\"0\")","v":0},{"$f":"IF(E2551=input_database!$C$29,input_database!$GG$29,\"0\")","v":"0"},{"$f":"IF(E2551>=input_database!$C$29,(input_database!$GF$29+input_database!$GD$29),0)","v":0},0]
[null,{"$f":"CONCATENATE(selected_functions!$A$29,E2552,C2552)","v":"3Kilobytes"},{"$f":"input_lists!$G$11","v":"Kilobytes"},null,{"$f":"$E$32","v":3},{"$f":"IF(AND(E2552>=input_database!$D$29,E2552<input_database!$C$29),input_database!$GC$29,\"0\")","v":"0"},{"$f":"IF(E2552<input_database!$C$29,input_database!$GE$29,\"0\")","v":"0"},{"$f":"IFERROR(input_database!$GH$29,\"0\")","v":0},{"$f":"IF(E2552=input_database!$C$29,input_database!$GG$29,\"0\")","v":"0"},{"$f":"IF(E2552>=input_database!$C$29,(input_database!$GF$29+input_database!$GD$29),0)","v":0},0]
[null,{"$f":"CONCATENATE(selected_functions!$A$29,E2553,C2553)","v":"-17Megabytes"},{"$f":"input_lists!$G$12","v":"Megabytes"},null,{"$f":"$E$12","v":-17},{"$f":"F2532/1024","v":0},0,0,0,0,0]
[null,{"$f":"CONCATENATE(selected_functions!$A$29,E2554,C2554)","v":"-16Megabytes"},{"$f":"C2553","v":"Megabytes"},null,{"$f":"$E$13","v":-16},0,0,0,0,0,0]
[null,{"$f":"CONCATENATE(selected_functions!$A$29,E2555,C2555)","v":"-15Megabytes"},{"$f":"C2554","v":"Megabytes"},null,{"$f":"$E$14","v":-15},0,0,0,0,0,0]
[null,{"$f":"CONCATENATE(selected_functions!$A$29,E2556,C2556)","v":"-14Megabytes"},"Megabytes",null,{"$f":"$E$15","v":-14},0,0,0,0,0,0]
[null,{"$f":"CONCATENATE(selected_functions!$A$29,E2557,C2557)","v":"-13Megabytes"},"Megabytes",null,{"$f":"$E$16","v":-13},0,0,0,0,0,0]
[null,{"$f":"CONCATENATE(selected_functions!$A$29,E2558,C2558)","v":"-12Megabytes"},"Megabytes",null,{"$f":"$E$17","v":-12},0,0,0,0,0,0]
[null,{"$f":"CONCATENATE(selected_functions!$A$29,E2559,C2559)","v":"-11Megabytes"},"Megabytes",null,{"$f":"$E$18","v":-11},0,0,0,0,0,0]
[null,{"$f":"CONCATENATE(selected_functions!$A$29,E2560,C2560)","v":"-10Megabytes"},"Megabytes",null,{"$f":"$E$19","v":-10},0,0,0,0,0,0]
[null,{"$f":"CONCATENATE(selected_functions!$A$29,E2561,C2561)","v":"-9Megabytes"},"Megabytes",null,{"$f":"$E$20","v":-9},0,0,0,0,0,0]
[null,{"$f":"CONCATENATE(selected_functions!$A$29,E2562,C2562)","v":"-8Megabytes"},"Megabytes",null,{"$f":"$E$21","v":-8},0,0,0,0,0,0]
[null,{"$f":"CONCATENATE(selected_functions!$A$29,E2563,C2563)","v":"-7Megabytes"},"Megabytes",null,{"$f":"$E$22","v":-7},{"$f":"F2542/1024","v":0},0,0,0,0,0]
[null,{"$f":"CONCATENATE(selected_functions!$A$29,E2564,C2564)","v":"-6Megabytes"},"Megabytes",null,{"$f":"$E$23","v":-6},0,0,0,0,0,0]
[null,{"$f":"CONCATENATE(selected_functions!$A$29,E2565,C2565)","v":"-5Megabytes"},"Megabytes",null,{"$f":"$E$24","v":-5},0,0,0,0,0,0]
[null,{"$f":"CONCATENATE(selected_functions!$A$29,E2566,C2566)","v":"-4Megabytes"},"Megabytes",null,{"$f":"$E$25","v":-4},0,0,0,0,0,0]
[null,{"$f":"CONCATENATE(selected_functions!$A$29,E2567,C2567)","v":"-3Megabytes"},"Megabytes",null,{"$f":"$E$26","v":-3},0,0,0,0,0,0]
[null,{"$f":"CONCATENATE(selected_functions!$A$29,E2568,C2568)","v":"-2Megabytes"},"Megabytes",null,{"$f":"$E$27","v":-2},0,0,0,0,0,0]
[null,{"$f":"CONCATENATE(selected_functions!$A$29,E2569,C2569)","v":"-1Megabytes"},"Megabytes",null,{"$f":"$E$28","v":-1},0,0,0,0,0,0]
[null,{"$f":"CONCATENATE(selected_functions!$A$29,E2570,C2570)","v":"0Megabytes"},"Megabytes",null,{"$f":"$E$29","v":0},0,0,0,0,0,0]
[null,{"$f":"CONCATENATE(selected_functions!$A$29,E2571,C2571)","v":"1Megabytes"},"Megabytes",null,{"$f":"$E$30","v":1},0,0,0,0,0,0]
[null,{"$f":"CONCATENATE(selected_functions!$A$29,E2572,C2572)","v":"2Megabytes"},"Megabytes",null,{"$f":"$E$31","v":2},0,0,0,0,0,0]
[null,{"$f":"CONCATENATE(selected_functions!$A$29,E2573,C2573)","v":"3Megabytes"},{"$f":"C2572","v":"Megabytes"},null,{"$f":"$E$32","v":3},{"$f":"F2552/1024","v":0},0,0,0,0,0]
[null,{"$f":"CONCATENATE(selected_functions!$A$29,E2574,C2574)","v":"-17Gigabytes"},{"$f":"input_lists!$G$13","v":"Gigabytes"},null,{"$f":"$E$12","v":-17},0,0,0,0,0,0]
[null,{"$f":"CONCATENATE(selected_functions!$A$29,E2575,C2575)","v":"-16Gigabytes"},{"$f":"C2574","v":"Gigabytes"},null,{"$f":"$E$13","v":-16},0,0,0,0,0,0]
[null,{"$f":"CONCATENATE(selected_functions!$A$29,E2576,C2576)","v":"-15Gigabytes"},{"$f":"C2575","v":"Gigabytes"},null,{"$f":"$E$14","v":-15},0,0,0,0,0,0]
[null,{"$f":"CONCATENATE(selected_functions!$A$29,E2577,C2577)","v":"-14Gigabytes"},"Gigabytes",null,{"$f":"$E$15","v":-14},0,0,0,0,0,0]
[null,{"$f":"CONCATENATE(selected_functions!$A$29,E2578,C2578)","v":"-13Gigabytes"},"Gigabytes",null,{"$f":"$E$16","v":-13},0,0,0,0,0,0]
[null,{"$f":"CONCATENATE(selected_functions!$A$29,E2579,C2579)","v":"-12Gigabytes"},"Gigabytes",null,{"$f":"$E$17","v":-12},0,0,0,0,0,0]
[null,{"$f":"CONCATENATE(selected_functions!$A$29,E2580,C2580)","v":"-11Gigabytes"},"Gigabytes",null,{"$f":"$E$18","v":-11},0,0,0,0,0,0]
[null,{"$f":"CONCATENATE(selected_functions!$A$29,E2581,C2581)","v":"-10Gigabytes"},"Gigabytes",null,{"$f":"$E$19","v":-10},0,0,0,0,0,0]
[null,{"$f":"CONCATENATE(selected_functions!$A$29,E2582,C2582)","v":"-9Gigabytes"},"Gigabytes",null,{"$f":"$E$20","v":-9},0,0,0,0,0,0]
[null,{"$f":"CONCATENATE(selected_functions!$A$29,E2583,C2583)","v":"-8Gigabytes"},"Gigabytes",null,{"$f":"$E$21","v":-8},{"$f":"F2562/1024","v":0},0,0,0,0,0]
[null,{"$f":"CONCATENATE(selected_functions!$A$29,E2584,C2584)","v":"-7Gigabytes"},"Gigabytes",null,{"$f":"$E$22","v":-7},0,0,0,0,0,0]
[null,{"$f":"CONCATENATE(selected_functions!$A$29,E2585,C2585)","v":"-6Gigabytes"},"Gigabytes",null,{"$f":"$E$23","v":-6},0,0,0,0,0,0]
[null,{"$f":"CONCATENATE(selected_functions!$A$29,E2586,C2586)","v":"-5Gigabytes"},"Gigabytes",null,{"$f":"$E$24","v":-5},0,0,0,0,0,0]
[null,{"$f":"CONCATENATE(selected_functions!$A$29,E2587,C2587)","v":"-4Gigabytes"},"Gigabytes",null,{"$f":"$E$25","v":-4},0,0,0,0,0,0]
[null,{"$f":"CONCATENATE(selected_functions!$A$29,E2588,C2588)","v":"-3Gigabytes"},"Gigabytes",null,{"$f":"$E$26","v":-3},0,0,0,0,0,0]
[null,{"$f":"CONCATENATE(selected_functions!$A$29,E2589,C2589)","v":"-2Gigabytes"},"Gigabytes",null,{"$f":"$E$27","v":-2},0,0,0,0,0,0]
[null,{"$f":"CONCATENATE(selected_functions!$A$29,E2590,C2590)","v":"-1Gigabytes"},"Gigabytes",null,{"$f":"$E$28","v":-1},0,0,0,0,0,0]
[null,{"$f":"CONCATENATE(selected_functions!$A$29,E2591,C2591)","v":"0Gigabytes"},"Gigabytes",null,{"$f":"$E$29","v":0},0,0,0,0,0,0]
[null,{"$f":"CONCATENATE(selected_functions!$A$29,E2592,C2592)","v":"1Gigabytes"},"Gigabytes",null,{"$f":"$E$30","v":1},0,0,0,0,0,0]
[null,{"$f":"CONCATENATE(selected_functions!$A$29,E2593,C2593)","v":"2Gigabytes"},"Gigabytes",null,{"$f":"$E$31","v":2},{"$f":"F2572/1024","v":0},0,0,0,0,0]
[null,{"$f":"CONCATENATE(selected_functions!$A$29,E2594,C2594)","v":"3Gigabytes"},"Gigabytes",null,{"$f":"$E$32","v":3},0,0,0,0,0,0]
[null,{"$f":"CONCATENATE(selected_functions!$A$29,E2595,C2595)","v":"-17Terabytes"},{"$f":"input_lists!$G$14","v":"Terabytes"},null,{"$f":"$E$12","v":-17},0,0,0,0,0,0]
[null,{"$f":"CONCATENATE(selected_functions!$A$29,E2596,C2596)","v":"-16Terabytes"},{"$f":"C2595","v":"Terabytes"},null,{"$f":"$E$13","v":-16},0,0,0,0,0,0]
[null,{"$f":"CONCATENATE(selected_functions!$A$29,E2597,C2597)","v":"-15Terabytes"},{"$f":"C2596","v":"Terabytes"},null,{"$f":"$E$14","v":-15},0,0,0,0,0,0]
[null,{"$f":"CONCATENATE(selected_functions!$A$29,E2598,C2598)","v":"-14Terabytes"},"Terabytes",null,{"$f":"$E$15","v":-14},0,0,0,0,0,0]
[null,{"$f":"CONCATENATE(selected_functions!$A$29,E2599,C2599)","v":"-13Terabytes"},"Terabytes",null,{"$f":"$E$16","v":-13},0,0,0,0,0,0]
[null,{"$f":"CONCATENATE(selected_functions!$A$29,E2600,C2600)","v":"-12Terabytes"},"Terabytes",null,{"$f":"$E$17","v":-12},0,0,0,0,0,0]
[null,{"$f":"CONCATENATE(selected_functions!$A$29,E2601,C2601)","v":"-11Terabytes"},"Terabytes",null,{"$f":"$E$18","v":-11},0,0,0,0,0,0]
[null,{"$f":"CONCATENATE(selected_functions!$A$29,E2602,C2602)","v":"-10Terabytes"},"Terabytes",null,{"$f":"$E$19","v":-10},0,0,0,0,0,0]
[null,{"$f":"CONCATENATE(selected_functions!$A$29,E2603,C2603)","v":"-9Terabytes"},"Terabytes",null,{"$f":"$E$20","v":-9},{"$f":"F2582/1024","v":0},0,0,0,0,0]
[null,{"$f":"CONCATENATE(selected_functions!$A$29,E2604,C2604)","v":"-8Terabytes"},"Terabytes",null,{"$f":"$E$21","v":-8},0,0,0,0,0,0]
[null,{"$f":"CONCATENATE(selected_functions!$A$29,E2605,C2605)","v":"-7Terabytes"},"Terabytes",null,{"$f":"$E$22","v":-7},0,0,0,0,0,0]
[null,{"$f":"CONCATENATE(selected_functions!$A$29,E2606,C2606)","v":"-6Terabytes"},"Terabytes",null,{"$f":"$E$23","v":-6},0,0,0,0,0,0]
[null,{"$f":"CONCATENATE(selected_functions!$A$29,E2607,C2607)","v":"-5Terabytes"},"Terabytes",null,{"$f":"$E$24","v":-5},0,0,0,0,0,0]
[null,{"$f":"CONCATENATE(selected_functions!$A$29,E2608,C2608)","v":"-4Terabytes"},"Terabytes",null,{"$f":"$E$25","v":-4},0,0,0,0,0,0]
[null,{"$f":"CONCATENATE(selected_functions!$A$29,E2609,C2609)","v":"-3Terabytes"},"Terabytes",null,{"$f":"$E$26","v":-3},0,0,0,0,0,0]
[null,{"$f":"CONCATENATE(selected_functions!$A$29,E2610,C2610)","v":"-2Terabytes"},"Terabytes",null,{"$f":"$E$27","v":-2},0,0,0,0,0,0]
[null,{"$f":"CONCATENATE(selected_functions!$A$29,E2611,C2611)","v":"-1Terabytes"},"Terabytes",null,{"$f":"$E$28","v":-1},0,0,0,0,0,0]
[null,{"$f":"CONCATENATE(selected_functions!$A$29,E2612,C2612)","v":"0Terabytes"},"Terabytes",null,{"$f":"$E$29","v":0},0,0,0,0,0,0]
[null,{"$f":"CONCATENATE(selected_functions!$A$29,E2613,C2613)","v":"1Terabytes"},"Terabytes",null,{"$f":"$E$30","v":1},{"$f":"F2592/1024","v":0},0,0,0,0,0]
[null,{"$f":"CONCATENATE(selected_functions!$A$29,E2614,C2614)","v":"2Terabytes"},"Terabytes",null,{"$f":"$E$31","v":2},0,0,0,0,0,0]
[null,{"$f":"CONCATENATE(selected_functions!$A$29,E2615,C2615)","v":"3Terabytes"},"Terabytes",null,{"$f":"$E$32","v":3},0,0,0,0,0,0]
[null,{"$f":"CONCATENATE(selected_functions!$A$29,E2616,C2616)","v":"-17Petabytes"},{"$f":"input_lists!$G$15","v":"Petabytes"},null,{"$f":"$E$12","v":-17},0,0,0,0,0,0]
[null,{"$f":"CONCATENATE(selected_functions!$A$29,E2617,C2617)","v":"-16Petabytes"},{"$f":"C2616","v":"Petabytes"},null,{"$f":"$E$13","v":-16},0,0,0,0,0,0]
[null,{"$f":"CONCATENATE(selected_functions!$A$29,E2618,C2618)","v":"-15Petabytes"},{"$f":"C2617","v":"Petabytes"},null,{"$f":"$E$14","v":-15},0,0,0,0,0,0]
[null,{"$f":"CONCATENATE(selected_functions!$A$29,E2619,C2619)","v":"-14Petabytes"},"Petabytes",null,{"$f":"$E$15","v":-14},0,0,0,0,0,0]
[null,{"$f":"CONCATENATE(selected_functions!$A$29,E2620,C2620)","v":"-13Petabytes"},"Petabytes",null,{"$f":"$E$16","v":-13},0,0,0,0,0,0]
[null,{"$f":"CONCATENATE(selected_functions!$A$29,E2621,C2621)","v":"-12Petabytes"},"Petabytes",null,{"$f":"$E$17","v":-12},0,0,0,0,0,0]
[null,{"$f":"CONCATENATE(selected_functions!$A$29,E2622,C2622)","v":"-11Petabytes"},"Petabytes",null,{"$f":"$E$18","v":-11},0,0,0,0,0,0]
[null,{"$f":"CONCATENATE(selected_functions!$A$29,E2623,C2623)","v":"-10Petabytes"},"Petabytes",null,{"$f":"$E$19","v":-10},{"$f":"F2602/1024","v":0},0,0,0,0,0]
[null,{"$f":"CONCATENATE(selected_functions!$A$29,E2624,C2624)","v":"-9Petabytes"},"Petabytes",null,{"$f":"$E$20","v":-9},0,0,0,0,0,0]
[null,{"$f":"CONCATENATE(selected_functions!$A$29,E2625,C2625)","v":"-8Petabytes"},"Petabytes",null,{"$f":"$E$21","v":-8},0,0,0,0,0,0]
[null,{"$f":"CONCATENATE(selected_functions!$A$29,E2626,C2626)","v":"-7Petabytes"},"Petabytes",null,{"$f":"$E$22","v":-7},0,0,0,0,0,0]
[null,{"$f":"CONCATENATE(selected_functions!$A$29,E2627,C2627)","v":"-6Petabytes"},"Petabytes",null,{"$f":"$E$23","v":-6},0,0,0,0,0,0]
[null,{"$f":"CONCATENATE(selected_functions!$A$29,E2628,C2628)","v":"-5Petabytes"},"Petabytes",null,{"$f":"$E$24","v":-5},0,0,0,0,0,0]
[null,{"$f":"CONCATENATE(selected_functions!$A$29,E2629,C2629)","v":"-4Petabytes"},"Petabytes",null,{"$f":"$E$25","v":-4},0,0,0,0,0,0]
[null,{"$f":"CONCATENATE(selected_functions!$A$29,E2630,C2630)","v":"-3Petabytes"},"Petabytes",null,{"$f":"$E$26","v":-3},0,0,0,0,0,0]
[null,{"$f":"CONCATENATE(selected_functions!$A$29,E2631,C2631)","v":"-2Petabytes"},"Petabytes",null,{"$f":"$E$27","v":-2},0,0,0,0,0,0]
[null,{"$f":"CONCATENATE(selected_functions!$A$29,E2632,C2632)","v":"-1Petabytes"},"Petabytes",null,{"$f":"$E$28","v":-1},0,0,0,0,0,0]
[null,{"$f":"CONCATENATE(selected_functions!$A$29,E2633,C2633)","v":"0Petabytes"},"Petabytes",null,{"$f":"$E$29","v":0},{"$f":"F2612/1024","v":0},0,0,0,0,0]
[null,{"$f":"CONCATENATE(selected_functions!$A$29,E2634,C2634)","v":"1Petabytes"},"Petabytes",null,{"$f":"$E$30","v":1},0,0,0,0,0,0]
[null,{"$f":"CONCATENATE(selected_functions!$A$29,E2635,C2635)","v":"2Petabytes"},"Petabytes",null,{"$f":"$E$31","v":2},0,0,0,0,0,0]
[null,{"$f":"CONCATENATE(selected_functions!$A$29,E2636,C2636)","v":"3Petabytes"},"Petabytes",null,{"$f":"$E$32","v":3},0,0,0,0,0,0]
[null,{"$f":"CONCATENATE(selected_functions!$A$30,E2637,C2637)","v":"-17Kilobytes"},{"$f":"input_lists!$G$11","v":"Kilobytes"},null,{"$f":"$E$12","v":-17},{"$f":"IF(AND(E2637>=input_database!$D$30,E2637<input_database!$C$30),input_database!$GC$30,\"0\")","v":"0"},{"$f":"IF(E2637<input_database!$C$30,input_database!$GE$30,\"0\")","v":0},{"$f":"IFERROR(input_database!$GH$30,\"0\")","v":0},{"$f":"IF(E2637=input_database!$C$30,input_database!$GG$30,\"0\")","v":"0"},{"$f":"IF(E2637>=input_database!$C$30,(input_database!$GF$30+input_database!$GD$30),0)","v":0},{"$f":"SUM(F2637:J2637)","v":0}]
[null,{"$f":"CONCATENATE(selected_functions!$A$30,E2638,C2638)","v":"-16Kilobytes"},{"$f":"input_lists!$G$11","v":"Kilobytes"},null,{"$f":"$E$13","v":-16},{"$f":"IF(AND(E2638>=input_database!$D$30,E2638<input_database!$C$30),input_database!$GC$30,\"0\")","v":"0"},{"$f":"IF(E2638<input_database!$C$30,input_database!$GE$30,\"0\")","v":0},{"$f":"IFERROR(input_database!$GH$30,\"0\")","v":0},{"$f":"IF(E2638=input_database!$C$30,input_database!$GG$30,\"0\")","v":"0"},{"$f":"IF(E2638>=input_database!$C$30,(input_database!$GF$30+input_database!$GD$30),0)","v":0},{"$f":"K2637+SUM(F2638:J2638)","v":0}]
[null,{"$f":"CONCATENATE(selected_functions!$A$30,E2639,C2639)","v":"-15Kilobytes"},{"$f":"input_lists!$G$11","v":"Kilobytes"},null,{"$f":"$E$14","v":-15},{"$f":"IF(AND(E2639>=input_database!$D$30,E2639<input_database!$C$30),input_database!$GC$30,\"0\")","v":"0"},{"$f":"IF(E2639<input_database!$C$30,input_database!$GE$30,\"0\")","v":0},{"$f":"IFERROR(input_database!$GH$30,\"0\")","v":0},{"$f":"IF(E2639=input_database!$C$30,input_database!$GG$30,\"0\")","v":"0"},{"$f":"IF(E2639>=input_database!$C$30,(input_database!$GF$30+input_database!$GD$30),0)","v":0},{"$f":"K2638+SUM(F2639:J2639)","v":0}]
[null,{"$f":"CONCATENATE(selected_functions!$A$30,E2640,C2640)","v":"-14Kilobytes"},{"$f":"input_lists!$G$11","v":"Kilobytes"},null,{"$f":"$E$15","v":-14},{"$f":"IF(AND(E2640>=input_database!$D$30,E2640<input_database!$C$30),input_database!$GC$30,\"0\")","v":"0"},{"$f":"IF(E2640<input_database!$C$30,input_database!$GE$30,\"0\")","v":0},{"$f":"IFERROR(input_database!$GH$30,\"0\")","v":0},{"$f":"IF(E2640=input_database!$C$30,input_database!$GG$30,\"0\")","v":"0"},{"$f":"IF(E2640>=input_database!$C$30,(input_database!$GF$30+input_database!$GD$30),0)","v":0},0]
[null,{"$f":"CONCATENATE(selected_functions!$A$30,E2641,C2641)","v":"-13Kilobytes"},{"$f":"input_lists!$G$11","v":"Kilobytes"},null,{"$f":"$E$16","v":-13},{"$f":"IF(AND(E2641>=input_database!$D$30,E2641<input_database!$C$30),input_database!$GC$30,\"0\")","v":"0"},{"$f":"IF(E2641<input_database!$C$30,input_database!$GE$30,\"0\")","v":0},{"$f":"IFERROR(input_database!$GH$30,\"0\")","v":0},{"$f":"IF(E2641=input_database!$C$30,input_database!$GG$30,\"0\")","v":"0"},{"$f":"IF(E2641>=input_database!$C$30,(input_database!$GF$30+input_database!$GD$30),0)","v":0},0]
[null,{"$f":"CONCATENATE(selected_functions!$A$30,E2642,C2642)","v":"-12Kilobytes"},{"$f":"input_lists!$G$11","v":"Kilobytes"},null,{"$f":"$E$17","v":-12},{"$f":"IF(AND(E2642>=input_database!$D$30,E2642<input_database!$C$30),input_database!$GC$30,\"0\")","v":"0"},{"$f":"IF(E2642<input_database!$C$30,input_database!$GE$30,\"0\")","v":0},{"$f":"IFERROR(input_database!$GH$30,\"0\")","v":0},{"$f":"IF(E2642=input_database!$C$30,input_database!$GG$30,\"0\")","v":"0"},{"$f":"IF(E2642>=input_database!$C$30,(input_database!$GF$30+input_database!$GD$30),0)","v":0},0]
[null,{"$f":"CONCATENATE(selected_functions!$A$30,E2643,C2643)","v":"-11Kilobytes"},{"$f":"input_lists!$G$11","v":"Kilobytes"},null,{"$f":"$E$18","v":-11},{"$f":"IF(AND(E2643>=input_database!$D$30,E2643<input_database!$C$30),input_database!$GC$30,\"0\")","v":"0"},{"$f":"IF(E2643<input_database!$C$30,input_database!$GE$30,\"0\")","v":0},{"$f":"IFERROR(input_database!$GH$30,\"0\")","v":0},{"$f":"IF(E2643=input_database!$C$30,input_database!$GG$30,\"0\")","v":"0"},{"$f":"IF(E2643>=input_database!$C$30,(input_database!$GF$30+input_database!$GD$30),0)","v":0},0]
[null,{"$f":"CONCATENATE(selected_functions!$A$30,E2644,C2644)","v":"-10Kilobytes"},{"$f":"input_lists!$G$11","v":"Kilobytes"},null,{"$f":"$E$19","v":-10},{"$f":"IF(AND(E2644>=input_database!$D$30,E2644<input_database!$C$30),input_database!$GC$30,\"0\")","v":"0"},{"$f":"IF(E2644<input_database!$C$30,input_database!$GE$30,\"0\")","v":0},{"$f":"IFERROR(input_database!$GH$30,\"0\")","v":0},{"$f":"IF(E2644=input_database!$C$30,input_database!$GG$30,\"0\")","v":"0"},{"$f":"IF(E2644>=input_database!$C$30,(input_database!$GF$30+input_database!$GD$30),0)","v":0},0]
[null,{"$f":"CONCATENATE(selected_functions!$A$30,E2645,C2645)","v":"-9Kilobytes"},{"$f":"input_lists!$G$11","v":"Kilobytes"},null,{"$f":"$E$20","v":-9},{"$f":"IF(AND(E2645>=input_database!$D$30,E2645<input_database!$C$30),input_database!$GC$30,\"0\")","v":"0"},{"$f":"IF(E2645<input_database!$C$30,input_database!$GE$30,\"0\")","v":0},{"$f":"IFERROR(input_database!$GH$30,\"0\")","v":0},{"$f":"IF(E2645=input_database!$C$30,input_database!$GG$30,\"0\")","v":"0"},{"$f":"IF(E2645>=input_database!$C$30,(input_database!$GF$30+input_database!$GD$30),0)","v":0},0]
[null,{"$f":"CONCATENATE(selected_functions!$A$30,E2646,C2646)","v":"-8Kilobytes"},{"$f":"input_lists!$G$11","v":"Kilobytes"},null,{"$f":"$E$21","v":-8},{"$f":"IF(AND(E2646>=input_database!$D$30,E2646<input_database!$C$30),input_database!$GC$30,\"0\")","v":"0"},{"$f":"IF(E2646<input_database!$C$30,input_database!$GE$30,\"0\")","v":0},{"$f":"IFERROR(input_database!$GH$30,\"0\")","v":0},{"$f":"IF(E2646=input_database!$C$30,input_database!$GG$30,\"0\")","v":"0"},{"$f":"IF(E2646>=input_database!$C$30,(input_database!$GF$30+input_database!$GD$30),0)","v":0},0]
[null,{"$f":"CONCATENATE(selected_functions!$A$30,E2647,C2647)","v":"-7Kilobytes"},{"$f":"input_lists!$G$11","v":"Kilobytes"},null,{"$f":"$E$22","v":-7},{"$f":"IF(AND(E2647>=input_database!$D$30,E2647<input_database!$C$30),input_database!$GC$30,\"0\")","v":"0"},{"$f":"IF(E2647<input_database!$C$30,input_database!$GE$30,\"0\")","v":0},{"$f":"IFERROR(input_database!$GH$30,\"0\")","v":0},{"$f":"IF(E2647=input_database!$C$30,input_database!$GG$30,\"0\")","v":"0"},{"$f":"IF(E2647>=input_database!$C$30,(input_database!$GF$30+input_database!$GD$30),0)","v":0},0]
[null,{"$f":"CONCATENATE(selected_functions!$A$30,E2648,C2648)","v":"-6Kilobytes"},{"$f":"input_lists!$G$11","v":"Kilobytes"},null,{"$f":"$E$23","v":-6},{"$f":"IF(AND(E2648>=input_database!$D$30,E2648<input_database!$C$30),input_database!$GC$30,\"0\")","v":"0"},{"$f":"IF(E2648<input_database!$C$30,input_database!$GE$30,\"0\")","v":0},{"$f":"IFERROR(input_database!$GH$30,\"0\")","v":0},{"$f":"IF(E2648=input_database!$C$30,input_database!$GG$30,\"0\")","v":"0"},{"$f":"IF(E2648>=input_database!$C$30,(input_database!$GF$30+input_database!$GD$30),0)","v":0},0]
[null,{"$f":"CONCATENATE(selected_functions!$A$30,E2649,C2649)","v":"-5Kilobytes"},{"$f":"input_lists!$G$11","v":"Kilobytes"},null,{"$f":"$E$24","v":-5},{"$f":"IF(AND(E2649>=input_database!$D$30,E2649<input_database!$C$30),input_database!$GC$30,\"0\")","v":"0"},{"$f":"IF(E2649<input_database!$C$30,input_database!$GE$30,\"0\")","v":0},{"$f":"IFERROR(input_database!$GH$30,\"0\")","v":0},{"$f":"IF(E2649=input_database!$C$30,input_database!$GG$30,\"0\")","v":"0"},{"$f":"IF(E2649>=input_database!$C$30,(input_database!$GF$30+input_database!$GD$30),0)","v":0},0]
[null,{"$f":"CONCATENATE(selected_functions!$A$30,E2650,C2650)","v":"-4Kilobytes"},{"$f":"input_lists!$G$11","v":"Kilobytes"},null,{"$f":"$E$25","v":-4},{"$f":"IF(AND(E2650>=input_database!$D$30,E2650<input_database!$C$30),input_database!$GC$30,\"0\")","v":"0"},{"$f":"IF(E2650<input_database!$C$30,input_database!$GE$30,\"0\")","v":0},{"$f":"IFERROR(input_database!$GH$30,\"0\")","v":0},{"$f":"IF(E2650=input_database!$C$30,input_database!$GG$30,\"0\")","v":"0"},{"$f":"IF(E2650>=input_database!$C$30,(input_database!$GF$30+input_database!$GD$30),0)","v":0},0]
[null,{"$f":"CONCATENATE(selected_functions!$A$30,E2651,C2651)","v":"-3Kilobytes"},{"$f":"input_lists!$G$11","v":"Kilobytes"},null,{"$f":"$E$26","v":-3},{"$f":"IF(AND(E2651>=input_database!$D$30,E2651<input_database!$C$30),input_database!$GC$30,\"0\")","v":"0"},{"$f":"IF(E2651<input_database!$C$30,input_database!$GE$30,\"0\")","v":0},{"$f":"IFERROR(input_database!$GH$30,\"0\")","v":0},{"$f":"IF(E2651=input_database!$C$30,input_database!$GG$30,\"0\")","v":"0"},{"$f":"IF(E2651>=input_database!$C$30,(input_database!$GF$30+input_database!$GD$30),0)","v":0},0]
[null,{"$f":"CONCATENATE(selected_functions!$A$30,E2652,C2652)","v":"-2Kilobytes"},{"$f":"input_lists!$G$11","v":"Kilobytes"},null,{"$f":"$E$27","v":-2},{"$f":"IF(AND(E2652>=input_database!$D$30,E2652<input_database!$C$30),input_database!$GC$30,\"0\")","v":"0"},{"$f":"IF(E2652<input_database!$C$30,input_database!$GE$30,\"0\")","v":0},{"$f":"IFERROR(input_database!$GH$30,\"0\")","v":0},{"$f":"IF(E2652=input_database!$C$30,input_database!$GG$30,\"0\")","v":"0"},{"$f":"IF(E2652>=input_database!$C$30,(input_database!$GF$30+input_database!$GD$30),0)","v":0},0]
[null,{"$f":"CONCATENATE(selected_functions!$A$30,E2653,C2653)","v":"-1Kilobytes"},{"$f":"input_lists!$G$11","v":"Kilobytes"},null,{"$f":"$E$28","v":-1},{"$f":"IF(AND(E2653>=input_database!$D$30,E2653<input_database!$C$30),input_database!$GC$30,\"0\")","v":"0"},{"$f":"IF(E2653<input_database!$C$30,input_database!$GE$30,\"0\")","v":0},{"$f":"IFERROR(input_database!$GH$30,\"0\")","v":0},{"$f":"IF(E2653=input_database!$C$30,input_database!$GG$30,\"0\")","v":"0"},{"$f":"IF(E2653>=input_database!$C$30,(input_database!$GF$30+input_database!$GD$30),0)","v":0},0]
[null,{"$f":"CONCATENATE(selected_functions!$A$30,E2654,C2654)","v":"0Kilobytes"},{"$f":"input_lists!$G$11","v":"Kilobytes"},null,{"$f":"$E$29","v":0},{"$f":"IF(AND(E2654>=input_database!$D$30,E2654<input_database!$C$30),input_database!$GC$30,\"0\")","v":"0"},{"$f":"IF(E2654<input_database!$C$30,input_database!$GE$30,\"0\")","v":"0"},{"$f":"IFERROR(input_database!$GH$30,\"0\")","v":0},{"$f":"IF(E2654=input_database!$C$30,input_database!$GG$30,\"0\")","v":0},{"$f":"IF(E2654>=input_database!$C$30,(input_database!$GF$30+input_database!$GD$30),0)","v":0},0]
[null,{"$f":"CONCATENATE(selected_functions!$A$30,E2655,C2655)","v":"1Kilobytes"},{"$f":"input_lists!$G$11","v":"Kilobytes"},null,{"$f":"$E$30","v":1},{"$f":"IF(AND(E2655>=input_database!$D$30,E2655<input_database!$C$30),input_database!$GC$30,\"0\")","v":"0"},{"$f":"IF(E2655<input_database!$C$30,input_database!$GE$30,\"0\")","v":"0"},{"$f":"IFERROR(input_database!$GH$30,\"0\")","v":0},{"$f":"IF(E2655=input_database!$C$30,input_database!$GG$30,\"0\")","v":"0"},{"$f":"IF(E2655>=input_database!$C$30,(input_database!$GF$30+input_database!$GD$30),0)","v":0},0]
[null,{"$f":"CONCATENATE(selected_functions!$A$30,E2656,C2656)","v":"2Kilobytes"},{"$f":"input_lists!$G$11","v":"Kilobytes"},null,{"$f":"$E$31","v":2},{"$f":"IF(AND(E2656>=input_database!$D$30,E2656<input_database!$C$30),input_database!$GC$30,\"0\")","v":"0"},{"$f":"IF(E2656<input_database!$C$30,input_database!$GE$30,\"0\")","v":"0"},{"$f":"IFERROR(input_database!$GH$30,\"0\")","v":0},{"$f":"IF(E2656=input_database!$C$30,input_database!$GG$30,\"0\")","v":"0"},{"$f":"IF(E2656>=input_database!$C$30,(input_database!$GF$30+input_database!$GD$30),0)","v":0},0]
[null,{"$f":"CONCATENATE(selected_functions!$A$30,E2657,C2657)","v":"3Kilobytes"},{"$f":"input_lists!$G$11","v":"Kilobytes"},null,{"$f":"$E$32","v":3},{"$f":"IF(AND(E2657>=input_database!$D$30,E2657<input_database!$C$30),input_database!$GC$30,\"0\")","v":"0"},{"$f":"IF(E2657<input_database!$C$30,input_database!$GE$30,\"0\")","v":"0"},{"$f":"IFERROR(input_database!$GH$30,\"0\")","v":0},{"$f":"IF(E2657=input_database!$C$30,input_database!$GG$30,\"0\")","v":"0"},{"$f":"IF(E2657>=input_database!$C$30,(input_database!$GF$30+input_database!$GD$30),0)","v":0},0]
[null,{"$f":"CONCATENATE(selected_functions!$A$30,E2658,C2658)","v":"-17Megabytes"},{"$f":"input_lists!$G$12","v":"Megabytes"},null,{"$f":"$E$12","v":-17},{"$f":"F2637/1024","v":0},0,0,0,0,0]
[null,{"$f":"CONCATENATE(selected_functions!$A$30,E2659,C2659)","v":"-16Megabytes"},{"$f":"C2658","v":"Megabytes"},null,{"$f":"$E$13","v":-16},0,0,0,0,0,0]
[null,{"$f":"CONCATENATE(selected_functions!$A$30,E2660,C2660)","v":"-15Megabytes"},{"$f":"C2659","v":"Megabytes"},null,{"$f":"$E$14","v":-15},0,0,0,0,0,0]
[null,{"$f":"CONCATENATE(selected_functions!$A$30,E2661,C2661)","v":"-14Megabytes"},"Megabytes",null,{"$f":"$E$15","v":-14},0,0,0,0,0,0]
[null,{"$f":"CONCATENATE(selected_functions!$A$30,E2662,C2662)","v":"-13Megabytes"},"Megabytes",null,{"$f":"$E$16","v":-13},0,0,0,0,0,0]
[null,{"$f":"CONCATENATE(selected_functions!$A$30,E2663,C2663)","v":"-12Megabytes"},"Megabytes",null,{"$f":"$E$17","v":-12},0,0,0,0,0,0]
[null,{"$f":"CONCATENATE(selected_functions!$A$30,E2664,C2664)","v":"-11Megabytes"},"Megabytes",null,{"$f":"$E$18","v":-11},0,0,0,0,0,0]
[null,{"$f":"CONCATENATE(selected_functions!$A$30,E2665,C2665)","v":"-10Megabytes"},"Megabytes",null,{"$f":"$E$19","v":-10},0,0,0,0,0,0]
[null,{"$f":"CONCATENATE(selected_functions!$A$30,E2666,C2666)","v":"-9Megabytes"},"Megabytes",null,{"$f":"$E$20","v":-9},0,0,0,0,0,0]
[null,{"$f":"CONCATENATE(selected_functions!$A$30,E2667,C2667)","v":"-8Megabytes"},"Megabytes",null,{"$f":"$E$21","v":-8},0,0,0,0,0,0]
[null,{"$f":"CONCATENATE(selected_functions!$A$30,E2668,C2668)","v":"-7Megabytes"},"Megabytes",null,{"$f":"$E$22","v":-7},{"$f":"F2647/1024","v":0},0,0,0,0,0]
[null,{"$f":"CONCATENATE(selected_functions!$A$30,E2669,C2669)","v":"-6Megabytes"},"Megabytes",null,{"$f":"$E$23","v":-6},0,0,0,0,0,0]
[null,{"$f":"CONCATENATE(selected_functions!$A$30,E2670,C2670)","v":"-5Megabytes"},"Megabytes",null,{"$f":"$E$24","v":-5},0,0,0,0,0,0]
[null,{"$f":"CONCATENATE(selected_functions!$A$30,E2671,C2671)","v":"-4Megabytes"},"Megabytes",null,{"$f":"$E$25","v":-4},0,0,0,0,0,0]
[null,{"$f":"CONCATENATE(selected_functions!$A$30,E2672,C2672)","v":"-3Megabytes"},"Megabytes",null,{"$f":"$E$26","v":-3},0,0,0,0,0,0]
[null,{"$f":"CONCATENATE(selected_functions!$A$30,E2673,C2673)","v":"-2Megabytes"},"Megabytes",null,{"$f":"$E$27","v":-2},0,0,0,0,0,0]
[null,{"$f":"CONCATENATE(selected_functions!$A$30,E2674,C2674)","v":"-1Megabytes"},"Megabytes",null,{"$f":"$E$28","v":-1},0,0,0,0,0,0]
[null,{"$f":"CONCATENATE(selected_functions!$A$30,E2675,C2675)","v":"0Megabytes"},"Megabytes",null,{"$f":"$E$29","v":0},0,0,0,0,0,0]
[null,{"$f":"CONCATENATE(selected_functions!$A$30,E2676,C2676)","v":"1Megabytes"},"Megabytes",null,{"$f":"$E$30","v":1},0,0,0,0,0,0]
[null,{"$f":"CONCATENATE(selected_functions!$A$30,E2677,C2677)","v":"2Megabytes"},"Megabytes",null,{"$f":"$E$31","v":2},0,0,0,0,0,0]
[null,{"$f":"CONCATENATE(selected_functions!$A$30,E2678,C2678)","v":"3Megabytes"},{"$f":"C2677","v":"Megabytes"},null,{"$f":"$E$32","v":3},{"$f":"F2657/1024","v":0},0,0,0,0,0]
[null,{"$f":"CONCATENATE(selected_functions!$A$30,E2679,C2679)","v":"-17Gigabytes"},{"$f":"input_lists!$G$13","v":"Gigabytes"},null,{"$f":"$E$12","v":-17},0,0,0,0,0,0]
[null,{"$f":"CONCATENATE(selected_functions!$A$30,E2680,C2680)","v":"-16Gigabytes"},{"$f":"C2679","v":"Gigabytes"},null,{"$f":"$E$13","v":-16},0,0,0,0,0,0]
[null,{"$f":"CONCATENATE(selected_functions!$A$30,E2681,C2681)","v":"-15Gigabytes"},{"$f":"C2680","v":"Gigabytes"},null,{"$f":"$E$14","v":-15},0,0,0,0,0,0]
[null,{"$f":"CONCATENATE(selected_functions!$A$30,E2682,C2682)","v":"-14Gigabytes"},"Gigabytes",null,{"$f":"$E$15","v":-14},0,0,0,0,0,0]
[null,{"$f":"CONCATENATE(selected_functions!$A$30,E2683,C2683)","v":"-13Gigabytes"},"Gigabytes",null,{"$f":"$E$16","v":-13},0,0,0,0,0,0]
[null,{"$f":"CONCATENATE(selected_functions!$A$30,E2684,C2684)","v":"-12Gigabytes"},"Gigabytes",null,{"$f":"$E$17","v":-12},0,0,0,0,0,0]
[null,{"$f":"CONCATENATE(selected_functions!$A$30,E2685,C2685)","v":"-11Gigabytes"},"Gigabytes",null,{"$f":"$E$18","v":-11},0,0,0,0,0,0]
[null,{"$f":"CONCATENATE(selected_functions!$A$30,E2686,C2686)","v":"-10Gigabytes"},"Gigabytes",null,{"$f":"$E$19","v":-10},0,0,0,0,0,0]
[null,{"$f":"CONCATENATE(selected_functions!$A$30,E2687,C2687)","v":"-9Gigabytes"},"Gigabytes",null,{"$f":"$E$20","v":-9},0,0,0,0,0,0]
[null,{"$f":"CONCATENATE(selected_functions!$A$30,E2688,C2688)","v":"-8Gigabytes"},"Gigabytes",null,{"$f":"$E$21","v":-8},{"$f":"F2667/1024","v":0},0,0,0,0,0]
[null,{"$f":"CONCATENATE(selected_functions!$A$30,E2689,C2689)","v":"-7Gigabytes"},"Gigabytes",null,{"$f":"$E$22","v":-7},0,0,0,0,0,0]
[null,{"$f":"CONCATENATE(selected_functions!$A$30,E2690,C2690)","v":"-6Gigabytes"},"Gigabytes",null,{"$f":"$E$23","v":-6},0,0,0,0,0,0]
[null,{"$f":"CONCATENATE(selected_functions!$A$30,E2691,C2691)","v":"-5Gigabytes"},"Gigabytes",null,{"$f":"$E$24","v":-5},0,0,0,0,0,0]
[null,{"$f":"CONCATENATE(selected_functions!$A$30,E2692,C2692)","v":"-4Gigabytes"},"Gigabytes",null,{"$f":"$E$25","v":-4},0,0,0,0,0,0]
[null,{"$f":"CONCATENATE(selected_functions!$A$30,E2693,C2693)","v":"-3Gigabytes"},"Gigabytes",null,{"$f":"$E$26","v":-3},0,0,0,0,0,0]
[null,{"$f":"CONCATENATE(selected_functions!$A$30,E2694,C2694)","v":"-2Gigabytes"},"Gigabytes",null,{"$f":"$E$27","v":-2},0,0,0,0,0,0]
[null,{"$f":"CONCATENATE(selected_functions!$A$30,E2695,C2695)","v":"-1Gigabytes"},"Gigabytes",null,{"$f":"$E$28","v":-1},0,0,0,0,0,0]
[null,{"$f":"CONCATENATE(selected_functions!$A$30,E2696,C2696)","v":"0Gigabytes"},"Gigabytes",null,{"$f":"$E$29","v":0},0,0,0,0,0,0]
[null,{"$f":"CONCATENATE(selected_functions!$A$30,E2697,C2697)","v":"1Gigabytes"},"Gigabytes",null,{"$f":"$E$30","v":1},0,0,0,0,0,0]
[null,{"$f":"CONCATENATE(selected_functions!$A$30,E2698,C2698)","v":"2Gigabytes"},"Gigabytes",null,{"$f":"$E$31","v":2},{"$f":"F2677/1024","v":0},0,0,0,0,0]
[null,{"$f":"CONCATENATE(selected_functions!$A$30,E2699,C2699)","v":"3Gigabytes"},"Gigabytes",null,{"$f":"$E$32","v":3},0,0,0,0,0,0]
[null,{"$f":"CONCATENATE(selected_functions!$A$30,E2700,C2700)","v":"-17Terabytes"},{"$f":"input_lists!$G$14","v":"Terabytes"},null,{"$f":"$E$12","v":-17},0,0,0,0,0,0]
[null,{"$f":"CONCATENATE(selected_functions!$A$30,E2701,C2701)","v":"-16Terabytes"},{"$f":"C2700","v":"Terabytes"},null,{"$f":"$E$13","v":-16},0,0,0,0,0,0]
[null,{"$f":"CONCATENATE(selected_functions!$A$30,E2702,C2702)","v":"-15Terabytes"},{"$f":"C2701","v":"Terabytes"},null,{"$f":"$E$14","v":-15},0,0,0,0,0,0]
[null,{"$f":"CONCATENATE(selected_functions!$A$30,E2703,C2703)","v":"-14Terabytes"},"Terabytes",null,{"$f":"$E$15","v":-14},0,0,0,0,0,0]
[null,{"$f":"CONCATENATE(selected_functions!$A$30,E2704,C2704)","v":"-13Terabytes"},"Terabytes",null,{"$f":"$E$16","v":-13},0,0,0,0,0,0]
[null,{"$f":"CONCATENATE(selected_functions!$A$30,E2705,C2705)","v":"-12Terabytes"},"Terabytes",null,{"$f":"$E$17","v":-12},0,0,0,0,0,0]
[null,{"$f":"CONCATENATE(selected_functions!$A$30,E2706,C2706)","v":"-11Terabytes"},"Terabytes",null,{"$f":"$E$18","v":-11},0,0,0,0,0,0]
[null,{"$f":"CONCATENATE(selected_functions!$A$30,E2707,C2707)","v":"-10Terabytes"},"Terabytes",null,{"$f":"$E$19","v":-10},0,0,0,0,0,0]
[null,{"$f":"CONCATENATE(selected_functions!$A$30,E2708,C2708)","v":"-9Terabytes"},"Terabytes",null,{"$f":"$E$20","v":-9},{"$f":"F2687/1024","v":0},0,0,0,0,0]
[null,{"$f":"CONCATENATE(selected_functions!$A$30,E2709,C2709)","v":"-8Terabytes"},"Terabytes",null,{"$f":"$E$21","v":-8},0,0,0,0,0,0]
[null,{"$f":"CONCATENATE(selected_functions!$A$30,E2710,C2710)","v":"-7Terabytes"},"Terabytes",null,{"$f":"$E$22","v":-7},0,0,0,0,0,0]
[null,{"$f":"CONCATENATE(selected_functions!$A$30,E2711,C2711)","v":"-6Terabytes"},"Terabytes",null,{"$f":"$E$23","v":-6},0,0,0,0,0,0]
[null,{"$f":"CONCATENATE(selected_functions!$A$30,E2712,C2712)","v":"-5Terabytes"},"Terabytes",null,{"$f":"$E$24","v":-5},0,0,0,0,0,0]
[null,{"$f":"CONCATENATE(selected_functions!$A$30,E2713,C2713)","v":"-4Terabytes"},"Terabytes",null,{"$f":"$E$25","v":-4},0,0,0,0,0,0]
[null,{"$f":"CONCATENATE(selected_functions!$A$30,E2714,C2714)","v":"-3Terabytes"},"Terabytes",null,{"$f":"$E$26","v":-3},0,0,0,0,0,0]
[null,{"$f":"CONCATENATE(selected_functions!$A$30,E2715,C2715)","v":"-2Terabytes"},"Terabytes",null,{"$f":"$E$27","v":-2},0,0,0,0,0,0]
[null,{"$f":"CONCATENATE(selected_functions!$A$30,E2716,C2716)","v":"-1Terabytes"},"Terabytes",null,{"$f":"$E$28","v":-1},0,0,0,0,0,0]
[null,{"$f":"CONCATENATE(selected_functions!$A$30,E2717,C2717)","v":"0Terabytes"},"Terabytes",null,{"$f":"$E$29","v":0},0,0,0,0,0,0]
[null,{"$f":"CONCATENATE(selected_functions!$A$30,E2718,C2718)","v":"1Terabytes"},"Terabytes",null,{"$f":"$E$30","v":1},{"$f":"F2697/1024","v":0},0,0,0,0,0]
[null,{"$f":"CONCATENATE(selected_functions!$A$30,E2719,C2719)","v":"2Terabytes"},"Terabytes",null,{"$f":"$E$31","v":2},0,0,0,0,0,0]
[null,{"$f":"CONCATENATE(selected_functions!$A$30,E2720,C2720)","v":"3Terabytes"},"Terabytes",null,{"$f":"$E$32","v":3},0,0,0,0,0,0]
[null,{"$f":"CONCATENATE(selected_functions!$A$30,E2721,C2721)","v":"-17Petabytes"},{"$f":"input_lists!$G$15","v":"Petabytes"},null,{"$f":"$E$12","v":-17},0,0,0,0,0,0]
[null,{"$f":"CONCATENATE(selected_functions!$A$30,E2722,C2722)","v":"-16Petabytes"},{"$f":"C2721","v":"Petabytes"},null,{"$f":"$E$13","v":-16},0,0,0,0,0,0]
[null,{"$f":"CONCATENATE(selected_functions!$A$30,E2723,C2723)","v":"-15Petabytes"},{"$f":"C2722","v":"Petabytes"},null,{"$f":"$E$14","v":-15},0,0,0,0,0,0]
[null,{"$f":"CONCATENATE(selected_functions!$A$30,E2724,C2724)","v":"-14Petabytes"},"Petabytes",null,{"$f":"$E$15","v":-14},0,0,0,0,0,0]
[null,{"$f":"CONCATENATE(selected_functions!$A$30,E2725,C2725)","v":"-13Petabytes"},"Petabytes",null,{"$f":"$E$16","v":-13},0,0,0,0,0,0]
[null,{"$f":"CONCATENATE(selected_functions!$A$30,E2726,C2726)","v":"-12Petabytes"},"Petabytes",null,{"$f":"$E$17","v":-12},0,0,0,0,0,0]
[null,{"$f":"CONCATENATE(selected_functions!$A$30,E2727,C2727)","v":"-11Petabytes"},"Petabytes",null,{"$f":"$E$18","v":-11},0,0,0,0,0,0]
[null,{"$f":"CONCATENATE(selected_functions!$A$30,E2728,C2728)","v":"-10Petabytes"},"Petabytes",null,{"$f":"$E$19","v":-10},{"$f":"F2707/1024","v":0},0,0,0,0,0]
[null,{"$f":"CONCATENATE(selected_functions!$A$30,E2729,C2729)","v":"-9Petabytes"},"Petabytes",null,{"$f":"$E$20","v":-9},0,0,0,0,0,0]
[null,{"$f":"CONCATENATE(selected_functions!$A$30,E2730,C2730)","v":"-8Petabytes"},"Petabytes",null,{"$f":"$E$21","v":-8},0,0,0,0,0,0]
[null,{"$f":"CONCATENATE(selected_functions!$A$30,E2731,C2731)","v":"-7Petabytes"},"Petabytes",null,{"$f":"$E$22","v":-7},0,0,0,0,0,0]
[null,{"$f":"CONCATENATE(selected_functions!$A$30,E2732,C2732)","v":"-6Petabytes"},"Petabytes",null,{"$f":"$E$23","v":-6},0,0,0,0,0,0]
[null,{"$f":"CONCATENATE(selected_functions!$A$30,E2733,C2733)","v":"-5Petabytes"},"Petabytes",null,{"$f":"$E$24","v":-5},0,0,0,0,0,0]
[null,{"$f":"CONCATENATE(selected_functions!$A$30,E2734,C2734)","v":"-4Petabytes"},"Petabytes",null,{"$f":"$E$25","v":-4},0,0,0,0,0,0]
[null,{"$f":"CONCATENATE(selected_functions!$A$30,E2735,C2735)","v":"-3Petabytes"},"Petabytes",null,{"$f":"$E$26","v":-3},0,0,0,0,0,0]
[null,{"$f":"CONCATENATE(selected_functions!$A$30,E2736,C2736)","v":"-2Petabytes"},"Petabytes",null,{"$f":"$E$27","v":-2},0,0,0,0,0,0]
[null,{"$f":"CONCATENATE(selected_functions!$A$30,E2737,C2737)","v":"-1Petabytes"},"Petabytes",null,{"$f":"$E$28","v":-1},0,0,0,0,0,0]
[null,{"$f":"CONCATENATE(selected_functions!$A$30,E2738,C2738)","v":"0Petabytes"},"Petabytes",null,{"$f":"$E$29","v":0},{"$f":"F2717/1024","v":0},0,0,0,0,0]
[null,{"$f":"CONCATENATE(selected_functions!$A$30,E2739,C2739)","v":"1Petabytes"},"Petabytes",null,{"$f":"$E$30","v":1},0,0,0,0,0,0]
[null,{"$f":"CONCATENATE(selected_functions!$A$30,E2740,C2740)","v":"2Petabytes"},"Petabytes",null,{"$f":"$E$31","v":2},0,0,0,0,0,0]
[null,{"$f":"CONCATENATE(selected_functions!$A$30,E2741,C2741)","v":"3Petabytes"},"Petabytes",null,{"$f":"$E$32","v":3},0,0,0,0,0,0]
[null,{"$f":"CONCATENATE(selected_functions!$A$31,E2742,C2742)","v":"-17Kilobytes"},{"$f":"input_lists!$G$11","v":"Kilobytes"},null,{"$f":"$E$12","v":-17},{"$f":"IF(AND(E2742>=input_database!$D$31,E2742<input_database!$C$31),input_database!$GC$31,\"0\")","v":"0"},{"$f":"IF(E2742<input_database!$C$31,input_database!$GE$31,\"0\")","v":0},{"$f":"IFERROR(input_database!$GH$31,\"0\")","v":0},{"$f":"IF(E2742=input_database!$C$31,input_database!$GG$31,\"0\")","v":"0"},{"$f":"IF(E2742>=input_database!$C$31,(input_database!$GF$31+input_database!$GD$31),0)","v":0},{"$f":"SUM(F2742:J2742)","v":0}]
[null,{"$f":"CONCATENATE(selected_functions!$A$31,E2743,C2743)","v":"-16Kilobytes"},{"$f":"input_lists!$G$11","v":"Kilobytes"},null,{"$f":"$E$13","v":-16},{"$f":"IF(AND(E2743>=input_database!$D$31,E2743<input_database!$C$31),input_database!$GC$31,\"0\")","v":"0"},{"$f":"IF(E2743<input_database!$C$31,input_database!$GE$31,\"0\")","v":0},{"$f":"IFERROR(input_database!$GH$31,\"0\")","v":0},{"$f":"IF(E2743=input_database!$C$31,input_database!$GG$31,\"0\")","v":"0"},{"$f":"IF(E2743>=input_database!$C$31,(input_database!$GF$31+input_database!$GD$31),0)","v":0},{"$f":"K2742+SUM(F2743:J2743)","v":0}]
[null,{"$f":"CONCATENATE(selected_functions!$A$31,E2744,C2744)","v":"-15Kilobytes"},{"$f":"input_lists!$G$11","v":"Kilobytes"},null,{"$f":"$E$14","v":-15},{"$f":"IF(AND(E2744>=input_database!$D$31,E2744<input_database!$C$31),input_database!$GC$31,\"0\")","v":"0"},{"$f":"IF(E2744<input_database!$C$31,input_database!$GE$31,\"0\")","v":0},{"$f":"IFERROR(input_database!$GH$31,\"0\")","v":0},{"$f":"IF(E2744=input_database!$C$31,input_database!$GG$31,\"0\")","v":"0"},{"$f":"IF(E2744>=input_database!$C$31,(input_database!$GF$31+input_database!$GD$31),0)","v":0},{"$f":"K2743+SUM(F2744:J2744)","v":0}]
[null,{"$f":"CONCATENATE(selected_functions!$A$31,E2745,C2745)","v":"-14Kilobytes"},{"$f":"input_lists!$G$11","v":"Kilobytes"},null,{"$f":"$E$15","v":-14},{"$f":"IF(AND(E2745>=input_database!$D$31,E2745<input_database!$C$31),input_database!$GC$31,\"0\")","v":"0"},{"$f":"IF(E2745<input_database!$C$31,input_database!$GE$31,\"0\")","v":0},{"$f":"IFERROR(input_database!$GH$31,\"0\")","v":0},{"$f":"IF(E2745=input_database!$C$31,input_database!$GG$31,\"0\")","v":"0"},{"$f":"IF(E2745>=input_database!$C$31,(input_database!$GF$31+input_database!$GD$31),0)","v":0},0]
[null,{"$f":"CONCATENATE(selected_functions!$A$31,E2746,C2746)","v":"-13Kilobytes"},{"$f":"input_lists!$G$11","v":"Kilobytes"},null,{"$f":"$E$16","v":-13},{"$f":"IF(AND(E2746>=input_database!$D$31,E2746<input_database!$C$31),input_database!$GC$31,\"0\")","v":"0"},{"$f":"IF(E2746<input_database!$C$31,input_database!$GE$31,\"0\")","v":0},{"$f":"IFERROR(input_database!$GH$31,\"0\")","v":0},{"$f":"IF(E2746=input_database!$C$31,input_database!$GG$31,\"0\")","v":"0"},{"$f":"IF(E2746>=input_database!$C$31,(input_database!$GF$31+input_database!$GD$31),0)","v":0},0]
[null,{"$f":"CONCATENATE(selected_functions!$A$31,E2747,C2747)","v":"-12Kilobytes"},{"$f":"input_lists!$G$11","v":"Kilobytes"},null,{"$f":"$E$17","v":-12},{"$f":"IF(AND(E2747>=input_database!$D$31,E2747<input_database!$C$31),input_database!$GC$31,\"0\")","v":"0"},{"$f":"IF(E2747<input_database!$C$31,input_database!$GE$31,\"0\")","v":0},{"$f":"IFERROR(input_database!$GH$31,\"0\")","v":0},{"$f":"IF(E2747=input_database!$C$31,input_database!$GG$31,\"0\")","v":"0"},{"$f":"IF(E2747>=input_database!$C$31,(input_database!$GF$31+input_database!$GD$31),0)","v":0},0]
[null,{"$f":"CONCATENATE(selected_functions!$A$31,E2748,C2748)","v":"-11Kilobytes"},{"$f":"input_lists!$G$11","v":"Kilobytes"},null,{"$f":"$E$18","v":-11},{"$f":"IF(AND(E2748>=input_database!$D$31,E2748<input_database!$C$31),input_database!$GC$31,\"0\")","v":"0"},{"$f":"IF(E2748<input_database!$C$31,input_database!$GE$31,\"0\")","v":0},{"$f":"IFERROR(input_database!$GH$31,\"0\")","v":0},{"$f":"IF(E2748=input_database!$C$31,input_database!$GG$31,\"0\")","v":"0"},{"$f":"IF(E2748>=input_database!$C$31,(input_database!$GF$31+input_database!$GD$31),0)","v":0},0]
[null,{"$f":"CONCATENATE(selected_functions!$A$31,E2749,C2749)","v":"-10Kilobytes"},{"$f":"input_lists!$G$11","v":"Kilobytes"},null,{"$f":"$E$19","v":-10},{"$f":"IF(AND(E2749>=input_database!$D$31,E2749<input_database!$C$31),input_database!$GC$31,\"0\")","v":"0"},{"$f":"IF(E2749<input_database!$C$31,input_database!$GE$31,\"0\")","v":0},{"$f":"IFERROR(input_database!$GH$31,\"0\")","v":0},{"$f":"IF(E2749=input_database!$C$31,input_database!$GG$31,\"0\")","v":"0"},{"$f":"IF(E2749>=input_database!$C$31,(input_database!$GF$31+input_database!$GD$31),0)","v":0},0]
[null,{"$f":"CONCATENATE(selected_functions!$A$31,E2750,C2750)","v":"-9Kilobytes"},{"$f":"input_lists!$G$11","v":"Kilobytes"},null,{"$f":"$E$20","v":-9},{"$f":"IF(AND(E2750>=input_database!$D$31,E2750<input_database!$C$31),input_database!$GC$31,\"0\")","v":"0"},{"$f":"IF(E2750<input_database!$C$31,input_database!$GE$31,\"0\")","v":0},{"$f":"IFERROR(input_database!$GH$31,\"0\")","v":0},{"$f":"IF(E2750=input_database!$C$31,input_database!$GG$31,\"0\")","v":"0"},{"$f":"IF(E2750>=input_database!$C$31,(input_database!$GF$31+input_database!$GD$31),0)","v":0},0]
[null,{"$f":"CONCATENATE(selected_functions!$A$31,E2751,C2751)","v":"-8Kilobytes"},{"$f":"input_lists!$G$11","v":"Kilobytes"},null,{"$f":"$E$21","v":-8},{"$f":"IF(AND(E2751>=input_database!$D$31,E2751<input_database!$C$31),input_database!$GC$31,\"0\")","v":"0"},{"$f":"IF(E2751<input_database!$C$31,input_database!$GE$31,\"0\")","v":0},{"$f":"IFERROR(input_database!$GH$31,\"0\")","v":0},{"$f":"IF(E2751=input_database!$C$31,input_database!$GG$31,\"0\")","v":"0"},{"$f":"IF(E2751>=input_database!$C$31,(input_database!$GF$31+input_database!$GD$31),0)","v":0},0]
[null,{"$f":"CONCATENATE(selected_functions!$A$31,E2752,C2752)","v":"-7Kilobytes"},{"$f":"input_lists!$G$11","v":"Kilobytes"},null,{"$f":"$E$22","v":-7},{"$f":"IF(AND(E2752>=input_database!$D$31,E2752<input_database!$C$31),input_database!$GC$31,\"0\")","v":"0"},{"$f":"IF(E2752<input_database!$C$31,input_database!$GE$31,\"0\")","v":0},{"$f":"IFERROR(input_database!$GH$31,\"0\")","v":0},{"$f":"IF(E2752=input_database!$C$31,input_database!$GG$31,\"0\")","v":"0"},{"$f":"IF(E2752>=input_database!$C$31,(input_database!$GF$31+input_database!$GD$31),0)","v":0},0]
[null,{"$f":"CONCATENATE(selected_functions!$A$31,E2753,C2753)","v":"-6Kilobytes"},{"$f":"input_lists!$G$11","v":"Kilobytes"},null,{"$f":"$E$23","v":-6},{"$f":"IF(AND(E2753>=input_database!$D$31,E2753<input_database!$C$31),input_database!$GC$31,\"0\")","v":"0"},{"$f":"IF(E2753<input_database!$C$31,input_database!$GE$31,\"0\")","v":0},{"$f":"IFERROR(input_database!$GH$31,\"0\")","v":0},{"$f":"IF(E2753=input_database!$C$31,input_database!$GG$31,\"0\")","v":"0"},{"$f":"IF(E2753>=input_database!$C$31,(input_database!$GF$31+input_database!$GD$31),0)","v":0},0]
[null,{"$f":"CONCATENATE(selected_functions!$A$31,E2754,C2754)","v":"-5Kilobytes"},{"$f":"input_lists!$G$11","v":"Kilobytes"},null,{"$f":"$E$24","v":-5},{"$f":"IF(AND(E2754>=input_database!$D$31,E2754<input_database!$C$31),input_database!$GC$31,\"0\")","v":"0"},{"$f":"IF(E2754<input_database!$C$31,input_database!$GE$31,\"0\")","v":0},{"$f":"IFERROR(input_database!$GH$31,\"0\")","v":0},{"$f":"IF(E2754=input_database!$C$31,input_database!$GG$31,\"0\")","v":"0"},{"$f":"IF(E2754>=input_database!$C$31,(input_database!$GF$31+input_database!$GD$31),0)","v":0},0]
[null,{"$f":"CONCATENATE(selected_functions!$A$31,E2755,C2755)","v":"-4Kilobytes"},{"$f":"input_lists!$G$11","v":"Kilobytes"},null,{"$f":"$E$25","v":-4},{"$f":"IF(AND(E2755>=input_database!$D$31,E2755<input_database!$C$31),input_database!$GC$31,\"0\")","v":"0"},{"$f":"IF(E2755<input_database!$C$31,input_database!$GE$31,\"0\")","v":0},{"$f":"IFERROR(input_database!$GH$31,\"0\")","v":0},{"$f":"IF(E2755=input_database!$C$31,input_database!$GG$31,\"0\")","v":"0"},{"$f":"IF(E2755>=input_database!$C$31,(input_database!$GF$31+input_database!$GD$31),0)","v":0},0]
[null,{"$f":"CONCATENATE(selected_functions!$A$31,E2756,C2756)","v":"-3Kilobytes"},{"$f":"input_lists!$G$11","v":"Kilobytes"},null,{"$f":"$E$26","v":-3},{"$f":"IF(AND(E2756>=input_database!$D$31,E2756<input_database!$C$31),input_database!$GC$31,\"0\")","v":"0"},{"$f":"IF(E2756<input_database!$C$31,input_database!$GE$31,\"0\")","v":0},{"$f":"IFERROR(input_database!$GH$31,\"0\")","v":0},{"$f":"IF(E2756=input_database!$C$31,input_database!$GG$31,\"0\")","v":"0"},{"$f":"IF(E2756>=input_database!$C$31,(input_database!$GF$31+input_database!$GD$31),0)","v":0},0]
[null,{"$f":"CONCATENATE(selected_functions!$A$31,E2757,C2757)","v":"-2Kilobytes"},{"$f":"input_lists!$G$11","v":"Kilobytes"},null,{"$f":"$E$27","v":-2},{"$f":"IF(AND(E2757>=input_database!$D$31,E2757<input_database!$C$31),input_database!$GC$31,\"0\")","v":"0"},{"$f":"IF(E2757<input_database!$C$31,input_database!$GE$31,\"0\")","v":0},{"$f":"IFERROR(input_database!$GH$31,\"0\")","v":0},{"$f":"IF(E2757=input_database!$C$31,input_database!$GG$31,\"0\")","v":"0"},{"$f":"IF(E2757>=input_database!$C$31,(input_database!$GF$31+input_database!$GD$31),0)","v":0},0]
[null,{"$f":"CONCATENATE(selected_functions!$A$31,E2758,C2758)","v":"-1Kilobytes"},{"$f":"input_lists!$G$11","v":"Kilobytes"},null,{"$f":"$E$28","v":-1},{"$f":"IF(AND(E2758>=input_database!$D$31,E2758<input_database!$C$31),input_database!$GC$31,\"0\")","v":"0"},{"$f":"IF(E2758<input_database!$C$31,input_database!$GE$31,\"0\")","v":0},{"$f":"IFERROR(input_database!$GH$31,\"0\")","v":0},{"$f":"IF(E2758=input_database!$C$31,input_database!$GG$31,\"0\")","v":"0"},{"$f":"IF(E2758>=input_database!$C$31,(input_database!$GF$31+input_database!$GD$31),0)","v":0},0]
[null,{"$f":"CONCATENATE(selected_functions!$A$31,E2759,C2759)","v":"0Kilobytes"},{"$f":"input_lists!$G$11","v":"Kilobytes"},null,{"$f":"$E$29","v":0},{"$f":"IF(AND(E2759>=input_database!$D$31,E2759<input_database!$C$31),input_database!$GC$31,\"0\")","v":"0"},{"$f":"IF(E2759<input_database!$C$31,input_database!$GE$31,\"0\")","v":"0"},{"$f":"IFERROR(input_database!$GH$31,\"0\")","v":0},{"$f":"IF(E2759=input_database!$C$31,input_database!$GG$31,\"0\")","v":0},{"$f":"IF(E2759>=input_database!$C$31,(input_database!$GF$31+input_database!$GD$31),0)","v":0},0]
[null,{"$f":"CONCATENATE(selected_functions!$A$31,E2760,C2760)","v":"1Kilobytes"},{"$f":"input_lists!$G$11","v":"Kilobytes"},null,{"$f":"$E$30","v":1},{"$f":"IF(AND(E2760>=input_database!$D$31,E2760<input_database!$C$31),input_database!$GC$31,\"0\")","v":"0"},{"$f":"IF(E2760<input_database!$C$31,input_database!$GE$31,\"0\")","v":"0"},{"$f":"IFERROR(input_database!$GH$31,\"0\")","v":0},{"$f":"IF(E2760=input_database!$C$31,input_database!$GG$31,\"0\")","v":"0"},{"$f":"IF(E2760>=input_database!$C$31,(input_database!$GF$31+input_database!$GD$31),0)","v":0},0]
[null,{"$f":"CONCATENATE(selected_functions!$A$31,E2761,C2761)","v":"2Kilobytes"},{"$f":"input_lists!$G$11","v":"Kilobytes"},null,{"$f":"$E$31","v":2},{"$f":"IF(AND(E2761>=input_database!$D$31,E2761<input_database!$C$31),input_database!$GC$31,\"0\")","v":"0"},{"$f":"IF(E2761<input_database!$C$31,input_database!$GE$31,\"0\")","v":"0"},{"$f":"IFERROR(input_database!$GH$31,\"0\")","v":0},{"$f":"IF(E2761=input_database!$C$31,input_database!$GG$31,\"0\")","v":"0"},{"$f":"IF(E2761>=input_database!$C$31,(input_database!$GF$31+input_database!$GD$31),0)","v":0},0]
[null,{"$f":"CONCATENATE(selected_functions!$A$31,E2762,C2762)","v":"3Kilobytes"},{"$f":"input_lists!$G$11","v":"Kilobytes"},null,{"$f":"$E$32","v":3},{"$f":"IF(AND(E2762>=input_database!$D$31,E2762<input_database!$C$31),input_database!$GC$31,\"0\")","v":"0"},{"$f":"IF(E2762<input_database!$C$31,input_database!$GE$31,\"0\")","v":"0"},{"$f":"IFERROR(input_database!$GH$31,\"0\")","v":0},{"$f":"IF(E2762=input_database!$C$31,input_database!$GG$31,\"0\")","v":"0"},{"$f":"IF(E2762>=input_database!$C$31,(input_database!$GF$31+input_database!$GD$31),0)","v":0},0]
[null,{"$f":"CONCATENATE(selected_functions!$A$31,E2763,C2763)","v":"-17Megabytes"},{"$f":"input_lists!$G$12","v":"Megabytes"},null,{"$f":"$E$12","v":-17},{"$f":"F2742/1024","v":0},0,0,0,0,0]
[null,{"$f":"CONCATENATE(selected_functions!$A$31,E2764,C2764)","v":"-16Megabytes"},{"$f":"C2763","v":"Megabytes"},null,{"$f":"$E$13","v":-16},0,0,0,0,0,0]
[null,{"$f":"CONCATENATE(selected_functions!$A$31,E2765,C2765)","v":"-15Megabytes"},{"$f":"C2764","v":"Megabytes"},null,{"$f":"$E$14","v":-15},0,0,0,0,0,0]
[null,{"$f":"CONCATENATE(selected_functions!$A$31,E2766,C2766)","v":"-14Megabytes"},"Megabytes",null,{"$f":"$E$15","v":-14},0,0,0,0,0,0]
[null,{"$f":"CONCATENATE(selected_functions!$A$31,E2767,C2767)","v":"-13Megabytes"},"Megabytes",null,{"$f":"$E$16","v":-13},0,0,0,0,0,0]
[null,{"$f":"CONCATENATE(selected_functions!$A$31,E2768,C2768)","v":"-12Megabytes"},"Megabytes",null,{"$f":"$E$17","v":-12},0,0,0,0,0,0]
[null,{"$f":"CONCATENATE(selected_functions!$A$31,E2769,C2769)","v":"-11Megabytes"},"Megabytes",null,{"$f":"$E$18","v":-11},0,0,0,0,0,0]
[null,{"$f":"CONCATENATE(selected_functions!$A$31,E2770,C2770)","v":"-10Megabytes"},"Megabytes",null,{"$f":"$E$19","v":-10},0,0,0,0,0,0]
[null,{"$f":"CONCATENATE(selected_functions!$A$31,E2771,C2771)","v":"-9Megabytes"},"Megabytes",null,{"$f":"$E$20","v":-9},0,0,0,0,0,0]
[null,{"$f":"CONCATENATE(selected_functions!$A$31,E2772,C2772)","v":"-8Megabytes"},"Megabytes",null,{"$f":"$E$21","v":-8},0,0,0,0,0,0]
[null,{"$f":"CONCATENATE(selected_functions!$A$31,E2773,C2773)","v":"-7Megabytes"},"Megabytes",null,{"$f":"$E$22","v":-7},{"$f":"F2752/1024","v":0},0,0,0,0,0]
[null,{"$f":"CONCATENATE(selected_functions!$A$31,E2774,C2774)","v":"-6Megabytes"},"Megabytes",null,{"$f":"$E$23","v":-6},0,0,0,0,0,0]
[null,{"$f":"CONCATENATE(selected_functions!$A$31,E2775,C2775)","v":"-5Megabytes"},"Megabytes",null,{"$f":"$E$24","v":-5},0,0,0,0,0,0]
[null,{"$f":"CONCATENATE(selected_functions!$A$31,E2776,C2776)","v":"-4Megabytes"},"Megabytes",null,{"$f":"$E$25","v":-4},0,0,0,0,0,0]
[null,{"$f":"CONCATENATE(selected_functions!$A$31,E2777,C2777)","v":"-3Megabytes"},"Megabytes",null,{"$f":"$E$26","v":-3},0,0,0,0,0,0]
[null,{"$f":"CONCATENATE(selected_functions!$A$31,E2778,C2778)","v":"-2Megabytes"},"Megabytes",null,{"$f":"$E$27","v":-2},0,0,0,0,0,0]
[null,{"$f":"CONCATENATE(selected_functions!$A$31,E2779,C2779)","v":"-1Megabytes"},"Megabytes",null,{"$f":"$E$28","v":-1},0,0,0,0,0,0]
[null,{"$f":"CONCATENATE(selected_functions!$A$31,E2780,C2780)","v":"0Megabytes"},"Megabytes",null,{"$f":"$E$29","v":0},0,0,0,0,0,0]
[null,{"$f":"CONCATENATE(selected_functions!$A$31,E2781,C2781)","v":"1Megabytes"},"Megabytes",null,{"$f":"$E$30","v":1},0,0,0,0,0,0]
[null,{"$f":"CONCATENATE(selected_functions!$A$31,E2782,C2782)","v":"2Megabytes"},"Megabytes",null,{"$f":"$E$31","v":2},0,0,0,0,0,0]
[null,{"$f":"CONCATENATE(selected_functions!$A$31,E2783,C2783)","v":"3Megabytes"},{"$f":"C2782","v":"Megabytes"},null,{"$f":"$E$32","v":3},{"$f":"F2762/1024","v":0},0,0,0,0,0]
[null,{"$f":"CONCATENATE(selected_functions!$A$31,E2784,C2784)","v":"-17Gigabytes"},{"$f":"input_lists!$G$13","v":"Gigabytes"},null,{"$f":"$E$12","v":-17},0,0,0,0,0,0]
[null,{"$f":"CONCATENATE(selected_functions!$A$31,E2785,C2785)","v":"-16Gigabytes"},{"$f":"C2784","v":"Gigabytes"},null,{"$f":"$E$13","v":-16},0,0,0,0,0,0]
[null,{"$f":"CONCATENATE(selected_functions!$A$31,E2786,C2786)","v":"-15Gigabytes"},{"$f":"C2785","v":"Gigabytes"},null,{"$f":"$E$14","v":-15},0,0,0,0,0,0]
[null,{"$f":"CONCATENATE(selected_functions!$A$31,E2787,C2787)","v":"-14Gigabytes"},"Gigabytes",null,{"$f":"$E$15","v":-14},0,0,0,0,0,0]
[null,{"$f":"CONCATENATE(selected_functions!$A$31,E2788,C2788)","v":"-13Gigabytes"},"Gigabytes",null,{"$f":"$E$16","v":-13},0,0,0,0,0,0]
[null,{"$f":"CONCATENATE(selected_functions!$A$31,E2789,C2789)","v":"-12Gigabytes"},"Gigabytes",null,{"$f":"$E$17","v":-12},0,0,0,0,0,0]
[null,{"$f":"CONCATENATE(selected_functions!$A$31,E2790,C2790)","v":"-11Gigabytes"},"Gigabytes",null,{"$f":"$E$18","v":-11},0,0,0,0,0,0]
[null,{"$f":"CONCATENATE(selected_functions!$A$31,E2791,C2791)","v":"-10Gigabytes"},"Gigabytes",null,{"$f":"$E$19","v":-10},0,0,0,0,0,0]
[null,{"$f":"CONCATENATE(selected_functions!$A$31,E2792,C2792)","v":"-9Gigabytes"},"Gigabytes",null,{"$f":"$E$20","v":-9},0,0,0,0,0,0]
[null,{"$f":"CONCATENATE(selected_functions!$A$31,E2793,C2793)","v":"-8Gigabytes"},"Gigabytes",null,{"$f":"$E$21","v":-8},{"$f":"F2772/1024","v":0},0,0,0,0,0]
[null,{"$f":"CONCATENATE(selected_functions!$A$31,E2794,C2794)","v":"-7Gigabytes"},"Gigabytes",null,{"$f":"$E$22","v":-7},0,0,0,0,0,0]
[null,{"$f":"CONCATENATE(selected_functions!$A$31,E2795,C2795)","v":"-6Gigabytes"},"Gigabytes",null,{"$f":"$E$23","v":-6},0,0,0,0,0,0]
[null,{"$f":"CONCATENATE(selected_functions!$A$31,E2796,C2796)","v":"-5Gigabytes"},"Gigabytes",null,{"$f":"$E$24","v":-5},0,0,0,0,0,0]
[null,{"$f":"CONCATENATE(selected_functions!$A$31,E2797,C2797)","v":"-4Gigabytes"},"Gigabytes",null,{"$f":"$E$25","v":-4},0,0,0,0,0,0]
[null,{"$f":"CONCATENATE(selected_functions!$A$31,E2798,C2798)","v":"-3Gigabytes"},"Gigabytes",null,{"$f":"$E$26","v":-3},0,0,0,0,0,0]
[null,{"$f":"CONCATENATE(selected_functions!$A$31,E2799,C2799)","v":"-2Gigabytes"},"Gigabytes",null,{"$f":"$E$27","v":-2},0,0,0,0,0,0]
[null,{"$f":"CONCATENATE(selected_functions!$A$31,E2800,C2800)","v":"-1Gigabytes"},"Gigabytes",null,{"$f":"$E$28","v":-1},0,0,0,0,0,0]
[null,{"$f":"CONCATENATE(selected_functions!$A$31,E2801,C2801)","v":"0Gigabytes"},"Gigabytes",null,{"$f":"$E$29","v":0},0,0,0,0,0,0]
[null,{"$f":"CONCATENATE(selected_functions!$A$31,E2802,C2802)","v":"1Gigabytes"},"Gigabytes",null,{"$f":"$E$30","v":1},0,0,0,0,0,0]
[null,{"$f":"CONCATENATE(selected_functions!$A$31,E2803,C2803)","v":"2Gigabytes"},"Gigabytes",null,{"$f":"$E$31","v":2},{"$f":"F2782/1024","v":0},0,0,0,0,0]
[null,{"$f":"CONCATENATE(selected_functions!$A$31,E2804,C2804)","v":"3Gigabytes"},"Gigabytes",null,{"$f":"$E$32","v":3},0,0,0,0,0,0]
[null,{"$f":"CONCATENATE(selected_functions!$A$31,E2805,C2805)","v":"-17Terabytes"},{"$f":"input_lists!$G$14","v":"Terabytes"},null,{"$f":"$E$12","v":-17},0,0,0,0,0,0]
[null,{"$f":"CONCATENATE(selected_functions!$A$31,E2806,C2806)","v":"-16Terabytes"},{"$f":"C2805","v":"Terabytes"},null,{"$f":"$E$13","v":-16},0,0,0,0,0,0]
[null,{"$f":"CONCATENATE(selected_functions!$A$31,E2807,C2807)","v":"-15Terabytes"},{"$f":"C2806","v":"Terabytes"},null,{"$f":"$E$14","v":-15},0,0,0,0,0,0]
[null,{"$f":"CONCATENATE(selected_functions!$A$31,E2808,C2808)","v":"-14Terabytes"},"Terabytes",null,{"$f":"$E$15","v":-14},0,0,0,0,0,0]
[null,{"$f":"CONCATENATE(selected_functions!$A$31,E2809,C2809)","v":"-13Terabytes"},"Terabytes",null,{"$f":"$E$16","v":-13},0,0,0,0,0,0]
[null,{"$f":"CONCATENATE(selected_functions!$A$31,E2810,C2810)","v":"-12Terabytes"},"Terabytes",null,{"$f":"$E$17","v":-12},0,0,0,0,0,0]
[null,{"$f":"CONCATENATE(selected_functions!$A$31,E2811,C2811)","v":"-11Terabytes"},"Terabytes",null,{"$f":"$E$18","v":-11},0,0,0,0,0,0]
[null,{"$f":"CONCATENATE(selected_functions!$A$31,E2812,C2812)","v":"-10Terabytes"},"Terabytes",null,{"$f":"$E$19","v":-10},0,0,0,0,0,0]
[null,{"$f":"CONCATENATE(selected_functions!$A$31,E2813,C2813)","v":"-9Terabytes"},"Terabytes",null,{"$f":"$E$20","v":-9},{"$f":"F2792/1024","v":0},0,0,0,0,0]
[null,{"$f":"CONCATENATE(selected_functions!$A$31,E2814,C2814)","v":"-8Terabytes"},"Terabytes",null,{"$f":"$E$21","v":-8},0,0,0,0,0,0]
[null,{"$f":"CONCATENATE(selected_functions!$A$31,E2815,C2815)","v":"-7Terabytes"},"Terabytes",null,{"$f":"$E$22","v":-7},0,0,0,0,0,0]
[null,{"$f":"CONCATENATE(selected_functions!$A$31,E2816,C2816)","v":"-6Terabytes"},"Terabytes",null,{"$f":"$E$23","v":-6},0,0,0,0,0,0]
[null,{"$f":"CONCATENATE(selected_functions!$A$31,E2817,C2817)","v":"-5Terabytes"},"Terabytes",null,{"$f":"$E$24","v":-5},0,0,0,0,0,0]
[null,{"$f":"CONCATENATE(selected_functions!$A$31,E2818,C2818)","v":"-4Terabytes"},"Terabytes",null,{"$f":"$E$25","v":-4},0,0,0,0,0,0]
[null,{"$f":"CONCATENATE(selected_functions!$A$31,E2819,C2819)","v":"-3Terabytes"},"Terabytes",null,{"$f":"$E$26","v":-3},0,0,0,0,0,0]
[null,{"$f":"CONCATENATE(selected_functions!$A$31,E2820,C2820)","v":"-2Terabytes"},"Terabytes",null,{"$f":"$E$27","v":-2},0,0,0,0,0,0]
[null,{"$f":"CONCATENATE(selected_functions!$A$31,E2821,C2821)","v":"-1Terabytes"},"Terabytes",null,{"$f":"$E$28","v":-1},0,0,0,0,0,0]
[null,{"$f":"CONCATENATE(selected_functions!$A$31,E2822,C2822)","v":"0Terabytes"},"Terabytes",null,{"$f":"$E$29","v":0},0,0,0,0,0,0]
[null,{"$f":"CONCATENATE(selected_functions!$A$31,E2823,C2823)","v":"1Terabytes"},"Terabytes",null,{"$f":"$E$30","v":1},{"$f":"F2802/1024","v":0},0,0,0,0,0]
[null,{"$f":"CONCATENATE(selected_functions!$A$31,E2824,C2824)","v":"2Terabytes"},"Terabytes",null,{"$f":"$E$31","v":2},0,0,0,0,0,0]
[null,{"$f":"CONCATENATE(selected_functions!$A$31,E2825,C2825)","v":"3Terabytes"},"Terabytes",null,{"$f":"$E$32","v":3},0,0,0,0,0,0]
[null,{"$f":"CONCATENATE(selected_functions!$A$31,E2826,C2826)","v":"-17Petabytes"},{"$f":"input_lists!$G$15","v":"Petabytes"},null,{"$f":"$E$12","v":-17},0,0,0,0,0,0]
[null,{"$f":"CONCATENATE(selected_functions!$A$31,E2827,C2827)","v":"-16Petabytes"},{"$f":"C2826","v":"Petabytes"},null,{"$f":"$E$13","v":-16},0,0,0,0,0,0]
[null,{"$f":"CONCATENATE(selected_functions!$A$31,E2828,C2828)","v":"-15Petabytes"},{"$f":"C2827","v":"Petabytes"},null,{"$f":"$E$14","v":-15},0,0,0,0,0,0]
[null,{"$f":"CONCATENATE(selected_functions!$A$31,E2829,C2829)","v":"-14Petabytes"},"Petabytes",null,{"$f":"$E$15","v":-14},0,0,0,0,0,0]
[null,{"$f":"CONCATENATE(selected_functions!$A$31,E2830,C2830)","v":"-13Petabytes"},"Petabytes",null,{"$f":"$E$16","v":-13},0,0,0,0,0,0]
[null,{"$f":"CONCATENATE(selected_functions!$A$31,E2831,C2831)","v":"-12Petabytes"},"Petabytes",null,{"$f":"$E$17","v":-12},0,0,0,0,0,0]
[null,{"$f":"CONCATENATE(selected_functions!$A$31,E2832,C2832)","v":"-11Petabytes"},"Petabytes",null,{"$f":"$E$18","v":-11},0,0,0,0,0,0]
[null,{"$f":"CONCATENATE(selected_functions!$A$31,E2833,C2833)","v":"-10Petabytes"},"Petabytes",null,{"$f":"$E$19","v":-10},{"$f":"F2812/1024","v":0},0,0,0,0,0]
[null,{"$f":"CONCATENATE(selected_functions!$A$31,E2834,C2834)","v":"-9Petabytes"},"Petabytes",null,{"$f":"$E$20","v":-9},0,0,0,0,0,0]
[null,{"$f":"CONCATENATE(selected_functions!$A$31,E2835,C2835)","v":"-8Petabytes"},"Petabytes",null,{"$f":"$E$21","v":-8},0,0,0,0,0,0]
[null,{"$f":"CONCATENATE(selected_functions!$A$31,E2836,C2836)","v":"-7Petabytes"},"Petabytes",null,{"$f":"$E$22","v":-7},0,0,0,0,0,0]
[null,{"$f":"CONCATENATE(selected_functions!$A$31,E2837,C2837)","v":"-6Petabytes"},"Petabytes",null,{"$f":"$E$23","v":-6},0,0,0,0,0,0]
[null,{"$f":"CONCATENATE(selected_functions!$A$31,E2838,C2838)","v":"-5Petabytes"},"Petabytes",null,{"$f":"$E$24","v":-5},0,0,0,0,0,0]
[null,{"$f":"CONCATENATE(selected_functions!$A$31,E2839,C2839)","v":"-4Petabytes"},"Petabytes",null,{"$f":"$E$25","v":-4},0,0,0,0,0,0]
[null,{"$f":"CONCATENATE(selected_functions!$A$31,E2840,C2840)","v":"-3Petabytes"},"Petabytes",null,{"$f":"$E$26","v":-3},0,0,0,0,0,0]
[null,{"$f":"CONCATENATE(selected_functions!$A$31,E2841,C2841)","v":"-2Petabytes"},"Petabytes",null,{"$f":"$E$27","v":-2},0,0,0,0,0,0]
[null,{"$f":"CONCATENATE(selected_functions!$A$31,E2842,C2842)","v":"-1Petabytes"},"Petabytes",null,{"$f":"$E$28","v":-1},0,0,0,0,0,0]
[null,{"$f":"CONCATENATE(selected_functions!$A$31,E2843,C2843)","v":"0Petabytes"},"Petabytes",null,{"$f":"$E$29","v":0},{"$f":"F2822/1024","v":0},0,0,0,0,0]
[null,{"$f":"CONCATENATE(selected_functions!$A$31,E2844,C2844)","v":"1Petabytes"},"Petabytes",null,{"$f":"$E$30","v":1},0,0,0,0,0,0]
[null,{"$f":"CONCATENATE(selected_functions!$A$31,E2845,C2845)","v":"2Petabytes"},"Petabytes",null,{"$f":"$E$31","v":2},0,0,0,0,0,0]
[null,{"$f":"CONCATENATE(selected_functions!$A$31,E2846,C2846)","v":"3Petabytes"},"Petabytes",null,{"$f":"$E$32","v":3},0,0,0,0,0,0]